{"text_format":"1","workbook":"xlsx","n_sheets":3,"sheets":["План ввода основ. ср-в","приложение 1.1","приложение 1.3"],"not_rendered":{"charts":0,"images":0,"macros":1,"external_links":0,"defined_names":7,"comments":0,"pivot_tables":0},"unopened":[],"bounds":{"document_bytes":16777216,"sheet_cells":100000,"rows_first":2000,"rows_last":500,"rows_between":2000,"halvings":0,"cell_chars":16384,"cell_head_chars":4096},"cells_cut":0,"cells_raw":0,"read":"whole","date_system":"1900"}

{"sheet":"План ввода основ. ср-в","index":0,"n_rows":334,"n_cols":34,"rows_kept":334,"cut":false,"hidden":true,"merged":[[17,20,17,28],[4,0,4,26],[8,0,8,3],[10,0,10,2],[11,23,11,24],[15,0,17,0],[15,1,17,1],[16,10,16,11],[16,12,16,13],[8,23,8,28],[16,16,16,17],[16,14,16,15],[16,8,16,9],[16,2,16,3],[16,4,16,5],[16,6,16,7],[16,18,16,19],[15,2,15,28],[11,25,11,28],[12,21,12,28],[13,23,13,28]]}
[]
[]
[]
[]
[" План ввода основных средств АО \"Самарская сетевая компания\"  на период реализации инвестиционной программы 2017-2021 гг."]
[]
[]
[]
[null,null,null,null,null,null,null,null,null,null,null,null,null,null,null,null,null,null,null,null,null,null,null,"Утверждаю"]
[null,null,null,null,null,null,null,null,null,null,null,null,null,null,null,null,null,null,null,null,null,null,null,null,null,null,null,null,"Генеральный директор АО \"ССК\""]
[null,null,null,null,null,null,null,null,null,null,null,null,null,null,null,null,null,null,null,null,null,null,null,null,null,null,null,null,"Мухаметшин В. С."]
[null,null,null,null,null,null,null,null,null,null,null,null,null,null,null,null,null,null,null,null,null,null,null,null,null,"__________________"]
[null,null,null,null,null,null,null,null,null,null,null,null,null,null,null,null,null,null,null,null,null,"«___»_______________ 2016 года"]
[null,null,null,null,null,null,null,null,null,null,null,null,null,null,null,null,null,null,null,null,null,null,null,"М.П."]
[]
["№","Наименование объекта","План вводимой мощности в 2017-2021 гг. на основные фонды"]
[null,null,"2017",null,"План I кв.",null,"План II кв.",null,"План III кв.",null,"План IV кв.",null,2018,null,2019,null,2020,null,2021,null,"2017","План I кв. ","План II кв. ","План III кв.","План IV кв.",2018,2019,2020,2021,null,null,null,null,3204.0045084745757]
[null,null,"МВА","Км","МВА","Км","МВА","Км","МВА","Км","МВА","Км","МВА","км","МВА","км","МВА","км","МВА","км","млн. руб. (без НДС)"]
[1,2,3,4,5,6,7,8,9,10,11,12,13,14,15,16,17,18,19,20,21,22,23,24,25,26,27,28,29]
[null,"ВСЕГО",{"$f":"C21+C289","v":47.400000000000006},364.17433333333338,0,0,0,0,0,0,47.400000000000006,364.17433333333338,93.279999999999987,447.90999999999997,188.369,398.96000000000004,111.07,371.54499999999996,133.38999999999999,383.29,2268.3466456861029,0,340.25199685291517,793.92132599013553,1134.1733228430514,3173.5054237288136,3286.1912749756079,3428.9406779661022,3594.0084745762715]
[1,"Техническое перевооружение и реконструкция",{"$f":"C22","v":39.550000000000004},{"$f":"D22","v":327.82433333333336},0,0,0,0,0,0,39.550000000000004,327.82433333333336,86.449999999999989,404.21,185.119,367.46000000000004,109.78999999999999,366.04499999999996,131.13999999999999,378.89000000000004,{"$f":"SUM(U23:U275)","v":2044.8147803559332},0,306.72221705338973,715.68517312457618,1022.4073901779666,3038.0644067796611,3204.0062134778336,3379.0661016949157,3563.7474576271188]
["1.1.","Энергосбережение и повышение энергетической эффективности",{"$f":"SUM(C23:C279)","v":39.550000000000004},{"$f":"SUM(D23:D279)","v":327.82433333333336},0,0,0,0,0,0,39.550000000000004,327.82433333333336,86.449999999999989,404.21,185.119,367.46000000000004,109.78999999999999,366.04499999999996,131.13999999999999,378.89000000000004,{"$f":"SUM(U23:U274)","v":1807.714780355933},{"$f":"SUM(V23:V274)","v":0},271.15721705338973,632.70017312457617,903.85739017796652,2968.1661016949151,3131.2779761896982,3292.727118644068,3472.7389830508478]
[1,"Алексеевский район",0,0,null,null,null,null,null,null,{"$f":"C23","v":0},{"$f":"D23","v":0},0,0,0,0,0,0,0,0,0,null,{"$f":"U23*0.15","v":0},{"$f":"U23*0.35","v":0},{"$f":"U23*0.5","v":0},0,0,0,0]
[2,"Реконструкция ВЛ-0,4кВ от КТП А 2109/160 кВА с заменой КТП",0.16,2.81,null,null,null,null,null,null,{"$f":"C24","v":0.16},{"$f":"D24","v":2.81},0,0,0,0,0,0,0,0,8.7220338983050869,null,{"$f":"U24*0.15","v":1.3083050847457629},{"$f":"U24*0.35","v":3.0527118644067803},{"$f":"U24*0.5","v":4.3610169491525435},0,0,0,0]
[3,"Реконструкция ВЛ-0,4кВ от КТП А 216/250 кВА с заменой КТП",0.25,4.5199999999999996,null,null,null,null,null,null,0.25,4.5199999999999996,0,0,0,0,0,0,0,0,13.359322033898305,null,2.0038983050847459,4.6757627118644063,6.6796610169491526,0,0,0,0]
[4,"Реконструкция ВЛ-0,4кВ от КТП А 207/250 кВА с заменой КТП",0,0,null,null,null,null,null,null,0,0,0.25,1.92,0,0,0,0,0,0,0,null,0,0,0,5.5728813559322035,0,0,0]
[5,"Реконструкция ВЛ-0,4кВ от КТП А 203/250 кВА с заменой КТП",0,0,null,null,null,null,null,null,0,0,0.25,4.67,0,0,0,0,0,0,0,null,0,0,0,12.098305084745762,0,0,0]
[6,"Реконструкция ВЛ-0,4кВ от КТП А 2101/160 кВА с заменой КТП",0,0,null,null,null,null,null,null,0,0,0,0,0.16,2.92,0,0,0,0,0,null,0,0,0,0,7.9457627118644067,0,0]
[7,"Реконструкция ВЛ-0,4кВ от КТП А 217/400 кВА с заменой КТП",0,0,null,null,null,null,null,null,0,0,0,0,0.4,3.08,0,0,0,0,0,null,0,0,0,0,8.3254237288135577,0,0]
[8,"Реконструкция ВЛ-0,4кВ от КТП А 2003/400 кВА с заменой КТП",0,0,null,null,null,null,null,null,0,0,0,0,0,0,0.4,1.0349999999999999,0,0,0,null,0,0,0,0,0,3.4728813559322034,0]
[9,"Реконструкция ВЛ-0,4кВ от КТП А 2110/160 кВА с заменой КТП",0,0,null,null,null,null,null,null,0,0,0,0,0,0,0,0,0.16,1.6,0,null,0,0,0,0,0,0,4.8135593220338979]
[10,"Больше-Черниговский район",0,0,null,null,null,null,null,null,0,0,0,0,0,0,0,0,0,0,0,null,0,0,0,0,0,0,0]
[11,"Реконструкция ВЛ-0,4кВ от КТП 1205/400 кВА с заменой КТП",0.4,1.68,null,null,null,null,null,null,0.4,1.68,0,0,0,0,0,0,0,0,5.9118644067796611,null,0.88677966101694916,2.0691525423728812,2.9559322033898305,0,0,0,0]
[12,"Реконструкция ВЛ-0,4кВ от КТП 1204/400 кВА с заменой КТП",0.4,0.7,null,null,null,null,null,null,0.4,0.7,0,0,0,0,0,0,0,0,3.2542372881355934,null,0.488135593220339,1.1389830508474577,1.6271186440677967,0,0,0,0]
[13,"Реконструкция ВЛ-0,4кВ от КТП 415/250 кВА с заменой КТП",0.25,0.8,null,null,null,null,null,null,0.25,0.8,0,0,0,0,0,0,0,0,3.2711864406779667,null,0.49067796610169501,1.1449152542372882,1.6355932203389834,0,0,0,0]
[14,"Реконструкция ВЛ-0,4кВ от КТП 1206/160 кВА с заменой КТП",0.16,2.2000000000000002,null,null,null,null,null,null,0.16,2.2000000000000002,0,0,0,0,0,0,0,0,7.0677966101694913,null,1.0601694915254236,2.4737288135593216,3.5338983050847457,0,0,0,0]
[15,"Реконструкция ВЛ-0,4кВ от КТП 1202/250 кВА с заменой КТП",0.25,1.05,null,null,null,null,null,null,0.25,1.05,0,0,0,0,0,0,0,0,3.9491525423728815,null,0.59237288135593225,1.3822033898305084,1.9745762711864407,0,0,0,0]
[16,"Реконструкция ВЛ-0,4кВ от КТП 709/250 кВА с заменой КТП",0,0,null,null,null,null,null,null,0,0,0.25,0.42,0,0,0,0,0,0,0,null,0,0,0,2.0135593220338985,0,0,0]
[17,"Реконструкция ВЛ-0,4кВ от КТП 501/320 кВА с заменой КТП",0,0,null,null,null,null,null,null,0,0,0.32,0.42,0,0,0,0,0,0,0,null,0,0,0,2.0135593220338985,0,0,0]
[18,"Реконструкция ВЛ-0,4кВ от КТП 809/100 кВА с заменой КТП",0,0,null,null,null,null,null,null,0,0,0,0,0.1,1.36,0,0,0,0,0,null,0,0,0,0,4.2440677966101701,0,0]
[19,"Реконструкция ВЛ-0,4кВ от КТП 201/400 кВА с заменой КТП",0,0,null,null,null,null,null,null,0,0,0,0,0.4,1.6,0,0,0,0,0,null,0,0,0,0,4.8135593220338979,0,0]
[20,"Реконструкция ВЛ-0,4кВ от КТП 109/400 кВА с заменой КТП",0,0,null,null,null,null,null,null,0,0,0,0,0.4,1.22,0,0,0,0,0,null,0,0,0,0,3.9118644067796611,0,0]
[21,"Реконструкция ВЛ-0,4кВ от КТП 905/400 кВА с заменой КТП",0,0,null,null,null,null,null,null,0,0,0,0,0.4,1.62,0,0,0,0,0,null,0,0,0,0,4.8610169491525426,0,0]
[22,"Реконструкция ВЛ-0,4кВ от КТП 114/400 кВА с заменой КТП",0,0,null,null,null,null,null,null,0,0,0,0,0,0,0.4,0.72,0,0,0,null,0,0,0,0,0,2.7254237288135594,0]
[23,"Реконструкция ВЛ-0,4кВ от КТП 407/400 кВА с заменой КТП",0,0,null,null,null,null,null,null,0,0,0,0,0,0,0.4,0.52,0,0,0,null,0,0,0,0,0,2.2508474576271187,0]
[24,"Реконструкция ВЛ-0,4кВ от КТП 122/400 кВА с заменой КТП",0,0,null,null,null,null,null,null,0,0,0,0,0,0,0,0,0.4,1.9,0,null,0,0,0,0,0,0,2.2508474576271187]
[25,"Реконструкция ВЛ-0,4кВ от КТП 906/250 кВА с заменой КТП",0,0,null,null,null,null,null,null,0,0,0,0,0,0,0,0,0.25,3.85,0,null,0,0,0,0,0,0,10.152542372881355]
[26,"Волжский район",0,0,null,null,null,null,null,null,0,0,0,0,0,0,0,0,0,0,0,null,0,0,0,0,0,0,0]
[27,"Повышение надежности энергоснабжения п.г.т. Петра-Дубрава",0,0,null,null,null,null,null,null,0,0,12.8,24,12.8,26.3,12.8,28,12.8,30,0,null,0,0,0,240,263,279.66101694915255,300]
[28,"Реконструкция, инфраструктуры объектов электрохозяйства в г.о. Самара в целях обеспечения надежности ЭС объектов Южный город, Заречье в Волжском районе",0,0,null,null,null,null,null,null,0,0,0,12,63,12,70.2,12,70.2,30,0,null,0,0,0,172.00000000000003,290,346.0169491525424,380]
[29,"Повышение надежности энергоснабжения электросетевого района  с. Лопатино",0,13.4,null,null,null,null,null,null,0,13.4,0,0,0,0,0,0,0,0,41.228813559322035,null,6.1843220338983054,14.430084745762711,20.614406779661017,0,0,0,0]
[30,"Реконструкция ЗТП КУР 2010/2х100 кВА с заменой трансформаторов на 400 кВА",0.8,0,null,null,null,null,null,null,0.8,0,0,0,0,0,0,0,0,0,4.6610169491525424,null,0.69915254237288138,1.6313559322033897,2.3305084745762712,0,0,0,0]
[31,"Реконструкция ВЛ-0,4кВ от ЗТП Кур 906/400 кВА с заменой в ЗТП РУ-0,4 кВ ",0,1.1000000000000001,null,null,null,null,null,null,0,1.1000000000000001,0,0,0,0,0,0,0,0,3.6186440677966107,null,0.54279661016949154,1.2665254237288137,1.8093220338983054,0,0,0,0]
[32,"Реконструкция ВЛ-0,4кВ от ЗТП Кур 901/250 кВА с заменой в ЗТП РУ-0,4 кВ ",0,1,null,null,null,null,null,null,0,1,0,0,0,0,0,0,0,0,3.3474576271186445,null,0.5021186440677966,1.1716101694915255,1.6737288135593222,0,0,0,0]
[33,"Реконструкция ВЛ-0,4 кВ от КТП Р 402/400 кВА с заменой КТП",0.4,1,null,null,null,null,null,null,0.4,1,0,0,0,0,0,0,0,0,4.0677966101694913,null,0.61016949152542366,1.4237288135593218,2.0338983050847457,0,0,0,0]
[34,"Реконструкция ВЛ-0,4 кВ от КТП Р 605/250 кВА с заменой КТП ",0.25,2.65,null,null,null,null,null,null,0.25,2.65,0,0,0,0,0,0,0,0,8.2881355932203391,null,1.2432203389830507,2.9008474576271186,4.1440677966101696,0,0,0,0]
[35,"Реконструкция ВЛ-0,4кВ от ЗТП Кур 906/400 кВА с заменой ЗТП на КТП ",0,0,null,null,null,null,null,null,0,0,0.4,0.85,0,0,0,0,0,0,0,null,0,0,0,3.0338983050847461,0,0,0]
[36,"Реконструкция ВЛ-0,4кВ от ЗТП Кур 901/250 кВА с заменой ЗТП на КТП ",0,0,null,null,null,null,null,null,0,0,0.25,1.4,0,0,0,0,0,0,0,null,0,0,0,4.3389830508474576,0,0,0]
[37,"Реконструкция ВЛ-0,4 кВ от КТП Р 402/400 кВА",0,0,null,null,null,null,null,null,0,0,0,1,0,0,0,0,0,0,0,null,0,0,0,2.3728813559322033,0,0,0]
[38,"Реконструкция ВЛ-10 кВ Ф-8 отпайка к КТП Пм 802/100 кВА с заменой КТП ",0,0,null,null,null,null,null,null,0,0,0.1,3.6,0,0,0,0,0,0,0,null,0,0,0,9.322033898305083,0,0,0]
[39,"Реконструкция ВЛ-0,4 кВ Ф-1 КТП Л 2502/320 кВА",0,0,null,null,null,null,null,null,0,0,0,0.7,0,0,0,0,0,0,0,null,0,0,0,1.6610169491525422,0,0,0]
[40,"Реконструкция ВЛ-0,4 кВ от КТП 211/250 кВА с заменой КТП на 400 кВА.",0,0,null,null,null,null,null,null,0,0,0.4,1.5,0,0,0,0,0,0,0,null,0,0,0,4.5762711864406773,0,0,0]
[41,"Реконструкция ВЛ-0,4 кВ от КТП 213",0,0,null,null,null,null,null,null,0,0,0,1.8,0,0,0,0,0,0,0,null,0,0,0,4.2711864406779663,0,0,0]
[42,"Реконструкция ВЛ-0,4 кВ от КТП Р 106/400 кВА с заменой КТП ",0,0,null,null,null,null,null,null,0,0,0,0,0.4,3.2,0,0,0,0,0,null,0,0,0,0,8.6101694915254221,0,0]
[43,"Реконструкция ВЛ-6 кВ Ф-30 ПС Овощная отпайка  до КТП Ов 3008/250 кВА с заменой КТП на 400 кВА ",0,0,null,null,null,null,null,null,0,0,0,0,0.4,0.36,0,0,0,0,0,null,0,0,0,0,1.8711864406779664,0,0]
[44,"Реконструкция ВЛ-6 кВ Ф-1 отпайка  до КТП Пм 102/250 кВА с заменой КТП ",0,0,null,null,null,null,null,null,0,0,0,0,0.25,0.06,0,0,0,0,0,null,0,0,0,0,1.159322033898305,0,0]
[45,"Реконструкция ВЛ-0,4 кВ от КТП 215",0,0,null,null,null,null,null,null,0,0,0,0,0,1.6,0,0,0,0,0,null,0,0,0,0,3.7966101694915251,0,0]
[46,"Реконструкция ВЛ-0,4 кВ от КТП 218",0,0,null,null,null,null,null,null,0,0,0,0,0,0.8,0,0,0,0,0,null,0,0,0,0,1.8983050847457625,0,0]
[47,"Реконструкция ВЛ-0,4 кВ от КТП Р 304/400 кВА с заменой КТП ",0,0,null,null,null,null,null,null,0,0,0,0,0,0,0.4,1.8,0,0,0,null,0,0,0,0,0,5.2881355932203391,0]
[48,"Елховский район",0,0,null,null,null,null,null,null,0,0,0,0,0,0,0,0,0,0,0,null,0,0,0,0,0,0,0]
[49,"Реконструкция ВЛ-0,4кВ от КТП КМ 810/100 кВА с заменой КТП",0.1,0.92,null,null,null,null,null,null,0.1,0.92,0,0,0,0,0,0,0,0,3.5969491525423729,null,0.53954237288135587,1.2589322033898305,1.7984745762711865,0,0,0,0]
[50,"Реконструкция ВЛ-0,4кВ от КТП Елх 405/400 кВА с заменой КТП",0.4,0.6,null,null,null,null,null,null,0.4,0.6,0,0,0,0,0,0,0,0,2.9830508474576272,null,0.44745762711864406,1.0440677966101695,1.4915254237288136,0,0,0,0]
[51,"Реконструкция ВЛ-0,4кВ от КТП Елх 713/400 кВА с заменой КТП",0,0,null,null,null,null,null,null,0,0,0.4,0.64,0,0,0,0,0,0,0,null,0,0,0,2.535593220338983,0,0,0]
[52,"Реконструкция ВЛ-0,4кВ от КТП Елх 403/160 кВА с заменой КТП",0,0,null,null,null,null,null,null,0,0,0.16,0.48,0,0,0,0,0,0,0,null,0,0,0,2.1559322033898303,0,0,0]
[53,"Кинель-Черкасский район",0,0,null,null,null,null,null,null,0,0,0,0,0,0,0,0,0,0,0,null,0,0,0,0,0,0,0]
[54,"Реконструкция ВЛ-0,4 кВ от КТП Ч 1704/250 кВА с заменой КТП на 400 кВА",0.4,8.1999999999999993,null,null,null,null,null,null,0.4,8.1999999999999993,0,0,0,0,0,0,0,0,23.593220338983052,null,3.5389830508474578,8.2576271186440682,11.796610169491526,0,0,0,0]
[55,"Реконструкция ВЛ-0,4 кВ от КТП Сад-Г 507/250 кВА  с заменой КТП",0.25,2,null,null,null,null,null,null,0.25,2,0,0,0,0,0,0,0,0,6.5254237288135597,null,0.97881355932203395,2.2838983050847457,3.2627118644067798,0,0,0,0]
[56,"Реконструкция ВЛ-0,4кВ от КТП Ку 1316/400кВА с заменой КТП",0.4,1.6,null,null,null,null,null,null,0.4,1.6,0,0,0,0,0,0,0,0,5.6949152542372889,null,0.8542372881355933,1.993220338983051,2.8474576271186445,0,0,0,0]
[57,"Реконструкция ВЛ-0,4 кВ от ЗТП Ч 405/400 кВА с заменой ЗТП на КТП 400кВА",0.4,4.32,null,null,null,null,null,null,0.4,4.32,0,0,0,0,0,0,0,0,13.071186440677966,null,1.9606779661016949,4.574915254237288,6.535593220338983,0,0,0,0]
[58,"Реконструкция ВЛ-0,4 кВ от КТП Ку 1309/250 кВА",0,6,null,null,null,null,null,null,0,6,0,0,0,0,0,0,0,0,16.271186440677965,null,2.4406779661016946,5.6949152542372872,8.1355932203389827,0,0,0,0]
[59,"Реконструкция ВЛ-0,4 кВ от ЗТП Ч 1703/400 кВА",0,0,null,null,null,null,null,null,0,0,0,7.6,0,0,0,0,0,0,0,null,0,0,0,18.033898305084744,0,0,0]
[60,"Реконструкция ВЛ-0,4 кВ от КТП Ч 417/250 кВА",0,0,null,null,null,null,null,null,0,0,0,3.4,0,0,0,0,0,0,0,null,0,0,0,8.0677966101694913,0,0,0]
[61,"Реконструкция ВЛ-0,4 кВ от КТП Ку 1312/250 кВА",0,0,null,null,null,null,null,null,0,0,0,2.5,0,0,0,0,0,0,0,null,0,0,0,5.9322033898305087,0,0,0]
[62,"Реконструкция ВЛ-0,4 кВ от КТП Кр 1906/400 кВА",0,0,null,null,null,null,null,null,0,0,0,2.5,0,0,0,0,0,0,0,null,0,0,0,5.9322033898305087,0,0,0]
[63,"Реконструкция ВЛ-0,4 кВ от КТП Кр 1914/250 кВА",0,0,null,null,null,null,null,null,0,0,0,1.6,0,0,0,0,0,0,0,null,0,0,0,3.7966101694915251,0,0,0]
[64,"Реконструкция ВЛ-0,4 кВ от КТП Кр 1909/400 кВА",0,0,null,null,null,null,null,null,0,0,0,1.6,0,0,0,0,0,0,0,null,0,0,0,3.7966101694915251,0,0,0]
[65,"Реконструкция ВЛ-0,4 кВ от КТП Сид 305/250 кВА",0,0,null,null,null,null,null,null,0,0,0,0,0,3.4,0,0,0,0,0,null,0,0,0,0,8.0677966101694913,0,0]
[66,"Реконструкция ВЛ-0,4 кВ от КТП Сид 316/160 кВА с заменой КТП ",0,0,null,null,null,null,null,null,{"$f":"C88","v":0},0,0,0,0.16,1.5,0,0,0,0,0,null,{"$f":"U88*0.15","v":0},{"$f":"U88*0.35","v":0},{"$f":"U88*0.5","v":0},0,4.5762711864406773,0,0]
[67,"Реконструкция ВЛ-0,4 кВ от ЗТП Ку 801/250 кВА",0,0,null,null,null,null,null,null,0,0,0,0,0,2,0,0,0,0,0,null,0,0,0,0,4.7457627118644066,0,0]
[68,"Реконструкция ВЛ-0,4 кВ от ЗТП Ку 802/250 кВА с заменой трансформатора",0,0,null,null,null,null,null,null,0,0,0,0,0.25,1,0,0,0,0,0,null,0,0,0,0,3.3898305084745766,0,0]
[69,"Реконструкция ВЛ-0,4 кВ от ЗТП Ку 803/250 кВА",0,0,null,null,null,null,null,null,0,0,0,0,0,1.2,0,0,0,0,0,null,0,0,0,0,2.847457627118644,0,0]
[70,"Реконструкция ВЛ-0,4 кВ от КТП Ку 703/250 кВА с заменой КТП",0,0,null,null,null,null,null,null,0,0,0,0,0.25,1.2,0,0,0,0,0,null,0,0,0,0,3.8644067796610169,0,0]
[71,"Реконструкция ВЛ-0,4 кВ от КТП Ч 112/400 кВА с заменой КТП ",0,0,null,null,null,null,null,null,0,0,0,0,0,0,0.4,3.6,0,0,0,null,0,0,0,0,0,9.5593220338983045,0]
[72,"Реконструкция ВЛ-0,4 кВ от КТП Ч 1701/160 кВА",0,0,null,null,null,null,null,null,0,0,0,0,0,0,0,2,0,0,0,null,0,0,0,0,0,4.7457627118644066,0]
[73,"Реконструкция ВЛ-0,4 кВ от КТП Ч 303/400 кВА",0,0,null,null,null,null,null,null,0,0,0,0,0,0,0,2.4,0,0,0,null,0,0,0,0,0,5.6949152542372881,0]
[74,"Реконструкция ВЛ-0,4 кВ от ЗТП Ку 1601/160 кВА с заменой трансформатора на 250 кВА",0,0,null,null,null,null,null,null,0,0,0,0,0,0,0,0,0.25,1,0,null,0,0,0,0,0,0,3.3898305084745766]
[75,"Реконструкция КЛ-0,4 кВ от ЗТП Ку 1602/2х250  кВА",0,0,null,null,null,null,null,null,0,0,0,0,0,0,0,0,0,0.6,0,null,0,0,0,0,0,0,2.0338983050847457]
[76,"Реконструкция ВКЛ-0,4 кВ от ЗТП Ку 1603/630  кВА",0,0,null,null,null,null,null,null,0,0,0,0,0,0,0,0,0,2.6,0,null,0,0,0,0,0,0,6.7796610169491531]
[77,"Кинельский район",0,0,null,null,null,null,null,null,0,0,0,0,0,0,0,0,0,0,0,null,0,0,0,0,0,0,0]
[78,"Реконструкция электроснабжения г.о.Кинель",0,27.5,null,null,null,null,null,null,0,27.5,0,0,0,0,0,0,0,0,74.576271186440678,null,11.186440677966102,26.101694915254235,37.288135593220339,0,0,0,0]
[79,"Реконструкция ВЛ-0,4кВ от ТП-6 ",0,1.87,null,null,null,null,null,null,0,1.87,0,0,0,0,0,0,0,0,5.0711864406779661,null,0.76067796610169491,1.7749152542372879,2.535593220338983,0,0,0,0]
[80,"Реконструкция ВЛ-0,4 кВ от КТП Алк 54/250 кВА с заменой  КТП на 400 кВА",0.4,1.8,null,null,null,null,null,null,0.4,1.8,0,0,0,0,0,0,0,0,6.2372881355932206,null,0.93559322033898307,2.1830508474576269,3.1186440677966103,0,0,0,0]
[81,"Реконструкция ВЛ-0,4 кВ от КТП Алк 30/160 кВА с заменой  КТП на 250 кВА",0.4,1.45,null,null,null,null,null,null,0.4,1.45,0,0,0,0,0,0,0,0,5.0338983050847466,null,0.75508474576271201,1.7618644067796612,2.5169491525423733,0,0,0,0]
[82,"Реконструкция ВЛ-0,4кВ от КТП Шев 208/250 кВА",0,2.2200000000000002,null,null,null,null,null,null,0,2.2200000000000002,0,0,0,0,0,0,0,0,6.0203389830508476,null,0.90305084745762709,2.1071186440677967,3.0101694915254238,0,0,0,0]
[83,"Реконструкция ВЛ-0,4кВ от МТП Кр 903/100 кВА с заменой КТП",0,0,null,null,null,null,null,null,0,0,0.1,1.25,0,0,0,0,0,0,0,null,0,0,0,3.9830508474576276,0,0,0]
[84,"Реконструкция ВЛ-0,4кВ от МТП 704/250 кВА с заменой КТП",0,0,null,null,null,null,null,null,0,0,0.25,1,0,0,0,0,0,0,0,null,0,0,0,3.3898305084745766,0,0,0]
[85,"Реконструкция ВЛ-0,4кВ от КТП 210/160 кВА",0,0,null,null,null,null,null,null,0,0,0,1.45,0,0,0,0,0,0,0,null,0,0,0,3.4406779661016946,0,0,0]
[86,"Реконструкция ВЛ-0,4 кВ от КТП Алк 90/160 кВА с заменой КТП",0,0,null,null,null,null,null,null,0,0,0,0,0.16,1,0,0,0,0,0,null,0,0,0,0,3.3898305084745766,0,0]
[87,"Реконструкция ВЛ-0,4 кВ от КТП Алк 91/160 кВА с заменой КТП",0,0,null,null,null,null,null,null,0,0,0,0,0.16,0.65,0,0,0,0,0,null,0,0,0,0,2.5593220338983049,0,0]
[88,"Реконструкция ВЛ-0,4 кВ от ЗТП Ком 2007/400 кВА",0,0,null,null,null,null,null,null,0,0,0,0,0,2,0,0,0,0,0,null,0,0,0,0,4.7457627118644066,0,0]
[89,"Реконструкция ВЛ-0,4 кВ от КТП Тур 717/160 кВА с заменой  КТП ",0,0,null,null,null,null,null,null,0,0,0,0,0,0,0.16,0.86,0,0,0,null,0,0,0,0,0,3.0576271186440676,0]
[90,"Клявлинский район",0,0,null,null,null,null,null,null,0,0,0,0,0,0,0,0,0,0,0,null,0,0,0,0,0,0,0]
[91,"Реконструкция элекстроснабжения ст. Клявлино",0.9,6.35,null,null,null,null,null,null,0.9,6.35,0,0,0,0,0,0,0,0,20.779661016949156,null,3.1169491525423734,7.2728813559322036,10.389830508474578,0,0,0,0]
[92,"Реконструкция ВЛ-0,4кВ от КТП КЛВ 1207/250 кВА",0,1.5,null,null,null,null,null,null,0,1.5,0,0,0,0,0,0,0,0,4.0677966101694922,null,0.61016949152542377,1.4237288135593222,2.0338983050847461,0,0,0,0]
[93,"Реконструкция ВЛ-0,4кВ от КТП 416/100 кВА с заменой КТП",0.1,2.1,null,null,null,null,null,null,0.1,2.1,0,0,0,0,0,0,0,0,6.7966101694915269,null,1.0194915254237289,2.3788135593220341,3.3983050847457634,0,0,0,0]
[94,"Реконструкция ВЛ-0,4кВ от КТП КЛВ 421/160 кВА с заменой КТП",0,0,null,null,null,null,null,null,0,0,0.16,3.1,0,0,0,0,0,0,0,null,0,0,0,8.3728813559322024,0,0,0]
[95,"Реконструкция ВЛ-0,4кВ от КТП КЛВ 1404/160 кВА с заменой КТП",0,0,null,null,null,null,null,null,0,0,0.16,3.1,0,0,0,0,0,0,0,null,0,0,0,8.3728813559322024,0,0,0]
[96,"Реконструкция ВЛ-0,4кВ от КТП КЛВ 1412/100 кВА",0,0,null,null,null,null,null,null,0,0,0,1.78,0,0,0,0,0,0,0,null,0,0,0,4.2237288135593225,0,0,0]
[97,"Реконструкция ВЛ-0,4кВ от КТП КЛВ 1411/160 кВА",0,0,null,null,null,null,null,null,0,0,0,2.1,0,0,0,0,0,0,0,null,0,0,0,4.9830508474576272,0,0,0]
[98,"Реконструкция ВЛ-0,4кВ от КТП ЕЛЗ 401/100 кВА",0,0,null,null,null,null,null,null,0,0,0,0.5,0,0,0,0,0,0,0,null,0,0,0,1.1864406779661016,0,0,0]
[99,"Реконструкция ВЛ-0,4кВ от КТП КЛВ1407/250 кВА с заменой КТП",0,0,null,null,null,null,null,null,0,0,0,0,0.25,1.07,0,0,0,0,0,null,0,0,0,0,3.5559322033898306,0,0]
[100,"Реконструкция ВЛ-0,4кВ от КТП КЛВ422/160 кВА с заменой КТП",0,0,null,null,null,null,null,null,0,0,0,0,0.16,1.6,0,0,0,0,0,null,0,0,0,0,4.8135593220338979,0,0]
[101,"Реконструкция ВЛ-0,4кВ от КТП КЛВ1408/160 кВА с заменой КТП",0,0,null,null,null,null,null,null,0,0,0,0,0.16,2.2999999999999998,0,0,0,0,0,null,0,0,0,0,6.4745762711864412,0,0]
[102,"Реконструкция ВЛ-0,4кВ от КТП КЛВ1017/400 кВА с заменой КТП",0,0,null,null,null,null,null,null,0,0,0,0,0.4,1.1000000000000001,0,0,0,0,0,null,0,0,0,0,3.6271186440677972,0,0]
[103,"Реконструкция ВЛ-0,4кВ от КТП КЛВ1027/160 кВА с заменой КТП",0,0,null,null,null,null,null,null,0,0,0,0,0.16,0.81,0,0,0,0,0,null,0,0,0,0,2.9389830508474577,0,0]
[104,"Реконструкция ВЛ-0,4кВ от КТП ЧКЛ 703/100 кВА с заменой КТП",0,0,null,null,null,null,null,null,0,0,0,0,0,0,0.1,4.8,0,0,0,null,0,0,0,0,0,12.406779661016948,0]
[105,"Реконструкция ВЛ-0,4кВ от КТП ЧКЛ 705/160 кВА с заменой КТП",0,0,null,null,null,null,null,null,0,0,0,0,0,0,0.16,0.65,0,0,0,null,0,0,0,0,0,2.5593220338983049,0]
[106,"Реконструкция ВЛ-0,4кВ от КТП ЧКЛ 707/160 кВА с заменой КТП",0,0,null,null,null,null,null,null,0,0,0,0,0,0,0,0,0.16,0.98,0,null,0,0,0,0,0,0,3.3423728813559324]
[107,"Реконструкция ВЛ-0,4кВ от КТП ЧКЛ 708/100 кВА с заменой КТП",0,0,null,null,null,null,null,null,0,0,0,0,0,0,0,0,0.1,3.03,0,null,0,0,0,0,0,0,8.206779661016947]
[108,"Реконструкция ВЛ-0,4кВ от КТП КЛВ 818/160 кВА с заменой КТП",0,0,null,null,null,null,null,null,0,0,0,0,0,0,0,0,0.16,1.52,0,null,0,0,0,0,0,0,4.623728813559322]
[109,"Кошкинский район",0,0,null,null,null,null,null,null,0,0,0,0,0,0,0,0,0,0,0,null,0,0,0,0,0,0,0]
[110,"Реконструкция ВЛ-10 кВ КШК-11 ",0,3.47,null,null,null,null,null,null,0,3.47,0,0,0,0,0,0,0,0,9.4101694915254228,null,1.4115254237288133,3.2935593220338979,4.7050847457627114,0,0,0,0]
[111,"Реконструкция ВЛ-0,4 кВ от КТП КШК 709/250 кВА с заменой  КТП ",0.25,1.9,null,null,null,null,null,null,0.25,1.9,0,0,0,0,0,0,0,0,6.3050847457627128,null,0.94576271186440686,2.2067796610169492,3.1525423728813564,0,0,0,0]
[112,"Реконструкция ВЛ-0,4 кВ от КТП КШК 1109/400 кВА с заменой  КТП ",0.4,2.2400000000000002,null,null,null,null,null,null,0.4,2.2400000000000002,0,0,0,0,0,0,0,0,7.4305084745762722,null,1.1145762711864409,2.6006779661016952,3.7152542372881361,0,0,0,0]
[113,"Реконструкция ВЛ-0,4 кВ от КТП КШК 511/100 кВА с заменой  КТП на 160 кВА ",0.16,2.68,null,null,null,null,null,null,0.16,2.68,0,0,0,0,0,0,0,0,8.3694915254237294,null,1.2554237288135595,2.929322033898305,4.1847457627118647,0,0,0,0]
[114,"Реконструкция ВЛ-0,4 кВ от КТП КШК 1103/400 кВА с заменой  КТП ",0.4,2.0299999999999998,null,null,null,null,null,null,0.4,2.0299999999999998,0,0,0,0,0,0,0,0,6.8610169491525426,null,1.0291525423728813,2.4013559322033897,3.4305084745762713,0,0,0,0]
[115,"Реконструкция ВКЛ-0,4 кВ от ЗТП НАД 1102/2х400 кВА с заменой ЗТП на КТП 400 кВА",0.4,1.85,null,null,null,null,null,null,0.4,1.85,0,0,0,0,0,0,0,0,6.7033898305084749,null,1.0055084745762712,2.346186440677966,3.3516949152542375,0,0,0,0]
[116,"Реконструкция ВЛ-0,4 кВ от ЗТП КШК102/320 кВА с заменой ЗТП на КТП 400 кВА",0.4,0.7,null,null,null,null,null,null,0.4,0.7,0,0,0,0,0,0,0,0,3.2542372881355934,null,0.488135593220339,1.1389830508474577,1.6271186440677967,0,0,0,0]
[117,"Реконструкция ВЛ-0,4 кВ от КТП САД 709/160 кВА с заменой КТП на 250 кВА ",0.25,1.3,null,null,null,null,null,null,0.25,1.3,0,0,0,0,0,0,0,0,4.6271186440677967,null,0.69406779661016949,1.6194915254237288,2.3135593220338984,0,0,0,0]
[118,"Реконструкция ВЛ-0,4 кВ от КТП КШК 109/160 с заменой ЗТП на  КТП 160 кВА",0,0,null,null,null,null,null,null,0,0,0.16,0.4,0,0,0,0,0,0,0,null,0,0,0,1.9661016949152541,0,0,0]
[119,"Реконструкция ВЛ-0,4 кВ от КТП КШК 1115/250 с заменой КТП",0,0,null,null,null,null,null,null,0,0,0.25,1.2,0,0,0,0,0,0,0,null,0,0,0,3.8644067796610169,0,0,0]
[120,"Реконструкция ВЛ-0,4 кВ от КТП КШК 1113/250 кВА с заменой КТП",0,0,null,null,null,null,null,null,0,0,0.25,1.1000000000000001,0,0,0,0,0,0,0,null,0,0,0,3.6271186440677972,0,0,0]
[121,"Реконструкция ВЛ-0,4 кВ от КТП КШК 504/160 с заменой КТП на 250 кВА",0,0,null,null,null,null,null,null,0,0,0.25,2.5,0,0,0,0,0,0,0,null,0,0,0,6.9491525423728815,0,0,0]
[122,"Реконструкция ВЛ-0,4 кВ от КТП КРМ 502/100 кВА с заменой КТП на 63 кВА",0,0,null,null,null,null,null,null,0,0,0,0,6.3E-2,0.2,0,0,0,0,0,null,0,0,0,0,1.4915254237288134,0,0]
[123,"Реконструкция ВЛ-0,4 кВ от КТП КШК 1204/63 кВА с переносом и заменой на КТП ",0,0,null,null,null,null,null,null,0,0,0,0,6.3E-2,0.2,0,0,0,0,0,null,0,0,0,0,1.4915254237288134,0,0]
[124,"Реконструкция ВЛ-0,4 кВ от ЗТП САД 703/400 кВА с заменой КТП на 400 кВА",0,0,null,null,null,null,null,null,0,0,0,0,0.4,0.1,0,0,0,0,0,null,0,0,0,0,1.2542372881355932,0,0]
[125,"Реконструкция ВЛ-0,4 кВ от КТП  НБК 117/160 кВА с заменой КТП на 63 кВА ",0,0,null,null,null,null,null,null,0,0,0,0,6.3E-2,0.5,0,0,0,0,0,null,0,0,0,0,2.2033898305084745,0,0]
[126,"Реконструкция ВЛ-0,4 кВ от ЗТП КШК 1301/400*2 с заменой ЗТП на КТП 400*2 кВА",0,0,null,null,null,null,null,null,0,0,0,0,0,0,0.8,0.75,0,0,0,null,0,0,0,0,0,2.7966101694915255,0]
[127,"Реконструкция ВЛ-0,4 кВ от КТП КШК 506/250 кВА с заменой  КТП",0,0,null,null,null,null,null,null,0,0,0,0,0,0,0,0,0.25,2.7,0,null,0,0,0,0,0,0,7.4237288135593227]
[128,"Реконструкция ВЛ-0,4 кВ от КТП КШК 908/100 кВА с заменой КТП на 250 кВА",0,0,null,null,null,null,null,null,0,0,0,0,0,0,0,0,0.25,0.2,0,null,0,0,0,0,0,0,1.4915254237288134]
[129,"Красноармейский район",0,0,null,null,null,null,null,null,0,0,0,0,0,0,0,0,0,0,0,null,0,0,0,0,0,0,0]
[130,"Реконструкция ВЛ-10 кВ Ф-1 ПС В.Гай",0,1.2,null,null,null,null,null,null,{"$f":"C152","v":0},1.2,0,0,0,0,0,0,0,0,3.2542372881355934,null,{"$f":"U152*0.15","v":0.488135593220339},{"$f":"U152*0.35","v":1.1389830508474577},{"$f":"U152*0.5","v":1.6271186440677967},0,0,0,0]
[131,"Реконструкция ВЛ-10 кВ Ф-1 ПС Колдыбань",0,0,null,null,null,null,null,null,0,0,0,0.21,0,0,0,0,0,0,0,null,0,0,0,0.49830508474576268,0,0,0]
[132,"Реконструкция ВЛ-10 кВ Ф-2 ПС В.Гай",0,0,null,null,null,null,null,null,0,0,0,0.3,0,0,0,0,0,0,0,null,0,0,0,0.71186440677966101,0,0,0]
[133,"Красноярский район",0,0,null,null,null,null,null,null,0,0,0,0,0,0,0,0,0,0,0,null,0,0,0,0,0,0,0]
[134,"Реконструкция ВЛ-6 кВ в п. Новосемейкино",0,0.3,null,null,null,null,null,null,0,0.3,0,0,0,0,0,0,0,0,1.6949152542372883,null,0.25423728813559321,0.59322033898305082,0.84745762711864414,0,0,0,0]
[135,"Реконструкция Ф Кур-21",0,2.5,null,null,null,null,null,null,0,2.5,0,0,0,0,0,0,0,0,15,null,2.25,5.25,7.5,0,0,0,0]
[136,"Реконструкция ВЛ-0,4 кВ от КТП Кяр 614/250 кВА и Кяр 613/250 кВА с заменой КТП на 400 кВА ",0.8,7,null,null,null,null,null,null,0.8,7,0,0,0,0,0,0,0,0,21.694915254237294,null,3.2542372881355939,7.5932203389830528,10.847457627118647,0,0,0,0]
[137,"Реконструкция ВЛ-0,4 кВ от КТП Кяр 613/250 кВА с заменой КТП на 400 кВА ",0.4,2.9,null,null,null,null,null,null,0.4,2.9,0,0,0,0,0,0,0,0,9.2203389830508478,null,1.3830508474576271,3.2271186440677964,4.6101694915254239,0,0,0,0]
[138,"Реконструкция ВЛ-0,4 кВ от КТП Кяр 314/400 кВА с заменой КТП",0.4,3,null,null,null,null,null,null,0.4,3,0,0,0,0,0,0,0,0,9.4915254237288149,null,1.4237288135593222,3.3220338983050852,4.7457627118644075,0,0,0,0]
[139,"Реконструкция ВЛ-0,4 кВ от КТП НБ 702/250 кВА с заменой КТП на 400 кВА",0.4,5,null,null,null,null,null,null,0.4,5,0,0,0,0,0,0,0,0,14.915254237288137,null,2.2372881355932206,5.2203389830508478,7.4576271186440684,0,0,0,0]
[140,"Реконструкция ВЛ-0,4 кВ от КТП РЦ 1101/250 кВА с заменой КТП на 400 кВА и установкой дополнительной КТП 250 кВА",0,0,null,null,null,null,null,null,0,0,0.65,6,0,0,0,0,0,0,0,null,0,0,0,16.271186440677962,0,0,0]
[141,"Реконструкция ВЛ-0,4 кВ от КТП НБ 1604/160 кВА с заменой КТП на 250 кВА",0,0,null,null,null,null,null,null,0,0,0.25,2,0,0,0,0,0,0,0,null,0,0,0,5.7627118644067794,0,0,0]
[142,"Реконструкция ВЛ-0,4 кВ от КТП Кяр 407/160 кВА с заменой КТП на 250 кВА",0,0,null,null,null,null,null,null,0,0,0.25,2,0,0,0,0,0,0,0,null,0,0,0,5.7627118644067794,0,0,0]
[143,"Реконструкция ВЛ-0,4 кВ от КТП РЦ 1113/320 кВА с заменой КТП на 400 кВА",0,0,null,null,null,null,null,null,0,0,0.4,3,0,0,0,0,0,0,0,null,0,0,0,8.1355932203389809,0,0,0]
[144,"Реконструкция ВЛ-0,4 кВ от ЗТП ДСК 6034/2х320 кВА ",0,0,null,null,null,null,null,null,0,0,0,0,0,2,0,0,0,0,0,null,0,0,0,0,4.7457627118644066,0,0]
[145,"Реконструкция ВЛ-0,4 кВ от КТП НБ 701/100 кВА с заменой КТП на 160 кВА",0,0,null,null,null,null,null,null,0,0,0,0,0.16,2,0,0,0,0,0,null,0,0,0,0,5.7627118644067794,0,0]
[146,"Реконструкция ВЛ-0,4 кВ от КТП РЦ 3101/2х400 кВА с заменой КТП на 630 кВА и установкой дополнительной КТП 250 кВА",0,0,null,null,null,null,null,null,0,0,0,0,0.88,3,0,0,0,0,0,null,0,0,0,0,9.322033898305083,0,0]
[147,"Реконструкция ВЛ-0,4 кВ от КТП НБ 714/250 кВА с заменой КТП",0,0,null,null,null,null,null,null,0,0,0,0,0,0,0.25,2,0,0,0,null,0,0,0,0,0,5.7627118644067794,0]
[148,"Реконструкция ВЛ-0,4 кВ от КТП Рак 802/160 кВА с заменой КТП на 250 кВА",0,0,null,null,null,null,null,null,0,0,0,0,0,0,0,0,0.25,3,0,null,0,0,0,0,0,0,8.1355932203389809]
[149,"Пестравский район",0,0,null,null,null,null,null,null,0,0,0,0,0,0,0,0,0,0,0,null,0,0,0,0,0,0,0]
[150,"Реконструкция ВЛ-10 кВ Ф-8 ПС Пестравка",0,12.6,null,null,null,null,null,null,0,12.6,0,0,0,0,0,0,0,0,34.16949152542373,null,5.1254237288135593,11.959322033898305,17.084745762711865,0,0,0,0]
[151,"Реконструкция ВЛ-0,4 кВ от КТП 420/160 кВА с заменой КТП",0,0,null,null,null,null,null,null,0,0,0.16,1.8,0,0,0,0,0,0,0,null,0,0,0,5.2881355932203391,0,0,0]
[152,"Реконструкция ВЛ-0,4 кВ от КТП 507/160 кВА с заменой КТП на 250 кВА",0,0,null,null,null,null,null,null,0,0,0.25,2.9,0,0,0,0,0,0,0,null,0,0,0,7.8983050847457621,0,0,0]
[153,"Реконструкция ВЛ-0,4 кВ от КТП 509/160 кВА с заменой КТП на 250 кВА",0,0,null,null,null,null,null,null,0,0,0,0,0.25,4.5,0,0,0,0,0,null,0,0,0,0,11.694915254237287,0,0]
[154,"Реконструкция ВЛ-0,4 кВ от КТП Мт 102/250 кВА с заменой КТП ",0,0,null,null,null,null,null,null,0,0,0,0,0.25,0.8,0,0,0,0,0,null,0,0,0,0,2.9152542372881354,0,0]
[155,"Реконструкция ВЛ-0,4 кВ от КТП 508/250 кВА с заменой КТП на 400 кВА",0,0,null,null,null,null,null,null,0,0,0,0,0,0,0.4,3.2,0,0,0,null,0,0,0,0,0,8.6101694915254221,0]
[156,"Реконструкция ВЛ-0,4 кВ от КТП Мр 512/160 кВА с заменой КТП на 400 кВА",0,0,null,null,null,null,null,null,0,0,0,0,0,0,0,0,0.4,0.8,0,null,0,0,0,0,0,0,2.9152542372881354]
[157,"Приволжский район",0,0,null,null,null,null,null,null,0,0,0,0,0,0,0,0,0,0,0,null,0,0,0,0,0,0,0]
[158,"Реконструкция ВЛ-0,4 кВ от  ЗТП Пр 222/160 кВА с заменой ЗТП на КТП 250 кВА",0.25,1.65,null,null,null,null,null,null,0.25,1.65,0,0,0,0,0,0,0,0,5.5762711864406782,null,0.83644067796610166,1.9516949152542373,2.7881355932203391,0,0,0,0]
[159,"Реконструкция ВЛ-0,4 кВ от  КТП Пр 202/250 кВА с заменой КТП",0.25,1.45,null,null,null,null,null,null,0.25,1.45,0,0,0,0,0,0,0,0,5.0338983050847457,null,0.75508474576271178,1.7618644067796609,2.5169491525423728,0,0,0,0]
[160,"Реконструкция ВЛ-0,4 кВ от  КТП Пр 205/250 кВА с заменой КТП ",0.25,2.61,null,null,null,null,null,null,0.25,2.61,0,0,0,0,0,0,0,0,8.1796610169491526,null,1.2269491525423728,2.8628813559322031,4.0898305084745763,0,0,0,0]
[161,"Реконструкция ВЛ-0,4 кВ от  ЗТП Об 1208/160 кВА с заменой КТП ",0,0,null,null,null,null,null,null,0,0,0.16,1.43,0,0,0,0,0,0,0,null,0,0,0,4.4101694915254237,0,0,0]
[162,"Реконструкция ВЛ-0,4 кВ от  КТП Ек 111/100 кВА с заменой КТП ",0,0,null,null,null,null,null,null,0,0,0.1,0.9,0,0,0,0,0,0,0,null,0,0,0,3.152542372881356,0,0,0]
[163,"Реконструкция ВЛ-0,4 кВ от  КТП  Нсп 502/160 кВА с заменой КТП ",0,0,null,null,null,null,null,null,0,0,0,0,0.16,1.08,0,0,0,0,0,null,0,0,0,0,3.579661016949153,0,0]
[164,"Реконструкция ВЛ-0,4 кВ от  ЗТП Пр 222/160 кВА с заменой КТП ",0,0,null,null,null,null,null,null,0,0,0,0,0.16,1.64,0,0,0,0,0,null,0,0,0,0,4.9084745762711863,0,0]
[165,"Реконструкция ВЛ-0,4 кВ от КТП Об 1213-813/2х250 кВА с заменой КТП ",0,0,null,null,null,null,null,null,0,0,0,0,0,0,0.5,1.2,0,0,0,null,0,0,0,0,0,3.8644067796610169,0]
[166,"Реконструкция ВЛ-0,4 кВ от  ЗТП Об 1211-811/250 кВА с заменой КТП ",0,0,null,null,null,null,null,null,0,0,0,0,0,0,0,0,0.25,2.34,0,null,0,0,0,0,0,0,6.5694915254237287]
[167,"г.Самара",0,0,null,null,null,null,null,null,0,0,0,0,0,0,0,0,0,0,0,null,0,0,0,0,0,0,0]
[168,"Электроснабжение инфраструктуры объектов электросетевого хозяйства в г.о. Самара (в районе радиоцентра №3), в т.ч. I, II, III, IV этап",9.26,11.08,null,null,null,null,null,null,9.26,11.08,0,0,0,0,0,0,0,0,384.84237288135591,null,57.726355932203383,134.69483050847455,192.42118644067796,0,0,0,0]
[169,"Реконструкция КЛ-10 кВ от ТП 6096 до КТПН 6036 с переводом ТП 6124 на 10 кВ\" г.о. Самара ул. Ташкентская, Московское шоссе ",0,1.05,null,null,null,null,null,null,0,1.05,0,0,0,0,0,0,0,0,55.528813559322039,null,8.3293220338983058,19.435084745762712,27.764406779661019,0,0,0,0]
[170,"Электроснабжение объектов в районе улиц Ташкентская, Демократическая, Московское шоссе г.о. Самара",0,16.14,null,null,null,null,null,null,0,16.14,0,0,0,0,0,0,0,0,86.694915254237287,null,13.004237288135593,30.343220338983048,43.347457627118644,0,0,0,0]
[171,"Реконструкция ТП-1875 г.о. Самара",1.26,0,null,null,null,null,null,null,1.26,0,0,0,0,0,0,0,0,0,7.5866080762711867,null,1.1379912114406781,2.6553128266949151,3.7933040381355934,0,0,0,0]
[172,"Реконструкция ТП-2092 г.о. Самара",1.26,0,null,null,null,null,null,null,1.26,0,0,0,0,0,0,0,0,0,3.0172663135593223,null,0.45258994703389832,1.0560432097457628,1.5086331567796611,0,0,0,0]
[173,"Реконструкция РП-129 г.о. Самара",0,0,null,null,null,null,null,null,0,0,0,0,0,0,0,0,0,0,30.463718855932207,null,4.569557828389831,10.662301599576272,15.231859427966103,0,0,0,0]
[174,"Реконструкция ТП-4641 г.о. Самара",0,0,null,null,null,null,null,null,0,0,0,0,0,0,0,0,0,0,1.3030524067796612,null,0.19545786101694917,0.45606834237288135,0.65152620338983058,0,0,0,0]
[175,"Реконструкция ТП-2522 г.о. Самара",1.26,0,null,null,null,null,null,null,1.26,0,0,0,0,0,0,0,0,0,11.378949372881356,null,1.7068424059322034,3.9826322805084744,5.6894746864406782,0,0,0,0]
[176,"Реконструкция  КТП-3058 с заменой на ГКТП 400/10,5/0,4 кВ г.о. Самара",0.4,0,null,null,null,null,null,null,0.4,0,0,0,0,0,0,0,0,0,5.5617057627118642,null,0.83425586440677957,1.9465970169491524,2.7808528813559321,0,0,0,0]
[177,"Реконструкция ТП-1440 г.о. Самара",2,0,null,null,null,null,null,null,2,0,0,0,0,0,0,0,0,0,2.5902412627118645,null,0.38853618940677964,0.90658444194915255,1.2951206313559323,0,0,0,0]
[178,"Энергоснабжение электросетевого комплекса по ул. Мориса Тореза г.о. Самара",0,0.1,null,null,null,null,null,null,0,0.1,0,0,0,0,0,0,0,0,0.50847457627118642,null,7.6271186440677957E-2,0.17796610169491522,0.25423728813559321,0,0,0,0]
[179,"Энергоснабжение электросетевого комплекса по ул. Мяги г.о. Самара",0,0.23,null,null,null,null,null,null,0,0.23,0,0,0,0,0,0,0,0,1.4406779661016949,null,0.21610169491525422,0.50423728813559321,0.72033898305084743,0,0,0,0]
[180,"Энергоснабжение электросетевого комплексса по ул. Партизанская г.о. Самара",0,0.3,null,null,null,null,null,null,0,0.3,0,0,0,0,0,0,0,0,1.8644067796610171,null,0.27966101694915257,0.65254237288135597,0.93220338983050854,0,0,0,0]
[181,"Реконструкция электроснабжения г.о.Самара",0,11.799999999999999,null,null,null,null,null,null,0,11.799999999999999,0,0,0,0,0,0,0,0,60,null,9,21,30,0,0,0,0]
[182,"Реконструкция сетей в Ленинском р-не г.о. Самара",2,2.5,null,null,null,null,null,null,2,2.5,0,0,0,0,0,0,0,0,70,null,10.5,24.5,35,0,0,0,0]
[183,"ПИР Котельная в Куйбышевском р-не г.о. Самара",0,0,null,null,null,null,null,null,0,0,0,0,0,0,0,0,0,0,10.000000000000002,null,1.5000000000000002,3.5000000000000004,5.0000000000000009,0,0,0,0]
[184,"ПИР ПС \"Кряж\"",0,0,null,null,null,null,null,null,0,0,0,0,0,0,0,0,0,0,105.00000000000001,null,15.750000000000002,36.75,52.500000000000007,0,0,0,0]
[185,"Повышение надежности энергоснабжения г. Самара",0,0,null,null,null,null,null,null,0,0,0,69,0,57.5,0,61,0,67,0,null,0,0,0,635,540.00000000000011,560,628.98305084745766]
[186,"Реконструкция существующей инфраструктуры объектов электрохозяйства в г.о. Самара, в целях обеспечения надежности ЭС спортивного комплексак ЧМ-2018",0,0,null,null,null,null,null,null,0,0,0,15,33.6,28,13.6,54,23.8,34,0,null,0,0,0,139.00000000000003,320.00000000000006,485,350]
[187,"Реконструкция инфраструктуры объектов электрохозяйства в г.о. Самара в целях обеспечения надежности ЭС жилой застройки в районе площадки ЗИМ",0,0,null,null,null,null,null,null,0,0,2.4,48.69,2.4,48.09,2.4,23.11,7.2,41.97,0,null,0,0,0,257.3389830508475,266.64050847457628,116.10169491525424,298.66101694915255]
[188,"Реконструкция инфраструктуры объектов электрхозяйства в г.о. Самара, в целях обеспечения надежности ЭС жилой застройке в районе ул.Комсомольской, ул.М.Горького, ул.Крупской, ул. Кутякова на берегу р.Волга",0,0,null,null,null,null,null,null,0,0,0,15,2,18,6,26,6,28,0,null,0,0,0,150,180.00000000000003,255,300]
[189,"Реконструкция объектов элктрохозяйства в г.о. Самара, в целях обеспечения надежности ЭС объектов в границах ул. Ив.Булкина, Блюхера Энтузиастов и К.Маркса",0,0,null,null,null,null,null,null,0,0,0,0,0,0,0,4,4,8,0,null,0,0,0,0,0,40.000000000000007,85]
[190,"Реконструкция инфраструктуры объектов элтрохозяйства в г.о. Самара , в целях обеспечения надежности ЭС объектов в границах ул. Дыбенко, Авроры, Энтузиастов и Луч. пер. ",0,0,null,null,null,null,null,null,0,0,0,0,0,0,0,5,4,6,0,null,0,0,0,0,0,40.000000000000007,75]
[191,"Сергиевский район",0,0,null,null,null,null,null,null,0,0,0,0,0,0,0,0,0,0,0,null,0,0,0,0,0,0,0]
[192,"Реконструкция ВЛ-6 кВ ОБШ-1",0,5.0999999999999996,null,null,null,null,null,null,0,5.0999999999999996,0,0,0,0,0,0,0,0,13.830508474576272,null,2.0745762711864408,4.840677966101695,6.9152542372881358,0,0,0,0]
[193,"Реконструкция ВЛ-10 кВ СВ9 от ЦРП-10 кВ",0,9.31,null,null,null,null,null,null,0,9.31,0,0,0,0,0,0,0,0,25.247457627118646,null,3.7871186440677969,8.8366101694915251,12.623728813559323,0,0,0,0]
[194,"Реконструкция ВЛ-0,4 кВ от КТП СРГ 205/160 кВА ",0,3.1,null,null,null,null,null,null,0,3.1,0,0,0,0,0,0,0,0,8.4067796610169516,null,1.2610169491525427,2.9423728813559329,4.2033898305084758,0,0,0,0]
[195,"Реконструкция ВЛ-0,4 кВ от КТП СВД 4207/160 кВА ",0,3.82,null,null,null,null,null,null,0,3.82,0,0,0,0,0,0,0,0,10.359322033898305,null,1.5538983050847457,3.6257627118644065,5.1796610169491526,0,0,0,0]
[196,"Реконструкция ВЛ-0,4 кВ от КТП СВ 907/400 кВА ",0,5.05,null,null,null,null,null,null,0,5.05,0,0,0,0,0,0,0,0,13.694915254237289,null,2.0542372881355933,4.7932203389830512,6.8474576271186445,0,0,0,0]
[197,"Реконструкция ВЛ-0,4 кВ от КТП СРГ 204/160 кВА ",0,3.05,null,null,null,null,null,null,0,3.05,0,0,0,0,0,0,0,0,8.2711864406779672,null,1.2406779661016951,2.8949152542372882,4.1355932203389836,0,0,0,0]
[198,"Реконструкция ВЛ-0,4 кВ от КТП ФНС 702/400 кВА ",0,5.7750000000000004,null,null,null,null,null,null,{"$f":"C220","v":0},5.7750000000000004,0,0,0,0,0,0,0,0,15.661016949152543,null,{"$f":"U220*0.15","v":2.3491525423728814},{"$f":"U220*0.35","v":5.4813559322033898},{"$f":"U220*0.5","v":7.8305084745762716},0,0,0,0]
[199,"Ставропольский район",0,0,null,null,null,null,null,null,0,0,0,0,0,0,0,0,0,0,0,null,0,0,0,0,0,0,0]
[200,"Реконструкция ВЛ-0,4 кВ от КТП Хщ 1902/400 кВА с заменой КТП и установкой дополнительной КТП 250 кВА",0.65,5.0999999999999996,null,null,null,null,null,null,0.65,5.0999999999999996,0,0,0,0,0,0,0,0,16.288135593220343,null,2.4432203389830511,5.7008474576271198,8.1440677966101713,0,0,0,0]
[201,"Реконструкция ВЛ-0,4 кВ от КТП С 2512/250 кВА с заменой КТП и установкой дополнительной КТП 250 кВА",0.5,2.6,null,null,null,null,null,null,0.5,2.6,0,0,0,0,0,0,0,0,9.2542372881355952,null,1.3881355932203392,3.238983050847458,4.6271186440677976,0,0,0,0]
[202,"г.Сызрань",0,0,null,null,null,null,null,null,0,0,0,0,0,0,0,0,0,0,0,null,0,0,0,0,0,0,0]
[203,"Реконструкция электроснабжения г.о. Сызрань",1.72,11.76,null,null,null,null,null,null,1.72,11.76,0,0,0,0,0,0,0,0,40.95932203389831,null,6.143898305084746,14.335762711864408,20.479661016949155,0,0,0,0]
[204,"Реконструкция ВЛ-0,4 кВ от КТП-НК 26.03 с заменой КТП",0.25,4.5199999999999996,null,null,null,null,null,null,0.25,4.5199999999999996,0,0,0,0,0,0,0,0,13.359322033898305,null,2.0038983050847459,4.6757627118644063,6.6796610169491526,0,0,0,0]
[205,"Реконструкция ВЛ-0,4 кВ от КТП-74/250 кВА с заменой КТП",0.25,1.3,null,null,null,null,null,null,0.25,1.3,0,0,0,0,0,0,0,0,4.6271186440677967,null,0.69406779661016949,1.6194915254237288,2.3135593220338984,0,0,0,0]
[206,"Реконструкция ВЛ-0,4 кВ от КТП-31/250 кВА с заменой КТП",0.25,4.8,null,null,null,null,null,null,0.25,4.8,0,0,0,0,0,0,0,0,14.118644067796611,null,2.1177966101694916,4.9415254237288133,7.0593220338983054,0,0,0,0]
[207,"Реконструкция ВЛ-0,4 кВ от КТП-ПБ 510/250 кВА с заменой КТП",0.25,4.09,null,null,null,null,null,null,0.25,4.09,0,0,0,0,0,0,0,0,12.193220338983053,null,1.8289830508474578,4.267627118644068,6.0966101694915267,0,0,0,0]
[208,"Реконструкция ВЛ-0,4 кВ от КТП-НК 16.04 с заменой КТП",0.25,3,null,null,null,null,null,null,0.25,3,0,0,0,0,0,0,0,0,9.2372881355932233,null,1.3855932203389834,3.2330508474576281,4.6186440677966116,0,0,0,0]
[209,"Повышение надежности энергоснабжения г. Сызрань",0,0,null,null,null,null,null,null,0,0,0,27,0,41,0,45,0,46,0,null,0,0,0,270.00000000000006,396.61016949152543,428.5593220338983,438.05084745762713]
[210,"г.Тольятти",0,0,null,null,null,null,null,null,0,0,0,0,0,0,0,0,0,0,0,null,0,0,0,0,0,0,0]
[211,"Реконструкция электроснабжения г.о. Тольятти",0,18.029333333333334,null,null,null,null,null,null,0,18.029333333333334,0,0,0,0,0,0,0,0,91.673916271186442,null,13.751087440677965,32.085870694915251,45.836958135593221,0,0,0,0]
[212,"Реконструкция электроснабжения с. Тимофеевка ",0,12,null,null,null,null,null,null,0,12,0,0,0,0,0,0,0,0,50.847457627118644,null,7.6271186440677958,17.796610169491522,25.423728813559322,0,0,0,0]
[213,"Повышение надежности энергоснабжения г. Тольятти",0,0,null,null,null,null,null,null,0,0,0,55.5,0,41,0,50,0,56,0,null,0,0,0,488.00000000000006,382.70865415580016,470.00000000000006,529.83050847457639]
[214,"Реконструкция КЛ 110кВ от ГПП-2000000 до ГПП-3000000 для повышения надежности электроснабжения Автозаводского района г.о. Тольятти",0,0,null,null,null,null,null,null,0,0,0,14,0,0,0,0,0,0,0,null,0,0,0,135.00000000000003,0,0,0]
[215,"Реконструкция ГПП-4000000 110/10кВ с заменой силовых трансформаторов на 2х63мВА",0,0,null,null,null,null,null,null,0,0,63,0,63,0,0,0,0,0,0,null,0,0,0,37,106,0,0]
[216,"Реконструкция ГПП-2000000 со строительством блочного КРУ-10кВ модульного типа",0,0,null,null,null,null,null,null,0,0,0,0,0,0,0,0,0,0,0,null,0,0,0,25,0,0,0]
[217,"Реконструкция системы электроснабжения 7 квартала от ГПП-1000000 до РП-2080700",0,0,null,null,null,null,null,null,0,0,0,15,0,0,0,0,0,0,0,null,0,0,0,88.000000000000014,0,0,0]
[218,"Реконструкция РП-10кВ, КЛ-10кв от ГПП-1000000 для электроснабжения застройки по Московскому проспекту",0,0,null,null,null,null,null,null,0,0,0,12,0,0,0,0,0,0,0,null,0,0,0,60,0,0,0]
[219,"Реконструкция  КЛ-110кВ от ГПП-1000000 до ГПП-2000000",0,0,null,null,null,null,null,null,0,0,0,0,0,12.8,0,25,0,0,0,null,0,0,0,0,80.000000000000014,178.98305084745763,0]
[220,"Реконструкция РП-10кВ и КЛ-10кВ от ГПП-2000000 для электроснабжения застройки вдоль набережной Автозаводского р-на",0,0,null,null,null,null,null,null,0,0,0,0,0,12,0,0,0,0,0,null,0,0,0,0,95,0,0]
[221,"г.Чапаевск",0,0,null,null,null,null,null,null,0,0,0,0,0,0,0,0,0,0,0,null,0,0,0,0,0,0,0]
[222,"Реконструкция КЛ-6кВ Ф-\"Насосная 2\"",0,0.7,null,null,null,null,null,null,0,0.7,0,0,0,0,0,0,0,0,7.6271186440677967,null,1.1440677966101696,2.6694915254237288,3.8135593220338984,0,0,0,0]
[223,"Реконструкция КЛ-10 кВ от ЗТП Х5\", с реконструкцией ЗТП \"Х5\"",0.8,4.5,null,null,null,null,null,null,0.8,4.5,0,0,0,0,0,0,0,0,35.154237288135597,null,5.2731355932203394,12.303983050847458,17.577118644067799,0,0,0,0]
[224,"Реконструкция КЛ-10кВ от ЦРП-1",0,4,null,null,null,null,null,null,0,4,0,4,0,0,0,0,0,0,15.254237288135593,null,2.2881355932203391,5.3389830508474576,7.6271186440677967,13.559322033898306,0,0,0]
[225,"Реконструкция ТП \"Насосная-1\"",2,0,null,null,null,null,null,null,2,0,0,0,0,0,0,0,0,0,3.3898305084745766,null,0.50847457627118642,1.1864406779661016,1.6949152542372883,0,0,0,0]
[226,"Реконструкция ТП \"Насосная-2\"",2,0,null,null,null,null,null,null,2,0,0,0,0,0,0,0,0,0,3.3898305084745766,null,0.50847457627118642,1.1864406779661016,1.6949152542372883,0,0,0,0]
[227,"Реконструкция ТП \"Строительная-4\"",0.5,0,null,null,null,null,null,null,0.5,0,0.5,0,0,0,0,0,0,0,3.3898305084745766,null,0.50847457627118642,1.1864406779661016,1.6949152542372883,6.3559322033898304,0,0,0]
[228,"Реконструкция КЛ-6кВ от ТП\"Строительная4\"",0,0,null,null,null,null,null,null,0,0,0,0,0,3.5,0,0,0,0,0,null,0,0,0,0,11.864406779661017,0,0]
[229,"Реконструкция КЛ-6кВ от ГПП-1 ВПХ",0,5,null,null,null,null,null,null,0,5,0,0,0,5,0,0,0,0,19.067796610169491,null,2.8601694915254234,6.6737288135593218,9.5338983050847457,0,16.949152542372882,0,0]
[230,"Челно-Вершинский район",0,0,null,null,null,null,null,null,0,0,0,0,0,0,0,0,0,0,0,null,0,0,0,0,0,0,0]
[231,"Реконструкция ВЛ-0,4 кВ от КТП Б 416/100 кВА с заменой КТП",0.1,2.2000000000000002,null,null,null,null,null,null,0.1,2.2000000000000002,0,0,0,0,0,0,0,0,7.0677966101694913,null,1.0601694915254236,2.4737288135593216,3.5338983050847457,0,0,0,0]
[232,"Реконструкция ВЛ-0,4 кВ от КТП ЧВ 112/160 кВА с заменой КТП на 250 кВА",0.25,2.7,null,null,null,null,null,null,0.25,2.7,0,0,0,0,0,0,0,0,8.4576271186440692,null,1.2686440677966104,2.960169491525424,4.2288135593220346,0,0,0,0]
[233,"Реконструкция ВЛ-0,4 кВ от КТП ЧВ 1101/160 кВА с заменой КТП и установкой дополнительной КТП 100 кВА для перераспределения нагрузок",0.26,2.6,null,null,null,null,null,null,0.26,2.6,0,0,0,0,0,0,0,0,9.2542372881355934,null,1.388135593220339,3.2389830508474575,4.6271186440677967,0,0,0,0]
[234,"Реконструкция ВЛ-0,4 кВ от КТП ЧВ 113/250 кВА с заменой КТП",0,0,null,null,null,null,null,null,0,0,0.25,1.9,0,0,0,0,0,0,0,null,0,0,0,5.5254237288135588,0,0,0]
[235,"Реконструкция ВЛ-0,4 кВ от КТП Оз 505/100 кВА с заменой КТП",0,0,null,null,null,null,null,null,0,0,0.1,2.8,0,0,0,0,0,0,0,null,0,0,0,7.6610169491525424,0,0,0]
[236,"Реконструкция ВЛ-0,4 кВ от КТП Оз 510/250 кВА с заменой КТП на 160 кВА",0,0,null,null,null,null,null,null,0,0,0.16,2.4,0,0,0,0,0,0,0,null,0,0,0,6.7118644067796609,0,0,0]
[237,"Реконструкция ВЛ-0,4 кВ от КТП Оз 504/60 кВА с заменой КТП на 100 кВА",0,0,null,null,null,null,null,null,0,0,0.1,2.1,0,0,0,0,0,0,0,null,0,0,0,3.8644067796610169,0,0,0]
[238,"Реконструкция ВЛ-0,4 кВ от КТП ЧВ 1004/250 кВА с заменой КТП",0,0,null,null,null,null,null,null,0,0,0,0,0.25,1.8,0,0,0,0,0,null,0,0,0,0,5.2881355932203391,0,0]
[239,"Реконструкция ВЛ-0,4 кВ от КТП Зуб 309/250 кВА с заменой КТП",0,0,null,null,null,null,null,null,0,0,0,0,0.25,1.7,0,0,0,0,0,null,0,0,0,0,5.0508474576271185,0,0]
[240,"Реконструкция ВЛ-0,4 кВ от КТП Зуб 330/100 кВА с заменой КТП",0,0,null,null,null,null,null,null,0,0,0,0,0.1,0.7,0,0,0,0,0,null,0,0,0,0,2.6779661016949152,0,0]
[241,"Реконструкция ВЛ-0,4 кВ от КТП Зуб 335/250 кВА с заменой КТП",0,0,null,null,null,null,null,null,0,0,0,0,0.25,0.6,0,0,0,0,0,null,0,0,0,0,2.4406779661016951,0,0]
[242,"Реконструкция ВЛ-0,4 кВ от КТП Оз 816/160 кВА с заменой КТП",0,0,null,null,null,null,null,null,0,0,0,0,0,0,0.16,1.5,0,0,0,null,0,0,0,0,0,4.5762711864406773,0]
[243,"Реконструкция ВЛ-0,4 кВ от КТП Оз 806/250 кВА с заменой КТП на 160 кВА",0,0,null,null,null,null,null,null,0,0,0,0,0,0,0.16,2.4,0,0,0,null,0,0,0,0,0,6.7118644067796609,0]
[244,"Реконструкция ВЛ-0,4 кВ от КТП Оз 804/160 кВА с заменой КТП",0,0,null,null,null,null,null,null,0,0,0,0,0,0,0,0,0.16,3.5,0,null,0,0,0,0,0,0,9.322033898305083]
[245,"Реконструкция ВЛ-0,4 кВ от КТП Оз 807/160 кВА ",0,0,null,null,null,null,null,null,0,0,0,0,0,0,0,0,0,0.8,0,null,0,0,0,0,0,0,1.8983050847457625]
[246,"Шенталинский район",0,0,null,null,null,null,null,null,0,0,0,0,0,0,0,0,0,0,0,null,0,0,0,0,0,0,0]
[247,"Реконструкция ВЛ-10 кВ Ф-4 ПС Шентала",0,2.8,null,null,null,null,null,null,0,2.8,0,0,0,0,0,0,0,0,7.5932203389830519,null,1.1389830508474577,2.6576271186440681,3.796610169491526,0,0,0,0]
[248,"Реконструкция ВЛ-0,4 кВ от ЗТП Ш 114/400 кВА с заменой ЗТП на КТП",0,0,null,null,null,null,null,null,0,0,0.4,3.2,0,0,0,0,0,0,0,null,0,0,0,8.6101694915254221,0,0,0]
[249,"Реконструкция ВЛ-0,4 кВ от КТП Ш 205/100 кВА с заменой КТП на 160 кВА",0,0,null,null,null,null,null,null,0,0,0.16,2,0,0,0,0,0,0,0,null,0,0,0,5.7627118644067794,0,0,0]
[250,"Реконструкция ВЛ-10 кВ Ш-4 отпайка от опоры №400/32 до КТП Ш 425/160 кВА, отпайка от опоры №400/61 до КТП Ш429/250 кВА, от опоры №400/43 до КТП Ш 427/160 кВА, от опоры №400/65 до КТП Ш 426/250 кВА",0,0,null,null,null,null,null,null,0,0,0,0,0,2.8,0,0,0,0,0,null,0,0,0,0,6.6440677966101687,0,0]
[251,"Реконструкция ВЛ-0,4 кВ от КТП Ш 700/160 кВА с заменой КТП на 100 кВА",0,0,null,null,null,null,null,null,0,0,0,0,0,0,0.1,3.5,0,0,0,null,0,0,0,0,0,9.322033898305083,0]
[252,"Реконструкция ВЛ-0,4 кВ от КТП Ш 115/160 кВА с заменой КТП на 100 кВА",0,0,null,null,null,null,null,null,0,0,0,0,0,0,0,0,0.1,1.5,0,null,0,0,0,0,0,0,3.8644067796610169]
[253,"Спецтехника, реконструкция производственных баз",0,0,null,null,null,null,null,null,0,0,0,0,0,0,0,0,0,0,237.10000000000002,null,35.565000000000005,82.984999999999999,118.55000000000001,69.898305084745772,72.728237288135603,86.33898305084746,91.008474576271198]
["…",null,0,0,null,null,null,null,null,null,null,null,0,0,0,0,0,0,0,0,0,null,null,null,null,0,0,0,0]
["1.2.","Создание систем противоаварийной и режимной автоматики",0,0,null,null,null,null,null,null,null,null,0,0,0,0,0,0,0,0,0,null,null,null,null,0,0,0,0]
[1,"Объект 1",0,0,null,null,null,null,null,null,null,null,0,0,0,0,0,0,0,0,0,null,null,null,null,0,0,0,0]
[2,"Объект 2",0,0,null,null,null,null,null,null,null,null,0,0,0,0,0,0,0,0,0,null,null,null,null,0,0,0,0]
["…",null,0,0,null,null,null,null,null,null,null,null,0,0,0,0,0,0,0,0,0,null,null,null,null,0,0,0,0]
["1.3.","Создание систем телемеханики  и связи ",0,0,null,null,null,null,null,null,null,null,0,0,0,0,0,0,0,0,0,null,null,null,null,0,0,0,0]
[1,"Объект 1",0,0,null,null,null,null,null,null,null,null,0,0,0,0,0,0,0,0,0,null,null,null,null,0,0,0,0]
[2,"Объект 2",0,0,null,null,null,null,null,null,null,null,0,0,0,0,0,0,0,0,0,null,null,null,null,0,0,0,0]
["…",null,0,0,null,null,null,null,null,null,null,null,0,0,0,0,0,0,0,0,0,null,null,null,null,0,0,0,0]
["1.4.","Установка устройств регулирования напряжения и компенсации реактивной мощности",0,0,null,null,null,null,null,null,null,null,0,0,0,0,0,0,0,0,0,null,null,null,null,0,0,0,0]
[1,"Объект 1",0,0,null,null,null,null,null,null,null,null,0,0,0,0,0,0,0,0,0,null,null,null,null,0,0,0,0]
[2,"Объект 2",0,0,null,null,null,null,null,null,null,null,0,0,0,0,0,0,0,0,0,null,null,null,null,0,0,0,0]
["…",null,0,0,null,null,null,null,null,null,null,null,0,0,0,0,0,0,0,0,0,null,null,null,null,0,0,0,0]
["2.","Новое строительство",{"$f":"C294","v":7.8500000000000005},{"$f":"D294","v":36.349999999999994},0,0,0,0,0,0,7.8500000000000005,36.349999999999994,6.83,43.699999999999996,3.25,31.5,1.28,5.5000000000000009,2.25,4.4000000000000004,223.5318653301695,0,33.529779799525429,78.236152865559319,111.76593266508475,135.44101694915253,82.185061497774342,49.874576271186442,30.261016949152541]
["2.1.","Энергосбережение и повышение энергетической эффективности"]
[1,"Объект 1",0,0,null,null,null,null,null,null,null,null,0,0,0,0,0,0,0,0,0,null,null,null,null,0,0,0,0]
[2,"Объект 2",0,0,null,null,null,null,null,null,null,null,0,0,0,0,0,0,0,0,0,null,null,null,null,0,0,0,0]
["…",null,0,0,null,null,null,null,null,null,null,null,0,0,0,0,0,0,0,0,0,null,null,null,null,0,0,0,0]
["2.2.","Прочее новое строительство",{"$f":"SUM(C296:C321)","v":7.8500000000000005},36.349999999999994,0,0,0,0,0,0,7.8500000000000005,36.349999999999994,6.83,43.699999999999996,3.25,31.5,1.28,5.5000000000000009,2.25,4.4000000000000004,223.5318653301695,0,33.529779799525429,78.236152865559319,111.76593266508475,135.44101694915253,82.185061497774342,49.874576271186442,30.261016949152541]
[1,"Богатовский район",0,0,null,null,null,null,null,null,null,null,0,0,0,0,0,0,0,0,0,null,null,null,null,0,0,0,0]
[2,"Строительство внешнего  электроснабжения 204 одноэтажных жилых домов, с. Богатое, ул.Зеленая, Овражная, Газовиков, Дальняя, Безымянная, Крайняя, Спортивная",0,0,null,null,null,null,null,null,{"$f":"C296","v":0},{"$f":"D296","v":0},0,0.8,0,0,0,0,0,0,0,null,{"$f":"U296*0.15","v":0},{"$f":"U296*0.35","v":0},{"$f":"U296*0.5","v":0},1.18,0,0,0]
[3,"Строительство внешнего  электроснабжения жилого комплекса в с. Беловка",0,0,null,null,null,null,null,null,{"$f":"C297","v":0},{"$f":"D297","v":0},0,0,0,0,0.63,1.1000000000000001,0,0,0,null,{"$f":"U297*0.15","v":0},{"$f":"U297*0.35","v":0},{"$f":"U297*0.5","v":0},0,0,4.5999999999999996,0]
[4,"Кошкинский район",0,0,null,null,null,null,null,null,0,0,0,0,0,0,0,0,0,0,0,null,0,0,0,0,0,0,0]
[5,"Строительство внешнего электроснабжения 60-ти одноквартирных жилых домов, с. Кошки, ул. им. Самаркина",0,0,null,null,null,null,null,null,0,0,0,1,0,0,0,0,0,0,0,null,0,0,0,4.0999999999999996,0,0,0]
[6,"Строительство внешнего электроснабжения Ледового дворца, с. Кошки, ул. Парковая",0,0,null,null,null,null,null,null,0,0,0.32,0.5,0,0,0,0,0,0,0,null,0,0,0,4.2,0,0,0]
[7,"г.о. Кинель",0,0,null,null,null,null,null,null,0,0,0,0,0,0,0,0,0,0,0,null,0,0,0,0,0,0,0]
[8,"Строительство внешнего электроснабжения жилой застройки в районе улиц Перспективная и 27 Партсъезда",1.5,7.5,null,null,null,null,null,null,1.5,7.5,0,0,0,0,0,0,0,0,50.289289810169493,null,7.5433934715254232,17.60125143355932,25.144644905084746,0,0,0,0]
[9,"Красноярский район",0,0,null,null,null,null,null,null,0,0,0,0,0,0,0,0,0,0,0,null,0,0,0,0,0,0,0]
[10,"Строительство внешнего электроснабжения многоэтажной жилой застройки в  п. Мирный",0.25,0.9,null,null,null,null,null,null,0.25,0.9,0,0,0,0,0,0,0,0,4.95456976,null,0.74318546399999996,1.7340994159999998,2.47728488,0,0,0,0]
[11,"Строительство внешнего электроснабжения Физкультурного комплекса в с. Красный Яр",0,0,null,null,null,null,null,null,0,0,0,0,0,0,0.4,1.3,0,0,0,null,0,0,0,0,0,8,0]
[12,"г.о. Новокуйбышевск",0,0,null,null,null,null,null,null,0,0,0,0,0,0,0,0,0,0,0,null,0,0,0,0,0,0,0]
[13,"Строительство внешнего электроснабжения многоэтажной жилой застройки в г.о.Новокуйбышевск, в районе ж/д по ул.Свердлова, 25А",0.25,1.2,null,null,null,null,null,null,0.25,1.2,1.6,1.5,0,0,0,0.7,0,0,6.45424752,null,0.96813712799999996,2.258986632,3.22712376,4.8,0,4.8,0]
[14,"Строительство внешнего электроснабжения ФОК с ледовой ареной в г.о.Новокуйбышевск, по ул.Чернышевского",0,0,null,null,null,null,null,null,0,0,1.26,1.8,0,0,0,0,0,0,0,null,0,0,0,6.2,0,0,0]
[15,"г.о. Отрадный",0,0,null,null,null,null,null,null,0,0,0,0,0,0,0,0,0,0,0,null,0,0,0,0,0,0,0]
[16,"Строительство внешнего электроснабжения индивидуальной жилой застройки в юговосточной части г. Отрадный",0.5,1,null,null,null,null,null,null,0.5,1,0,0,0,0,0,0.9,0,0.9,5.4576289600000001,null,0.81864434399999997,1.9101701359999999,2.72881448,0,0,5.5,6.1]
[17,"Строительство внешнего электроснабжения Жилищно-коммунальной застройки ул. Ленина в г.о. Отрадный (район ул.Мичурина)",0.4,0.7,null,null,null,null,null,null,0.4,0.7,0,0.7,0,0,0,0,0,0,4.6603435200000005,null,0.69905152800000003,1.631120232,2.3301717600000003,5.2,0,0,0]
[18,"г.о. Самара",0,0,null,null,null,null,null,null,0,0,0,0,0,0,0,0,0,0,0,null,0,0,0,0,0,0,0]
[19,"Строительство схемы внешнего электроснабжения объектов социального и коммунально-бытового назначения в границах ул. Ленинская, Вилоновская, Урицкого, Мечникова Железнодорожного и Ленинского районов.",1.6,5,null,null,null,null,null,null,1.6,5,0,0,0,0,0,0,0,0,43.87767328000001,null,6.581650992000001,15.357185648000003,21.938836640000005,0,0,0,0]
[20,"Строительство БКТП 2х1000; 2х630кВА",0,0,null,null,null,null,null,null,0,0,0,0,0,0,0,0,0,0,0,null,0,0,0,21,0,21.974576271186443,0]
[21,"г.о. Сызрань",0,0,null,null,null,null,null,null,0,0,0,0,0,0,0,0,0,0,0,null,{"$f":"U315*0.15","v":0},{"$f":"U315*0.35","v":0},{"$f":"U315*0.5","v":0},0,0,0,0]
[22,"Строительство объектовэлектросетевого комплекса г.о. Сызрань для подключения дополнительных нагрузок",1.9,17,null,null,null,null,null,null,1.9,17,1,28,1,28,0,0,0,0,88.556062560000001,null,13.283409384,30.994621895999998,44.27803128,51.16101694915254,50.439298785909941,0,0]
[23,"Сергиевский район",0,0,null,null,null,null,null,null,0,0,0,0,0,0,0,0,0,0,0,null,0,0,0,0,0,0,0]
[24,"Строительство внешнего электроснабжения жилых застроек в п. Суходол",0.25,1,null,null,null,null,null,null,0.25,1,0.25,1,0.25,1.5,0.25,1.5,0.25,1.5,5.4576289600000001,null,0.81864434399999997,1.9101701359999999,2.72881448,3.1,5,5,5]
[25,"г.о. Чапаевск",0,0,null,null,null,null,null,null,0,0,0,0,0,0,0,0,0,0,0,null,0,0,0,0,0,0,0]
[26,"Строительство внешнего электроснабжения жилых застроек, г. Чапаевск, ул.К.Маркса, Рабочая, Октябрьская, Ватутина, Молодогвардейская, Черняховского",0.8,0,null,null,null,null,null,null,0.8,0,0.4,1.4,0,0,0,0,0,0,4.9356182400000002,null,0.740342736,1.727466384,2.4678091200000001,4.5,0,0,0]
[27,"Строительство внешнего электроснабжения завода по изготовлению сухих строительных смесей, г. Чапаевск, район автодороги Самара-Волгоград",0.4,2.0499999999999998,null,null,null,null,null,null,0.4,2.0499999999999998,2,7,2,2,0,0,2,2,8.8888027199999993,null,1.3333204079999998,3.1110809519999996,4.4444013599999996,30,26.745762711864408,0,19.161016949152543]
[]
["…"]
[null,"Оплата процентов за привлеченные кредитные ресурсы"]
[1,"Объект 1"]
[2,"Объект 2"]
[]
[null,null,null,"Директор по развитию ",null,null,null,null,null,null,null,null,null,"Розенцвайг Е. А."]
[]
[]
[null,null,null,"Технический директор",null,null,null,null,null,null,null,null,null,"Кучканов А. Д."]
[]
[]
[null,null,null,"Директор по экономике и финансам",null,null,null,null,null,null,null,null,null,"Кириллов Ю.А."]

{"sheet":"приложение 1.1","index":1,"n_rows":339,"n_cols":57,"rows_kept":339,"cut":false,"hidden":false,"merged":[[17,38,17,42],[17,28,17,32],[16,28,16,32],[15,33,15,37],[16,33,16,37],[17,33,17,37],[17,3,17,7],[14,3,15,7],[12,44,12,50],[12,10,12,11],[7,56,7,58],[8,54,8,58],[9,54,9,58],[11,10,11,11],[11,43,11,50],[11,55,11,58],[12,56,12,58],[9,10,9,11],[9,44,9,50],[16,23,16,27],[17,23,17,27],[16,38,16,42],[17,13,17,17],[15,13,15,17],[17,18,17,22],[16,18,16,22],[15,18,15,22],[14,43,14,48],[14,0,16,0],[14,1,16,1],[14,2,15,2],[14,8,16,8],[14,9,16,9],[16,13,16,17],[15,23,15,27],[14,10,15,10],[14,11,15,11],[14,12,15,12],[16,3,16,7],[15,28,15,32],[15,38,15,42],[14,13,14,42],[4,0,4,50],[6,45,6,50],[7,10,7,11],[5,0,5,48],[10,0,10,2],[10,10,10,11],[10,43,10,48],[8,0,8,7],[8,10,8,12]]}
[null,null,null,null,null,null,null,null,null,null,null,null,null,null,null,null,null,null,null,null,null,null,null,null,null,null,null,null,null,null,null,null,null,null,null,null,null,null,null,null,null,null,null,null,null,null,null,null,"Приложение  № 1.1"]
[null,null,null,null,null,null,null,null,null,null,null,null,null,null,null,null,null,null,null,null,null,null,null,null,null,null,null,null,null,null,null,null,null,null,null,null,null,null,null,null,null,null,null,null,null,null,null,null,"к приказу Минэнерго России"]
[null,null,null,null,null,null,null,null,null,null,null,null,null,null,null,null,null,null,null,null,null,null,null,null,null,null,null,null,null,null,null,null,null,null,null,null,null,null,null,null,null,null,null,null,null,null,null,null,"от «24» марта 2010 г. № 114"]
[]
["Перечень инвестиционных проектов АО \"Самарская сетевая компания\" на период реализации инвестиционной программы  и план их финансирования"]
["2017 - 2021 г.г."]
[null,null,null,null,null,null,null,null,null,null,null,null,null,null,null,null,null,null,null,null,null,null,null,null,null,null,null,null,null,null,null,null,null,null,null,null,null,null,null,null,null,null,null,null,null,"Утверждаю"]
[null,null,null,null,null,null,null,null,null,null,null,null,null,null,null,null,null,null,null,null,null,null,null,null,null,null,null,null,null,null,null,null,null,null,null,null,null,null,null,null,null,null,null,null,null,null,null,null,"Генеральный директор АО \"ССК\""]
[null,null,null,null,null,null,null,null,null,null,null,null,null,null,null,null,null,null,null,null,null,null,null,null,null,null,null,null,null,null,null,null,null,null,null,null,null,null,null,null,null,null,null,null,null,null,null,null,"Мухаметшин В. С."]
[null,null,null,null,null,null,null,null,null,null,null,null,null,null,null,null,null,null,null,null,null,null,null,null,null,null,null,null,null,null,null,null,null,null,null,null,null,null,null,null,null,null,null,null,"_____________"]
[null,null,null,null,null,null,null,null,null,null,null,null,null,null,null,null,null,null,null,null,null,null,null,null,null,null,null,null,null,null,null,null,null,null,null,null,null,null,null,null,null,null,null,"«___»______________ 2016 года"]
[null,null,null,null,null,null,null,null,null,null,null,null,null,null,null,null,null,null,null,null,null,null,null,null,null,null,null,null,null,null,null,null,null,null,null,null,null,null,null,null,null,null,null,"М.П."]
[]
[]
["№","Наименование объекта","Стадия реализации проекта","Проектная мощность/\nпротяженность сетей",null,null,null,null,"год \nначала \nсроительства","год \nокончания \nстроительства","Полная \nстоимость \nстроительства **","Остаточная стоимость строительства **","План \nфинансирования \nтекущего года","Ввод мощностей",null,null,null,null,null,null,null,null,null,null,null,null,null,null,null,null,null,null,null,null,null,null,null,null,null,null,null,null,null,"Объем финансирования"]
[null,null,null,null,null,null,null,null,null,null,null,null,null,"План 2017 года",null,null,null,null,"План 2018 года",null,null,null,null,"План 2019 года",null,null,null,null,"План 2020 года",null,null,null,null,"План 2021 года",null,null,null,null,"Итого",null,null,null,null,"План 2017 года","План 2018 года","План 2019 года","План 2020 года","План 2021 года","Итого без НДС"]
[null,null,"С/П*","МВт/км/МВА",null,null,null,null,null,null,"млн.рублей","млн.рублей","млн.рублей","МВт/км/МВА",null,null,null,null,"МВт/км/МВА",null,null,null,null,"МВт/км/МВА",null,null,null,null,"МВт/км/МВА",null,null,null,null,"МВт/км/МВА",null,null,null,null,"МВт/км/МВА",null,null,null,null,"млн.рублей","млн.рублей","млн.рублей","млн.рублей","млн.рублей","млн.рублей"]
[1,2,3,4,null,null,null,null,5,6,7,8,9,10,null,null,null,null,11,null,null,null,null,12,null,null,null,null,13,null,null,null,null,14,null,null,null,null,15,null,null,null,null,16,17,18,19,20,21]
[null,"ВСЕГО ",null,13.68,null,1965.8793333333329,"/",573.50899999999979,null,null,18586.171146380813,null,null,4.5700000000000012,"/",364.17433333333338,"/",47.400000000000006,4.6000000000000005,"/",447.90999999999997,"/",93.279999999999987,2.0300000000000002,"/",398.96000000000004,"/",188.369,0.95000000000000007,"/",371.54499999999996,"/",111.07,1.53,"/",383.29,"/",133.38999999999999,13.680000000000001,"/",1965.8793333333329,"/",573.50899999999979,2268.3466456861029,3173.5054237288136,3286.1912749756079,3428.9406779661022,3594.0084745762715,15750.992496932899]
[1,"Техническое перевооружение и реконструкция",null,null,null,1844.4293333333328,"/",552.04899999999975,null,null,17971.044772723839,null,null,null,null,327.82433333333336,"/",39.550000000000004,0,"/",404.21,"/",86.449999999999989,0,0,367.46000000000004,"/",185.119,0,0,366.04499999999996,"/",109.78999999999999,0,0,378.89000000000004,"/",131.13999999999999,0,0,1844.4293333333328,"/",552.04899999999975,2044.8147803559332,3038.0644067796611,3204.0062134778336,3379.0661016949157,3563.7474576271188,15229.698959935464]
["1.1.","Энергосбережение и повышение энергетической эффективности",null,null,null,1844.4293333333328,"/",552.04899999999975,null,null,17313.697452723838,null,null,null,null,327.82433333333336,"/",39.550000000000004,0,"/",404.21,"/",86.449999999999989,0,0,367.46000000000004,"/",185.119,0,0,366.04499999999996,"/",109.78999999999999,0,0,378.89000000000004,"/",131.13999999999999,0,0,1844.4293333333328,"/",552.04899999999975,1807.714780355933,2968.1661016949151,3131.2779761896982,3292.727118644068,3472.7389830508478,14672.624959935463]
[1,"Алексеевский район",null,null,null,0,null,0,0,0,0,null,null,null,null,0,"",0,null,null,0,"",0,null,null,0,"",0,null,null,0,"",0,null,null,0,"",0,null,null,0,"/",0,0,0,0,0,0,0,null,null,null,0,0,0,0,{"$f":"IF(ISNA(AZ22),IF(ISNA(BA22),IF(ISNA(BB22),IF(ISNA(BC22),IF(ISNA(BD22),\"\",BD22),BC22),BB22),BA22),AZ22)","v":0}]
[2,"Реконструкция ВЛ-0,4кВ от КТП А 2109/160 кВА с заменой КТП",null,null,null,2.81,null,0.16,2017,2017,10.292000000000002,null,null,null,null,2.81,null,0.16,null,null,0,null,0,null,null,0,null,0,null,null,0,null,0,null,null,0,null,0,null,null,2.81,"/",0.16,8.7220338983050869,null,0,0,0,8.7220338983050869]
[3,"Реконструкция ВЛ-0,4кВ от КТП А 216/250 кВА с заменой КТП",null,null,null,4.5199999999999996,"/",0.25,2017,2017,15.763999999999999,null,null,null,null,4.5199999999999996,"/",0.25,null,null,0,"",0,null,null,0,"",0,null,null,0,"",0,null,null,0,"",0,null,null,4.5199999999999996,"/",0.25,13.359322033898305,null,0,0,0,13.359322033898305]
[4,"Реконструкция ВЛ-0,4кВ от КТП А 207/250 кВА с заменой КТП",null,null,null,1.92,"/",0.25,2018,2018,6.5759999999999996,null,null,null,null,0,"",0,null,null,1.92,"/",0.25,null,null,0,"",0,null,null,0,"",0,null,null,0,"",0,null,null,1.92,"/",0.25,0,5.5728813559322035,0,0,0,5.5728813559322035]
[5,"Реконструкция ВЛ-0,4кВ от КТП А 203/250 кВА с заменой КТП",null,null,null,4.67,"/",0.25,2018,2018,14.275999999999998,null,null,null,null,0,"",0,null,null,4.67,"/",0.25,null,null,0,"",0,null,null,0,"",0,null,null,0,"",0,null,null,4.67,"/",0.25,0,12.098305084745762,0,0,0,12.098305084745762]
[6,"Реконструкция ВЛ-0,4кВ от КТП А 2101/160 кВА с заменой КТП",null,null,null,2.92,"/",0.16,2019,2019,9.3759999999999994,null,null,null,null,0,"",0,null,null,0,"",0,null,null,2.92,"/",0.16,null,null,0,"",0,null,null,0,"",0,null,null,2.92,"/",0.16,0,0,7.9457627118644067,0,0,7.9457627118644067]
[7,"Реконструкция ВЛ-0,4кВ от КТП А 217/400 кВА с заменой КТП",null,null,null,3.08,"/",0.4,2019,2019,9.8239999999999981,null,null,null,null,0,"",0,null,null,0,"",0,null,null,3.08,"/",0.4,null,null,0,"",0,null,null,0,"",0,null,null,3.08,"/",0.4,0,0,8.3254237288135577,0,0,8.3254237288135577]
[8,"Реконструкция ВЛ-0,4кВ от КТП А 2003/400 кВА с заменой КТП",null,null,null,1.0349999999999999,"/",0.4,2020,2020,4.0979999999999999,null,null,null,null,0,"",0,null,null,0,"",0,null,null,0,"",0,null,null,1.0349999999999999,"/",0.4,null,null,0,"",0,null,null,1.0349999999999999,"/",0.4,0,0,0,3.4728813559322034,0,3.4728813559322034]
[9,"Реконструкция ВЛ-0,4кВ от КТП А 2110/160 кВА с заменой КТП",null,null,null,1.6,"/",0.16,2021,2021,5.6799999999999988,null,null,null,null,0,"",0,null,null,0,"",0,null,null,0,"",0,null,null,0,"",0,null,null,1.6,"/",0.16,null,null,1.6,"/",0.16,0,0,0,0,4.8135593220338979,4.8135593220338979]
[10,"Больше-Черниговский район",null,null,null,0,null,0,0,0,0,null,null,null,null,0,"",0,null,null,0,"",0,null,null,0,"",0,null,null,0,"",0,null,null,0,"",0,null,null,0,"/",0,0,0,0,0,0,0]
[11,"Реконструкция ВЛ-0,4кВ от КТП 1205/400 кВА с заменой КТП",null,null,null,1.68,"/",0.4,2017,2017,6.976,null,null,null,null,1.68,"/",0.4,null,null,0,"",0,null,null,0,"",0,null,null,0,"",0,null,null,0,"",0,null,null,1.68,"/",0.4,5.9118644067796611,0,0,0,0,5.9118644067796611]
[12,"Реконструкция ВЛ-0,4кВ от КТП 1204/400 кВА с заменой КТП",null,null,null,0.7,null,0.4,2017,2017,3.84,null,null,null,null,0.7,null,0.4,null,null,null,null,null,null,null,null,null,null,null,null,null,null,null,null,null,null,null,null,null,null,0.7,null,0.4,3.2542372881355934,null,null,null,null,3.2542372881355934]
[13,"Реконструкция ВЛ-0,4кВ от КТП 415/250 кВА с заменой КТП",null,null,null,0.8,null,0.25,2017,2017,3.8600000000000003,null,null,null,null,0.8,null,0.25,null,null,null,null,null,null,null,null,null,null,null,null,null,null,null,null,null,null,null,null,null,null,0.8,null,0.25,3.2711864406779667,null,null,null,null,3.2711864406779667]
[14,"Реконструкция ВЛ-0,4кВ от КТП 1206/160 кВА с заменой КТП",null,null,null,2.2000000000000002,"/",0.16,2017,2017,8.34,null,null,null,null,2.2000000000000002,"/",0.16,null,null,0,"",0,null,null,0,"",0,null,null,0,"",0,null,null,0,"",0,null,null,2.2000000000000002,"/",0.16,7.0677966101694913,0,0,0,0,7.0677966101694913]
[15,"Реконструкция ВЛ-0,4кВ от КТП 1202/250 кВА с заменой КТП",null,null,null,1.05,"/",0.25,2017,2017,4.66,null,null,null,null,1.05,"/",0.25,null,null,0,"",0,null,null,0,"",0,null,null,0,"",0,null,null,0,"",0,null,null,1.05,"/",0.25,3.9491525423728815,0,0,0,0,3.9491525423728815]
[16,"Реконструкция ВЛ-0,4кВ от КТП 709/250 кВА с заменой КТП",null,null,null,0.42,"/",0.25,2018,2018,2.3760000000000003,null,null,null,null,0,"",0,null,null,0.42,"/",0.25,null,null,0,"",0,null,null,0,"",0,null,null,0,"",0,null,null,0.42,"/",0.25,0,2.0135593220338985,0,0,0,2.0135593220338985]
[17,"Реконструкция ВЛ-0,4кВ от КТП 501/320 кВА с заменой КТП",null,null,null,0.42,"/",0.32,2018,2018,2.3760000000000003,null,null,null,null,0,"",0,null,null,0.42,"/",0.32,null,null,0,"",0,null,null,0,"",0,null,null,0,"",0,null,null,0.42,"/",0.32,0,2.0135593220338985,0,0,0,2.0135593220338985]
[18,"Реконструкция ВЛ-0,4кВ от КТП 809/100 кВА с заменой КТП",null,null,null,1.36,"/",0.1,2019,2019,5.008,null,null,null,null,0,"",0,null,null,0,"",0,null,null,1.36,"/",0.1,null,null,0,"",0,null,null,0,"",0,null,null,1.36,"/",0.1,0,0,4.2440677966101701,0,0,4.2440677966101701]
[19,"Реконструкция ВЛ-0,4кВ от КТП 201/400 кВА с заменой КТП",null,null,null,1.6,"/",0.4,2019,2019,5.6799999999999988,null,null,null,null,0,"",0,null,null,0,"",0,null,null,1.6,"/",0.4,null,null,0,"",0,null,null,0,"",0,null,null,1.6,"/",0.4,0,0,4.8135593220338979,0,0,4.8135593220338979]
[20,"Реконструкция ВЛ-0,4кВ от КТП 109/400 кВА с заменой КТП",null,null,null,1.22,"/",0.4,2019,2019,4.6159999999999997,null,null,null,null,0,"",0,null,null,0,"",0,null,null,1.22,"/",0.4,null,null,0,"",0,null,null,0,"",0,null,null,1.22,"/",0.4,0,0,3.9118644067796611,0,0,3.9118644067796611]
[21,"Реконструкция ВЛ-0,4кВ от КТП 905/400 кВА с заменой КТП",null,null,null,1.62,"/",0.4,2019,2019,5.7359999999999998,null,null,null,null,0,"",0,null,null,0,"",0,null,null,1.62,"/",0.4,null,null,0,"",0,null,null,0,"",0,null,null,1.62,"/",0.4,0,0,4.8610169491525426,0,0,4.8610169491525426]
[22,"Реконструкция ВЛ-0,4кВ от КТП 114/400 кВА с заменой КТП",null,null,null,0.72,"/",0.4,2020,2020,3.2159999999999997,null,null,null,null,0,"",0,null,null,0,"",0,null,null,0,"",0,null,null,0.72,"/",0.4,null,null,0,"",0,null,null,0.72,"/",0.4,0,0,0,2.7254237288135594,0,2.7254237288135594]
[23,"Реконструкция ВЛ-0,4кВ от КТП 407/400 кВА с заменой КТП",null,null,null,0.52,"/",0.4,2020,2020,2.6559999999999997,null,null,null,null,0,"",0,null,null,0,"",0,null,null,0,"",0,null,null,0.52,"/",0.4,null,null,0,"",0,null,null,0.52,"/",0.4,0,0,0,2.2508474576271187,0,2.2508474576271187]
[24,"Реконструкция ВЛ-0,4кВ от КТП 122/400 кВА с заменой КТП",null,null,null,1.9,"/",0.4,2021,2021,2.6559999999999997,null,null,null,null,0,"",0,null,null,0,"",0,null,null,0,"",0,null,null,0,"",0,null,null,1.9,"/",0.4,null,null,1.9,"/",0.4,0,0,0,0,2.2508474576271187,2.2508474576271187]
[25,"Реконструкция ВЛ-0,4кВ от КТП 906/250 кВА с заменой КТП",null,null,null,3.85,"/",0.25,2021,2021,11.979999999999999,null,null,null,null,0,"",0,null,null,0,"",0,null,null,0,"",0,null,null,0,"",0,null,null,3.85,"/",0.25,null,null,3.85,"/",0.25,0,0,0,0,10.152542372881355,10.152542372881355]
[26,"Волжский район",null,null,null,0,null,0,0,0,0,null,null,null,null,0,"",0,null,null,0,"",0,null,null,0,"",0,null,null,0,"",0,null,null,0,"",0,null,null,0,null,0,0,0,0,0,0,0]
[27,"Повышение надежности энергоснабжения п.г.т. Петра-Дубрава",null,null,null,108.3,"/",51.2,2018,2018,1277.54,null,null,null,null,0,"",0,null,null,24,"/",12.8,null,null,26.3,"/",12.8,null,null,28,"/",12.8,null,null,30,"/",12.8,null,null,108.3,"/",51.2,0,240,263,279.66101694915255,300,1082.6610169491526]
[28,"Реконструкция, инфраструктуры объектов электрохозяйства в г.о. Самара в целях обеспечения надежности ЭС объектов Южный город, Заречье в Волжском районе",null,null,null,66,"/",203.39999999999998,2018,2018,1401.86,null,null,null,null,0,"",0,null,null,12,"/",0,null,null,12,"/",63,null,null,12,"/",70.2,null,null,30,"/",70.2,null,null,66,"/",203.39999999999998,0,172.00000000000003,290,346.0169491525424,380,1188.0169491525423]
[29,"Повышение надежности энергоснабжения электросетевого района  с. Лопатино",null,null,null,13.4,"/",0,2017,2017,48.65,null,null,null,null,13.4,"/",0,null,null,0,"",0,null,null,0,"",0,null,null,0,"",0,null,null,0,"",0,null,null,13.4,"/",0,41.228813559322035,0,0,0,0,41.228813559322035]
[30,"Реконструкция ЗТП КУР 2010/2х100 кВА с заменой трансформаторов на 400 кВА",null,null,null,0,"/",0.8,2017,2017,5.5,null,null,null,null,0,"/",0.8,null,null,0,"",0,null,null,0,"",0,null,null,0,"",0,null,null,0,"",0,null,null,0,"/",0.8,4.6610169491525424,0,0,0,0,4.6610169491525424]
[31,"Реконструкция ВЛ-0,4кВ от ЗТП Кур 906/400 кВА с заменой в ЗТП РУ-0,4 кВ ",null,null,null,1.1000000000000001,null,0,2017,2017,4.2700000000000005,null,null,null,null,1.1000000000000001,null,0,null,null,null,null,null,null,null,null,null,null,null,null,null,null,null,null,null,null,null,null,null,null,1.1000000000000001,null,0,3.6186440677966107,null,null,null,null,3.6186440677966107]
[32,"Реконструкция ВЛ-0,4кВ от ЗТП Кур 901/250 кВА с заменой в ЗТП РУ-0,4 кВ ",null,null,null,1,null,0,2017,2017,3.95,null,null,null,null,1,null,0,null,null,null,null,null,null,null,null,null,null,null,null,null,null,null,null,null,null,null,null,null,null,1,null,0,3.3474576271186445,null,null,null,null,3.3474576271186445]
[33,"Реконструкция ВЛ-0,4 кВ от КТП Р 402/400 кВА с заменой КТП",null,null,null,1,"/",0.4,2017,2017,4.8,null,null,null,null,1,"/",0.4,null,null,0,"",0,null,null,0,"",0,null,null,0,"",0,null,null,0,"",0,null,null,1,"/",0.4,4.0677966101694913,0,0,0,0,4.0677966101694913]
[34,"Реконструкция ВЛ-0,4 кВ от КТП Р 605/250 кВА с заменой КТП ",null,null,null,2.65,"/",0.25,2017,2017,9.7799999999999994,null,null,null,null,2.65,"/",0.25,null,null,0,"",0,null,null,0,"",0,null,null,0,"",0,null,null,0,"",0,null,null,2.65,"/",0.25,8.2881355932203391,0,0,0,0,8.2881355932203391]
[35,"Реконструкция ВЛ-0,4кВ от ЗТП Кур 906/400 кВА с заменой ЗТП на КТП ",null,null,null,0.85,"/",0.4,2018,2018,3.58,null,null,null,null,0,"",0,null,null,0.85,"/",0.4,null,null,0,"",0,null,null,0,"",0,null,null,0,"",0,null,null,0.85,"/",0.4,0,3.0338983050847461,0,0,0,3.0338983050847461]
[36,"Реконструкция ВЛ-0,4кВ от ЗТП Кур 901/250 кВА с заменой ЗТП на КТП ",null,null,null,1.4,"/",0.25,2018,2018,5.12,null,null,null,null,0,"",0,null,null,1.4,"/",0.25,null,null,0,"",0,null,null,0,"",0,null,null,0,"",0,null,null,1.4,"/",0.25,0,4.3389830508474576,0,0,0,4.3389830508474576]
[37,"Реконструкция ВЛ-0,4 кВ от КТП Р 402/400 кВА",null,null,null,1,"/",0,2018,2018,2.8,null,null,null,null,0,"",0,null,null,1,"/",0,null,null,0,"",0,null,null,0,"",0,null,null,0,"",0,null,null,1,"/",0,0,2.3728813559322033,0,0,0,2.3728813559322033]
[38,"Реконструкция ВЛ-10 кВ Ф-8 отпайка к КТП Пм 802/100 кВА с заменой КТП ",null,null,null,3.6,"/",0.1,2018,2018,10.999999999999998,null,null,null,null,0,"",0,null,null,3.6,"/",0.1,null,null,0,"",0,null,null,0,"",0,null,null,0,"",0,null,null,3.6,"/",0.1,0,9.322033898305083,0,0,0,9.322033898305083]
[39,"Реконструкция ВЛ-0,4 кВ Ф-1 КТП Л 2502/320 кВА",null,null,null,0.7,"/",0,2018,2018,1.9599999999999997,null,null,null,null,0,"",0,null,null,0.7,"/",0,null,null,0,"",0,null,null,0,"",0,null,null,0,"",0,null,null,0.7,"/",0,0,1.6610169491525422,0,0,0,1.6610169491525422]
[40,"Реконструкция ВЛ-0,4 кВ от КТП 211/250 кВА с заменой КТП на 400 кВА.",null,null,null,1.5,"/",0.4,2018,2018,5.3999999999999986,null,null,null,null,0,"",0,null,null,1.5,"/",0.4,null,null,0,"",0,null,null,0,"",0,null,null,0,"",0,null,null,1.5,"/",0.4,0,4.5762711864406773,0,0,0,4.5762711864406773]
[41,"Реконструкция ВЛ-0,4 кВ от КТП 213",null,null,null,1.8,"/",0,2018,2018,5.04,null,null,null,null,0,"",0,null,null,1.8,"/",0,null,null,0,"",0,null,null,0,"",0,null,null,0,"",0,null,null,1.8,"/",0,0,4.2711864406779663,0,0,0,4.2711864406779663]
[42,"Реконструкция ВЛ-0,4 кВ от КТП Р 106/400 кВА с заменой КТП ",null,null,null,3.2,"/",0.4,2019,2019,10.159999999999998,null,null,null,null,0,"",0,null,null,0,"",0,null,null,3.2,"/",0.4,null,null,0,"",0,null,null,0,"",0,null,null,3.2,"/",0.4,0,0,8.6101694915254221,0,0,8.6101694915254221]
[43,"Реконструкция ВЛ-6 кВ Ф-30 ПС Овощная отпайка  до КТП Ов 3008/250 кВА с заменой КТП на 400 кВА ",null,null,null,0.36,"/",0.4,2019,2019,2.2080000000000002,null,null,null,null,0,"",0,null,null,0,"",0,null,null,0.36,"/",0.4,null,null,0,"",0,null,null,0,"",0,null,null,0.36,"/",0.4,0,0,1.8711864406779664,0,0,1.8711864406779664]
[44,"Реконструкция ВЛ-6 кВ Ф-1 отпайка  до КТП Пм 102/250 кВА с заменой КТП ",null,null,null,0.06,"/",0.25,2019,2019,1.3679999999999999,null,null,null,null,0,"",0,null,null,0,"",0,null,null,0.06,"/",0.25,null,null,0,"",0,null,null,0,"",0,null,null,0.06,"/",0.25,0,0,1.159322033898305,0,0,1.159322033898305]
[45,"Реконструкция ВЛ-0,4 кВ от КТП 215",null,null,null,1.6,"/",0,2019,2019,4.4799999999999995,null,null,null,null,0,"",0,null,null,0,"",0,null,null,1.6,"/",0,null,null,0,"",0,null,null,0,"",0,null,null,1.6,"/",0,0,0,3.7966101694915251,0,0,3.7966101694915251]
[46,"Реконструкция ВЛ-0,4 кВ от КТП 218",null,null,null,0.8,"/",0,2019,2019,2.2399999999999998,null,null,null,null,0,null,0,null,null,0,null,0,null,null,0.8,"/",0,null,null,0,null,0,null,null,0,null,0,null,null,0.8,"/",0,0,0,1.8983050847457625,0,0,1.8983050847457625]
[47,"Реконструкция ВЛ-0,4 кВ от КТП Р 304/400 кВА с заменой КТП ",null,null,null,1.8,"/",0.4,2020,2020,6.24,null,null,null,null,0,null,0,null,null,0,null,0,null,null,0,null,0,null,null,1.8,"/",0.4,null,null,0,null,0,null,null,1.8,"/",0.4,0,0,0,5.2881355932203391,0,5.2881355932203391]
[48,"Елховский район",null,null,null,0,"/",0,0,0,0,null,null,null,null,0,"",0,null,null,0,"",0,null,null,0,"",0,null,null,0,"",0,null,null,0,"",0,null,null,0,null,0,0,0,0,0,0,0]
[49,"Реконструкция ВЛ-0,4кВ от КТП КМ 810/100 кВА с заменой КТП",null,null,null,0.92,"/",0.1,2017,2017,4.2443999999999997,null,null,null,null,0.92,"/",0.1,null,null,0,"",0,null,null,0,"",0,null,null,0,"",0,null,null,0,"",0,null,null,0.92,"/",0.1,3.5969491525423729,0,0,0,0,3.5969491525423729]
[50,"Реконструкция ВЛ-0,4кВ от КТП Елх 405/400 кВА с заменой КТП",null,null,null,0.6,"/",0.4,2017,2017,3.52,null,null,null,null,0.6,"/",0.4,null,null,0,"",0,null,null,0,"",0,null,null,0,"",0,null,null,0,"",0,null,null,0.6,"/",0.4,2.9830508474576272,0,0,0,0,2.9830508474576272]
[51,"Реконструкция ВЛ-0,4кВ от КТП Елх 713/400 кВА с заменой КТП",null,null,null,0.64,"/",0.4,2018,2018,2.992,null,null,null,null,0,"",0,null,null,0.64,"/",0.4,null,null,0,"",0,null,null,0,"",0,null,null,0,"",0,null,null,0.64,"/",0.4,0,2.535593220338983,0,0,0,2.535593220338983]
[52,"Реконструкция ВЛ-0,4кВ от КТП Елх 403/160 кВА с заменой КТП",null,null,null,0.48,"/",0.16,2018,2018,2.5439999999999996,null,null,null,null,0,"",0,null,null,0.48,"/",0.16,null,null,0,"",0,null,null,0,"",0,null,null,0,"",0,null,null,0.48,"/",0.16,0,2.1559322033898303,0,0,0,2.1559322033898303]
[53,"Кинель-Черкасский район",null,null,null,0,null,0,0,0,0,null,null,null,null,0,"",0,null,null,0,"",0,null,null,0,"",0,null,null,0,"",0,null,null,0,"",0,null,null,0,"/",0,0,0,0,0,0,0]
[54,"Реконструкция ВЛ-0,4 кВ от КТП Ч 1704/250 кВА с заменой КТП на 400 кВА",null,null,null,8.1999999999999993,"/",0.4,2017,2017,27.84,null,null,null,null,8.1999999999999993,"/",0.4,null,null,0,"",0,null,null,0,"",0,null,null,0,"",0,null,null,0,"",0,null,null,8.1999999999999993,"/",0.4,23.593220338983052,0,0,0,0,23.593220338983052]
[55,"Реконструкция ВЛ-0,4 кВ от КТП Сад-Г 507/250 кВА  с заменой КТП",null,null,null,2,null,0.25,2017,2017,7.7,null,null,null,null,2,null,0.25,null,null,null,null,null,null,null,null,null,null,null,null,null,null,null,null,null,null,null,null,null,null,2,null,0.25,6.5254237288135597,null,null,null,null,6.5254237288135597]
[56,"Реконструкция ВЛ-0,4кВ от КТП Ку 1316/400кВА с заменой КТП",null,null,null,1.6,null,0.4,2017,2017,6.7200000000000006,null,null,null,null,1.6,null,0.4,null,null,null,null,null,null,null,null,null,null,null,null,null,null,null,null,null,null,null,null,null,null,1.6,null,0.4,5.6949152542372889,null,null,null,null,5.6949152542372889]
[57,"Реконструкция ВЛ-0,4 кВ от ЗТП Ч 405/400 кВА с заменой ЗТП на КТП 400кВА",null,null,null,4.32,"/",0.4,2017,2017,15.423999999999999,null,null,null,null,4.32,"/",0.4,null,null,0,"",0,null,null,0,"",0,null,null,0,"",0,null,null,0,"",0,null,null,4.32,"/",0.4,13.071186440677966,0,0,0,0,13.071186440677966]
[58,"Реконструкция ВЛ-0,4 кВ от КТП Ку 1309/250 кВА",null,null,null,6,"/",0,2017,2017,19.2,null,null,null,null,6,"/",0,null,null,0,"",0,null,null,0,"",0,null,null,0,"",0,null,null,0,"",0,null,null,6,"/",0,16.271186440677965,0,0,0,0,16.271186440677965]
[59,"Реконструкция ВЛ-0,4 кВ от ЗТП Ч 1703/400 кВА",null,null,null,7.6,"/",0,2018,2018,21.279999999999998,null,null,null,null,0,"",0,null,null,7.6,"/",0,null,null,0,"",0,null,null,0,"",0,null,null,0,"",0,null,null,7.6,"/",0,0,18.033898305084744,0,0,0,18.033898305084744]
[60,"Реконструкция ВЛ-0,4 кВ от КТП Ч 417/250 кВА",null,null,null,3.4,"/",0,2018,2018,9.52,null,null,null,null,0,"",0,null,null,3.4,"/",0,null,null,0,"",0,null,null,0,"",0,null,null,0,"",0,null,null,3.4,"/",0,0,8.0677966101694913,0,0,0,8.0677966101694913]
[61,"Реконструкция ВЛ-0,4 кВ от КТП Ку 1312/250 кВА",null,null,null,2.5,"/",0,2018,2018,7,null,null,null,null,0,"",0,null,null,2.5,"/",0,null,null,0,"",0,null,null,0,"",0,null,null,0,"",0,null,null,2.5,"/",0,0,5.9322033898305087,0,0,0,5.9322033898305087]
[62,"Реконструкция ВЛ-0,4 кВ от КТП Кр 1906/400 кВА",null,null,null,2.5,"/",0,2018,2018,7,null,null,null,null,0,"",0,null,null,2.5,"/",0,null,null,0,"",0,null,null,0,"",0,null,null,0,"",0,null,null,2.5,"/",0,0,5.9322033898305087,0,0,0,5.9322033898305087]
[63,"Реконструкция ВЛ-0,4 кВ от КТП Кр 1914/250 кВА",null,null,null,1.6,"/",0,2018,2018,4.4799999999999995,null,null,null,null,0,"",0,null,null,1.6,"/",0,null,null,0,"",0,null,null,0,"",0,null,null,0,"",0,null,null,1.6,"/",0,0,3.7966101694915251,0,0,0,3.7966101694915251]
[64,"Реконструкция ВЛ-0,4 кВ от КТП Кр 1909/400 кВА",null,null,null,1.6,"/",0,2018,2018,4.4799999999999995,null,null,null,null,0,"",0,null,null,1.6,"/",0,null,null,0,"",0,null,null,0,"",0,null,null,0,"",0,null,null,1.6,"/",0,0,3.7966101694915251,0,0,0,3.7966101694915251]
[65,"Реконструкция ВЛ-0,4 кВ от КТП Сид 305/250 кВА",null,null,null,3.4,"/",0,2019,2019,9.52,null,null,null,null,0,"",0,null,null,0,"",0,null,null,3.4,"/",0,null,null,0,"",0,null,null,0,"",0,null,null,3.4,"/",0,0,0,8.0677966101694913,0,0,8.0677966101694913]
[66,"Реконструкция ВЛ-0,4 кВ от КТП Сид 316/160 кВА с заменой КТП ",null,null,null,1.5,"/",0.16,2019,2019,5.3999999999999986,null,null,null,null,0,"",0,null,null,0,"",0,null,null,1.5,"/",0.16,null,null,0,"",0,null,null,0,"",0,null,null,1.5,"/",0.16,0,0,4.5762711864406773,0,0,4.5762711864406773]
[67,"Реконструкция ВЛ-0,4 кВ от ЗТП Ку 801/250 кВА",null,null,null,2,"/",0,2019,2019,5.6,null,null,null,null,0,"",0,null,null,0,"",0,null,null,2,"/",0,null,null,0,"",0,null,null,0,"",0,null,null,2,"/",0,0,0,4.7457627118644066,0,0,4.7457627118644066]
[68,"Реконструкция ВЛ-0,4 кВ от ЗТП Ку 802/250 кВА с заменой трансформатора",null,null,null,1,"/",0.25,2019,2019,4,null,null,null,null,0,"",0,null,null,0,"",0,null,null,1,"/",0.25,null,null,0,"",0,null,null,0,"",0,null,null,1,"/",0.25,0,0,3.3898305084745766,0,0,3.3898305084745766]
[69,"Реконструкция ВЛ-0,4 кВ от ЗТП Ку 803/250 кВА",null,null,null,1.2,"/",0,2019,2019,3.36,null,null,null,null,0,"",0,null,null,0,"",0,null,null,1.2,"/",0,null,null,0,"",0,null,null,0,"",0,null,null,1.2,"/",0,0,0,2.847457627118644,0,0,2.847457627118644]
[70,"Реконструкция ВЛ-0,4 кВ от КТП Ку 703/250 кВА с заменой КТП",null,null,null,1.2,"/",0.25,2019,2019,4.5599999999999996,null,null,null,null,0,"",0,null,null,0,"",0,null,null,1.2,"/",0.25,null,null,0,"",0,null,null,0,"",0,null,null,1.2,"/",0.25,0,0,3.8644067796610169,0,0,3.8644067796610169]
[71,"Реконструкция ВЛ-0,4 кВ от КТП Ч 112/400 кВА с заменой КТП ",null,null,null,3.6,"/",0.4,2020,2020,11.28,null,null,null,null,0,"",0,null,null,0,"",0,null,null,0,"",0,null,null,3.6,"/",0.4,null,null,0,"",0,null,null,3.6,"/",0.4,0,0,0,9.5593220338983045,0,9.5593220338983045]
[72,"Реконструкция ВЛ-0,4 кВ от КТП Ч 1701/160 кВА",null,null,null,2,"/",0,2020,2020,5.6,null,null,null,null,0,"",0,null,null,0,"",0,null,null,0,"",0,null,null,2,"/",0,null,null,0,"",0,null,null,2,"/",0,0,0,0,4.7457627118644066,0,4.7457627118644066]
[73,"Реконструкция ВЛ-0,4 кВ от КТП Ч 303/400 кВА",null,null,null,2.4,"/",0,2020,2020,6.72,null,null,null,null,0,"",0,null,null,0,"",0,null,null,0,"",0,null,null,2.4,"/",0,null,null,0,"",0,null,null,2.4,"/",0,0,0,0,5.6949152542372881,0,5.6949152542372881]
[74,"Реконструкция ВЛ-0,4 кВ от ЗТП Ку 1601/160 кВА с заменой трансформатора на 250 кВА",null,null,null,1,"/",0.25,2021,2021,4,null,null,null,null,0,"",0,null,null,0,"",0,null,null,0,"",0,null,null,0,"",0,null,null,1,"/",0.25,null,null,1,"/",0.25,0,0,0,0,3.3898305084745766,3.3898305084745766]
[75,"Реконструкция КЛ-0,4 кВ от ЗТП Ку 1602/2х250  кВА",null,null,null,0.6,"/",0,2021,2021,2.4,null,null,null,null,0,"",0,null,null,0,"",0,null,null,0,"",0,null,null,0,"",0,null,null,0.6,"/",0,null,null,0.6,"/",0,0,0,0,0,2.0338983050847457,2.0338983050847457]
[76,"Реконструкция ВКЛ-0,4 кВ от ЗТП Ку 1603/630  кВА",null,null,null,2.6,"/",0,2021,2021,8,null,null,null,null,0,"",0,null,null,0,"",0,null,null,0,"",0,null,null,0,"",0,null,null,2.6,"/",0,null,null,2.6,"/",0,0,0,0,0,6.7796610169491531,6.7796610169491531]
[77,"Кинельский район",null,null,null,0,"/",0,0,0,0,null,null,null,null,0,"",0,null,null,0,"",0,null,null,0,"",0,null,null,0,"",0,null,null,0,"",0,null,null,0,"/",0,0,0,0,0,0,0]
[78,"Реконструкция электроснабжения г.о.Кинель",null,null,null,27.5,null,0,0,0,88,null,null,null,null,27.5,null,0,null,null,null,null,null,null,null,null,null,null,null,null,null,null,null,null,null,null,null,null,null,null,27.5,null,0,74.576271186440678,null,null,null,null,74.576271186440678]
[79,"Реконструкция ВЛ-0,4кВ от ТП-6 ",null,null,null,1.87,"/",0,2017,2017,5.984,null,null,null,null,1.87,"/",0,null,null,0,"",0,null,null,0,"",0,null,null,0,"",0,null,null,0,"",0,null,null,1.87,"/",0,5.0711864406779661,0,0,0,0,5.0711864406779661]
[80,"Реконструкция ВЛ-0,4 кВ от КТП Алк 54/250 кВА с заменой  КТП на 400 кВА",null,null,null,1.8,"/",0.4,2017,2017,7.36,null,null,null,null,1.8,"/",0.4,null,null,0,"",0,null,null,0,"",0,null,null,0,"",0,null,null,0,"",0,null,null,1.8,"/",0.4,6.2372881355932206,0,0,0,0,6.2372881355932206]
[81,"Реконструкция ВЛ-0,4 кВ от КТП Алк 30/160 кВА с заменой  КТП на 250 кВА",null,null,null,1.45,"/",0.4,2017,2017,5.94,null,null,null,null,1.45,"/",0.4,null,null,0,"",0,null,null,0,"",0,null,null,0,"",0,null,null,0,"",0,null,null,1.45,"/",0.4,5.0338983050847466,0,0,0,0,5.0338983050847466]
[82,"Реконструкция ВЛ-0,4кВ от КТП Шев 208/250 кВА",null,null,null,2.2200000000000002,"/",0,2017,2017,7.1040000000000001,null,null,null,null,2.2200000000000002,"/",0,null,null,0,"",0,null,null,0,"",0,null,null,0,"",0,null,null,0,"",0,null,null,2.2200000000000002,"/",0,6.0203389830508476,0,0,0,0,6.0203389830508476]
[83,"Реконструкция ВЛ-0,4кВ от МТП Кр 903/100 кВА с заменой КТП",null,null,null,1.25,"/",0.1,2018,2018,4.7,null,null,null,null,0,"",0,null,null,1.25,"/",0.1,null,null,0,"",0,null,null,0,"",0,null,null,0,"",0,null,null,1.25,"/",0.1,0,3.9830508474576276,0,0,0,3.9830508474576276]
[84,"Реконструкция ВЛ-0,4кВ от МТП 704/250 кВА с заменой КТП",null,null,null,1,"/",0.25,2018,2018,4,null,null,null,null,0,"",0,null,null,1,"/",0.25,null,null,0,"",0,null,null,0,"",0,null,null,0,"",0,null,null,1,"/",0.25,0,3.3898305084745766,0,0,0,3.3898305084745766]
[85,"Реконструкция ВЛ-0,4кВ от КТП 210/160 кВА",null,null,null,1.45,"/",0,2018,2018,4.0599999999999996,null,null,null,null,0,"",0,null,null,1.45,"/",0,null,null,0,"",0,null,null,0,"",0,null,null,0,"",0,null,null,1.45,"/",0,0,3.4406779661016946,0,0,0,3.4406779661016946]
[86,"Реконструкция ВЛ-0,4 кВ от КТП Алк 90/160 кВА с заменой КТП",null,null,null,1,"/",0.16,2019,2019,4,null,null,null,null,0,"",0,null,null,0,"",0,null,null,1,"/",0.16,null,null,0,"",0,null,null,0,"",0,null,null,1,"/",0.16,0,0,3.3898305084745766,0,0,3.3898305084745766]
[87,"Реконструкция ВЛ-0,4 кВ от КТП Алк 91/160 кВА с заменой КТП",null,null,null,0.65,"/",0.16,2019,2019,3.0199999999999996,null,null,null,null,0,"",0,null,null,0,"",0,null,null,0.65,"/",0.16,null,null,0,"",0,null,null,0,"",0,null,null,0.65,"/",0.16,0,0,2.5593220338983049,0,0,2.5593220338983049]
[88,"Реконструкция ВЛ-0,4 кВ от ЗТП Ком 2007/400 кВА",null,null,null,2,"/",0,2019,2019,5.6,null,null,null,null,0,null,0,null,null,0,null,0,null,null,2,"/",0,null,null,0,null,0,null,null,0,null,0,null,null,2,"/",0,0,0,4.7457627118644066,0,0,4.7457627118644066]
[89,"Реконструкция ВЛ-0,4 кВ от КТП Тур 717/160 кВА с заменой  КТП ",null,null,null,0.86,"/",0.16,2020,2020,3.6079999999999997,null,null,null,null,0,null,0,null,null,0,null,0,null,null,0,null,0,null,null,0.86,"/",0.16,null,null,0,null,0,null,null,0.86,"/",0.16,0,0,0,3.0576271186440676,0,3.0576271186440676]
[90,"Клявлинский район",null,null,null,0,null,0,0,0,0,null,null,null,null,0,"",0,null,null,0,"",0,null,null,0,"",0,null,null,0,"",0,null,null,0,"",0,null,null,0,null,0,0,0,0,0,0,0]
[91,"Реконструкция элекстроснабжения ст. Клявлино",null,null,null,6.35,null,0.9,2017,2017,24.520000000000003,null,null,null,null,6.35,null,0.9,null,null,0,null,0,null,null,0,null,0,null,null,0,null,0,null,null,0,null,0,null,null,6.35,"/",0.9,20.779661016949156,0,0,0,0,20.779661016949156]
[92,"Реконструкция ВЛ-0,4кВ от КТП КЛВ 1207/250 кВА",null,null,null,1.5,null,0,2017,2017,4.8000000000000007,null,null,null,null,1.5,null,0,null,null,null,null,null,null,null,null,null,null,null,null,null,null,null,null,null,null,null,null,null,null,1.5,null,0,4.0677966101694922,null,null,null,null,4.0677966101694922]
[93,"Реконструкция ВЛ-0,4кВ от КТП 416/100 кВА с заменой КТП",null,null,null,2.1,null,0.1,2017,2017,8.0200000000000014,null,null,null,null,2.1,null,0.1,null,null,null,null,null,null,null,null,null,null,null,null,null,null,null,null,null,null,null,null,null,null,2.1,null,0.1,6.7966101694915269,null,null,null,null,6.7966101694915269]
[94,"Реконструкция ВЛ-0,4кВ от КТП КЛВ 421/160 кВА с заменой КТП",null,null,null,3.1,"/",0.16,2018,2018,9.879999999999999,null,null,null,null,0,"",0,null,null,3.1,"/",0.16,null,null,0,"",0,null,null,0,"",0,null,null,0,"",0,null,null,3.1,"/",0.16,0,8.3728813559322024,0,0,0,8.3728813559322024]
[95,"Реконструкция ВЛ-0,4кВ от КТП КЛВ 1404/160 кВА с заменой КТП",null,null,null,3.1,"/",0.16,2018,2018,9.879999999999999,null,null,null,null,0,"",0,null,null,3.1,"/",0.16,null,null,0,"",0,null,null,0,"",0,null,null,0,"",0,null,null,3.1,"/",0.16,0,8.3728813559322024,0,0,0,8.3728813559322024]
[96,"Реконструкция ВЛ-0,4кВ от КТП КЛВ 1412/100 кВА",null,null,null,1.78,"/",0,2018,2018,4.984,null,null,null,null,0,"",0,null,null,1.78,"/",0,null,null,0,"",0,null,null,0,"",0,null,null,0,"",0,null,null,1.78,"/",0,0,4.2237288135593225,0,0,0,4.2237288135593225]
[97,"Реконструкция ВЛ-0,4кВ от КТП КЛВ 1411/160 кВА",null,null,null,2.1,"/",0,2018,2018,5.88,null,null,null,null,0,"",0,null,null,2.1,"/",0,null,null,0,"",0,null,null,0,"",0,null,null,0,"",0,null,null,2.1,"/",0,0,4.9830508474576272,0,0,0,4.9830508474576272]
[98,"Реконструкция ВЛ-0,4кВ от КТП ЕЛЗ 401/100 кВА",null,null,null,0.5,"/",0,2018,2018,1.4,null,null,null,null,0,"",0,null,null,0.5,"/",0,null,null,0,"",0,null,null,0,"",0,null,null,0,"",0,null,null,0.5,"/",0,0,1.1864406779661016,0,0,0,1.1864406779661016]
[99,"Реконструкция ВЛ-0,4кВ от КТП КЛВ1407/250 кВА с заменой КТП",null,null,null,1.07,"/",0.25,2019,2019,4.1959999999999997,null,null,null,null,0,"",0,null,null,0,"",0,null,null,1.07,"/",0.25,null,null,0,"",0,null,null,0,"",0,null,null,1.07,"/",0.25,0,0,3.5559322033898306,0,0,3.5559322033898306]
[100,"Реконструкция ВЛ-0,4кВ от КТП КЛВ422/160 кВА с заменой КТП",null,null,null,1.6,"/",0.16,2019,2019,5.6799999999999988,null,null,null,null,0,"",0,null,null,0,"",0,null,null,1.6,"/",0.16,null,null,0,"",0,null,null,0,"",0,null,null,1.6,"/",0.16,0,0,4.8135593220338979,0,0,4.8135593220338979]
[101,"Реконструкция ВЛ-0,4кВ от КТП КЛВ1408/160 кВА с заменой КТП",null,null,null,2.2999999999999998,"/",0.16,2019,2019,7.6400000000000006,null,null,null,null,0,"",0,null,null,0,"",0,null,null,2.2999999999999998,"/",0.16,null,null,0,"",0,null,null,0,"",0,null,null,2.2999999999999998,"/",0.16,0,0,6.4745762711864412,0,0,6.4745762711864412]
[102,"Реконструкция ВЛ-0,4кВ от КТП КЛВ1017/400 кВА с заменой КТП",null,null,null,1.1000000000000001,"/",0.4,2019,2019,4.28,null,null,null,null,0,"",0,null,null,0,"",0,null,null,1.1000000000000001,"/",0.4,null,null,0,"",0,null,null,0,"",0,null,null,1.1000000000000001,"/",0.4,0,0,3.6271186440677972,0,0,3.6271186440677972]
[103,"Реконструкция ВЛ-0,4кВ от КТП КЛВ1027/160 кВА с заменой КТП",null,null,null,0.81,"/",0.16,2019,2019,3.468,null,null,null,null,0,"",0,null,null,0,"",0,null,null,0.81,"/",0.16,null,null,0,"",0,null,null,0,"",0,null,null,0.81,"/",0.16,0,0,2.9389830508474577,0,0,2.9389830508474577]
[104,"Реконструкция ВЛ-0,4кВ от КТП ЧКЛ 703/100 кВА с заменой КТП",null,null,null,4.8,"/",0.1,2020,2020,14.639999999999999,null,null,null,null,0,"",0,null,null,0,"",0,null,null,0,"",0,null,null,4.8,"/",0.1,null,null,0,"",0,null,null,4.8,"/",0.1,0,0,0,12.406779661016948,0,12.406779661016948]
[105,"Реконструкция ВЛ-0,4кВ от КТП ЧКЛ 705/160 кВА с заменой КТП",null,null,null,0.65,"/",0.16,2020,2020,3.0199999999999996,null,null,null,null,0,"",0,null,null,0,"",0,null,null,0,"",0,null,null,0.65,"/",0.16,null,null,0,"",0,null,null,0.65,"/",0.16,0,0,0,2.5593220338983049,0,2.5593220338983049]
[106,"Реконструкция ВЛ-0,4кВ от КТП ЧКЛ 707/160 кВА с заменой КТП",null,null,null,0.98,"/",0.16,2021,2021,3.944,null,null,null,null,0,"",0,null,null,0,"",0,null,null,0,"",0,null,null,0,"",0,null,null,0.98,"/",0.16,null,null,0.98,"/",0.16,0,0,0,0,3.3423728813559324,3.3423728813559324]
[107,"Реконструкция ВЛ-0,4кВ от КТП ЧКЛ 708/100 кВА с заменой КТП",null,null,null,3.03,"/",0.1,2021,2021,9.6839999999999975,null,null,null,null,0,"",0,null,null,0,"",0,null,null,0,"",0,null,null,0,"",0,null,null,3.03,"/",0.1,null,null,3.03,"/",0.1,0,0,0,0,8.206779661016947,8.206779661016947]
[108,"Реконструкция ВЛ-0,4кВ от КТП КЛВ 818/160 кВА с заменой КТП",null,null,null,1.52,"/",0.16,2021,2021,5.4559999999999995,null,null,null,null,0,"",0,null,null,0,"",0,null,null,0,"",0,null,null,0,"",0,null,null,1.52,"/",0.16,null,null,1.52,"/",0.16,0,0,0,0,4.623728813559322,4.623728813559322]
[109,"Кошкинский район",null,null,null,0,null,0,0,0,0,null,null,null,null,0,"",0,null,null,0,"",0,null,null,0,"",0,null,null,0,"",0,null,null,0,"",0,null,null,0,null,0,0,0,0,0,0,0]
[110,"Реконструкция ВЛ-10 кВ КШК-11 ",null,null,null,3.47,"/",0,2017,2017,11.103999999999999,null,null,null,null,3.47,"/",0,null,null,0,"",0,null,null,0,"",0,null,null,0,"",0,null,null,0,"",0,null,null,3.47,"/",0,9.4101694915254228,0,0,0,0,9.4101694915254228]
[111,"Реконструкция ВЛ-0,4 кВ от КТП КШК 709/250 кВА с заменой  КТП ",null,null,null,1.9,"/",0.25,2017,2017,7.44,null,null,null,null,1.9,null,0.25,null,null,0,null,0,null,null,0,null,0,null,null,0,null,0,null,null,0,null,0,null,null,1.9,"/",0.25,6.3050847457627128,0,0,0,0,6.3050847457627128]
[112,"Реконструкция ВЛ-0,4 кВ от КТП КШК 1109/400 кВА с заменой  КТП ",null,null,null,2.2400000000000002,null,0.4,2017,2017,8.7680000000000007,null,null,null,null,2.2400000000000002,null,0.4,null,null,null,null,null,null,null,null,null,null,null,null,null,null,null,null,null,null,null,null,null,null,2.2400000000000002,null,0.4,7.4305084745762722,null,null,null,null,7.4305084745762722]
[113,"Реконструкция ВЛ-0,4 кВ от КТП КШК 511/100 кВА с заменой  КТП на 160 кВА ",null,null,null,2.68,null,0.16,2017,2017,9.8759999999999994,null,null,null,null,2.68,null,0.16,null,null,null,null,null,null,null,null,null,null,null,null,null,null,null,null,null,null,null,null,null,null,2.68,null,0.16,8.3694915254237294,null,null,null,null,8.3694915254237294]
[114,"Реконструкция ВЛ-0,4 кВ от КТП КШК 1103/400 кВА с заменой  КТП ",null,null,null,2.0299999999999998,"/",0.4,2017,2017,8.0960000000000001,null,null,null,null,2.0299999999999998,"/",0.4,null,null,0,"",0,null,null,0,"",0,null,null,0,"",0,null,null,0,"",0,null,null,2.0299999999999998,"/",0.4,6.8610169491525426,0,0,0,0,6.8610169491525426]
[115,"Реконструкция ВКЛ-0,4 кВ от ЗТП НАД 1102/2х400 кВА с заменой ЗТП на КТП 400 кВА",null,null,null,1.85,"/",0.4,2017,2017,7.91,null,null,null,null,1.85,"/",0.4,null,null,0,"",0,null,null,0,"",0,null,null,0,"",0,null,null,0,"",0,null,null,1.85,"/",0.4,6.7033898305084749,0,0,0,0,6.7033898305084749]
[116,"Реконструкция ВЛ-0,4 кВ от ЗТП КШК102/320 кВА с заменой ЗТП на КТП 400 кВА",null,null,null,0.7,"/",0.4,2017,2017,3.84,null,null,null,null,0.7,"/",0.4,null,null,0,"",0,null,null,0,"",0,null,null,0,"",0,null,null,0,"",0,null,null,0.7,"/",0.4,3.2542372881355934,0,0,0,0,3.2542372881355934]
[117,"Реконструкция ВЛ-0,4 кВ от КТП САД 709/160 кВА с заменой КТП на 250 кВА ",null,null,null,1.3,"/",0.25,2017,2017,5.46,null,null,null,null,1.3,"/",0.25,null,null,0,"",0,null,null,0,"",0,null,null,0,"",0,null,null,0,"",0,null,null,1.3,"/",0.25,4.6271186440677967,0,0,0,0,4.6271186440677967]
[118,"Реконструкция ВЛ-0,4 кВ от КТП КШК 109/160 с заменой ЗТП на  КТП 160 кВА",null,null,null,0.4,"/",0.16,2018,2018,2.3199999999999998,null,null,null,null,0,"",0,null,null,0.4,"/",0.16,null,null,0,"",0,null,null,0,"",0,null,null,0,"",0,null,null,0.4,"/",0.16,0,1.9661016949152541,0,0,0,1.9661016949152541]
[119,"Реконструкция ВЛ-0,4 кВ от КТП КШК 1115/250 с заменой КТП",null,null,null,1.2,"/",0.25,2018,2018,4.5599999999999996,null,null,null,null,0,"",0,null,null,1.2,"/",0.25,null,null,0,"",0,null,null,0,"",0,null,null,0,"",0,null,null,1.2,"/",0.25,0,3.8644067796610169,0,0,0,3.8644067796610169]
[120,"Реконструкция ВЛ-0,4 кВ от КТП КШК 1113/250 кВА с заменой КТП",null,null,null,1.1000000000000001,"/",0.25,2018,2018,4.28,null,null,null,null,0,"",0,null,null,1.1000000000000001,"/",0.25,null,null,0,"",0,null,null,0,"",0,null,null,0,"",0,null,null,1.1000000000000001,"/",0.25,0,3.6271186440677972,0,0,0,3.6271186440677972]
[121,"Реконструкция ВЛ-0,4 кВ от КТП КШК 504/160 с заменой КТП на 250 кВА",null,null,null,2.5,"/",0.25,2018,2018,8.1999999999999993,null,null,null,null,0,"",0,null,null,2.5,"/",0.25,null,null,0,"",0,null,null,0,"",0,null,null,0,"",0,null,null,2.5,"/",0.25,0,6.9491525423728815,0,0,0,6.9491525423728815]
[122,"Реконструкция ВЛ-0,4 кВ от КТП КРМ 502/100 кВА с заменой КТП на 63 кВА",null,null,null,0.2,"/",6.3E-2,2019,2019,1.7599999999999996,null,null,null,null,0,"",0,null,null,0,"",0,null,null,0.2,"/",6.3E-2,null,null,0,"",0,null,null,0,"",0,null,null,0.2,"/",6.3E-2,0,0,1.4915254237288134,0,0,1.4915254237288134]
[123,"Реконструкция ВЛ-0,4 кВ от КТП КШК 1204/63 кВА с переносом и заменой на КТП ",null,null,null,0.2,"/",6.3E-2,2019,2019,1.7599999999999996,null,null,null,null,0,"",0,null,null,0,"",0,null,null,0.2,"/",6.3E-2,null,null,0,"",0,null,null,0,"",0,null,null,0.2,"/",6.3E-2,0,0,1.4915254237288134,0,0,1.4915254237288134]
[124,"Реконструкция ВЛ-0,4 кВ от ЗТП САД 703/400 кВА с заменой КТП на 400 кВА",null,null,null,0.1,"/",0.4,2019,2019,1.48,null,null,null,null,0,"",0,null,null,0,"",0,null,null,0.1,"/",0.4,null,null,0,"",0,null,null,0,"",0,null,null,0.1,"/",0.4,0,0,1.2542372881355932,0,0,1.2542372881355932]
[125,"Реконструкция ВЛ-0,4 кВ от КТП  НБК 117/160 кВА с заменой КТП на 63 кВА ",null,null,null,0.5,"/",6.3E-2,2019,2019,2.5999999999999996,null,null,null,null,0,"",0,null,null,0,"",0,null,null,0.5,"/",6.3E-2,null,null,0,"",0,null,null,0,"",0,null,null,0.5,"/",6.3E-2,0,0,2.2033898305084745,0,0,2.2033898305084745]
[126,"Реконструкция ВЛ-0,4 кВ от ЗТП КШК 1301/400*2 с заменой ЗТП на КТП 400*2 кВА",null,null,null,0.75,"/",0.8,2020,2020,3.3,null,null,null,null,0,"",0,null,null,0,"",0,null,null,0,"",0,null,null,0.75,"/",0.8,null,null,0,"",0,null,null,0.75,"/",0.8,0,0,0,2.7966101694915255,0,2.7966101694915255]
[127,"Реконструкция ВЛ-0,4 кВ от КТП КШК 506/250 кВА с заменой  КТП",null,null,null,2.7,"/",0.25,2021,2021,8.76,null,null,null,null,0,null,0,null,null,0,null,0,null,null,0,null,0,null,null,0,null,0,null,null,2.7,"/",0.25,null,null,2.7,"/",0.25,0,0,0,0,7.4237288135593227,7.4237288135593227]
[128,"Реконструкция ВЛ-0,4 кВ от КТП КШК 908/100 кВА с заменой КТП на 250 кВА",null,null,null,0.2,"/",0.25,2021,2021,1.7599999999999996,null,null,null,null,0,null,0,null,null,0,null,0,null,null,0,null,0,null,null,0,null,0,null,null,0.2,"/",0.25,null,null,0.2,"/",0.25,0,0,0,0,1.4915254237288134,1.4915254237288134]
[129,"Красноармейский район",null,null,null,0,null,0,0,0,0,null,null,null,null,0,"",0,null,null,0,"",0,null,null,0,"",0,null,null,0,"",0,null,null,0,"",0,null,null,0,null,0,0,0,0,0,0,0]
[130,"Реконструкция ВЛ-10 кВ Ф-1 ПС В.Гай",null,null,null,1.2,"/",0,2017,2017,3.84,null,null,null,null,1.2,"/",0,null,null,0,"",0,null,null,0,"",0,null,null,0,"",0,null,null,0,"",0,null,null,1.2,"/",0,3.2542372881355934,0,0,0,0,3.2542372881355934]
[131,"Реконструкция ВЛ-10 кВ Ф-1 ПС Колдыбань",null,null,null,0.21,"/",0,2018,2018,0.58799999999999997,null,null,null,null,0,"",0,null,null,0.21,"/",0,null,null,0,"",0,null,null,0,"",0,null,null,0,"",0,null,null,0.21,"/",0,0,0.49830508474576268,0,0,0,0.49830508474576268]
[132,"Реконструкция ВЛ-10 кВ Ф-2 ПС В.Гай",null,null,null,0.3,"/",0,2018,2018,0.84,null,null,null,null,0,"",0,null,null,0.3,"/",0,null,null,0,"",0,null,null,0,"",0,null,null,0,"",0,null,null,0.3,"/",0,0,0.71186440677966101,0,0,0,0.71186440677966101]
[133,"Красноярский район",null,null,null,0,"/",0,0,0,0,null,null,null,null,0,"",0,null,null,0,"",0,null,null,0,"",0,null,null,0,"",0,null,null,0,"",0,null,null,0,"/",0,0,0,0,0,0,0]
[134,"Реконструкция ВЛ-6 кВ в п. Новосемейкино",null,null,null,0.3,null,0,2017,2017,2,null,null,null,null,0.3,null,0,null,null,0,null,0,null,null,0,null,0,null,null,0,null,0,null,null,0,null,0,null,null,0.3,"/",0,1.6949152542372883,0,0,0,0,1.6949152542372883]
[135,"Реконструкция Ф Кур-21",null,null,null,2.5,null,0,2017,2017,17.7,null,null,null,null,2.5,null,0,null,null,0,null,0,null,null,0,null,0,null,null,0,null,0,null,null,0,null,0,null,null,2.5,"/",0,15,0,0,0,0,15]
[136,"Реконструкция ВЛ-0,4 кВ от КТП Кяр 614/250 кВА и Кяр 613/250 кВА с заменой КТП на 400 кВА ",null,null,null,7,"/",0.8,2017,2017,25.600000000000005,null,null,null,null,7,"/",0.8,null,null,0,"",0,null,null,0,"",null,null,null,0,"",0,null,null,0,"",0,null,null,7,"/",0.8,21.694915254237294,0,0,0,0,21.694915254237294]
[137,"Реконструкция ВЛ-0,4 кВ от КТП Кяр 613/250 кВА с заменой КТП на 400 кВА ",null,null,null,2.9,null,0.4,2017,2017,10.879999999999999,null,null,null,null,2.9,null,0.4,null,null,null,null,null,null,null,null,null,null,null,null,null,null,null,null,null,null,null,null,null,null,2.9,null,0.4,9.2203389830508478,null,null,null,null,9.2203389830508478]
[138,"Реконструкция ВЛ-0,4 кВ от КТП Кяр 314/400 кВА с заменой КТП",null,null,null,3,"/",0.4,2017,2017,11.200000000000001,null,null,null,null,3,"/",0.4,null,null,0,"",0,null,null,0,"",0,null,null,0,"",0,null,null,0,"",0,null,null,3,"/",0.4,9.4915254237288149,0,0,0,0,9.4915254237288149]
[139,"Реконструкция ВЛ-0,4 кВ от КТП НБ 702/250 кВА с заменой КТП на 400 кВА",null,null,null,5,"/",0.4,2017,2017,17.600000000000001,null,null,null,null,5,"/",0.4,null,null,0,"",0,null,null,0,"",0,null,null,0,"",0,null,null,0,"",0,null,null,5,"/",0.4,14.915254237288137,0,0,0,0,14.915254237288137]
[140,"Реконструкция ВЛ-0,4 кВ от КТП РЦ 1101/250 кВА с заменой КТП на 400 кВА и установкой дополнительной КТП 250 кВА",null,null,null,6,"/",0.65,2018,2018,19.199999999999992,null,null,null,null,0,"",0,null,null,6,"/",0.65,null,null,0,"",0,null,null,0,"",0,null,null,0,"",0,null,null,6,"/",0.65,0,16.271186440677962,0,0,0,16.271186440677962]
[141,"Реконструкция ВЛ-0,4 кВ от КТП НБ 1604/160 кВА с заменой КТП на 250 кВА",null,null,null,2,"/",0.25,2018,2018,6.7999999999999989,null,null,null,null,0,"",0,null,null,2,"/",0.25,null,null,0,"",0,null,null,0,"",0,null,null,0,"",0,null,null,2,"/",0.25,0,5.7627118644067794,0,0,0,5.7627118644067794]
[142,"Реконструкция ВЛ-0,4 кВ от КТП Кяр 407/160 кВА с заменой КТП на 250 кВА",null,null,null,2,"/",0.25,2018,2018,6.7999999999999989,null,null,null,null,0,"",0,null,null,2,"/",0.25,null,null,0,"",0,null,null,0,"",0,null,null,0,"",0,null,null,2,"/",0.25,0,5.7627118644067794,0,0,0,5.7627118644067794]
[143,"Реконструкция ВЛ-0,4 кВ от КТП РЦ 1113/320 кВА с заменой КТП на 400 кВА",null,null,null,3,"/",0.4,2018,2018,9.5999999999999961,null,null,null,null,0,"",0,null,null,3,"/",0.4,null,null,0,"",0,null,null,0,"",0,null,null,0,"",0,null,null,3,"/",0.4,0,8.1355932203389809,0,0,0,8.1355932203389809]
[144,"Реконструкция ВЛ-0,4 кВ от ЗТП ДСК 6034/2х320 кВА ",null,null,null,2,"/",0,2019,2019,5.6,null,null,null,null,0,"",0,null,null,0,"",0,null,null,2,"/",0,null,null,0,"",0,null,null,0,"",0,null,null,2,"/",0,0,0,4.7457627118644066,0,0,4.7457627118644066]
[145,"Реконструкция ВЛ-0,4 кВ от КТП НБ 701/100 кВА с заменой КТП на 160 кВА",null,null,null,2,"/",0.16,2019,2019,6.7999999999999989,null,null,null,null,0,"",0,null,null,0,"",0,null,null,2,"/",0.16,null,null,0,"",0,null,null,0,"",0,null,null,2,"/",0.16,0,0,5.7627118644067794,0,0,5.7627118644067794]
[146,"Реконструкция ВЛ-0,4 кВ от КТП РЦ 3101/2х400 кВА с заменой КТП на 630 кВА и установкой дополнительной КТП 250 кВА",null,null,null,3,"/",0.88,2019,2019,10.999999999999998,null,null,null,null,0,"",0,null,null,0,"",0,null,null,3,"/",0.88,null,null,0,"",0,null,null,0,"",0,null,null,3,"/",0.88,0,0,9.322033898305083,0,0,9.322033898305083]
[147,"Реконструкция ВЛ-0,4 кВ от КТП НБ 714/250 кВА с заменой КТП",null,null,null,2,"/",0.25,2020,2020,6.7999999999999989,null,null,null,null,0,null,0,null,null,0,null,0,null,null,0,null,0,null,null,2,"/",0.25,null,null,0,null,0,null,null,2,"/",0.25,0,0,0,5.7627118644067794,0,5.7627118644067794]
[148,"Реконструкция ВЛ-0,4 кВ от КТП Рак 802/160 кВА с заменой КТП на 250 кВА",null,null,null,3,"/",0.25,2021,2021,9.5999999999999961,null,null,null,null,0,null,0,null,null,0,null,0,null,null,0,null,0,null,null,0,null,0,null,null,3,"/",0.25,null,null,3,"/",0.25,0,0,0,0,8.1355932203389809,8.1355932203389809]
[149,"Пестравский район",null,null,null,0,null,0,0,0,0,null,null,null,null,0,"",0,null,null,0,"",0,null,null,0,"",0,null,null,0,"",0,null,null,0,"",0,null,null,0,null,0,0,0,0,0,0,0]
[150,"Реконструкция ВЛ-10 кВ Ф-8 ПС Пестравка",null,null,null,12.6,"/",0,2017,2017,40.32,null,null,null,null,12.6,"/",0,null,null,0,"",0,null,null,0,"",0,null,null,0,"",0,null,null,0,"",0,null,null,12.6,"/",0,34.16949152542373,0,0,0,0,34.16949152542373]
[151,"Реконструкция ВЛ-0,4 кВ от КТП 420/160 кВА с заменой КТП",null,null,null,1.8,"/",0.16,2018,2018,6.24,null,null,null,null,0,"",0,null,null,1.8,"/",0.16,null,null,0,"",0,null,null,0,"",0,null,null,0,"",0,null,null,1.8,"/",0.16,0,5.2881355932203391,0,0,0,5.2881355932203391]
[152,"Реконструкция ВЛ-0,4 кВ от КТП 507/160 кВА с заменой КТП на 250 кВА",null,null,null,2.9,"/",0.25,2018,2018,9.3199999999999985,null,null,null,null,0,"",0,null,null,2.9,"/",0.25,null,null,0,"",0,null,null,0,"",0,null,null,0,"",0,null,null,2.9,"/",0.25,0,7.8983050847457621,0,0,0,7.8983050847457621]
[153,"Реконструкция ВЛ-0,4 кВ от КТП 509/160 кВА с заменой КТП на 250 кВА",null,null,null,4.5,"/",0.25,2019,2019,13.799999999999999,null,null,null,null,0,"",0,null,null,0,"",0,null,null,4.5,"/",0.25,null,null,0,"",0,null,null,0,"",0,null,null,4.5,"/",0.25,0,0,11.694915254237287,0,0,11.694915254237287]
[154,"Реконструкция ВЛ-0,4 кВ от КТП Мт 102/250 кВА с заменой КТП ",null,null,null,0.8,"/",0.25,2019,2019,3.4399999999999995,null,null,null,null,0,"",0,null,null,0,"",0,null,null,0.8,"/",0.25,null,null,0,"",0,null,null,0,"",0,null,null,0.8,"/",0.25,0,0,2.9152542372881354,0,0,2.9152542372881354]
[155,"Реконструкция ВЛ-0,4 кВ от КТП 508/250 кВА с заменой КТП на 400 кВА",null,null,null,3.2,"/",0.4,2020,2020,10.159999999999998,null,null,null,null,0,"",0,null,null,0,"",0,null,null,0,"",0,null,null,3.2,"/",0.4,null,null,0,"",0,null,null,3.2,"/",0.4,0,0,0,8.6101694915254221,0,8.6101694915254221]
[156,"Реконструкция ВЛ-0,4 кВ от КТП Мр 512/160 кВА с заменой КТП на 400 кВА",null,null,null,0.8,"/",0.4,2021,2021,3.4399999999999995,null,null,null,null,0,null,0,null,null,0,null,0,null,null,0,null,0,null,null,0,null,0,null,null,0.8,null,0.4,null,null,0.8,null,0.4,0,0,0,0,2.9152542372881354,2.9152542372881354]
[157,"Приволжский район",null,null,null,0,null,0,0,0,0,null,null,null,null,0,"",0,null,null,0,"",0,null,null,0,"",0,null,null,0,"",0,null,null,0,"",0,null,null,0,null,0,0,0,0,0,0,0]
[158,"Реконструкция ВЛ-0,4 кВ от  ЗТП Пр 222/160 кВА с заменой ЗТП на КТП 250 кВА",null,null,null,1.65,"/",0.25,2017,2017,6.58,null,null,null,null,1.65,"/",0.25,null,null,0,"",0,null,null,0,"",0,null,null,0,"",0,null,null,0,"",0,null,null,1.65,"/",0.25,5.5762711864406782,0,0,0,0,5.5762711864406782]
[159,"Реконструкция ВЛ-0,4 кВ от  КТП Пр 202/250 кВА с заменой КТП",null,null,null,1.45,null,0.25,2017,2017,5.9399999999999995,null,null,null,null,1.45,null,0.25,null,null,null,null,null,null,null,null,null,null,null,null,null,null,null,null,null,null,null,null,null,null,1.45,null,0.25,5.0338983050847457,null,null,null,null,5.0338983050847457]
[160,"Реконструкция ВЛ-0,4 кВ от  КТП Пр 205/250 кВА с заменой КТП ",null,null,null,2.61,"/",0.25,2017,2017,9.6519999999999992,null,null,null,null,2.61,"/",0.25,null,null,0,"",0,null,null,0,"",0,null,null,0,"",0,null,null,0,"",0,null,null,2.61,"/",0.25,8.1796610169491526,0,0,0,0,8.1796610169491526]
[161,"Реконструкция ВЛ-0,4 кВ от  ЗТП Об 1208/160 кВА с заменой КТП ",null,null,null,1.43,"/",0.16,2018,2018,5.2039999999999997,null,null,null,null,0,"",0,null,null,1.43,"/",0.16,null,null,0,"",0,null,null,0,"",0,null,null,0,"",0,null,null,1.43,"/",0.16,0,4.4101694915254237,0,0,0,4.4101694915254237]
[162,"Реконструкция ВЛ-0,4 кВ от  КТП Ек 111/100 кВА с заменой КТП ",null,null,null,0.9,"/",0.1,2018,2018,3.7199999999999998,null,null,null,null,0,"",0,null,null,0.9,"/",0.1,null,null,0,"",0,null,null,0,"",0,null,null,0,"",0,null,null,0.9,"/",0.1,0,3.152542372881356,0,0,0,3.152542372881356]
[163,"Реконструкция ВЛ-0,4 кВ от  КТП  Нсп 502/160 кВА с заменой КТП ",null,null,null,1.08,"/",0.16,2019,2019,4.2240000000000002,null,null,null,null,0,"",0,null,null,0,"",0,null,null,1.08,"/",0.16,null,null,0,"",0,null,null,0,"",0,null,null,1.08,"/",0.16,0,0,3.579661016949153,0,0,3.579661016949153]
[164,"Реконструкция ВЛ-0,4 кВ от  ЗТП Пр 222/160 кВА с заменой КТП ",null,null,null,1.64,"/",0.16,2019,2019,5.7919999999999998,null,null,null,null,0,"",0,null,null,0,"",0,null,null,1.64,"/",0.16,null,null,0,"",0,null,null,0,"",0,null,null,1.64,"/",0.16,0,0,4.9084745762711863,0,0,4.9084745762711863]
[165,"Реконструкция ВЛ-0,4 кВ от КТП Об 1213-813/2х250 кВА с заменой КТП ",null,null,null,1.2,"/",0.5,2020,2020,4.5599999999999996,null,null,null,null,0,"",0,null,null,0,"",0,null,null,0,"",0,null,null,1.2,"/",0.5,null,null,0,"",0,null,null,1.2,"/",0.5,0,0,0,3.8644067796610169,0,3.8644067796610169]
[166,"Реконструкция ВЛ-0,4 кВ от  ЗТП Об 1211-811/250 кВА с заменой КТП ",null,null,null,2.34,"/",0.25,2021,2021,7.7519999999999998,null,null,null,null,0,"",0,null,null,0,"",0,null,null,0,"",0,null,null,0,"",0,null,null,2.34,"/",0.25,null,null,2.34,"/",0.25,0,0,0,0,6.5694915254237287,6.5694915254237287]
[167,"г.Самара",null,null,null,0,null,0,0,0,0,null,null,null,null,0,"",0,null,null,0,"",0,null,null,0,"",0,null,null,0,"",0,null,null,0,"",0,null,null,0,"/",0,0,0,0,0,0,0]
[168,"Электроснабжение инфраструктуры объектов электросетевого хозяйства в г.о. Самара (в районе радиоцентра №3), в т.ч. I, II, III, IV этап",null,null,null,11.08,null,9.26,2017,2017,454.11399999999998,null,null,null,null,11.08,null,9.26,null,null,null,null,null,null,null,null,null,null,null,null,null,null,null,null,null,null,null,null,null,null,11.08,null,9.26,384.84237288135591,null,null,null,null,384.84237288135591]
[169,"Реконструкция КЛ-10 кВ от ТП 6096 до КТПН 6036 с переводом ТП 6124 на 10 кВ\" г.о. Самара ул. Ташкентская, Московское шоссе ",null,null,null,1.05,null,0,2017,2017,65.524000000000001,null,null,null,null,1.05,null,0,null,null,null,null,null,null,null,null,null,null,null,null,null,null,null,null,null,null,null,null,null,null,1.05,null,0,55.528813559322039,null,null,null,null,55.528813559322039]
[170,"Электроснабжение объектов в районе улиц Ташкентская, Демократическая, Московское шоссе г.о. Самара",null,null,null,16.14,null,0,2017,2017,102.3,null,null,null,null,16.14,null,0,null,null,null,null,null,null,null,null,null,null,null,null,null,null,null,null,null,null,null,null,null,null,16.14,null,0,86.694915254237287,null,null,null,null,86.694915254237287]
[171,"Реконструкция ТП-1875 г.о. Самара",null,null,null,0,null,1.26,2017,2017,8.9521975299999994,null,null,null,null,0,null,1.26,null,null,null,null,null,null,null,null,null,null,null,null,null,null,null,null,null,null,null,null,null,null,0,null,1.26,7.5866080762711867,null,null,null,null,7.5866080762711867]
[172,"Реконструкция ТП-2092 г.о. Самара",null,null,null,0,null,1.26,2017,2017,3.5603742500000002,null,null,null,null,0,null,1.26,null,null,null,null,null,null,null,null,null,null,null,null,null,null,null,null,null,null,null,null,null,null,0,null,1.26,3.0172663135593223,null,null,null,null,3.0172663135593223]
[173,"Реконструкция РП-129 г.о. Самара",null,null,null,0,null,0,2017,2017,35.947188250000004,null,null,null,null,0,null,0,null,null,null,null,null,null,null,null,null,null,null,null,null,null,null,null,null,null,null,null,null,null,0,null,0,30.463718855932207,null,null,null,null,30.463718855932207]
[174,"Реконструкция ТП-4641 г.о. Самара",null,null,null,0,null,0,2017,2017,1.53760184,null,null,null,null,0,null,0,null,null,null,null,null,null,null,null,null,null,null,null,null,null,null,null,null,null,null,null,null,null,0,null,0,1.3030524067796612,null,null,null,null,1.3030524067796612]
[175,"Реконструкция ТП-2522 г.о. Самара",null,null,null,0,null,1.26,2017,2017,13.427160259999999,null,null,null,null,0,null,1.26,null,null,null,null,null,null,null,null,null,null,null,null,null,null,null,null,null,null,null,null,null,null,0,null,1.26,11.378949372881356,null,null,null,null,11.378949372881356]
[176,"Реконструкция  КТП-3058 с заменой на ГКТП 400/10,5/0,4 кВ г.о. Самара",null,null,null,0,null,0.4,2017,2017,6.5628127999999997,null,null,null,null,0,null,0.4,null,null,null,null,null,null,null,null,null,null,null,null,null,null,null,null,null,null,null,null,null,null,0,null,0.4,5.5617057627118642,null,null,null,null,5.5617057627118642]
[177,"Реконструкция ТП-1440 г.о. Самара",null,null,null,0,null,2,2017,2017,3.05648469,null,null,null,null,0,null,2,null,null,null,null,null,null,null,null,null,null,null,null,null,null,null,null,null,null,null,null,null,null,0,null,2,2.5902412627118645,null,null,null,null,2.5902412627118645]
[178,"Энергоснабжение электросетевого комплекса по ул. Мориса Тореза г.о. Самара",null,null,null,0.1,null,0,2017,2017,0.6,null,null,null,null,0.1,null,0,null,null,null,null,null,null,null,null,null,null,null,null,null,null,null,null,null,null,null,null,null,null,0.1,null,0,0.50847457627118642,null,null,null,null,0.50847457627118642]
[179,"Энергоснабжение электросетевого комплекса по ул. Мяги г.о. Самара",null,null,null,0.23,null,0,2017,2017,1.6999999999999997,null,null,null,null,0.23,null,0,null,null,null,null,null,null,null,null,null,null,null,null,null,null,null,null,null,null,null,null,null,null,0.23,null,0,1.4406779661016949,null,null,null,null,1.4406779661016949]
[180,"Энергоснабжение электросетевого комплексса по ул. Партизанская г.о. Самара",null,null,null,0.3,null,0,2017,2017,2.2000000000000002,null,null,null,null,0.3,null,0,null,null,null,null,null,null,null,null,null,null,null,null,null,null,null,null,null,null,null,null,null,null,0.3,null,0,1.8644067796610171,null,null,null,null,1.8644067796610171]
[181,"Реконструкция электроснабжения г.о.Самара",null,null,null,11.799999999999999,null,0,2017,2017,70.8,null,null,null,null,11.799999999999999,null,0,null,null,null,null,null,null,null,null,null,null,null,null,null,null,null,null,null,null,null,null,null,null,11.799999999999999,null,0,60,null,null,null,null,60]
[182,"Реконструкция сетей в Ленинском р-не г.о. Самара",null,null,null,2.5,null,2,2017,2017,82.6,null,null,null,null,2.5,null,2,null,null,null,null,null,null,null,null,null,null,null,null,null,null,null,null,null,null,null,null,null,null,2.5,null,2,70,null,null,null,null,70]
[183,"ПИР Котельная в Куйбышевском р-не г.о. Самара",null,null,null,0,null,0,2017,2017,11.8,null,null,null,null,0,null,0,null,null,null,null,null,null,null,null,null,null,null,null,null,null,null,null,null,null,null,null,null,null,0,null,0,10.000000000000002,null,null,null,null,10.000000000000002]
[184,"ПИР ПС \"Кряж\"",null,null,null,0,null,0,2017,2017,123.9,null,null,null,null,0,null,0,null,null,null,null,null,null,null,null,null,null,null,null,null,null,null,null,null,null,null,null,null,null,0,null,0,105.00000000000001,null,null,null,null,105.00000000000001]
[185,"Повышение надежности энергоснабжения г. Самара",null,null,null,254.5,"/",0,2018,2018,2789.5,null,null,null,null,0,"",0,null,null,69,"/",0,null,null,57.5,"/",0,null,null,61,"/",0,null,null,67,"/",0,null,null,254.5,"/",0,0,635,540.00000000000011,560,628.98305084745766,2363.9830508474579]
[186,"Реконструкция существующей инфраструктуры объектов электрохозяйства в г.о. Самара, в целях обеспечения надежности ЭС спортивного комплексак ЧМ-2018",null,null,null,131,"/",71,2018,2018,1526.9199999999998,null,null,null,null,0,"",0,null,null,15,"/",0,null,null,28,"/",33.6,null,null,54,"/",13.6,null,null,34,"/",23.8,null,null,131,"/",71,0,139.00000000000003,320.00000000000006,485,350,1294]
[187,"Реконструкция инфраструктуры объектов электрохозяйства в г.о. Самара в целях обеспечения надежности ЭС жилой застройки в районе площадки ЗИМ",null,null,null,161.86000000000001,"/",14.399999999999999,2018,2018,1107.7157999999999,null,null,null,null,0,"",0,null,null,48.69,"/",2.4,null,null,48.09,"/",2.4,null,null,23.11,"/",2.4,null,null,41.97,"/",7.2,null,null,161.86000000000001,"/",14.399999999999999,0,257.3389830508475,266.64050847457628,116.10169491525424,298.66101694915255,938.74220338983059]
[188,"Реконструкция инфраструктуры объектов электрхозяйства в г.о. Самара, в целях обеспечения надежности ЭС жилой застройке в районе ул.Комсомольской, ул.М.Горького, ул.Крупской, ул. Кутякова на берегу р.Волга",null,null,null,87,null,14,2018,2018,1044.3,null,null,null,null,0,"",0,null,null,15,null,0,null,null,18,null,2,null,null,26,null,6,null,null,28,null,6,null,null,87,null,14,0,150,180.00000000000003,255,300,885]
[189,"Реконструкция объектов элктрохозяйства в г.о. Самара, в целях обеспечения надежности ЭС объектов в границах ул. Ив.Булкина, Блюхера Энтузиастов и К.Маркса",null,null,null,12,null,4,2020,2020,147.5,null,null,null,null,0,null,0,null,null,null,null,0,null,null,0,null,0,null,null,4,"/",0,null,null,8,"/",4,null,null,12,null,4,0,0,0,40.000000000000007,85,125]
[190,"Реконструкция инфраструктуры объектов элтрохозяйства в г.о. Самара , в целях обеспечения надежности ЭС объектов в границах ул. Дыбенко, Авроры, Энтузиастов и Луч. пер. ",null,null,null,11,null,4,2020,2020,135.69999999999999,null,null,null,null,0,null,0,null,null,null,null,0,null,null,0,null,0,null,null,5,"/",0,null,null,6,"/",4,null,null,11,null,4,0,0,0,40.000000000000007,75,115]
[191,"Сергиевский район",null,null,null,0,null,0,0,0,0,null,null,null,null,0,null,0,null,null,null,null,null,null,null,null,null,null,null,null,null,null,null,null,null,null,null,null,null,null,0,null,0,0,null,null,null,null,0]
[192,"Реконструкция ВЛ-6 кВ ОБШ-1",null,null,null,5.0999999999999996,null,0,2017,2017,16.32,null,null,null,null,5.0999999999999996,null,0,null,null,null,null,null,null,null,null,null,null,null,null,null,null,null,null,null,null,null,null,null,null,5.0999999999999996,null,0,13.830508474576272,null,null,null,null,13.830508474576272]
[193,"Реконструкция ВЛ-10 кВ СВ9 от ЦРП-10 кВ",null,null,null,9.31,null,0,2017,2017,29.792000000000002,null,null,null,null,9.31,null,0,null,null,null,null,null,null,null,null,null,null,null,null,null,null,null,null,null,null,null,null,null,null,9.31,null,0,25.247457627118646,null,null,null,null,25.247457627118646]
[194,"Реконструкция ВЛ-0,4 кВ от КТП СРГ 205/160 кВА ",null,null,null,3.1,null,0,2017,2017,9.9200000000000017,null,null,null,null,3.1,null,0,null,null,null,null,null,null,null,null,null,null,null,null,null,null,null,null,null,null,null,null,null,null,3.1,null,0,8.4067796610169516,null,null,null,null,8.4067796610169516]
[195,"Реконструкция ВЛ-0,4 кВ от КТП СВД 4207/160 кВА ",null,null,null,3.82,null,0,2017,2017,12.224,null,null,null,null,3.82,null,0,null,null,null,null,null,null,null,null,null,null,null,null,null,null,null,null,null,null,null,null,null,null,3.82,null,0,10.359322033898305,null,null,null,null,10.359322033898305]
[196,"Реконструкция ВЛ-0,4 кВ от КТП СВ 907/400 кВА ",null,null,null,5.05,null,0,2017,2017,16.16,null,null,null,null,5.05,null,0,null,null,null,null,null,null,null,null,null,null,null,null,null,null,null,null,null,null,null,null,null,null,5.05,null,0,13.694915254237289,null,null,null,null,13.694915254237289]
[197,"Реконструкция ВЛ-0,4 кВ от КТП СРГ 204/160 кВА ",null,null,null,3.05,null,0,2017,2017,9.7600000000000016,null,null,null,null,3.05,null,0,null,null,null,null,null,null,null,null,null,null,null,null,null,null,null,null,null,null,null,null,null,null,3.05,null,0,8.2711864406779672,null,null,null,null,8.2711864406779672]
[198,"Реконструкция ВЛ-0,4 кВ от КТП ФНС 702/400 кВА ",null,null,null,5.7750000000000004,null,0,2017,2017,18.48,null,null,null,null,5.7750000000000004,null,0,null,null,null,null,null,null,null,null,null,null,null,null,null,null,null,null,null,null,null,null,null,null,5.7750000000000004,null,0,15.661016949152543,null,null,null,null,15.661016949152543]
[199,"Ставропольский район",null,null,null,0,null,0,0,0,0,null,null,null,null,0,"",0,null,null,0,"",0,null,null,0,"",0,null,null,0,"",0,null,null,0,"",0,null,null,0,"/",0,0,0,0,0,0,0]
[200,"Реконструкция ВЛ-0,4 кВ от КТП Хщ 1902/400 кВА с заменой КТП и установкой дополнительной КТП 250 кВА",null,null,null,5.0999999999999996,"/",0.65,2017,2017,19.220000000000002,null,null,null,null,5.0999999999999996,"/",0.65,null,null,0,"",0,null,null,0,"",0,null,null,0,"",0,null,null,0,"",0,null,null,5.0999999999999996,"/",0.65,16.288135593220343,0,0,0,0,16.288135593220343]
[201,"Реконструкция ВЛ-0,4 кВ от КТП С 2512/250 кВА с заменой КТП и установкой дополнительной КТП 250 кВА",null,null,null,2.6,"/",0.5,2017,2017,10.920000000000002,null,null,null,null,2.6,"/",0.5,null,null,0,"",0,null,null,0,"",0,null,null,0,"",0,null,null,0,"",0,null,null,2.6,"/",0.5,9.2542372881355952,0,0,0,0,9.2542372881355952]
[202,"г.Сызрань",null,null,null,0,null,0,0,0,0,null,null,null,null,0,"",0,null,null,0,"",0,null,null,0,"",0,null,null,0,"",0,null,null,0,"",0,null,null,0,"/",0,0,0,0,0,0,0]
[203,"Реконструкция электроснабжения г.о. Сызрань",null,null,null,11.76,null,1.72,2017,2017,48.332000000000001,null,null,null,null,11.76,null,1.72,null,null,null,null,null,null,null,null,null,null,null,null,null,null,null,null,null,null,null,null,null,null,11.76,null,1.72,40.95932203389831,null,null,null,null,40.95932203389831]
[204,"Реконструкция ВЛ-0,4 кВ от КТП-НК 26.03 с заменой КТП",null,null,null,4.5199999999999996,null,0.25,2017,2017,15.763999999999999,null,null,null,null,4.5199999999999996,null,0.25,null,null,null,null,null,null,null,null,null,null,null,null,null,null,null,null,null,null,null,null,null,null,4.5199999999999996,null,0.25,13.359322033898305,null,null,null,null,13.359322033898305]
[205,"Реконструкция ВЛ-0,4 кВ от КТП-74/250 кВА с заменой КТП",null,null,null,1.3,null,0.25,2017,2017,5.46,null,null,null,null,1.3,null,0.25,null,null,null,null,null,null,null,null,null,null,null,null,null,null,null,null,null,null,null,null,null,null,1.3,null,0.25,4.6271186440677967,null,null,null,null,4.6271186440677967]
[206,"Реконструкция ВЛ-0,4 кВ от КТП-31/250 кВА с заменой КТП",null,null,null,4.8,null,0.25,2017,2017,16.66,null,null,null,null,4.8,null,0.25,null,null,null,null,null,null,null,null,null,null,null,null,null,null,null,null,null,null,null,null,null,null,4.8,null,0.25,14.118644067796611,null,null,null,null,14.118644067796611]
[207,"Реконструкция ВЛ-0,4 кВ от КТП-ПБ 510/250 кВА с заменой КТП",null,null,null,4.09,null,0.25,2017,2017,14.388000000000002,null,null,null,null,4.09,null,0.25,null,null,null,null,null,null,null,null,null,null,null,null,null,null,null,null,null,null,null,null,null,null,4.09,null,0.25,12.193220338983053,null,null,null,null,12.193220338983053]
[208,"Реконструкция ВЛ-0,4 кВ от КТП-НК 16.04 с заменой КТП",null,null,null,3,null,0.25,2017,2017,10.900000000000002,null,null,null,null,3,null,0.25,null,null,null,null,null,null,null,null,null,null,null,null,null,null,null,null,null,null,null,null,null,null,3,null,0.25,9.2372881355932233,null,null,null,null,9.2372881355932233]
[209,"Повышение надежности энергоснабжения г. Сызрань",null,null,null,159,"/",0,2018,2018,1809.2000000000003,null,null,null,null,0,"",0,null,null,27,"/",0,null,null,41,"/",0,null,null,45,"/",0,null,null,46,"/",0,null,null,159,"/",0,0,270.00000000000006,396.61016949152543,428.5593220338983,438.05084745762713,1533.2203389830511]
[210,"г.Тольятти",null,null,null,0,null,0,0,0,0,null,null,null,null,0,"",0,null,null,0,"",0,null,null,0,"",0,null,null,0,"",0,null,null,0,"",0,null,null,0,"/",0,0,0,0,0,0,0]
[211,"Реконструкция электроснабжения с. Тимофеевка ",null,null,null,12,null,0,2017,2018,59.999999999999993,null,null,null,null,12,null,0,null,null,0,null,null,null,null,null,null,null,null,null,null,null,null,null,null,null,null,null,null,null,12,null,0,50.847457627118644,null,null,null,null,50.847457627118644]
[212,"Реконструкция электроснабжения г.о. Тольятти",null,null,null,18.029333333333334,null,0,2017,2017,108.1752212,null,null,null,null,18.029333333333334,null,0,null,null,null,null,null,null,null,null,null,null,null,null,null,null,null,null,null,null,null,null,null,null,18.029333333333334,null,0,91.673916271186442,null,null,null,null,91.673916271186442]
[213,"Повышение надежности энергоснабжения г. Тольятти",null,null,null,202.5,"/",0,2018,2018,2207.2362119038444,null,null,null,null,0,"",0,null,null,55.5,"/",0,null,null,41,"/",0,null,null,50,"/",0,null,null,56,"/",0,null,null,202.5,"/",0,0,488.00000000000006,382.70865415580016,470.00000000000006,529.83050847457639,1870.5391626303767]
[214,"Реконструкция КЛ 110кВ от ГПП-2000000 до ГПП-3000000 для повышения надежности электроснабжения Автозаводского района г.о. Тольятти",null,null,null,14,"/",0,2018,2018,159.30000000000001,null,null,null,null,0,"",0,null,null,14,"/",0,null,null,0,"",0,null,null,0,"",0,null,null,0,"",0,null,null,14,"/",0,0,135.00000000000003,0,0,0,135.00000000000003]
[215,"Реконструкция ГПП-4000000 110/10кВ с заменой силовых трансформаторов на 2х63мВА",null,null,null,0,"/",126,2018,2018,168.73999999999998,null,null,null,null,0,"",0,null,null,0,"/",63,null,null,0,"/",63,null,null,0,"",0,null,null,0,"",0,null,null,0,"/",126,0,37,106,0,0,143]
[216,"Реконструкция ГПП-2000000 со строительством блочного КРУ-10кВ модульного типа",null,null,null,0,"/",0,2018,2018,29.5,null,null,null,null,0,"",0,null,null,0,"",0,null,null,0,"",0,null,null,0,"",0,null,null,0,"",0,null,null,0,"/",0,0,25,0,0,0,25]
[217,"Реконструкция системы электроснабжения 7 квартала от ГПП-1000000 до РП-2080700",null,null,null,15,"/",0,2018,2018,103.84000000000002,null,null,null,null,0,"",0,null,null,15,"/",0,null,null,0,"",0,null,null,0,"",0,null,null,0,"",0,null,null,15,"/",0,0,88.000000000000014,0,0,0,88.000000000000014]
[218,"Реконструкция РП-10кВ, КЛ-10кв от ГПП-1000000 для электроснабжения застройки по Московскому проспекту",null,null,null,12,"/",0,2018,2018,70.8,null,null,null,null,0,"",0,null,null,12,"/",0,null,null,0,"",0,null,null,0,"",0,null,null,0,"",0,null,null,12,"/",0,0,60,0,0,0,60]
[219,"Реконструкция  КЛ-110кВ от ГПП-1000000 до ГПП-2000000",null,null,null,37.799999999999997,"/",0,2019,2019,305.60000000000002,null,null,null,null,0,"",0,null,null,0,"",0,null,null,12.8,"/",0,null,null,25,"/",0,null,null,0,"",0,null,null,37.799999999999997,"/",0,0,0,80.000000000000014,178.98305084745763,0,258.98305084745766]
[220,"Реконструкция РП-10кВ и КЛ-10кВ от ГПП-2000000 для электроснабжения застройки вдоль набережной Автозаводского р-на",null,null,null,12,"/",0,2019,2019,112.1,null,null,null,null,0,"",0,null,null,0,"",0,null,null,12,"/",0,null,null,0,"",0,null,null,0,"",0,null,null,12,"/",0,0,0,95,0,0,95]
[221,"г.Чапаевск",null,null,null,0,null,0,0,0,0,null,null,null,null,0,"",0,null,null,0,"",0,null,null,0,"",0,null,null,0,"",0,null,null,0,"",0,null,null,0,"/",0,0,0,0,0,0,0]
[222,"Реконструкция КЛ-6кВ Ф-\"Насосная 2\"",null,null,null,0.7,"/",0,2017,2017,9,null,null,null,null,0.7,"/",0,null,null,0,"",0,null,null,0,"",0,null,null,0,"",0,null,null,0,"",0,null,null,0.7,"/",0,7.6271186440677967,0,0,0,0,7.6271186440677967]
[223,"Реконструкция КЛ-10 кВ от ЗТП Х5\", с реконструкцией ЗТП \"Х5\"",null,null,null,4.5,null,0.8,2017,2017,41.481999999999999,null,null,null,null,4.5,null,0.8,null,null,null,null,null,null,null,null,null,null,null,null,null,null,null,null,null,null,null,null,null,null,4.5,null,0.8,35.154237288135597,null,null,null,null,35.154237288135597]
[224,"Реконструкция КЛ-10кВ от ЦРП-1",null,null,null,8,"/",0,2017,2017,34,null,null,null,null,4,"/",0,null,null,4,null,0,null,null,0,null,0,null,null,0,null,0,null,null,0,null,0,null,null,8,"/",0,15.254237288135593,13.559322033898306,0,0,0,28.8135593220339]
[225,"Реконструкция ТП \"Насосная-1\"",null,null,null,0,null,2,2017,2017,4,null,null,null,null,0,null,2,null,null,null,null,null,null,null,null,null,null,null,null,null,null,null,null,null,null,null,null,null,null,0,null,2,3.3898305084745766,null,null,null,null,3.3898305084745766]
[226,"Реконструкция ТП \"Насосная-2\"",null,null,null,0,null,2,2017,2017,4,null,null,null,null,0,null,2,null,null,null,null,null,null,null,null,null,null,null,null,null,null,null,null,null,null,null,null,null,null,0,null,2,3.3898305084745766,null,null,null,null,3.3898305084745766]
[227,"Реконструкция ТП \"Строительная-4\"",null,null,null,0,"/",1,2017,2017,11.5,null,null,null,null,0,null,0.5,null,null,0,null,0.5,null,null,0,null,0,null,null,0,null,0,null,null,0,null,0,null,null,0,null,1,3.3898305084745766,6.3559322033898304,0,0,0,9.7457627118644066]
[228,"Реконструкция КЛ-6кВ от ТП\"Строительная4\"",null,null,null,3.5,"/",0,2019,2019,14,null,null,null,null,0,"",0,null,null,0,null,0,null,null,3.5,null,0,null,null,0,null,0,null,null,0,null,0,null,null,3.5,"/",0,0,0,11.864406779661017,0,0,11.864406779661017]
[229,"Реконструкция КЛ-6кВ от ГПП-1 ВПХ",null,null,null,10,"/",0,2017,2017,42.5,null,null,null,null,5,"/",0,null,null,0,null,0,null,null,5,null,0,null,null,0,null,0,null,null,0,null,0,null,null,10,"/",0,19.067796610169491,0,16.949152542372882,0,0,36.016949152542374]
[230,"Челно-Вершинский район",null,null,null,0,null,0,0,0,0,null,null,null,null,0,"",0,null,null,0,"",0,null,null,0,"",0,null,null,0,"",0,null,null,0,"",0,null,null,0,"/",0,0,0,0,0,0,0]
[231,"Реконструкция ВЛ-0,4 кВ от КТП Б 416/100 кВА с заменой КТП",null,null,null,2.2000000000000002,"/",0.1,2017,2017,8.34,null,null,null,null,2.2000000000000002,"/",0.1,null,null,0,"",0,null,null,0,"",0,null,null,0,"",0,null,null,0,"",0,null,null,2.2000000000000002,"/",0.1,7.0677966101694913,0,0,0,0,7.0677966101694913]
[232,"Реконструкция ВЛ-0,4 кВ от КТП ЧВ 112/160 кВА с заменой КТП на 250 кВА",null,null,null,2.7,"/",0.25,2017,2017,9.98,null,null,null,null,2.7,null,0.25,null,null,0,null,0,null,null,0,null,0,null,null,0,null,0,null,null,0,null,0,null,null,2.7,"/",0.25,8.4576271186440692,0,0,0,0,8.4576271186440692]
[233,"Реконструкция ВЛ-0,4 кВ от КТП ЧВ 1101/160 кВА с заменой КТП и установкой дополнительной КТП 100 кВА для перераспределения нагрузок",null,null,null,2.6,"/",0.26,2017,2017,10.92,null,null,null,null,2.6,"/",0.26,null,null,0,"",0,null,null,0,"",0,null,null,0,"",0,null,null,0,"",0,null,null,2.6,"/",0.26,9.2542372881355934,0,0,0,0,9.2542372881355934]
[234,"Реконструкция ВЛ-0,4 кВ от КТП ЧВ 113/250 кВА с заменой КТП",null,null,null,1.9,"/",0.25,2018,2018,6.5199999999999987,null,null,null,null,0,"",0,null,null,1.9,"/",0.25,null,null,0,"",0,null,null,0,"",0,null,null,0,"",0,null,null,1.9,"/",0.25,0,5.5254237288135588,0,0,0,5.5254237288135588]
[235,"Реконструкция ВЛ-0,4 кВ от КТП Оз 505/100 кВА с заменой КТП",null,null,null,2.8,"/",0.1,2018,2018,9.0399999999999991,null,null,null,null,0,"",0,null,null,2.8,"/",0.1,null,null,0,"",0,null,null,0,"",0,null,null,0,"",0,null,null,2.8,"/",0.1,0,7.6610169491525424,0,0,0,7.6610169491525424]
[236,"Реконструкция ВЛ-0,4 кВ от КТП Оз 510/250 кВА с заменой КТП на 160 кВА",null,null,null,2.4,"/",0.16,2018,2018,7.919999999999999,null,null,null,null,0,"",0,null,null,2.4,"/",0.16,null,null,0,"",0,null,null,0,"",0,null,null,0,"",0,null,null,2.4,"/",0.16,0,6.7118644067796609,0,0,0,6.7118644067796609]
[237,"Реконструкция ВЛ-0,4 кВ от КТП Оз 504/60 кВА с заменой КТП на 100 кВА",null,null,null,2.1,"/",0.1,2018,2018,4.5599999999999996,null,null,null,null,0,"",0,null,null,2.1,"/",0.1,null,null,0,"",0,null,null,0,"",0,null,null,0,"",0,null,null,2.1,"/",0.1,0,3.8644067796610169,0,0,0,3.8644067796610169]
[238,"Реконструкция ВЛ-0,4 кВ от КТП ЧВ 1004/250 кВА с заменой КТП",null,null,null,1.8,"/",0.25,2019,2019,6.24,null,null,null,null,0,"",0,null,null,0,"",0,null,null,1.8,"/",0.25,null,null,0,"",0,null,null,0,"",0,null,null,1.8,"/",0.25,0,0,5.2881355932203391,0,0,5.2881355932203391]
[239,"Реконструкция ВЛ-0,4 кВ от КТП Зуб 309/250 кВА с заменой КТП",null,null,null,1.7,"/",0.25,2019,2019,5.96,null,null,null,null,0,"",0,null,null,0,"",0,null,null,1.7,"/",0.25,null,null,0,"",0,null,null,0,"",0,null,null,1.7,"/",0.25,0,0,5.0508474576271185,0,0,5.0508474576271185]
[240,"Реконструкция ВЛ-0,4 кВ от КТП Зуб 330/100 кВА с заменой КТП",null,null,null,0.7,"/",0.1,2019,2019,3.1599999999999997,null,null,null,null,0,"",0,null,null,0,"",0,null,null,0.7,"/",0.1,null,null,0,"",0,null,null,0,"",0,null,null,0.7,"/",0.1,0,0,2.6779661016949152,0,0,2.6779661016949152]
[241,"Реконструкция ВЛ-0,4 кВ от КТП Зуб 335/250 кВА с заменой КТП",null,null,null,0.6,"/",0.25,2019,2019,2.88,null,null,null,null,0,"",0,null,null,0,"",0,null,null,0.6,"/",0.25,null,null,0,"",0,null,null,0,"",0,null,null,0.6,"/",0.25,0,0,2.4406779661016951,0,0,2.4406779661016951]
[242,"Реконструкция ВЛ-0,4 кВ от КТП Оз 816/160 кВА с заменой КТП",null,null,null,1.5,"/",0.16,2020,2020,5.3999999999999986,null,null,null,null,0,"",0,null,null,0,"",0,null,null,0,"",0,null,null,1.5,"/",0.16,null,null,0,"",0,null,null,1.5,"/",0.16,0,0,0,4.5762711864406773,0,4.5762711864406773]
[243,"Реконструкция ВЛ-0,4 кВ от КТП Оз 806/250 кВА с заменой КТП на 160 кВА",null,null,null,2.4,"/",0.16,2020,2020,7.919999999999999,null,null,null,null,0,"",0,null,null,0,"",0,null,null,0,"",0,null,null,2.4,"/",0.16,null,null,0,"",0,null,null,2.4,"/",0.16,0,0,0,6.7118644067796609,0,6.7118644067796609]
[244,"Реконструкция ВЛ-0,4 кВ от КТП Оз 804/160 кВА с заменой КТП",null,null,null,3.5,"/",0.16,2021,2021,10.999999999999998,null,null,null,null,0,"",0,null,null,0,"",0,null,null,0,"",0,null,null,0,"",0,null,null,3.5,"/",0.16,null,null,3.5,"/",0.16,0,0,0,0,9.322033898305083,9.322033898305083]
[245,"Реконструкция ВЛ-0,4 кВ от КТП Оз 807/160 кВА ",null,null,null,0.8,"/",0,2021,2021,2.2399999999999998,null,null,null,null,0,"",0,null,null,0,"",0,null,null,0,"",0,null,null,0,"",0,null,null,0.8,"/",0,null,null,0.8,"/",0,0,0,0,0,1.8983050847457625,1.8983050847457625]
[246,"Шенталинский район",null,null,null,0,null,0,0,0,0,null,null,null,null,0,"",0,null,null,0,"",0,null,null,0,"",0,null,null,0,"",0,null,null,0,"",0,null,null,0,"/",0,0,0,0,0,0,0]
[247,"Реконструкция ВЛ-10 кВ Ф-4 ПС Шентала",null,null,null,2.8,"/",0,2017,2017,8.9600000000000009,null,null,null,null,2.8,"/",0,null,null,0,"",0,null,null,0,"",0,null,null,0,"",0,null,null,0,"",0,null,null,2.8,"/",0,7.5932203389830519,0,0,0,0,7.5932203389830519]
[248,"Реконструкция ВЛ-0,4 кВ от ЗТП Ш 114/400 кВА с заменой ЗТП на КТП",null,null,null,3.2,"/",0.4,2018,2018,10.159999999999998,null,null,null,null,0,"",0,null,null,3.2,"/",0.4,null,null,0,"",0,null,null,0,"",0,null,null,0,"",0,null,null,3.2,"/",0.4,0,8.6101694915254221,0,0,0,8.6101694915254221]
[249,"Реконструкция ВЛ-0,4 кВ от КТП Ш 205/100 кВА с заменой КТП на 160 кВА",null,null,null,2,"/",0.16,2018,2018,6.7999999999999989,null,null,null,null,0,"",0,null,null,2,"/",0.16,null,null,0,"",0,null,null,0,"",0,null,null,0,"",0,null,null,2,"/",0.16,0,5.7627118644067794,0,0,0,5.7627118644067794]
[250,"Реконструкция ВЛ-10 кВ Ш-4 отпайка от опоры №400/32 до КТП Ш 425/160 кВА, отпайка от опоры №400/61 до КТП Ш429/250 кВА, от опоры №400/43 до КТП Ш 427/160 кВА, от опоры №400/65 до КТП Ш 426/250 кВА",null,null,null,2.8,"/",0,2019,2019,7.839999999999999,null,null,null,null,0,"",0,null,null,0,"",0,null,null,2.8,"/",0,null,null,0,"",0,null,null,0,"",0,null,null,2.8,"/",0,0,0,6.6440677966101687,0,0,6.6440677966101687]
[251,"Реконструкция ВЛ-0,4 кВ от КТП Ш 700/160 кВА с заменой КТП на 100 кВА",null,null,null,3.5,"/",0.1,2020,2020,10.999999999999998,null,null,null,null,0,"",0,null,null,0,"",0,null,null,0,"",0,null,null,3.5,"/",0.1,null,null,0,"",0,null,null,3.5,"/",0.1,0,0,0,9.322033898305083,0,9.322033898305083]
[252,"Реконструкция ВЛ-0,4 кВ от КТП Ш 115/160 кВА с заменой КТП на 100 кВА",null,null,null,1.5,"/",0.1,2021,2021,4.5599999999999996,null,null,null,null,0,"",0,null,null,0,"",0,null,null,0,"",0,null,null,0,"",0,null,null,1.5,"/",0.1,null,null,1.5,"/",0.1,0,0,0,0,3.8644067796610169,3.8644067796610169]
[253,"Спецтехника, реконструкция производственных баз",null,null,null,0,null,0,2017,2017,657.34731999999997,null,null,null,null,0,"",0,null,null,0,"",0,null,null,0,"",0,null,null,0,"",0,null,null,0,"",0,null,null,0,"/",0,237.10000000000002,69.898305084745772,72.728237288135603,86.33898305084746,91.008474576271198,557.07399999999996]
["…",null,null,null,null,0,null,0,"","",0,null,null,null,null,0,"",0,null,null,0,"",0,null,null,0,"",0,null,null,0,"",0,null,null,0,"",0,null,null,0,null,0,0,0,0,0,0,0]
["1.2.","Создание систем противоаварийной и режимной автоматики",null,null,null,0,null,0,0,0,0,null,null,null,null,0,"",0,null,null,0,"",0,null,null,0,"",0,null,null,0,"",0,null,null,0,"",0,null,null,0,null,0,0,0,0,0,0,0]
[1,"Объект 1",null,null,null,null,null,0,null,null,0,null,null,null,null,0,"",0,null,null,0,"",0,null,null,0,"",0,null,null,0,"",0,null,null,0,"",0,null,null,0,null,0,0,0,0,0,0,0]
[2,"Объект 2",null,null,null,null,null,0,null,null,0,null,null,null,null,0,"",0,null,null,0,"",0,null,null,0,"",0,null,null,0,"",0,null,null,0,"",0,null,null,0,null,0,0,0,0,0,0,0]
["…",null,null,null,null,null,null,0,null,null,0,null,null,null,null,0,"",0,null,null,0,"",0,null,null,0,"",0,null,null,0,"",0,null,null,0,"",0,null,null,0,null,0,0,0,0,0,0,0]
["1.3.","Создание систем телемеханики  и связи ",null,null,null,null,null,0,null,null,0,null,null,null,null,0,"",0,null,null,0,"",0,null,null,0,"",0,null,null,0,"",0,null,null,0,"",0,null,null,0,null,0,0,0,0,0,0,0]
[1,"Объект 1",null,null,null,null,null,0,null,null,0,null,null,null,null,0,"",0,null,null,0,"",0,null,null,0,"",0,null,null,0,"",0,null,null,0,"",0,null,null,0,null,0,0,0,0,0,0,0]
[2,"Объект 2",null,null,null,null,null,0,null,null,0,null,null,null,null,0,"",0,null,null,0,"",0,null,null,0,"",0,null,null,0,"",0,null,null,0,"",0,null,null,0,null,0,0,0,0,0,0,0]
["…",null,null,null,null,null,null,0,null,null,0,null,null,null,null,0,"",0,null,null,0,"",0,null,null,0,"",0,null,null,0,"",0,null,null,0,"",0,null,null,0,null,0,0,0,0,0,0,0]
["1.4.","Установка устройств регулирования напряжения и компенсации реактивной мощности",null,null,null,null,null,0,null,null,0,null,null,null,null,0,"",0,null,null,0,"",0,null,null,0,"",0,null,null,0,"",0,null,null,0,"",0,null,null,0,null,0,0,0,0,0,0,0]
[1,"Объект 1",null,null,null,null,null,0,null,null,0,null,null,null,null,0,"",0,null,null,0,"",0,null,null,0,"",0,null,null,0,"",0,null,null,0,"",0,null,null,0,null,0,0,0,0,0,0,0]
[2,"Объект 2",null,null,null,null,null,0,null,null,0,null,null,null,null,0,"",0,null,null,0,"",0,null,null,0,"",0,null,null,0,"",0,null,null,0,"",0,null,null,0,null,0,0,0,0,0,0,0]
["…",null,null,null,null,null,null,0,null,null,0,null,null,null,null,0,"",0,null,null,0,"",0,null,null,0,"",0,null,null,0,"",0,null,null,0,"",0,null,null,0,null,0,0,0,0,0,0,0]
["2.","Новое строительство",null,13.68,null,121.45,"/",21.46,null,null,615.12637365697367,null,null,4.5700000000000012,"/",36.349999999999994,"/",7.8500000000000005,4.6000000000000005,"/",43.699999999999996,"/",6.83,2.0300000000000002,"/",31.5,"/",3.25,0.95000000000000007,"/",5.5000000000000009,"/",1.28,1.53,"/",4.4000000000000004,"/",2.25,13.680000000000001,"/",121.44999999999999,"/",21.46,223.5318653301695,135.44101694915253,82.185061497774342,49.874576271186442,30.261016949152541,521.29353699743535]
["2.1.","Энергосбережение и повышение энергетической эффективности",null,null,null,null,null,0,null,null,0,null,null,null,null,null,"",null,null,null,null,"",null,null,null,null,"",null,null,null,null,"",null,null,null,null,"",null,null,null,null,""]
[1,"Объект 1",null,null,null,null,null,0,null,null,0,null,null,null,null,0,"",0,null,null,0,"",0,null,null,0,"",0,null,null,0,"",0,null,null,0,"",0,null,null,0,"",0,0,0,0,0,0,0]
[2,"Объект 2",null,null,null,null,null,0,null,null,0,null,null,null,null,0,"",0,null,null,0,"",0,null,null,0,"",0,null,null,0,"",0,null,null,0,"",0,null,null,0,"",0,0,0,0,0,0,0]
["…",null,null,null,null,null,null,0,null,null,0,null,null,null,null,0,"",0,null,null,0,"",0,null,null,0,"",0,null,null,0,"",0,null,null,0,"",0,null,null,0,"",0,0,0,0,0,0,0]
["2.2.","Прочее новое строительство",null,13.68,null,121.45,0,21.46,0,0,615.12637365697378,0,0,4.5700000000000012,"/",36.349999999999994,"/",7.8500000000000005,4.6000000000000005,"/",43.699999999999996,0,6.83,2.0300000000000002,"/",31.5,"/",3.25,0.95000000000000007,"/",5.5000000000000009,"/",1.28,1.53,"/",4.4000000000000004,"/",2.25,13.68,"/",121.45,"/",21.46,223.5318653301695,135.44101694915253,82.185061497774342,49.874576271186442,30.261016949152541,521.29353699743535]
[1,"Богатовский район",null,null,null,0,null,0,null,null,0,null,null,null,null,0,"",0,null,null,0,"",0,null,null,0,"",0,null,null,0,"",0,null,null,0,"",0,null,null,0,"",0,0,0,0,0,0,0]
[2,"Строительство внешнего  электроснабжения 204 одноэтажных жилых домов, с. Богатое, ул.Зеленая, Овражная, Газовиков, Дальняя, Безымянная, Крайняя, Спортивная",null,0.05,null,0.8,"/",0,null,null,1.3923999999999999,null,null,null,null,null,"",0,0.05,"/",0.8,"/",0,null,null,0,"",0,null,null,0,"",0,null,null,0,"",0,0.05,"/",0.8,"/",0,0,1.18,0,0,0,1.18]
[3,"Строительство внешнего  электроснабжения жилого комплекса в с. Беловка",null,0.1,null,1.1000000000000001,"/",0.63,null,null,5.427999999999999,null,null,null,null,0,"",0,null,null,0,"",0,null,null,0,"",0,0.1,null,1.1000000000000001,"/",0.63,null,null,0,"",0,0.1,"/",1.1000000000000001,"/",0.63,0,0,0,4.5999999999999996,0,4.5999999999999996]
[4,"Кошкинский район",null,0,null,0,null,0,null,null,0,null,null,null,null,0,"",0,null,null,0,"",0,null,null,0,"",0,null,null,0,"",0,null,null,0,"",0,0,null,0,"",0,0,0,0,0,0,0]
[5,"Строительство внешнего электроснабжения 60-ти одноквартирных жилых домов, с. Кошки, ул. им. Самаркина",null,0.1,null,1,"/",0,null,null,4.8379999999999992,null,null,null,null,null,"",0,0.1,"/",1,"/",0,null,null,null,"",0,null,null,0,"",0,null,null,0,"",0,0.1,"/",1,"/",0,0,4.0999999999999996,0,0,0,4.0999999999999996]
[6,"Строительство внешнего электроснабжения Ледового дворца, с. Кошки, ул. Парковая",null,0.1,null,0.5,"/",0.32,null,null,4.9559999999999995,null,null,null,null,0,"",0,0.1,"/",0.5,"/",0.32,null,null,0,"",0,null,null,0,"",0,null,null,0,"",0,0.1,"/",0.5,"/",0.32,0,4.2,0,0,0,4.2]
[7,"г.о. Кинель",null,0,null,0,null,0,null,null,0,null,null,null,null,0,"",0,null,null,0,"",0,null,null,0,"",0,null,null,0,"",0,null,null,0,"",0,0,null,0,"",0,0,0,0,0,0,0]
[8,"Строительство внешнего электроснабжения жилой застройки в районе улиц Перспективная и 27 Партсъезда",null,1,null,7.5,"/",1.5,null,null,59.341361975999995,null,null,1,"/",7.5,"/",1.5,null,null,null,"",0,null,null,null,"",0,null,null,null,"",0,null,null,0,"",0,1,"/",7.5,"/",1.5,50.289289810169493,0,0,0,0,50.289289810169493]
[9,"Красноярский район",null,0,null,0,null,0,null,null,0,null,null,null,null,0,"",0,null,null,null,"",0,null,null,0,"",0,null,null,0,"",0,null,null,0,"",0,0,null,0,"",0,0,0,0,0,0,0]
[10,"Строительство внешнего электроснабжения многоэтажной жилой застройки в  п. Мирный",null,0.12,null,0.9,"/",0.25,null,null,5.8463923167999994,null,null,0.12,"/",0.9,"/",0.25,null,null,null,"",0,null,null,0,"",0,null,null,0,"",0,null,null,0,"",0,0.12,"/",0.9,"/",0.25,4.95456976,0,0,0,0,4.95456976]
[11,"Строительство внешнего электроснабжения Физкультурного комплекса в с. Красный Яр",null,0.25,null,1.3,"/",0.4,null,null,9.44,null,null,null,null,0,"",0,null,null,0,"",0,null,null,null,"",0,0.25,"/",1.3,"/",0.4,null,null,0,"",0,0.25,"/",1.3,"/",0.4,0,0,0,8,0,8]
[12,"г.о. Новокуйбышевск",null,0,null,0,"/",0,null,null,0,null,null,null,null,0,"",0,null,null,0,"",0,null,null,0,"",0,null,null,0,"",0,null,null,0,"",0,0,null,0,"",0,0,0,0,0,0,0]
[13,"Строительство внешнего электроснабжения многоэтажной жилой застройки в г.о.Новокуйбышевск, в районе ж/д по ул.Свердлова, 25А",null,0.8,null,3.4000000000000004,"/",1.85,null,null,18.9440120736,null,null,0.4,"/",1.2,"/",0.25,0.2,"/",1.5,"/",1.6,null,null,null,"",0,0.2,"/",0.7,"/",0,null,null,null,"",0,0.8,"/",3.4000000000000004,"/",1.85,6.45424752,4.8,0,4.8,0,16.054247520000001]
[14,"Строительство внешнего электроснабжения ФОК с ледовой ареной в г.о.Новокуйбышевск, по ул.Чернышевского",null,0.5,null,1.8,"/",1.26,null,null,7.3159999999999998,null,null,null,null,0,"",0,0.5,"/",1.8,"/",1.26,null,null,0,"",0,null,null,0,"",0,null,null,0,"",0,0.5,"/",1.8,"/",1.26,0,6.2,0,0,0,6.2]
[15,"г.о. Отрадный",null,0,null,0,null,0,null,null,0,null,null,null,null,0,"",0,null,null,0,"",0,null,null,0,"",0,null,null,0,"",0,null,null,0,"",0,0,null,0,"",0,0,0,0,0,0,0]
[16,"Строительство внешнего электроснабжения индивидуальной жилой застройки в юговосточной части г. Отрадный",null,0.52,null,2.8,"/",0.5,null,null,20.128002172800002,null,null,0.12,"/",1,"/",0.5,null,null,null,"",0,null,null,null,"",0,0.1,"/",0.9,"/",0,0.3,"/",0.9,"/",0,0.52,"/",2.8,"/",0.5,5.4576289600000001,0,0,5.5,6.1,17.057628960000002]
[17,"Строительство внешнего электроснабжения Жилищно-коммунальной застройки ул. Ленина в г.о. Отрадный (район ул.Мичурина)",null,0.30000000000000004,null,1.4,"/",0.4,null,null,11.6352053536,null,null,0.17,"/",0.7,"/",0.4,0.13,"/",0.7,"/",0,null,null,0,"",0,null,null,0,"",0,null,null,0,"",0,0.30000000000000004,"/",1.4,"/",0.4,4.6603435200000005,5.2,0,0,0,9.8603435200000007]
[18,"г.о. Самара",null,0,null,0,null,0,null,null,0,null,null,null,null,0,"",0,null,null,0,"",0,null,null,0,"",0,null,null,0,"",0,null,null,0,"",0,0,null,0,"",0,0,0,0,0,0,0]
[19,"Строительство схемы внешнего электроснабжения объектов социального и коммунально-бытового назначения в границах ул. Ленинская, Вилоновская, Урицкого, Мечникова Железнодорожного и Ленинского районов.",null,0.8,null,5,"/",1.6,null,null,51.775654470400006,null,null,0.8,"/",5,"/",1.6,null,null,0,"",0,null,null,null,"",0,null,null,0,"",0,null,null,null,"",0,0.8,null,5,"/",1.6,43.87767328000001,0,0,0,0,43.87767328000001]
[20,"Строительство БКТП 2х1000; 2х630кВА",null,0.60000000000000009,null,0,"/",0,null,null,50.71,null,null,null,null,0,"",0,0.4,"/",0,"",0,null,null,null,"",0,0.2,"/",0,"",0,null,null,null,"",0,0.60000000000000009,"/",0,"",0,0,21,0,21.974576271186443,0,42.974576271186443]
[21,"г.о. Сызрань"]
[22,"Строительство объектовэлектросетевого комплекса г.о. Сызрань для подключения дополнительных нагрузок",null,4.08,null,73,"/",3.9,null,null,224.38452638817373,null,null,1.28,"/",17,"/",1.9,1.9,"/",28,"/",1,0.9,"/",28,"/",1,null,null,null,"",0,null,null,null,"",0,4.08,"/",73,"/",3.9,88.556062560000001,51.16101694915254,50.439298785909941,0,0,190.1563782950625]
[23,"Сергиевский район",null,0,null,0,"/",0,null,null,0,null,null,null,null,0,"",0,null,null,0,"",0,null,null,0,"",0,null,null,0,"",0,null,null,0,"",0,0,"/",0,"",0,0,0,0,0,0,0]
[24,"Строительство внешнего электроснабжения жилых застроек в п. Суходол",null,0.83,null,6.5,"/",1.25,null,null,27.7980021728,null,null,0.11,null,1,"/",0.25,0.16,null,1,"/",0.25,0.23,null,1.5,"/",0.25,0.1,null,1.5,"/",0.25,0.23,null,1.5,"/",0.25,0.83,"/",6.5,"/",1.25,5.4576289600000001,3.1,5,5,5,23.557628960000002]
[25,"г.о. Чапаевск",null,0,null,0,"/",0,null,null,0,null,null,null,null,0,"",0,null,null,0,"",0,null,null,0,"",0,null,null,0,"",0,null,null,0,"",0,0,"/",0,"",0,0,0,0,0,0,0]
[26,"Строительство внешнего электроснабжения жилых застроек, г. Чапаевск, ул.К.Маркса, Рабочая, Октябрьская, Ватутина, Молодогвардейская, Черняховского",null,0.48,null,1.4,"/",1.2000000000000002,null,null,11.134029523199999,null,null,0.32,null,0,"/",0.8,0.16,null,1.4,"/",0.4,null,null,0,"",0,null,null,0,"",0,null,null,0,"",0,0.48,"/",1.4,"/",1.2000000000000002,4.9356182400000002,4.5,0,0,0,9.4356182400000002]
[27,"Строительство внешнего электроснабжения завода по изготовлению сухих строительных смесей, г. Чапаевск, район автодороги Самара-Волгоград",null,3.05,null,13.05,null,6.4,null,null,100.0587872096,null,null,0.25,null,2.0499999999999998,"/",0.4,0.9,null,7,"/",2,0.9,null,2,"/",2,null,null,0,"",0,1,null,2,"/",2,3.05,null,13.05,null,6.4,8.8888027199999993,30,26.745762711864408,0,19.161016949152543,84.795582381016956]
[]
["…"]
[null,"Оплата процентов за привлеченные кредитные ресурсы"]
[1,"Объект 1"]
[2,"Объект 2"]
[]
[]
[]
[]
[]
[]
[]
[null,null,null,null,null,null,null,"Директор по развитию ",null,null,null,null,null,null,null,null,null,null,null,null,null,null,null,null,null,null,null,null,null,null,"Розенцвайг Е. А."]
[]
[]
[null,null,null,null,null,null,null,"Технический директор",null,null,null,null,null,null,null,null,null,null,null,null,null,null,null,null,null,null,null,null,null,null,"Кучканов А. Д."]
[]
[]
[null,null,null,null,null,null,null,"Директор по экономике и финансам",null,null,null,null,null,null,null,null,null,null,null,null,null,null,null,null,null,null,null,null,null,null,"Кириллов Ю.А."]

{"sheet":"приложение 1.3","index":2,"n_rows":336,"n_cols":67,"rows_kept":336,"cut":false,"hidden":true,"merged":[[16,30,16,32],[18,33,18,35],[16,33,16,35],[18,42,18,44],[18,45,18,47],[18,48,18,50],[18,51,18,53],[18,8,18,10],[18,36,18,38],[18,39,18,41],[18,20,18,22],[18,23,18,25],[18,11,18,13],[18,27,18,29],[18,30,18,32],[17,57,17,66],[14,27,14,66],[15,27,15,41],[15,57,15,61],[15,62,16,62],[15,63,16,63],[15,64,16,64],[15,66,16,66],[15,65,16,65],[15,54,16,56],[16,36,16,38],[16,39,16,41],[17,27,17,56],[15,42,16,44],[15,45,16,47],[16,27,16,29],[14,1,17,1],[14,2,15,7],[14,26,16,26],[16,2,16,7],[17,17,17,19],[14,8,15,25],[16,8,16,25],[17,23,17,25],[17,14,17,16],[17,11,17,13],[17,8,17,10],[17,20,17,22],[18,54,18,56],[15,48,16,50],[15,51,16,53],[7,58,7,66],[1,61,1,66],[2,60,2,66],[3,60,3,66],[4,57,4,66],[6,59,6,66],[8,57,8,66],[10,58,10,66],[11,58,11,66],[12,0,12,66],[18,14,18,16],[18,17,18,19],[14,0,17,0]]}
[]
[null,null,null,null,null,null,null,null,null,null,null,null,null,null,null,null,null,null,null,null,null,null,null,null,null,null,null,null,null,null,null,null,null,null,null,null,null,null,null,null,null,null,null,null,null,null,null,null,null,null,null,null,null,null,null,null,null,null,null,null,null,"Приложение  № 1.3"]
[null,null,null,null,null,null,null,null,null,null,null,null,null,null,null,null,null,null,null,null,null,null,null,null,null,null,null,null,null,null,null,null,null,null,null,null,null,null,null,null,null,null,null,null,null,null,null,null,null,null,null,null,null,null,null,null,null,null,null,null,"к приказу Минэнерго России"]
[null,null,null,null,null,null,null,null,null,null,null,null,null,null,null,null,null,null,null,null,null,null,null,null,null,null,null,null,null,null,null,null,null,null,null,null,null,null,null,null,null,null,null,null,null,null,null,null,null,null,null,null,null,null,null,null,null,null,null,null,"от «24» марта 2010 г. № 114"]
[]
[]
[null,null,null,null,null,null,null,null,null,null,null,null,null,null,null,null,null,null,null,null,null,null,null,null,null,null,null,null,null,null,null,null,null,null,null,null,null,null,null,null,null,null,null,null,null,null,null,null,null,null,null,null,null,null,null,null,null,null,null,"Утверждаю"]
[null,null,null,null,null,null,null,null,null,null,null,null,null,null,null,null,null,null,null,null,null,null,null,null,null,null,null,null,null,null,null,null,null,null,null,null,null,null,null,null,null,null,null,null,null,null,null,null,null,null,null,null,null,null,null,null,null,null,"Генеральный директор АО \" ССК\""]
[null,null,null,null,null,null,null,null,null,null,null,null,null,null,null,null,null,null,null,null,null,null,null,null,null,null,null,null,null,null,null,null,null,null,null,null,null,null,null,null,null,null,null,null,null,null,null,null,null,null,null,null,null,null,null,null,null,"Мухаметшин В.С."]
[]
[null,null,null,null,null,null,null,null,null,null,null,null,null,null,null,null,null,null,null,null,null,null,null,null,null,null,null,null,null,null,null,null,null,null,null,null,null,null,null,null,null,null,null,null,null,null,null,null,null,null,null,null,null,null,null,null,null,null,"«___»______________ 2016 года"]
[null,null,null,null,null,null,null,null,null,null,null,null,null,null,null,null,null,null,null,null,null,null,null,null,null,null,null,null,null,null,null,null,null,null,null,null,null,null,null,null,null,null,null,null,null,null,null,null,null,null,null,null,null,null,null,null,null,null,"М.П."]
["Прогноз ввода/вывода объектов АО \"Самарская сетевая компания\" на 2017 - 2021 г.г."]
[]
["№","Наименование объекта","Ввод мощностей*",null,null,null,null,null,"Вывод мощностей",null,null,null,null,null,null,null,null,null,null,null,null,null,null,null,null,null,"Первоначальная стоимость вводимых основных средств (Без НДС)**","Ввод  основных средств"]
[null,null,null,null,null,null,null,null,null,null,null,null,null,null,null,null,null,null,null,null,null,null,null,null,null,null,null,"План 2017 года",null,null,null,null,null,null,null,null,null,null,null,null,null,null,"План 2018 года",null,null,"План 2019 года",null,null,"План 2020 года",null,null,"План 2021 года",null,null,"Итого",null,null,"План 2017 года",null,null,null,null,"План 2018 года","План 2019 года","План 2020 года","План 2021 года","Итого без НДС"]
[null,null,"МВт/км/МВА",null,null,null,null,null,"км/МВА",null,null,null,null,null,null,null,null,null,null,null,null,null,null,null,null,null,null,"I кв.",null,null,"II кв.",null,null,"III кв.",null,null,"IV кв.",null,null,"итого",null,null,null,null,null,null,null,null,null,null,null,null,null,null,null,null,null,"I кв.","II кв.","III кв.","IV кв.","итого"]
[null,null,2017,2018,2019,2020,2021,"итого",2017,null,null,2018,null,null,2019,null,null,2020,null,null,2021,null,null,"итого",null,null,"млн. руб.","км/МВА",null,null,null,null,null,null,null,null,null,null,null,null,null,null,null,null,null,null,null,null,null,null,null,null,null,null,null,null,null,"млн. руб."]
[1,2,3,4,5,6,7,8,9,null,null,10,null,null,11,null,null,12,null,null,13,null,null,14,null,null,15,16,null,null,17,null,null,18,null,null,19,null,null,20,null,null,21,null,null,22,null,null,23,null,null,24,null,null,25,null,null,26,27,28,29,30,31,32,33,34,35]
[null,"ВСЕГО",null,null,null,null,null,null,{"$f":"I21+I290","v":327.82433333333336},"/",{"$f":"K21+K290","v":27.69},{"$f":"L21+L290","v":124.02000000000002},"/",{"$f":"N21+N290","v":47.250000000000007},{"$f":"O21+O290","v":95.57},"/",{"$f":"Q21+Q290","v":48.073},{"$f":"R21+R290","v":93.935000000000002},"/",{"$f":"T21+T290","v":4.7900000000000009},{"$f":"U21+U290","v":31.919999999999998},"/",{"$f":"W21+W290","v":2.6300000000000003},{"$f":"X21+X290","v":673.26933333333318},"/",{"$f":"Z21+Z290","v":130.43299999999996},{"$f":"BO20","v":15750.992496932899},null,null,null,null,null,null,null,null,null,{"$f":"AK21+AK290","v":364.17433333333338},"/",{"$f":"AM21+AM290","v":47.400000000000006},{"$f":"AN21+AN290","v":364.17433333333338},"/",{"$f":"AP21+AP290","v":47.400000000000006},{"$f":"AQ21+AQ290","v":447.90999999999997},"/",{"$f":"AS21+AS290","v":93.279999999999987},{"$f":"AT21+AT290","v":398.96000000000004},"/",{"$f":"AV21+AV290","v":188.369},{"$f":"AW21+AW290","v":371.54499999999996},"/",{"$f":"AY21+AY290","v":111.07},{"$f":"AZ21+AZ290","v":383.29},"/",{"$f":"BB21+BB290","v":133.38999999999999},{"$f":"BC21+BC290","v":1965.8793333333329},"/",{"$f":"BE21+BE290","v":573.50899999999979},0,340.25199685291517,793.92132599013553,1134.1733228430514,2268.3466456861024,3173.5054237288136,3286.1912749756079,3428.9406779661022,3594.0084745762715,15750.992496932899]
[1,"Техническое перевооружение и реконструкция",null,null,null,null,null,null,{"$f":"I22","v":327.82433333333336},"/",{"$f":"K22","v":27.69},124.02000000000002,"/",47.250000000000007,95.57,"/",48.073,93.935000000000002,"/",4.7900000000000009,31.919999999999998,"/",2.6300000000000003,673.26933333333318,"/",130.43299999999996,{"$f":"SUM(AA23:AA275)","v":15229.698959935464},0,0,0,0,0,0,0,0,0,327.82433333333336,"/",39.550000000000004,327.82433333333336,"/",39.550000000000004,404.21,"/",86.449999999999989,367.46000000000004,"/",185.119,366.04499999999996,"/",109.78999999999999,378.89000000000004,"/",131.13999999999999,1844.4293333333328,"/",552.04899999999975,0,{"$f":"SUM(BG23:BG275)","v":306.72221705338973},715.68517312457618,1022.4073901779666,2044.8147803559327,3038.0644067796611,3204.0062134778336,3379.0661016949157,3563.7474576271188,15229.698959935464]
["1.1.","Энергосбережение и повышение энергетической эффективности",null,null,null,null,null,null,{"$f":"SUM(I24:I275)","v":327.82433333333336},"/",{"$f":"SUM(K24:K275)","v":27.69},{"$f":"SUM(L24:L275)","v":124.02000000000002},"/",{"$f":"SUM(N25:N275)","v":47.250000000000007},{"$f":"SUM(O24:O275)","v":95.57},"/",{"$f":"SUM(Q24:Q275)","v":48.073},{"$f":"SUM(R24:R275)","v":93.935000000000002},"/",{"$f":"SUM(T24:T275)","v":4.7900000000000009},{"$f":"SUM(U24:U275)","v":31.919999999999998},"/",{"$f":"SUM(W24:W275)","v":2.6300000000000003},{"$f":"SUM(X24:X275)","v":673.26933333333318},"/",{"$f":"SUM(Z24:Z275)","v":130.43299999999996},{"$f":"SUM(AA24:AA274)","v":14672.624959935463},0,0,0,0,0,0,0,0,0,327.82433333333336,"/",{"$f":"SUM(AM24:AM274)","v":39.550000000000004},{"$f":"SUM(AN24:AN274)","v":327.82433333333336},"/",{"$f":"SUM(AP24:AP274)","v":39.550000000000004},{"$f":"SUM(AQ24:AQ274)","v":404.21},"/",{"$f":"SUM(AS24:AS274)","v":86.449999999999989},{"$f":"SUM(AT24:AT274)","v":367.46000000000004},"/",{"$f":"SUM(AV24:AV274)","v":185.119},{"$f":"SUM(AW24:AW274)","v":366.04499999999996},"/",{"$f":"SUM(AY24:AY274)","v":109.78999999999999},{"$f":"SUM(AZ24:AZ274)","v":378.89000000000004},"/",{"$f":"SUM(BB24:BB274)","v":131.13999999999999},{"$f":"SUM(BC24:BC274)","v":1844.4293333333328},"/",{"$f":"SUM(BE24:BE274)","v":552.04899999999975},0,271.15721705338973,632.70017312457617,903.85739017796652,1807.7147803559328,2968.1661016949151,3131.2779761896982,3292.727118644068,3472.7389830508478,14672.624959935463]
[1,"Алексеевский район"]
[2,"Реконструкция ВЛ-0,4кВ от КТП А 2109/160 кВА с заменой КТП",null,null,null,null,null,null,2.81,{"$f":"IF(AND(I24=0,K24=0),\"\",\"/\")","v":"/"},0.16,0,{"$f":"IF(AND(L24=0,N24=0),\"\",\"/\")","v":""},0,0,{"$f":"IF(AND(O24=0,Q24=0),\"\",\"/\")","v":""},0,0,{"$f":"IF(AND(R24=0,T24=0),\"\",\"/\")","v":""},0,0,{"$f":"IF(AND(U24=0,W24=0),\"\",\"/\")","v":""},0,{"$f":"SUM(I24+L24+O24+R24+U24)","v":2.81},"/",{"$f":"SUM(K24+N24+Q24+T24+W24)","v":0.16},{"$f":"BO24","v":8.7220338983050869},{"$f":"IF(ISNA(INDEX('План ввода основ. ср-в'!F:F,MATCH(B24,'План ввода основ. ср-в'!B:B,0))),0,INDEX('План ввода основ. ср-в'!F:F,MATCH(B24,'План ввода основ. ср-в'!B:B,0)))","v":0},{"$f":"IF(AND(AB24=0,AD24=0),\"\",\"/\")","v":""},{"$f":"IF(ISNA(INDEX('План ввода основ. ср-в'!E:E,MATCH(B24,'План ввода основ. ср-в'!B:B,0))),0,INDEX('План ввода основ. ср-в'!E:E,MATCH(B24,'План ввода основ. ср-в'!B:B,0)))","v":0},{"$f":"IF(ISNA(INDEX('План ввода основ. ср-в'!H:H,MATCH(B24,'План ввода основ. ср-в'!B:B,0))),0,INDEX('План ввода основ. ср-в'!H:H,MATCH(B24,'План ввода основ. ср-в'!B:B,0)))","v":0},null,{"$f":"IF(ISNA(INDEX('План ввода основ. ср-в'!G:G,MATCH(B24,'План ввода основ. ср-в'!B:B,0))),0,INDEX('План ввода основ. ср-в'!G:G,MATCH(B24,'План ввода основ. ср-в'!B:B,0)))","v":0},{"$f":"IF(ISNA(INDEX('План ввода основ. ср-в'!J:J,MATCH(B24,'План ввода основ. ср-в'!B:B,0))),0,INDEX('План ввода основ. ср-в'!J:J,MATCH(B24,'План ввода основ. ср-в'!B:B,0)))","v":0},null,{"$f":"IF(ISNA(INDEX('План ввода основ. ср-в'!I:I,MATCH(B24,'План ввода основ. ср-в'!B:B,0))),0,INDEX('План ввода основ. ср-в'!I:I,MATCH(B24,'План ввода основ. ср-в'!B:B,0)))","v":0},{"$f":"IF(ISNA(INDEX('План ввода основ. ср-в'!L:L,MATCH(B24,'План ввода основ. ср-в'!B:B,0))),0,INDEX('План ввода основ. ср-в'!L:L,MATCH(B24,'План ввода основ. ср-в'!B:B,0)))","v":2.81},{"$f":"IF(AND(AK24=0,AM24=0),\"\",\"/\")","v":"/"},{"$f":"IF(ISNA(INDEX('План ввода основ. ср-в'!K:K,MATCH(B24,'План ввода основ. ср-в'!B:B,0))),0,INDEX('План ввода основ. ср-в'!K:K,MATCH(B24,'План ввода основ. ср-в'!B:B,0)))","v":0.16},{"$f":"AB24+AE24+AH24+AK24","v":2.81},"/",{"$f":"AD24+AG24+AJ24+AM24","v":0.16},{"$f":"IF(ISNA(INDEX('План ввода основ. ср-в'!N:N,MATCH(B24,'План ввода основ. ср-в'!B:B,0))),0,INDEX('План ввода основ. ср-в'!N:N,MATCH(B24,'План ввода основ. ср-в'!B:B,0)))","v":0},null,{"$f":"IF(ISNA(INDEX('План ввода основ. ср-в'!M:M,MATCH(B24,'План ввода основ. ср-в'!B:B,0))),0,INDEX('План ввода основ. ср-в'!M:M,MATCH(B24,'План ввода основ. ср-в'!B:B,0)))","v":0},{"$f":"IF(ISNA(INDEX('План ввода основ. ср-в'!P:P,MATCH(B24,'План ввода основ. ср-в'!B:B,0))),0,INDEX('План ввода основ. ср-в'!P:P,MATCH(B24,'План ввода основ. ср-в'!B:B,0)))","v":0},null,{"$f":"IF(ISNA(INDEX('План ввода основ. ср-в'!O:O,MATCH(B24,'План ввода основ. ср-в'!B:B,0))),0,INDEX('План ввода основ. ср-в'!O:O,MATCH(B24,'План ввода основ. ср-в'!B:B,0)))","v":0},{"$f":"IF(ISNA(INDEX('План ввода основ. ср-в'!R:R,MATCH(B24,'План ввода основ. ср-в'!B:B,0))),0,INDEX('План ввода основ. ср-в'!R:R,MATCH(B24,'План ввода основ. ср-в'!B:B,0)))","v":0},null,{"$f":"IF(ISNA(INDEX('План ввода основ. ср-в'!Q:Q,MATCH(B24,'План ввода основ. ср-в'!B:B,0))),0,INDEX('План ввода основ. ср-в'!Q:Q,MATCH(B24,'План ввода основ. ср-в'!B:B,0)))","v":0},{"$f":"IF(ISNA(INDEX('План ввода основ. ср-в'!T:T,MATCH(B24,'План ввода основ. ср-в'!B:B,0))),0,INDEX('План ввода основ. ср-в'!T:T,MATCH(B24,'План ввода основ. ср-в'!B:B,0)))","v":0},null,{"$f":"IF(ISNA(INDEX('План ввода основ. ср-в'!S:S,MATCH(B24,'План ввода основ. ср-в'!B:B,0))),0,INDEX('План ввода основ. ср-в'!S:S,MATCH(B24,'План ввода основ. ср-в'!B:B,0)))","v":0},{"$f":"AN24+AQ24+AT24+AW24+AZ24","v":2.81},null,{"$f":"AP24+AS24+AV24+AY24+BB24","v":0.16},{"$f":"IF(ISNA(INDEX('План ввода основ. ср-в'!V:V,MATCH(B24,'План ввода основ. ср-в'!B:B,0))),0,INDEX('План ввода основ. ср-в'!V:V,MATCH(B24,'План ввода основ. ср-в'!B:B,0)))","v":0},{"$f":"IF(ISNA(INDEX('План ввода основ. ср-в'!W:W,MATCH(B24,'План ввода основ. ср-в'!B:B,0))),0,INDEX('План ввода основ. ср-в'!W:W,MATCH(B24,'План ввода основ. ср-в'!B:B,0)))","v":1.3083050847457629},{"$f":"IF(ISNA(INDEX('План ввода основ. ср-в'!X:X,MATCH(B24,'План ввода основ. ср-в'!B:B,0))),0,INDEX('План ввода основ. ср-в'!X:X,MATCH(B24,'План ввода основ. ср-в'!B:B,0)))","v":3.0527118644067803},{"$f":"IF(ISNA(INDEX('План ввода основ. ср-в'!Y:Y,MATCH(B24,'План ввода основ. ср-в'!B:B,0))),0,INDEX('План ввода основ. ср-в'!Y:Y,MATCH(B24,'План ввода основ. ср-в'!B:B,0)))","v":4.3610169491525435},{"$f":"SUM(BF24:BI24)","v":8.7220338983050869},{"$f":"IF(ISNA(INDEX('План ввода основ. ср-в'!Z:Z,MATCH(B24,'План ввода основ. ср-в'!B:B,0))),0,INDEX('План ввода основ. ср-в'!Z:Z,MATCH(B24,'План ввода основ. ср-в'!B:B,0)))","v":0},{"$f":"IF(ISNA(INDEX('План ввода основ. ср-в'!AA:AA,MATCH(B24,'План ввода основ. ср-в'!B:B,0))),0,INDEX('План ввода основ. ср-в'!AA:AA,MATCH(B24,'План ввода основ. ср-в'!B:B,0)))","v":0},{"$f":"IF(ISNA(INDEX('План ввода основ. ср-в'!AB:AB,MATCH(B24,'План ввода основ. ср-в'!B:B,0))),0,INDEX('План ввода основ. ср-в'!AB:AB,MATCH(B24,'План ввода основ. ср-в'!B:B,0)))","v":0},{"$f":"IF(ISNA(INDEX('План ввода основ. ср-в'!AC:AC,MATCH(B24,'План ввода основ. ср-в'!B:B,0))),0,INDEX('План ввода основ. ср-в'!AC:AC,MATCH(B24,'План ввода основ. ср-в'!B:B,0)))","v":0},{"$f":"SUM(BJ24:BN24)","v":8.7220338983050869}]
[3,"Реконструкция ВЛ-0,4кВ от КТП А 216/250 кВА с заменой КТП",null,null,null,null,null,null,4.5199999999999996,"/",0.25,0,"",0,0,{"$f":"IF(AND(O25=0,Q25=0),\"\",\"/\")","v":""},0,0,"",0,0,"",0,4.5199999999999996,"/",{"$f":"SUM(K25+N25+Q25+T25+W25)","v":0.25},13.359322033898305,{"$f":"IF(ISNA(INDEX('План ввода основ. ср-в'!F:F,MATCH(B25,'План ввода основ. ср-в'!B:B,0))),0,INDEX('План ввода основ. ср-в'!F:F,MATCH(B25,'План ввода основ. ср-в'!B:B,0)))","v":0},"",{"$f":"IF(ISNA(INDEX('План ввода основ. ср-в'!E:E,MATCH(B25,'План ввода основ. ср-в'!B:B,0))),0,INDEX('План ввода основ. ср-в'!E:E,MATCH(B25,'План ввода основ. ср-в'!B:B,0)))","v":0},{"$f":"IF(ISNA(INDEX('План ввода основ. ср-в'!H:H,MATCH(B25,'План ввода основ. ср-в'!B:B,0))),0,INDEX('План ввода основ. ср-в'!H:H,MATCH(B25,'План ввода основ. ср-в'!B:B,0)))","v":0},{"$f":"IF(AND(AE25=0,AG25=0),\"\",\"/\")","v":""},{"$f":"IF(ISNA(INDEX('План ввода основ. ср-в'!G:G,MATCH(B25,'План ввода основ. ср-в'!B:B,0))),0,INDEX('План ввода основ. ср-в'!G:G,MATCH(B25,'План ввода основ. ср-в'!B:B,0)))","v":0},{"$f":"IF(ISNA(INDEX('План ввода основ. ср-в'!J:J,MATCH(B25,'План ввода основ. ср-в'!B:B,0))),0,INDEX('План ввода основ. ср-в'!J:J,MATCH(B25,'План ввода основ. ср-в'!B:B,0)))","v":0},{"$f":"IF(AND(AH25=0,AJ25=0),\"\",\"/\")","v":""},{"$f":"IF(ISNA(INDEX('План ввода основ. ср-в'!I:I,MATCH(B25,'План ввода основ. ср-в'!B:B,0))),0,INDEX('План ввода основ. ср-в'!I:I,MATCH(B25,'План ввода основ. ср-в'!B:B,0)))","v":0},{"$f":"IF(ISNA(INDEX('План ввода основ. ср-в'!L:L,MATCH(B25,'План ввода основ. ср-в'!B:B,0))),0,INDEX('План ввода основ. ср-в'!L:L,MATCH(B25,'План ввода основ. ср-в'!B:B,0)))","v":4.5199999999999996},"/",{"$f":"IF(ISNA(INDEX('План ввода основ. ср-в'!K:K,MATCH(B25,'План ввода основ. ср-в'!B:B,0))),0,INDEX('План ввода основ. ср-в'!K:K,MATCH(B25,'План ввода основ. ср-в'!B:B,0)))","v":0.25},4.5199999999999996,"/",0.25,{"$f":"IF(ISNA(INDEX('План ввода основ. ср-в'!N:N,MATCH(B25,'План ввода основ. ср-в'!B:B,0))),0,INDEX('План ввода основ. ср-в'!N:N,MATCH(B25,'План ввода основ. ср-в'!B:B,0)))","v":0},{"$f":"IF(AND(AQ25=0,AS25=0),\"\",\"/\")","v":""},{"$f":"IF(ISNA(INDEX('План ввода основ. ср-в'!M:M,MATCH(B25,'План ввода основ. ср-в'!B:B,0))),0,INDEX('План ввода основ. ср-в'!M:M,MATCH(B25,'План ввода основ. ср-в'!B:B,0)))","v":0},{"$f":"IF(ISNA(INDEX('План ввода основ. ср-в'!P:P,MATCH(B25,'План ввода основ. ср-в'!B:B,0))),0,INDEX('План ввода основ. ср-в'!P:P,MATCH(B25,'План ввода основ. ср-в'!B:B,0)))","v":0},{"$f":"IF(AND(AT25=0,AV25=0),\"\",\"/\")","v":""},{"$f":"IF(ISNA(INDEX('План ввода основ. ср-в'!O:O,MATCH(B25,'План ввода основ. ср-в'!B:B,0))),0,INDEX('План ввода основ. ср-в'!O:O,MATCH(B25,'План ввода основ. ср-в'!B:B,0)))","v":0},{"$f":"IF(ISNA(INDEX('План ввода основ. ср-в'!R:R,MATCH(B25,'План ввода основ. ср-в'!B:B,0))),0,INDEX('План ввода основ. ср-в'!R:R,MATCH(B25,'План ввода основ. ср-в'!B:B,0)))","v":0},{"$f":"IF(AND(AW25=0,AY25=0),\"\",\"/\")","v":""},{"$f":"IF(ISNA(INDEX('План ввода основ. ср-в'!Q:Q,MATCH(B25,'План ввода основ. ср-в'!B:B,0))),0,INDEX('План ввода основ. ср-в'!Q:Q,MATCH(B25,'План ввода основ. ср-в'!B:B,0)))","v":0},{"$f":"IF(ISNA(INDEX('План ввода основ. ср-в'!T:T,MATCH(B25,'План ввода основ. ср-в'!B:B,0))),0,INDEX('План ввода основ. ср-в'!T:T,MATCH(B25,'План ввода основ. ср-в'!B:B,0)))","v":0},{"$f":"IF(AND(AZ25=0,BB25=0),\"\",\"/\")","v":""},{"$f":"IF(ISNA(INDEX('План ввода основ. ср-в'!S:S,MATCH(B25,'План ввода основ. ср-в'!B:B,0))),0,INDEX('План ввода основ. ср-в'!S:S,MATCH(B25,'План ввода основ. ср-в'!B:B,0)))","v":0},4.5199999999999996,"/",0.25,{"$f":"IF(ISNA(INDEX('План ввода основ. ср-в'!V:V,MATCH(B25,'План ввода основ. ср-в'!B:B,0))),0,INDEX('План ввода основ. ср-в'!V:V,MATCH(B25,'План ввода основ. ср-в'!B:B,0)))","v":0},{"$f":"IF(ISNA(INDEX('План ввода основ. ср-в'!W:W,MATCH(B25,'План ввода основ. ср-в'!B:B,0))),0,INDEX('План ввода основ. ср-в'!W:W,MATCH(B25,'План ввода основ. ср-в'!B:B,0)))","v":2.0038983050847459},{"$f":"IF(ISNA(INDEX('План ввода основ. ср-в'!X:X,MATCH(B25,'План ввода основ. ср-в'!B:B,0))),0,INDEX('План ввода основ. ср-в'!X:X,MATCH(B25,'План ввода основ. ср-в'!B:B,0)))","v":4.6757627118644063},{"$f":"IF(ISNA(INDEX('План ввода основ. ср-в'!Y:Y,MATCH(B25,'План ввода основ. ср-в'!B:B,0))),0,INDEX('План ввода основ. ср-в'!Y:Y,MATCH(B25,'План ввода основ. ср-в'!B:B,0)))","v":6.6796610169491526},13.359322033898305,{"$f":"IF(ISNA(INDEX('План ввода основ. ср-в'!Z:Z,MATCH(B25,'План ввода основ. ср-в'!B:B,0))),0,INDEX('План ввода основ. ср-в'!Z:Z,MATCH(B25,'План ввода основ. ср-в'!B:B,0)))","v":0},{"$f":"IF(ISNA(INDEX('План ввода основ. ср-в'!AA:AA,MATCH(B25,'План ввода основ. ср-в'!B:B,0))),0,INDEX('План ввода основ. ср-в'!AA:AA,MATCH(B25,'План ввода основ. ср-в'!B:B,0)))","v":0},{"$f":"IF(ISNA(INDEX('План ввода основ. ср-в'!AB:AB,MATCH(B25,'План ввода основ. ср-в'!B:B,0))),0,INDEX('План ввода основ. ср-в'!AB:AB,MATCH(B25,'План ввода основ. ср-в'!B:B,0)))","v":0},{"$f":"IF(ISNA(INDEX('План ввода основ. ср-в'!AC:AC,MATCH(B25,'План ввода основ. ср-в'!B:B,0))),0,INDEX('План ввода основ. ср-в'!AC:AC,MATCH(B25,'План ввода основ. ср-в'!B:B,0)))","v":0},13.359322033898305]
[4,"Реконструкция ВЛ-0,4кВ от КТП А 207/250 кВА с заменой КТП",null,null,null,null,null,null,0,"",0,1.92,"/",0.25,0,{"$f":"IF(AND(O26=0,Q26=0),\"\",\"/\")","v":""},0,0,"",0,0,"",0,1.92,"/",0.25,5.5728813559322035,{"$f":"IF(ISNA(INDEX('План ввода основ. ср-в'!F:F,MATCH(B26,'План ввода основ. ср-в'!B:B,0))),0,INDEX('План ввода основ. ср-в'!F:F,MATCH(B26,'План ввода основ. ср-в'!B:B,0)))","v":0},"",{"$f":"IF(ISNA(INDEX('План ввода основ. ср-в'!E:E,MATCH(B26,'План ввода основ. ср-в'!B:B,0))),0,INDEX('План ввода основ. ср-в'!E:E,MATCH(B26,'План ввода основ. ср-в'!B:B,0)))","v":0},{"$f":"IF(ISNA(INDEX('План ввода основ. ср-в'!H:H,MATCH(B26,'План ввода основ. ср-в'!B:B,0))),0,INDEX('План ввода основ. ср-в'!H:H,MATCH(B26,'План ввода основ. ср-в'!B:B,0)))","v":0},"",{"$f":"IF(ISNA(INDEX('План ввода основ. ср-в'!G:G,MATCH(B26,'План ввода основ. ср-в'!B:B,0))),0,INDEX('План ввода основ. ср-в'!G:G,MATCH(B26,'План ввода основ. ср-в'!B:B,0)))","v":0},{"$f":"IF(ISNA(INDEX('План ввода основ. ср-в'!J:J,MATCH(B26,'План ввода основ. ср-в'!B:B,0))),0,INDEX('План ввода основ. ср-в'!J:J,MATCH(B26,'План ввода основ. ср-в'!B:B,0)))","v":0},"",{"$f":"IF(ISNA(INDEX('План ввода основ. ср-в'!I:I,MATCH(B26,'План ввода основ. ср-в'!B:B,0))),0,INDEX('План ввода основ. ср-в'!I:I,MATCH(B26,'План ввода основ. ср-в'!B:B,0)))","v":0},{"$f":"IF(ISNA(INDEX('План ввода основ. ср-в'!L:L,MATCH(B26,'План ввода основ. ср-в'!B:B,0))),0,INDEX('План ввода основ. ср-в'!L:L,MATCH(B26,'План ввода основ. ср-в'!B:B,0)))","v":0},"",{"$f":"IF(ISNA(INDEX('План ввода основ. ср-в'!K:K,MATCH(B26,'План ввода основ. ср-в'!B:B,0))),0,INDEX('План ввода основ. ср-в'!K:K,MATCH(B26,'План ввода основ. ср-в'!B:B,0)))","v":0},0,"/",0,{"$f":"IF(ISNA(INDEX('План ввода основ. ср-в'!N:N,MATCH(B26,'План ввода основ. ср-в'!B:B,0))),0,INDEX('План ввода основ. ср-в'!N:N,MATCH(B26,'План ввода основ. ср-в'!B:B,0)))","v":1.92},"/",{"$f":"IF(ISNA(INDEX('План ввода основ. ср-в'!M:M,MATCH(B26,'План ввода основ. ср-в'!B:B,0))),0,INDEX('План ввода основ. ср-в'!M:M,MATCH(B26,'План ввода основ. ср-в'!B:B,0)))","v":0.25},{"$f":"IF(ISNA(INDEX('План ввода основ. ср-в'!P:P,MATCH(B26,'План ввода основ. ср-в'!B:B,0))),0,INDEX('План ввода основ. ср-в'!P:P,MATCH(B26,'План ввода основ. ср-в'!B:B,0)))","v":0},"",{"$f":"IF(ISNA(INDEX('План ввода основ. ср-в'!O:O,MATCH(B26,'План ввода основ. ср-в'!B:B,0))),0,INDEX('План ввода основ. ср-в'!O:O,MATCH(B26,'План ввода основ. ср-в'!B:B,0)))","v":0},{"$f":"IF(ISNA(INDEX('План ввода основ. ср-в'!R:R,MATCH(B26,'План ввода основ. ср-в'!B:B,0))),0,INDEX('План ввода основ. ср-в'!R:R,MATCH(B26,'План ввода основ. ср-в'!B:B,0)))","v":0},"",{"$f":"IF(ISNA(INDEX('План ввода основ. ср-в'!Q:Q,MATCH(B26,'План ввода основ. ср-в'!B:B,0))),0,INDEX('План ввода основ. ср-в'!Q:Q,MATCH(B26,'План ввода основ. ср-в'!B:B,0)))","v":0},{"$f":"IF(ISNA(INDEX('План ввода основ. ср-в'!T:T,MATCH(B26,'План ввода основ. ср-в'!B:B,0))),0,INDEX('План ввода основ. ср-в'!T:T,MATCH(B26,'План ввода основ. ср-в'!B:B,0)))","v":0},"",{"$f":"IF(ISNA(INDEX('План ввода основ. ср-в'!S:S,MATCH(B26,'План ввода основ. ср-в'!B:B,0))),0,INDEX('План ввода основ. ср-в'!S:S,MATCH(B26,'План ввода основ. ср-в'!B:B,0)))","v":0},1.92,"/",0.25,{"$f":"IF(ISNA(INDEX('План ввода основ. ср-в'!V:V,MATCH(B26,'План ввода основ. ср-в'!B:B,0))),0,INDEX('План ввода основ. ср-в'!V:V,MATCH(B26,'План ввода основ. ср-в'!B:B,0)))","v":0},{"$f":"IF(ISNA(INDEX('План ввода основ. ср-в'!W:W,MATCH(B26,'План ввода основ. ср-в'!B:B,0))),0,INDEX('План ввода основ. ср-в'!W:W,MATCH(B26,'План ввода основ. ср-в'!B:B,0)))","v":0},{"$f":"IF(ISNA(INDEX('План ввода основ. ср-в'!X:X,MATCH(B26,'План ввода основ. ср-в'!B:B,0))),0,INDEX('План ввода основ. ср-в'!X:X,MATCH(B26,'План ввода основ. ср-в'!B:B,0)))","v":0},{"$f":"IF(ISNA(INDEX('План ввода основ. ср-в'!Y:Y,MATCH(B26,'План ввода основ. ср-в'!B:B,0))),0,INDEX('План ввода основ. ср-в'!Y:Y,MATCH(B26,'План ввода основ. ср-в'!B:B,0)))","v":0},0,{"$f":"IF(ISNA(INDEX('План ввода основ. ср-в'!Z:Z,MATCH(B26,'План ввода основ. ср-в'!B:B,0))),0,INDEX('План ввода основ. ср-в'!Z:Z,MATCH(B26,'План ввода основ. ср-в'!B:B,0)))","v":5.5728813559322035},{"$f":"IF(ISNA(INDEX('План ввода основ. ср-в'!AA:AA,MATCH(B26,'План ввода основ. ср-в'!B:B,0))),0,INDEX('План ввода основ. ср-в'!AA:AA,MATCH(B26,'План ввода основ. ср-в'!B:B,0)))","v":0},{"$f":"IF(ISNA(INDEX('План ввода основ. ср-в'!AB:AB,MATCH(B26,'План ввода основ. ср-в'!B:B,0))),0,INDEX('План ввода основ. ср-в'!AB:AB,MATCH(B26,'План ввода основ. ср-в'!B:B,0)))","v":0},{"$f":"IF(ISNA(INDEX('План ввода основ. ср-в'!AC:AC,MATCH(B26,'План ввода основ. ср-в'!B:B,0))),0,INDEX('План ввода основ. ср-в'!AC:AC,MATCH(B26,'План ввода основ. ср-в'!B:B,0)))","v":0},5.5728813559322035]
[5,"Реконструкция ВЛ-0,4кВ от КТП А 203/250 кВА с заменой КТП",null,null,null,null,null,null,0,"",0,4.67,"/",0.25,0,"",0,0,"",0,0,"",0,4.67,"/",0.25,12.098305084745762,{"$f":"IF(ISNA(INDEX('План ввода основ. ср-в'!F:F,MATCH(B27,'План ввода основ. ср-в'!B:B,0))),0,INDEX('План ввода основ. ср-в'!F:F,MATCH(B27,'План ввода основ. ср-в'!B:B,0)))","v":0},"",{"$f":"IF(ISNA(INDEX('План ввода основ. ср-в'!E:E,MATCH(B27,'План ввода основ. ср-в'!B:B,0))),0,INDEX('План ввода основ. ср-в'!E:E,MATCH(B27,'План ввода основ. ср-в'!B:B,0)))","v":0},{"$f":"IF(ISNA(INDEX('План ввода основ. ср-в'!H:H,MATCH(B27,'План ввода основ. ср-в'!B:B,0))),0,INDEX('План ввода основ. ср-в'!H:H,MATCH(B27,'План ввода основ. ср-в'!B:B,0)))","v":0},"",{"$f":"IF(ISNA(INDEX('План ввода основ. ср-в'!G:G,MATCH(B27,'План ввода основ. ср-в'!B:B,0))),0,INDEX('План ввода основ. ср-в'!G:G,MATCH(B27,'План ввода основ. ср-в'!B:B,0)))","v":0},{"$f":"IF(ISNA(INDEX('План ввода основ. ср-в'!J:J,MATCH(B27,'План ввода основ. ср-в'!B:B,0))),0,INDEX('План ввода основ. ср-в'!J:J,MATCH(B27,'План ввода основ. ср-в'!B:B,0)))","v":0},"",{"$f":"IF(ISNA(INDEX('План ввода основ. ср-в'!I:I,MATCH(B27,'План ввода основ. ср-в'!B:B,0))),0,INDEX('План ввода основ. ср-в'!I:I,MATCH(B27,'План ввода основ. ср-в'!B:B,0)))","v":0},{"$f":"IF(ISNA(INDEX('План ввода основ. ср-в'!L:L,MATCH(B27,'План ввода основ. ср-в'!B:B,0))),0,INDEX('План ввода основ. ср-в'!L:L,MATCH(B27,'План ввода основ. ср-в'!B:B,0)))","v":0},"",{"$f":"IF(ISNA(INDEX('План ввода основ. ср-в'!K:K,MATCH(B27,'План ввода основ. ср-в'!B:B,0))),0,INDEX('План ввода основ. ср-в'!K:K,MATCH(B27,'План ввода основ. ср-в'!B:B,0)))","v":0},0,"/",0,{"$f":"IF(ISNA(INDEX('План ввода основ. ср-в'!N:N,MATCH(B27,'План ввода основ. ср-в'!B:B,0))),0,INDEX('План ввода основ. ср-в'!N:N,MATCH(B27,'План ввода основ. ср-в'!B:B,0)))","v":4.67},"/",{"$f":"IF(ISNA(INDEX('План ввода основ. ср-в'!M:M,MATCH(B27,'План ввода основ. ср-в'!B:B,0))),0,INDEX('План ввода основ. ср-в'!M:M,MATCH(B27,'План ввода основ. ср-в'!B:B,0)))","v":0.25},{"$f":"IF(ISNA(INDEX('План ввода основ. ср-в'!P:P,MATCH(B27,'План ввода основ. ср-в'!B:B,0))),0,INDEX('План ввода основ. ср-в'!P:P,MATCH(B27,'План ввода основ. ср-в'!B:B,0)))","v":0},"",{"$f":"IF(ISNA(INDEX('План ввода основ. ср-в'!O:O,MATCH(B27,'План ввода основ. ср-в'!B:B,0))),0,INDEX('План ввода основ. ср-в'!O:O,MATCH(B27,'План ввода основ. ср-в'!B:B,0)))","v":0},{"$f":"IF(ISNA(INDEX('План ввода основ. ср-в'!R:R,MATCH(B27,'План ввода основ. ср-в'!B:B,0))),0,INDEX('План ввода основ. ср-в'!R:R,MATCH(B27,'План ввода основ. ср-в'!B:B,0)))","v":0},"",{"$f":"IF(ISNA(INDEX('План ввода основ. ср-в'!Q:Q,MATCH(B27,'План ввода основ. ср-в'!B:B,0))),0,INDEX('План ввода основ. ср-в'!Q:Q,MATCH(B27,'План ввода основ. ср-в'!B:B,0)))","v":0},{"$f":"IF(ISNA(INDEX('План ввода основ. ср-в'!T:T,MATCH(B27,'План ввода основ. ср-в'!B:B,0))),0,INDEX('План ввода основ. ср-в'!T:T,MATCH(B27,'План ввода основ. ср-в'!B:B,0)))","v":0},"",{"$f":"IF(ISNA(INDEX('План ввода основ. ср-в'!S:S,MATCH(B27,'План ввода основ. ср-в'!B:B,0))),0,INDEX('План ввода основ. ср-в'!S:S,MATCH(B27,'План ввода основ. ср-в'!B:B,0)))","v":0},4.67,"/",0.25,{"$f":"IF(ISNA(INDEX('План ввода основ. ср-в'!V:V,MATCH(B27,'План ввода основ. ср-в'!B:B,0))),0,INDEX('План ввода основ. ср-в'!V:V,MATCH(B27,'План ввода основ. ср-в'!B:B,0)))","v":0},{"$f":"IF(ISNA(INDEX('План ввода основ. ср-в'!W:W,MATCH(B27,'План ввода основ. ср-в'!B:B,0))),0,INDEX('План ввода основ. ср-в'!W:W,MATCH(B27,'План ввода основ. ср-в'!B:B,0)))","v":0},{"$f":"IF(ISNA(INDEX('План ввода основ. ср-в'!X:X,MATCH(B27,'План ввода основ. ср-в'!B:B,0))),0,INDEX('План ввода основ. ср-в'!X:X,MATCH(B27,'План ввода основ. ср-в'!B:B,0)))","v":0},{"$f":"IF(ISNA(INDEX('План ввода основ. ср-в'!Y:Y,MATCH(B27,'План ввода основ. ср-в'!B:B,0))),0,INDEX('План ввода основ. ср-в'!Y:Y,MATCH(B27,'План ввода основ. ср-в'!B:B,0)))","v":0},0,{"$f":"IF(ISNA(INDEX('План ввода основ. ср-в'!Z:Z,MATCH(B27,'План ввода основ. ср-в'!B:B,0))),0,INDEX('План ввода основ. ср-в'!Z:Z,MATCH(B27,'План ввода основ. ср-в'!B:B,0)))","v":12.098305084745762},{"$f":"IF(ISNA(INDEX('План ввода основ. ср-в'!AA:AA,MATCH(B27,'План ввода основ. ср-в'!B:B,0))),0,INDEX('План ввода основ. ср-в'!AA:AA,MATCH(B27,'План ввода основ. ср-в'!B:B,0)))","v":0},{"$f":"IF(ISNA(INDEX('План ввода основ. ср-в'!AB:AB,MATCH(B27,'План ввода основ. ср-в'!B:B,0))),0,INDEX('План ввода основ. ср-в'!AB:AB,MATCH(B27,'План ввода основ. ср-в'!B:B,0)))","v":0},{"$f":"IF(ISNA(INDEX('План ввода основ. ср-в'!AC:AC,MATCH(B27,'План ввода основ. ср-в'!B:B,0))),0,INDEX('План ввода основ. ср-в'!AC:AC,MATCH(B27,'План ввода основ. ср-в'!B:B,0)))","v":0},12.098305084745762]
[6,"Реконструкция ВЛ-0,4кВ от КТП А 2101/160 кВА с заменой КТП",null,null,null,null,null,null,0,"",0,0,"",0,2.92,"/",0.16,0,"",0,0,"",0,2.92,"/",0.16,7.9457627118644067,{"$f":"IF(ISNA(INDEX('План ввода основ. ср-в'!F:F,MATCH(B28,'План ввода основ. ср-в'!B:B,0))),0,INDEX('План ввода основ. ср-в'!F:F,MATCH(B28,'План ввода основ. ср-в'!B:B,0)))","v":0},"",{"$f":"IF(ISNA(INDEX('План ввода основ. ср-в'!E:E,MATCH(B28,'План ввода основ. ср-в'!B:B,0))),0,INDEX('План ввода основ. ср-в'!E:E,MATCH(B28,'План ввода основ. ср-в'!B:B,0)))","v":0},{"$f":"IF(ISNA(INDEX('План ввода основ. ср-в'!H:H,MATCH(B28,'План ввода основ. ср-в'!B:B,0))),0,INDEX('План ввода основ. ср-в'!H:H,MATCH(B28,'План ввода основ. ср-в'!B:B,0)))","v":0},"",{"$f":"IF(ISNA(INDEX('План ввода основ. ср-в'!G:G,MATCH(B28,'План ввода основ. ср-в'!B:B,0))),0,INDEX('План ввода основ. ср-в'!G:G,MATCH(B28,'План ввода основ. ср-в'!B:B,0)))","v":0},{"$f":"IF(ISNA(INDEX('План ввода основ. ср-в'!J:J,MATCH(B28,'План ввода основ. ср-в'!B:B,0))),0,INDEX('План ввода основ. ср-в'!J:J,MATCH(B28,'План ввода основ. ср-в'!B:B,0)))","v":0},"",{"$f":"IF(ISNA(INDEX('План ввода основ. ср-в'!I:I,MATCH(B28,'План ввода основ. ср-в'!B:B,0))),0,INDEX('План ввода основ. ср-в'!I:I,MATCH(B28,'План ввода основ. ср-в'!B:B,0)))","v":0},{"$f":"IF(ISNA(INDEX('План ввода основ. ср-в'!L:L,MATCH(B28,'План ввода основ. ср-в'!B:B,0))),0,INDEX('План ввода основ. ср-в'!L:L,MATCH(B28,'План ввода основ. ср-в'!B:B,0)))","v":0},"",{"$f":"IF(ISNA(INDEX('План ввода основ. ср-в'!K:K,MATCH(B28,'План ввода основ. ср-в'!B:B,0))),0,INDEX('План ввода основ. ср-в'!K:K,MATCH(B28,'План ввода основ. ср-в'!B:B,0)))","v":0},0,"/",0,{"$f":"IF(ISNA(INDEX('План ввода основ. ср-в'!N:N,MATCH(B28,'План ввода основ. ср-в'!B:B,0))),0,INDEX('План ввода основ. ср-в'!N:N,MATCH(B28,'План ввода основ. ср-в'!B:B,0)))","v":0},"",{"$f":"IF(ISNA(INDEX('План ввода основ. ср-в'!M:M,MATCH(B28,'План ввода основ. ср-в'!B:B,0))),0,INDEX('План ввода основ. ср-в'!M:M,MATCH(B28,'План ввода основ. ср-в'!B:B,0)))","v":0},{"$f":"IF(ISNA(INDEX('План ввода основ. ср-в'!P:P,MATCH(B28,'План ввода основ. ср-в'!B:B,0))),0,INDEX('План ввода основ. ср-в'!P:P,MATCH(B28,'План ввода основ. ср-в'!B:B,0)))","v":2.92},"/",{"$f":"IF(ISNA(INDEX('План ввода основ. ср-в'!O:O,MATCH(B28,'План ввода основ. ср-в'!B:B,0))),0,INDEX('План ввода основ. ср-в'!O:O,MATCH(B28,'План ввода основ. ср-в'!B:B,0)))","v":0.16},{"$f":"IF(ISNA(INDEX('План ввода основ. ср-в'!R:R,MATCH(B28,'План ввода основ. ср-в'!B:B,0))),0,INDEX('План ввода основ. ср-в'!R:R,MATCH(B28,'План ввода основ. ср-в'!B:B,0)))","v":0},"",{"$f":"IF(ISNA(INDEX('План ввода основ. ср-в'!Q:Q,MATCH(B28,'План ввода основ. ср-в'!B:B,0))),0,INDEX('План ввода основ. ср-в'!Q:Q,MATCH(B28,'План ввода основ. ср-в'!B:B,0)))","v":0},{"$f":"IF(ISNA(INDEX('План ввода основ. ср-в'!T:T,MATCH(B28,'План ввода основ. ср-в'!B:B,0))),0,INDEX('План ввода основ. ср-в'!T:T,MATCH(B28,'План ввода основ. ср-в'!B:B,0)))","v":0},"",{"$f":"IF(ISNA(INDEX('План ввода основ. ср-в'!S:S,MATCH(B28,'План ввода основ. ср-в'!B:B,0))),0,INDEX('План ввода основ. ср-в'!S:S,MATCH(B28,'План ввода основ. ср-в'!B:B,0)))","v":0},2.92,"/",0.16,{"$f":"IF(ISNA(INDEX('План ввода основ. ср-в'!V:V,MATCH(B28,'План ввода основ. ср-в'!B:B,0))),0,INDEX('План ввода основ. ср-в'!V:V,MATCH(B28,'План ввода основ. ср-в'!B:B,0)))","v":0},{"$f":"IF(ISNA(INDEX('План ввода основ. ср-в'!W:W,MATCH(B28,'План ввода основ. ср-в'!B:B,0))),0,INDEX('План ввода основ. ср-в'!W:W,MATCH(B28,'План ввода основ. ср-в'!B:B,0)))","v":0},{"$f":"IF(ISNA(INDEX('План ввода основ. ср-в'!X:X,MATCH(B28,'План ввода основ. ср-в'!B:B,0))),0,INDEX('План ввода основ. ср-в'!X:X,MATCH(B28,'План ввода основ. ср-в'!B:B,0)))","v":0},{"$f":"IF(ISNA(INDEX('План ввода основ. ср-в'!Y:Y,MATCH(B28,'План ввода основ. ср-в'!B:B,0))),0,INDEX('План ввода основ. ср-в'!Y:Y,MATCH(B28,'План ввода основ. ср-в'!B:B,0)))","v":0},0,{"$f":"IF(ISNA(INDEX('План ввода основ. ср-в'!Z:Z,MATCH(B28,'План ввода основ. ср-в'!B:B,0))),0,INDEX('План ввода основ. ср-в'!Z:Z,MATCH(B28,'План ввода основ. ср-в'!B:B,0)))","v":0},{"$f":"IF(ISNA(INDEX('План ввода основ. ср-в'!AA:AA,MATCH(B28,'План ввода основ. ср-в'!B:B,0))),0,INDEX('План ввода основ. ср-в'!AA:AA,MATCH(B28,'План ввода основ. ср-в'!B:B,0)))","v":7.9457627118644067},{"$f":"IF(ISNA(INDEX('План ввода основ. ср-в'!AB:AB,MATCH(B28,'План ввода основ. ср-в'!B:B,0))),0,INDEX('План ввода основ. ср-в'!AB:AB,MATCH(B28,'План ввода основ. ср-в'!B:B,0)))","v":0},{"$f":"IF(ISNA(INDEX('План ввода основ. ср-в'!AC:AC,MATCH(B28,'План ввода основ. ср-в'!B:B,0))),0,INDEX('План ввода основ. ср-в'!AC:AC,MATCH(B28,'План ввода основ. ср-в'!B:B,0)))","v":0},7.9457627118644067]
[7,"Реконструкция ВЛ-0,4кВ от КТП А 217/400 кВА с заменой КТП",null,null,null,null,null,null,0,"",0,0,"",0,3.08,"/",0.4,0,"",0,0,"",0,3.08,"/",0.4,8.3254237288135577,{"$f":"IF(ISNA(INDEX('План ввода основ. ср-в'!F:F,MATCH(B29,'План ввода основ. ср-в'!B:B,0))),0,INDEX('План ввода основ. ср-в'!F:F,MATCH(B29,'План ввода основ. ср-в'!B:B,0)))","v":0},"",{"$f":"IF(ISNA(INDEX('План ввода основ. ср-в'!E:E,MATCH(B29,'План ввода основ. ср-в'!B:B,0))),0,INDEX('План ввода основ. ср-в'!E:E,MATCH(B29,'План ввода основ. ср-в'!B:B,0)))","v":0},{"$f":"IF(ISNA(INDEX('План ввода основ. ср-в'!H:H,MATCH(B29,'План ввода основ. ср-в'!B:B,0))),0,INDEX('План ввода основ. ср-в'!H:H,MATCH(B29,'План ввода основ. ср-в'!B:B,0)))","v":0},"",{"$f":"IF(ISNA(INDEX('План ввода основ. ср-в'!G:G,MATCH(B29,'План ввода основ. ср-в'!B:B,0))),0,INDEX('План ввода основ. ср-в'!G:G,MATCH(B29,'План ввода основ. ср-в'!B:B,0)))","v":0},{"$f":"IF(ISNA(INDEX('План ввода основ. ср-в'!J:J,MATCH(B29,'План ввода основ. ср-в'!B:B,0))),0,INDEX('План ввода основ. ср-в'!J:J,MATCH(B29,'План ввода основ. ср-в'!B:B,0)))","v":0},"",{"$f":"IF(ISNA(INDEX('План ввода основ. ср-в'!I:I,MATCH(B29,'План ввода основ. ср-в'!B:B,0))),0,INDEX('План ввода основ. ср-в'!I:I,MATCH(B29,'План ввода основ. ср-в'!B:B,0)))","v":0},{"$f":"IF(ISNA(INDEX('План ввода основ. ср-в'!L:L,MATCH(B29,'План ввода основ. ср-в'!B:B,0))),0,INDEX('План ввода основ. ср-в'!L:L,MATCH(B29,'План ввода основ. ср-в'!B:B,0)))","v":0},"",{"$f":"IF(ISNA(INDEX('План ввода основ. ср-в'!K:K,MATCH(B29,'План ввода основ. ср-в'!B:B,0))),0,INDEX('План ввода основ. ср-в'!K:K,MATCH(B29,'План ввода основ. ср-в'!B:B,0)))","v":0},0,"/",0,{"$f":"IF(ISNA(INDEX('План ввода основ. ср-в'!N:N,MATCH(B29,'План ввода основ. ср-в'!B:B,0))),0,INDEX('План ввода основ. ср-в'!N:N,MATCH(B29,'План ввода основ. ср-в'!B:B,0)))","v":0},"",{"$f":"IF(ISNA(INDEX('План ввода основ. ср-в'!M:M,MATCH(B29,'План ввода основ. ср-в'!B:B,0))),0,INDEX('План ввода основ. ср-в'!M:M,MATCH(B29,'План ввода основ. ср-в'!B:B,0)))","v":0},{"$f":"IF(ISNA(INDEX('План ввода основ. ср-в'!P:P,MATCH(B29,'План ввода основ. ср-в'!B:B,0))),0,INDEX('План ввода основ. ср-в'!P:P,MATCH(B29,'План ввода основ. ср-в'!B:B,0)))","v":3.08},"/",{"$f":"IF(ISNA(INDEX('План ввода основ. ср-в'!O:O,MATCH(B29,'План ввода основ. ср-в'!B:B,0))),0,INDEX('План ввода основ. ср-в'!O:O,MATCH(B29,'План ввода основ. ср-в'!B:B,0)))","v":0.4},{"$f":"IF(ISNA(INDEX('План ввода основ. ср-в'!R:R,MATCH(B29,'План ввода основ. ср-в'!B:B,0))),0,INDEX('План ввода основ. ср-в'!R:R,MATCH(B29,'План ввода основ. ср-в'!B:B,0)))","v":0},"",{"$f":"IF(ISNA(INDEX('План ввода основ. ср-в'!Q:Q,MATCH(B29,'План ввода основ. ср-в'!B:B,0))),0,INDEX('План ввода основ. ср-в'!Q:Q,MATCH(B29,'План ввода основ. ср-в'!B:B,0)))","v":0},{"$f":"IF(ISNA(INDEX('План ввода основ. ср-в'!T:T,MATCH(B29,'План ввода основ. ср-в'!B:B,0))),0,INDEX('План ввода основ. ср-в'!T:T,MATCH(B29,'План ввода основ. ср-в'!B:B,0)))","v":0},"",{"$f":"IF(ISNA(INDEX('План ввода основ. ср-в'!S:S,MATCH(B29,'План ввода основ. ср-в'!B:B,0))),0,INDEX('План ввода основ. ср-в'!S:S,MATCH(B29,'План ввода основ. ср-в'!B:B,0)))","v":0},3.08,"/",0.4,{"$f":"IF(ISNA(INDEX('План ввода основ. ср-в'!V:V,MATCH(B29,'План ввода основ. ср-в'!B:B,0))),0,INDEX('План ввода основ. ср-в'!V:V,MATCH(B29,'План ввода основ. ср-в'!B:B,0)))","v":0},{"$f":"IF(ISNA(INDEX('План ввода основ. ср-в'!W:W,MATCH(B29,'План ввода основ. ср-в'!B:B,0))),0,INDEX('План ввода основ. ср-в'!W:W,MATCH(B29,'План ввода основ. ср-в'!B:B,0)))","v":0},{"$f":"IF(ISNA(INDEX('План ввода основ. ср-в'!X:X,MATCH(B29,'План ввода основ. ср-в'!B:B,0))),0,INDEX('План ввода основ. ср-в'!X:X,MATCH(B29,'План ввода основ. ср-в'!B:B,0)))","v":0},{"$f":"IF(ISNA(INDEX('План ввода основ. ср-в'!Y:Y,MATCH(B29,'План ввода основ. ср-в'!B:B,0))),0,INDEX('План ввода основ. ср-в'!Y:Y,MATCH(B29,'План ввода основ. ср-в'!B:B,0)))","v":0},0,{"$f":"IF(ISNA(INDEX('План ввода основ. ср-в'!Z:Z,MATCH(B29,'План ввода основ. ср-в'!B:B,0))),0,INDEX('План ввода основ. ср-в'!Z:Z,MATCH(B29,'План ввода основ. ср-в'!B:B,0)))","v":0},{"$f":"IF(ISNA(INDEX('План ввода основ. ср-в'!AA:AA,MATCH(B29,'План ввода основ. ср-в'!B:B,0))),0,INDEX('План ввода основ. ср-в'!AA:AA,MATCH(B29,'План ввода основ. ср-в'!B:B,0)))","v":8.3254237288135577},{"$f":"IF(ISNA(INDEX('План ввода основ. ср-в'!AB:AB,MATCH(B29,'План ввода основ. ср-в'!B:B,0))),0,INDEX('План ввода основ. ср-в'!AB:AB,MATCH(B29,'План ввода основ. ср-в'!B:B,0)))","v":0},{"$f":"IF(ISNA(INDEX('План ввода основ. ср-в'!AC:AC,MATCH(B29,'План ввода основ. ср-в'!B:B,0))),0,INDEX('План ввода основ. ср-в'!AC:AC,MATCH(B29,'План ввода основ. ср-в'!B:B,0)))","v":0},8.3254237288135577]
[8,"Реконструкция ВЛ-0,4кВ от КТП А 2003/400 кВА с заменой КТП",null,null,null,null,null,null,0,"",0,0,"",0,0,"",0,1.0349999999999999,"/",0.4,0,"",0,1.0349999999999999,"/",0.4,3.4728813559322034,{"$f":"IF(ISNA(INDEX('План ввода основ. ср-в'!F:F,MATCH(B30,'План ввода основ. ср-в'!B:B,0))),0,INDEX('План ввода основ. ср-в'!F:F,MATCH(B30,'План ввода основ. ср-в'!B:B,0)))","v":0},"",{"$f":"IF(ISNA(INDEX('План ввода основ. ср-в'!E:E,MATCH(B30,'План ввода основ. ср-в'!B:B,0))),0,INDEX('План ввода основ. ср-в'!E:E,MATCH(B30,'План ввода основ. ср-в'!B:B,0)))","v":0},{"$f":"IF(ISNA(INDEX('План ввода основ. ср-в'!H:H,MATCH(B30,'План ввода основ. ср-в'!B:B,0))),0,INDEX('План ввода основ. ср-в'!H:H,MATCH(B30,'План ввода основ. ср-в'!B:B,0)))","v":0},"",{"$f":"IF(ISNA(INDEX('План ввода основ. ср-в'!G:G,MATCH(B30,'План ввода основ. ср-в'!B:B,0))),0,INDEX('План ввода основ. ср-в'!G:G,MATCH(B30,'План ввода основ. ср-в'!B:B,0)))","v":0},{"$f":"IF(ISNA(INDEX('План ввода основ. ср-в'!J:J,MATCH(B30,'План ввода основ. ср-в'!B:B,0))),0,INDEX('План ввода основ. ср-в'!J:J,MATCH(B30,'План ввода основ. ср-в'!B:B,0)))","v":0},"",{"$f":"IF(ISNA(INDEX('План ввода основ. ср-в'!I:I,MATCH(B30,'План ввода основ. ср-в'!B:B,0))),0,INDEX('План ввода основ. ср-в'!I:I,MATCH(B30,'План ввода основ. ср-в'!B:B,0)))","v":0},{"$f":"IF(ISNA(INDEX('План ввода основ. ср-в'!L:L,MATCH(B30,'План ввода основ. ср-в'!B:B,0))),0,INDEX('План ввода основ. ср-в'!L:L,MATCH(B30,'План ввода основ. ср-в'!B:B,0)))","v":0},"",{"$f":"IF(ISNA(INDEX('План ввода основ. ср-в'!K:K,MATCH(B30,'План ввода основ. ср-в'!B:B,0))),0,INDEX('План ввода основ. ср-в'!K:K,MATCH(B30,'План ввода основ. ср-в'!B:B,0)))","v":0},0,"/",0,{"$f":"IF(ISNA(INDEX('План ввода основ. ср-в'!N:N,MATCH(B30,'План ввода основ. ср-в'!B:B,0))),0,INDEX('План ввода основ. ср-в'!N:N,MATCH(B30,'План ввода основ. ср-в'!B:B,0)))","v":0},"",{"$f":"IF(ISNA(INDEX('План ввода основ. ср-в'!M:M,MATCH(B30,'План ввода основ. ср-в'!B:B,0))),0,INDEX('План ввода основ. ср-в'!M:M,MATCH(B30,'План ввода основ. ср-в'!B:B,0)))","v":0},{"$f":"IF(ISNA(INDEX('План ввода основ. ср-в'!P:P,MATCH(B30,'План ввода основ. ср-в'!B:B,0))),0,INDEX('План ввода основ. ср-в'!P:P,MATCH(B30,'План ввода основ. ср-в'!B:B,0)))","v":0},"",{"$f":"IF(ISNA(INDEX('План ввода основ. ср-в'!O:O,MATCH(B30,'План ввода основ. ср-в'!B:B,0))),0,INDEX('План ввода основ. ср-в'!O:O,MATCH(B30,'План ввода основ. ср-в'!B:B,0)))","v":0},{"$f":"IF(ISNA(INDEX('План ввода основ. ср-в'!R:R,MATCH(B30,'План ввода основ. ср-в'!B:B,0))),0,INDEX('План ввода основ. ср-в'!R:R,MATCH(B30,'План ввода основ. ср-в'!B:B,0)))","v":1.0349999999999999},"/",{"$f":"IF(ISNA(INDEX('План ввода основ. ср-в'!Q:Q,MATCH(B30,'План ввода основ. ср-в'!B:B,0))),0,INDEX('План ввода основ. ср-в'!Q:Q,MATCH(B30,'План ввода основ. ср-в'!B:B,0)))","v":0.4},{"$f":"IF(ISNA(INDEX('План ввода основ. ср-в'!T:T,MATCH(B30,'План ввода основ. ср-в'!B:B,0))),0,INDEX('План ввода основ. ср-в'!T:T,MATCH(B30,'План ввода основ. ср-в'!B:B,0)))","v":0},"",{"$f":"IF(ISNA(INDEX('План ввода основ. ср-в'!S:S,MATCH(B30,'План ввода основ. ср-в'!B:B,0))),0,INDEX('План ввода основ. ср-в'!S:S,MATCH(B30,'План ввода основ. ср-в'!B:B,0)))","v":0},1.0349999999999999,"/",0.4,{"$f":"IF(ISNA(INDEX('План ввода основ. ср-в'!V:V,MATCH(B30,'План ввода основ. ср-в'!B:B,0))),0,INDEX('План ввода основ. ср-в'!V:V,MATCH(B30,'План ввода основ. ср-в'!B:B,0)))","v":0},{"$f":"IF(ISNA(INDEX('План ввода основ. ср-в'!W:W,MATCH(B30,'План ввода основ. ср-в'!B:B,0))),0,INDEX('План ввода основ. ср-в'!W:W,MATCH(B30,'План ввода основ. ср-в'!B:B,0)))","v":0},{"$f":"IF(ISNA(INDEX('План ввода основ. ср-в'!X:X,MATCH(B30,'План ввода основ. ср-в'!B:B,0))),0,INDEX('План ввода основ. ср-в'!X:X,MATCH(B30,'План ввода основ. ср-в'!B:B,0)))","v":0},{"$f":"IF(ISNA(INDEX('План ввода основ. ср-в'!Y:Y,MATCH(B30,'План ввода основ. ср-в'!B:B,0))),0,INDEX('План ввода основ. ср-в'!Y:Y,MATCH(B30,'План ввода основ. ср-в'!B:B,0)))","v":0},0,{"$f":"IF(ISNA(INDEX('План ввода основ. ср-в'!Z:Z,MATCH(B30,'План ввода основ. ср-в'!B:B,0))),0,INDEX('План ввода основ. ср-в'!Z:Z,MATCH(B30,'План ввода основ. ср-в'!B:B,0)))","v":0},{"$f":"IF(ISNA(INDEX('План ввода основ. ср-в'!AA:AA,MATCH(B30,'План ввода основ. ср-в'!B:B,0))),0,INDEX('План ввода основ. ср-в'!AA:AA,MATCH(B30,'План ввода основ. ср-в'!B:B,0)))","v":0},{"$f":"IF(ISNA(INDEX('План ввода основ. ср-в'!AB:AB,MATCH(B30,'План ввода основ. ср-в'!B:B,0))),0,INDEX('План ввода основ. ср-в'!AB:AB,MATCH(B30,'План ввода основ. ср-в'!B:B,0)))","v":3.4728813559322034},{"$f":"IF(ISNA(INDEX('План ввода основ. ср-в'!AC:AC,MATCH(B30,'План ввода основ. ср-в'!B:B,0))),0,INDEX('План ввода основ. ср-в'!AC:AC,MATCH(B30,'План ввода основ. ср-в'!B:B,0)))","v":0},3.4728813559322034]
[9,"Реконструкция ВЛ-0,4кВ от КТП А 2110/160 кВА с заменой КТП",null,null,null,null,null,null,0,"",0,0,"",0,0,"",0,0,"",0,1.6,"/",0.16,1.6,"/",0.16,4.8135593220338979,{"$f":"IF(ISNA(INDEX('План ввода основ. ср-в'!F:F,MATCH(B31,'План ввода основ. ср-в'!B:B,0))),0,INDEX('План ввода основ. ср-в'!F:F,MATCH(B31,'План ввода основ. ср-в'!B:B,0)))","v":0},"",{"$f":"IF(ISNA(INDEX('План ввода основ. ср-в'!E:E,MATCH(B31,'План ввода основ. ср-в'!B:B,0))),0,INDEX('План ввода основ. ср-в'!E:E,MATCH(B31,'План ввода основ. ср-в'!B:B,0)))","v":0},{"$f":"IF(ISNA(INDEX('План ввода основ. ср-в'!H:H,MATCH(B31,'План ввода основ. ср-в'!B:B,0))),0,INDEX('План ввода основ. ср-в'!H:H,MATCH(B31,'План ввода основ. ср-в'!B:B,0)))","v":0},"",{"$f":"IF(ISNA(INDEX('План ввода основ. ср-в'!G:G,MATCH(B31,'План ввода основ. ср-в'!B:B,0))),0,INDEX('План ввода основ. ср-в'!G:G,MATCH(B31,'План ввода основ. ср-в'!B:B,0)))","v":0},{"$f":"IF(ISNA(INDEX('План ввода основ. ср-в'!J:J,MATCH(B31,'План ввода основ. ср-в'!B:B,0))),0,INDEX('План ввода основ. ср-в'!J:J,MATCH(B31,'План ввода основ. ср-в'!B:B,0)))","v":0},"",{"$f":"IF(ISNA(INDEX('План ввода основ. ср-в'!I:I,MATCH(B31,'План ввода основ. ср-в'!B:B,0))),0,INDEX('План ввода основ. ср-в'!I:I,MATCH(B31,'План ввода основ. ср-в'!B:B,0)))","v":0},{"$f":"IF(ISNA(INDEX('План ввода основ. ср-в'!L:L,MATCH(B31,'План ввода основ. ср-в'!B:B,0))),0,INDEX('План ввода основ. ср-в'!L:L,MATCH(B31,'План ввода основ. ср-в'!B:B,0)))","v":0},"",{"$f":"IF(ISNA(INDEX('План ввода основ. ср-в'!K:K,MATCH(B31,'План ввода основ. ср-в'!B:B,0))),0,INDEX('План ввода основ. ср-в'!K:K,MATCH(B31,'План ввода основ. ср-в'!B:B,0)))","v":0},0,"/",0,{"$f":"IF(ISNA(INDEX('План ввода основ. ср-в'!N:N,MATCH(B31,'План ввода основ. ср-в'!B:B,0))),0,INDEX('План ввода основ. ср-в'!N:N,MATCH(B31,'План ввода основ. ср-в'!B:B,0)))","v":0},"",{"$f":"IF(ISNA(INDEX('План ввода основ. ср-в'!M:M,MATCH(B31,'План ввода основ. ср-в'!B:B,0))),0,INDEX('План ввода основ. ср-в'!M:M,MATCH(B31,'План ввода основ. ср-в'!B:B,0)))","v":0},{"$f":"IF(ISNA(INDEX('План ввода основ. ср-в'!P:P,MATCH(B31,'План ввода основ. ср-в'!B:B,0))),0,INDEX('План ввода основ. ср-в'!P:P,MATCH(B31,'План ввода основ. ср-в'!B:B,0)))","v":0},"",{"$f":"IF(ISNA(INDEX('План ввода основ. ср-в'!O:O,MATCH(B31,'План ввода основ. ср-в'!B:B,0))),0,INDEX('План ввода основ. ср-в'!O:O,MATCH(B31,'План ввода основ. ср-в'!B:B,0)))","v":0},{"$f":"IF(ISNA(INDEX('План ввода основ. ср-в'!R:R,MATCH(B31,'План ввода основ. ср-в'!B:B,0))),0,INDEX('План ввода основ. ср-в'!R:R,MATCH(B31,'План ввода основ. ср-в'!B:B,0)))","v":0},"",{"$f":"IF(ISNA(INDEX('План ввода основ. ср-в'!Q:Q,MATCH(B31,'План ввода основ. ср-в'!B:B,0))),0,INDEX('План ввода основ. ср-в'!Q:Q,MATCH(B31,'План ввода основ. ср-в'!B:B,0)))","v":0},{"$f":"IF(ISNA(INDEX('План ввода основ. ср-в'!T:T,MATCH(B31,'План ввода основ. ср-в'!B:B,0))),0,INDEX('План ввода основ. ср-в'!T:T,MATCH(B31,'План ввода основ. ср-в'!B:B,0)))","v":1.6},"/",{"$f":"IF(ISNA(INDEX('План ввода основ. ср-в'!S:S,MATCH(B31,'План ввода основ. ср-в'!B:B,0))),0,INDEX('План ввода основ. ср-в'!S:S,MATCH(B31,'План ввода основ. ср-в'!B:B,0)))","v":0.16},1.6,"/",0.16,{"$f":"IF(ISNA(INDEX('План ввода основ. ср-в'!V:V,MATCH(B31,'План ввода основ. ср-в'!B:B,0))),0,INDEX('План ввода основ. ср-в'!V:V,MATCH(B31,'План ввода основ. ср-в'!B:B,0)))","v":0},{"$f":"IF(ISNA(INDEX('План ввода основ. ср-в'!W:W,MATCH(B31,'План ввода основ. ср-в'!B:B,0))),0,INDEX('План ввода основ. ср-в'!W:W,MATCH(B31,'План ввода основ. ср-в'!B:B,0)))","v":0},{"$f":"IF(ISNA(INDEX('План ввода основ. ср-в'!X:X,MATCH(B31,'План ввода основ. ср-в'!B:B,0))),0,INDEX('План ввода основ. ср-в'!X:X,MATCH(B31,'План ввода основ. ср-в'!B:B,0)))","v":0},{"$f":"IF(ISNA(INDEX('План ввода основ. ср-в'!Y:Y,MATCH(B31,'План ввода основ. ср-в'!B:B,0))),0,INDEX('План ввода основ. ср-в'!Y:Y,MATCH(B31,'План ввода основ. ср-в'!B:B,0)))","v":0},0,{"$f":"IF(ISNA(INDEX('План ввода основ. ср-в'!Z:Z,MATCH(B31,'План ввода основ. ср-в'!B:B,0))),0,INDEX('План ввода основ. ср-в'!Z:Z,MATCH(B31,'План ввода основ. ср-в'!B:B,0)))","v":0},{"$f":"IF(ISNA(INDEX('План ввода основ. ср-в'!AA:AA,MATCH(B31,'План ввода основ. ср-в'!B:B,0))),0,INDEX('План ввода основ. ср-в'!AA:AA,MATCH(B31,'План ввода основ. ср-в'!B:B,0)))","v":0},{"$f":"IF(ISNA(INDEX('План ввода основ. ср-в'!AB:AB,MATCH(B31,'План ввода основ. ср-в'!B:B,0))),0,INDEX('План ввода основ. ср-в'!AB:AB,MATCH(B31,'План ввода основ. ср-в'!B:B,0)))","v":0},{"$f":"IF(ISNA(INDEX('План ввода основ. ср-в'!AC:AC,MATCH(B31,'План ввода основ. ср-в'!B:B,0))),0,INDEX('План ввода основ. ср-в'!AC:AC,MATCH(B31,'План ввода основ. ср-в'!B:B,0)))","v":4.8135593220338979},4.8135593220338979]
[10,"Больше-Черниговский район",null,null,null,null,null,null,0,"",0,0,"",0,0,"",0,0,"",0,0,"",0,0,"/",0,0,{"$f":"IF(ISNA(INDEX('План ввода основ. ср-в'!F:F,MATCH(B32,'План ввода основ. ср-в'!B:B,0))),0,INDEX('План ввода основ. ср-в'!F:F,MATCH(B32,'План ввода основ. ср-в'!B:B,0)))","v":0},"",{"$f":"IF(ISNA(INDEX('План ввода основ. ср-в'!E:E,MATCH(B32,'План ввода основ. ср-в'!B:B,0))),0,INDEX('План ввода основ. ср-в'!E:E,MATCH(B32,'План ввода основ. ср-в'!B:B,0)))","v":0},{"$f":"IF(ISNA(INDEX('План ввода основ. ср-в'!H:H,MATCH(B32,'План ввода основ. ср-в'!B:B,0))),0,INDEX('План ввода основ. ср-в'!H:H,MATCH(B32,'План ввода основ. ср-в'!B:B,0)))","v":0},"",{"$f":"IF(ISNA(INDEX('План ввода основ. ср-в'!G:G,MATCH(B32,'План ввода основ. ср-в'!B:B,0))),0,INDEX('План ввода основ. ср-в'!G:G,MATCH(B32,'План ввода основ. ср-в'!B:B,0)))","v":0},{"$f":"IF(ISNA(INDEX('План ввода основ. ср-в'!J:J,MATCH(B32,'План ввода основ. ср-в'!B:B,0))),0,INDEX('План ввода основ. ср-в'!J:J,MATCH(B32,'План ввода основ. ср-в'!B:B,0)))","v":0},"",{"$f":"IF(ISNA(INDEX('План ввода основ. ср-в'!I:I,MATCH(B32,'План ввода основ. ср-в'!B:B,0))),0,INDEX('План ввода основ. ср-в'!I:I,MATCH(B32,'План ввода основ. ср-в'!B:B,0)))","v":0},{"$f":"IF(ISNA(INDEX('План ввода основ. ср-в'!L:L,MATCH(B32,'План ввода основ. ср-в'!B:B,0))),0,INDEX('План ввода основ. ср-в'!L:L,MATCH(B32,'План ввода основ. ср-в'!B:B,0)))","v":0},"",{"$f":"IF(ISNA(INDEX('План ввода основ. ср-в'!K:K,MATCH(B32,'План ввода основ. ср-в'!B:B,0))),0,INDEX('План ввода основ. ср-в'!K:K,MATCH(B32,'План ввода основ. ср-в'!B:B,0)))","v":0},0,"/",0,{"$f":"IF(ISNA(INDEX('План ввода основ. ср-в'!N:N,MATCH(B32,'План ввода основ. ср-в'!B:B,0))),0,INDEX('План ввода основ. ср-в'!N:N,MATCH(B32,'План ввода основ. ср-в'!B:B,0)))","v":0},"",{"$f":"IF(ISNA(INDEX('План ввода основ. ср-в'!M:M,MATCH(B32,'План ввода основ. ср-в'!B:B,0))),0,INDEX('План ввода основ. ср-в'!M:M,MATCH(B32,'План ввода основ. ср-в'!B:B,0)))","v":0},{"$f":"IF(ISNA(INDEX('План ввода основ. ср-в'!P:P,MATCH(B32,'План ввода основ. ср-в'!B:B,0))),0,INDEX('План ввода основ. ср-в'!P:P,MATCH(B32,'План ввода основ. ср-в'!B:B,0)))","v":0},"",{"$f":"IF(ISNA(INDEX('План ввода основ. ср-в'!O:O,MATCH(B32,'План ввода основ. ср-в'!B:B,0))),0,INDEX('План ввода основ. ср-в'!O:O,MATCH(B32,'План ввода основ. ср-в'!B:B,0)))","v":0},{"$f":"IF(ISNA(INDEX('План ввода основ. ср-в'!R:R,MATCH(B32,'План ввода основ. ср-в'!B:B,0))),0,INDEX('План ввода основ. ср-в'!R:R,MATCH(B32,'План ввода основ. ср-в'!B:B,0)))","v":0},"",{"$f":"IF(ISNA(INDEX('План ввода основ. ср-в'!Q:Q,MATCH(B32,'План ввода основ. ср-в'!B:B,0))),0,INDEX('План ввода основ. ср-в'!Q:Q,MATCH(B32,'План ввода основ. ср-в'!B:B,0)))","v":0},{"$f":"IF(ISNA(INDEX('План ввода основ. ср-в'!T:T,MATCH(B32,'План ввода основ. ср-в'!B:B,0))),0,INDEX('План ввода основ. ср-в'!T:T,MATCH(B32,'План ввода основ. ср-в'!B:B,0)))","v":0},"",{"$f":"IF(ISNA(INDEX('План ввода основ. ср-в'!S:S,MATCH(B32,'План ввода основ. ср-в'!B:B,0))),0,INDEX('План ввода основ. ср-в'!S:S,MATCH(B32,'План ввода основ. ср-в'!B:B,0)))","v":0},0,"/",0,{"$f":"IF(ISNA(INDEX('План ввода основ. ср-в'!V:V,MATCH(B32,'План ввода основ. ср-в'!B:B,0))),0,INDEX('План ввода основ. ср-в'!V:V,MATCH(B32,'План ввода основ. ср-в'!B:B,0)))","v":0},{"$f":"IF(ISNA(INDEX('План ввода основ. ср-в'!W:W,MATCH(B32,'План ввода основ. ср-в'!B:B,0))),0,INDEX('План ввода основ. ср-в'!W:W,MATCH(B32,'План ввода основ. ср-в'!B:B,0)))","v":0},{"$f":"IF(ISNA(INDEX('План ввода основ. ср-в'!X:X,MATCH(B32,'План ввода основ. ср-в'!B:B,0))),0,INDEX('План ввода основ. ср-в'!X:X,MATCH(B32,'План ввода основ. ср-в'!B:B,0)))","v":0},{"$f":"IF(ISNA(INDEX('План ввода основ. ср-в'!Y:Y,MATCH(B32,'План ввода основ. ср-в'!B:B,0))),0,INDEX('План ввода основ. ср-в'!Y:Y,MATCH(B32,'План ввода основ. ср-в'!B:B,0)))","v":0},0,{"$f":"IF(ISNA(INDEX('План ввода основ. ср-в'!Z:Z,MATCH(B32,'План ввода основ. ср-в'!B:B,0))),0,INDEX('План ввода основ. ср-в'!Z:Z,MATCH(B32,'План ввода основ. ср-в'!B:B,0)))","v":0},{"$f":"IF(ISNA(INDEX('План ввода основ. ср-в'!AA:AA,MATCH(B32,'План ввода основ. ср-в'!B:B,0))),0,INDEX('План ввода основ. ср-в'!AA:AA,MATCH(B32,'План ввода основ. ср-в'!B:B,0)))","v":0},{"$f":"IF(ISNA(INDEX('План ввода основ. ср-в'!AB:AB,MATCH(B32,'План ввода основ. ср-в'!B:B,0))),0,INDEX('План ввода основ. ср-в'!AB:AB,MATCH(B32,'План ввода основ. ср-в'!B:B,0)))","v":0},{"$f":"IF(ISNA(INDEX('План ввода основ. ср-в'!AC:AC,MATCH(B32,'План ввода основ. ср-в'!B:B,0))),0,INDEX('План ввода основ. ср-в'!AC:AC,MATCH(B32,'План ввода основ. ср-в'!B:B,0)))","v":0},0]
[11,"Реконструкция ВЛ-0,4кВ от КТП 1205/400 кВА с заменой КТП",null,null,null,null,null,null,1.68,"/",0.4,0,"",0,0,"",0,0,"",0,0,"",0,1.68,"/",0.4,5.9118644067796602,{"$f":"IF(ISNA(INDEX('План ввода основ. ср-в'!F:F,MATCH(B33,'План ввода основ. ср-в'!B:B,0))),0,INDEX('План ввода основ. ср-в'!F:F,MATCH(B33,'План ввода основ. ср-в'!B:B,0)))","v":0},"",{"$f":"IF(ISNA(INDEX('План ввода основ. ср-в'!E:E,MATCH(B33,'План ввода основ. ср-в'!B:B,0))),0,INDEX('План ввода основ. ср-в'!E:E,MATCH(B33,'План ввода основ. ср-в'!B:B,0)))","v":0},{"$f":"IF(ISNA(INDEX('План ввода основ. ср-в'!H:H,MATCH(B33,'План ввода основ. ср-в'!B:B,0))),0,INDEX('План ввода основ. ср-в'!H:H,MATCH(B33,'План ввода основ. ср-в'!B:B,0)))","v":0},"",{"$f":"IF(ISNA(INDEX('План ввода основ. ср-в'!G:G,MATCH(B33,'План ввода основ. ср-в'!B:B,0))),0,INDEX('План ввода основ. ср-в'!G:G,MATCH(B33,'План ввода основ. ср-в'!B:B,0)))","v":0},{"$f":"IF(ISNA(INDEX('План ввода основ. ср-в'!J:J,MATCH(B33,'План ввода основ. ср-в'!B:B,0))),0,INDEX('План ввода основ. ср-в'!J:J,MATCH(B33,'План ввода основ. ср-в'!B:B,0)))","v":0},"",{"$f":"IF(ISNA(INDEX('План ввода основ. ср-в'!I:I,MATCH(B33,'План ввода основ. ср-в'!B:B,0))),0,INDEX('План ввода основ. ср-в'!I:I,MATCH(B33,'План ввода основ. ср-в'!B:B,0)))","v":0},{"$f":"IF(ISNA(INDEX('План ввода основ. ср-в'!L:L,MATCH(B33,'План ввода основ. ср-в'!B:B,0))),0,INDEX('План ввода основ. ср-в'!L:L,MATCH(B33,'План ввода основ. ср-в'!B:B,0)))","v":1.68},"/",{"$f":"IF(ISNA(INDEX('План ввода основ. ср-в'!K:K,MATCH(B33,'План ввода основ. ср-в'!B:B,0))),0,INDEX('План ввода основ. ср-в'!K:K,MATCH(B33,'План ввода основ. ср-в'!B:B,0)))","v":0.4},1.68,"/",0.4,{"$f":"IF(ISNA(INDEX('План ввода основ. ср-в'!N:N,MATCH(B33,'План ввода основ. ср-в'!B:B,0))),0,INDEX('План ввода основ. ср-в'!N:N,MATCH(B33,'План ввода основ. ср-в'!B:B,0)))","v":0},"",{"$f":"IF(ISNA(INDEX('План ввода основ. ср-в'!M:M,MATCH(B33,'План ввода основ. ср-в'!B:B,0))),0,INDEX('План ввода основ. ср-в'!M:M,MATCH(B33,'План ввода основ. ср-в'!B:B,0)))","v":0},{"$f":"IF(ISNA(INDEX('План ввода основ. ср-в'!P:P,MATCH(B33,'План ввода основ. ср-в'!B:B,0))),0,INDEX('План ввода основ. ср-в'!P:P,MATCH(B33,'План ввода основ. ср-в'!B:B,0)))","v":0},"",{"$f":"IF(ISNA(INDEX('План ввода основ. ср-в'!O:O,MATCH(B33,'План ввода основ. ср-в'!B:B,0))),0,INDEX('План ввода основ. ср-в'!O:O,MATCH(B33,'План ввода основ. ср-в'!B:B,0)))","v":0},{"$f":"IF(ISNA(INDEX('План ввода основ. ср-в'!R:R,MATCH(B33,'План ввода основ. ср-в'!B:B,0))),0,INDEX('План ввода основ. ср-в'!R:R,MATCH(B33,'План ввода основ. ср-в'!B:B,0)))","v":0},"",{"$f":"IF(ISNA(INDEX('План ввода основ. ср-в'!Q:Q,MATCH(B33,'План ввода основ. ср-в'!B:B,0))),0,INDEX('План ввода основ. ср-в'!Q:Q,MATCH(B33,'План ввода основ. ср-в'!B:B,0)))","v":0},{"$f":"IF(ISNA(INDEX('План ввода основ. ср-в'!T:T,MATCH(B33,'План ввода основ. ср-в'!B:B,0))),0,INDEX('План ввода основ. ср-в'!T:T,MATCH(B33,'План ввода основ. ср-в'!B:B,0)))","v":0},"",{"$f":"IF(ISNA(INDEX('План ввода основ. ср-в'!S:S,MATCH(B33,'План ввода основ. ср-в'!B:B,0))),0,INDEX('План ввода основ. ср-в'!S:S,MATCH(B33,'План ввода основ. ср-в'!B:B,0)))","v":0},1.68,"/",0.4,{"$f":"IF(ISNA(INDEX('План ввода основ. ср-в'!V:V,MATCH(B33,'План ввода основ. ср-в'!B:B,0))),0,INDEX('План ввода основ. ср-в'!V:V,MATCH(B33,'План ввода основ. ср-в'!B:B,0)))","v":0},{"$f":"IF(ISNA(INDEX('План ввода основ. ср-в'!W:W,MATCH(B33,'План ввода основ. ср-в'!B:B,0))),0,INDEX('План ввода основ. ср-в'!W:W,MATCH(B33,'План ввода основ. ср-в'!B:B,0)))","v":0.88677966101694916},{"$f":"IF(ISNA(INDEX('План ввода основ. ср-в'!X:X,MATCH(B33,'План ввода основ. ср-в'!B:B,0))),0,INDEX('План ввода основ. ср-в'!X:X,MATCH(B33,'План ввода основ. ср-в'!B:B,0)))","v":2.0691525423728812},{"$f":"IF(ISNA(INDEX('План ввода основ. ср-в'!Y:Y,MATCH(B33,'План ввода основ. ср-в'!B:B,0))),0,INDEX('План ввода основ. ср-в'!Y:Y,MATCH(B33,'План ввода основ. ср-в'!B:B,0)))","v":2.9559322033898305},5.9118644067796602,{"$f":"IF(ISNA(INDEX('План ввода основ. ср-в'!Z:Z,MATCH(B33,'План ввода основ. ср-в'!B:B,0))),0,INDEX('План ввода основ. ср-в'!Z:Z,MATCH(B33,'План ввода основ. ср-в'!B:B,0)))","v":0},{"$f":"IF(ISNA(INDEX('План ввода основ. ср-в'!AA:AA,MATCH(B33,'План ввода основ. ср-в'!B:B,0))),0,INDEX('План ввода основ. ср-в'!AA:AA,MATCH(B33,'План ввода основ. ср-в'!B:B,0)))","v":0},{"$f":"IF(ISNA(INDEX('План ввода основ. ср-в'!AB:AB,MATCH(B33,'План ввода основ. ср-в'!B:B,0))),0,INDEX('План ввода основ. ср-в'!AB:AB,MATCH(B33,'План ввода основ. ср-в'!B:B,0)))","v":0},{"$f":"IF(ISNA(INDEX('План ввода основ. ср-в'!AC:AC,MATCH(B33,'План ввода основ. ср-в'!B:B,0))),0,INDEX('План ввода основ. ср-в'!AC:AC,MATCH(B33,'План ввода основ. ср-в'!B:B,0)))","v":0},5.9118644067796602]
[12,"Реконструкция ВЛ-0,4кВ от КТП 1204/400 кВА с заменой КТП",null,null,null,null,null,null,0.7,null,0.4,0,null,0,null,null,null,0,null,0,0,null,0,0.7,null,0.4,3.2542372881355934,{"$f":"IF(ISNA(INDEX('План ввода основ. ср-в'!F:F,MATCH(B34,'План ввода основ. ср-в'!B:B,0))),0,INDEX('План ввода основ. ср-в'!F:F,MATCH(B34,'План ввода основ. ср-в'!B:B,0)))","v":0},null,{"$f":"IF(ISNA(INDEX('План ввода основ. ср-в'!E:E,MATCH(B34,'План ввода основ. ср-в'!B:B,0))),0,INDEX('План ввода основ. ср-в'!E:E,MATCH(B34,'План ввода основ. ср-в'!B:B,0)))","v":0},{"$f":"IF(ISNA(INDEX('План ввода основ. ср-в'!H:H,MATCH(B34,'План ввода основ. ср-в'!B:B,0))),0,INDEX('План ввода основ. ср-в'!H:H,MATCH(B34,'План ввода основ. ср-в'!B:B,0)))","v":0},null,{"$f":"IF(ISNA(INDEX('План ввода основ. ср-в'!G:G,MATCH(B34,'План ввода основ. ср-в'!B:B,0))),0,INDEX('План ввода основ. ср-в'!G:G,MATCH(B34,'План ввода основ. ср-в'!B:B,0)))","v":0},{"$f":"IF(ISNA(INDEX('План ввода основ. ср-в'!J:J,MATCH(B34,'План ввода основ. ср-в'!B:B,0))),0,INDEX('План ввода основ. ср-в'!J:J,MATCH(B34,'План ввода основ. ср-в'!B:B,0)))","v":0},null,{"$f":"IF(ISNA(INDEX('План ввода основ. ср-в'!I:I,MATCH(B34,'План ввода основ. ср-в'!B:B,0))),0,INDEX('План ввода основ. ср-в'!I:I,MATCH(B34,'План ввода основ. ср-в'!B:B,0)))","v":0},{"$f":"IF(ISNA(INDEX('План ввода основ. ср-в'!L:L,MATCH(B34,'План ввода основ. ср-в'!B:B,0))),0,INDEX('План ввода основ. ср-в'!L:L,MATCH(B34,'План ввода основ. ср-в'!B:B,0)))","v":0.7},null,{"$f":"IF(ISNA(INDEX('План ввода основ. ср-в'!K:K,MATCH(B34,'План ввода основ. ср-в'!B:B,0))),0,INDEX('План ввода основ. ср-в'!K:K,MATCH(B34,'План ввода основ. ср-в'!B:B,0)))","v":0.4},0.7,null,0.4,{"$f":"IF(ISNA(INDEX('План ввода основ. ср-в'!N:N,MATCH(B34,'План ввода основ. ср-в'!B:B,0))),0,INDEX('План ввода основ. ср-в'!N:N,MATCH(B34,'План ввода основ. ср-в'!B:B,0)))","v":0},null,{"$f":"IF(ISNA(INDEX('План ввода основ. ср-в'!M:M,MATCH(B34,'План ввода основ. ср-в'!B:B,0))),0,INDEX('План ввода основ. ср-в'!M:M,MATCH(B34,'План ввода основ. ср-в'!B:B,0)))","v":0},{"$f":"IF(ISNA(INDEX('План ввода основ. ср-в'!P:P,MATCH(B34,'План ввода основ. ср-в'!B:B,0))),0,INDEX('План ввода основ. ср-в'!P:P,MATCH(B34,'План ввода основ. ср-в'!B:B,0)))","v":0},null,{"$f":"IF(ISNA(INDEX('План ввода основ. ср-в'!O:O,MATCH(B34,'План ввода основ. ср-в'!B:B,0))),0,INDEX('План ввода основ. ср-в'!O:O,MATCH(B34,'План ввода основ. ср-в'!B:B,0)))","v":0},{"$f":"IF(ISNA(INDEX('План ввода основ. ср-в'!R:R,MATCH(B34,'План ввода основ. ср-в'!B:B,0))),0,INDEX('План ввода основ. ср-в'!R:R,MATCH(B34,'План ввода основ. ср-в'!B:B,0)))","v":0},null,{"$f":"IF(ISNA(INDEX('План ввода основ. ср-в'!Q:Q,MATCH(B34,'План ввода основ. ср-в'!B:B,0))),0,INDEX('План ввода основ. ср-в'!Q:Q,MATCH(B34,'План ввода основ. ср-в'!B:B,0)))","v":0},{"$f":"IF(ISNA(INDEX('План ввода основ. ср-в'!T:T,MATCH(B34,'План ввода основ. ср-в'!B:B,0))),0,INDEX('План ввода основ. ср-в'!T:T,MATCH(B34,'План ввода основ. ср-в'!B:B,0)))","v":0},null,{"$f":"IF(ISNA(INDEX('План ввода основ. ср-в'!S:S,MATCH(B34,'План ввода основ. ср-в'!B:B,0))),0,INDEX('План ввода основ. ср-в'!S:S,MATCH(B34,'План ввода основ. ср-в'!B:B,0)))","v":0},0.7,null,0.4,null,{"$f":"IF(ISNA(INDEX('План ввода основ. ср-в'!W:W,MATCH(B34,'План ввода основ. ср-в'!B:B,0))),0,INDEX('План ввода основ. ср-в'!W:W,MATCH(B34,'План ввода основ. ср-в'!B:B,0)))","v":0.488135593220339},{"$f":"IF(ISNA(INDEX('План ввода основ. ср-в'!X:X,MATCH(B34,'План ввода основ. ср-в'!B:B,0))),0,INDEX('План ввода основ. ср-в'!X:X,MATCH(B34,'План ввода основ. ср-в'!B:B,0)))","v":1.1389830508474577},{"$f":"IF(ISNA(INDEX('План ввода основ. ср-в'!Y:Y,MATCH(B34,'План ввода основ. ср-в'!B:B,0))),0,INDEX('План ввода основ. ср-в'!Y:Y,MATCH(B34,'План ввода основ. ср-в'!B:B,0)))","v":1.6271186440677967},3.2542372881355934,{"$f":"IF(ISNA(INDEX('План ввода основ. ср-в'!Z:Z,MATCH(B34,'План ввода основ. ср-в'!B:B,0))),0,INDEX('План ввода основ. ср-в'!Z:Z,MATCH(B34,'План ввода основ. ср-в'!B:B,0)))","v":0},{"$f":"IF(ISNA(INDEX('План ввода основ. ср-в'!AA:AA,MATCH(B34,'План ввода основ. ср-в'!B:B,0))),0,INDEX('План ввода основ. ср-в'!AA:AA,MATCH(B34,'План ввода основ. ср-в'!B:B,0)))","v":0},{"$f":"IF(ISNA(INDEX('План ввода основ. ср-в'!AB:AB,MATCH(B34,'План ввода основ. ср-в'!B:B,0))),0,INDEX('План ввода основ. ср-в'!AB:AB,MATCH(B34,'План ввода основ. ср-в'!B:B,0)))","v":0},{"$f":"IF(ISNA(INDEX('План ввода основ. ср-в'!AC:AC,MATCH(B34,'План ввода основ. ср-в'!B:B,0))),0,INDEX('План ввода основ. ср-в'!AC:AC,MATCH(B34,'План ввода основ. ср-в'!B:B,0)))","v":0},3.2542372881355934]
[13,"Реконструкция ВЛ-0,4кВ от КТП 415/250 кВА с заменой КТП",null,null,null,null,null,null,0.8,null,0.25,0,null,0,null,null,null,0,null,0,0,null,0,0.8,null,0.25,3.2711864406779663,{"$f":"IF(ISNA(INDEX('План ввода основ. ср-в'!F:F,MATCH(B35,'План ввода основ. ср-в'!B:B,0))),0,INDEX('План ввода основ. ср-в'!F:F,MATCH(B35,'План ввода основ. ср-в'!B:B,0)))","v":0},null,{"$f":"IF(ISNA(INDEX('План ввода основ. ср-в'!E:E,MATCH(B35,'План ввода основ. ср-в'!B:B,0))),0,INDEX('План ввода основ. ср-в'!E:E,MATCH(B35,'План ввода основ. ср-в'!B:B,0)))","v":0},{"$f":"IF(ISNA(INDEX('План ввода основ. ср-в'!H:H,MATCH(B35,'План ввода основ. ср-в'!B:B,0))),0,INDEX('План ввода основ. ср-в'!H:H,MATCH(B35,'План ввода основ. ср-в'!B:B,0)))","v":0},null,{"$f":"IF(ISNA(INDEX('План ввода основ. ср-в'!G:G,MATCH(B35,'План ввода основ. ср-в'!B:B,0))),0,INDEX('План ввода основ. ср-в'!G:G,MATCH(B35,'План ввода основ. ср-в'!B:B,0)))","v":0},{"$f":"IF(ISNA(INDEX('План ввода основ. ср-в'!J:J,MATCH(B35,'План ввода основ. ср-в'!B:B,0))),0,INDEX('План ввода основ. ср-в'!J:J,MATCH(B35,'План ввода основ. ср-в'!B:B,0)))","v":0},null,{"$f":"IF(ISNA(INDEX('План ввода основ. ср-в'!I:I,MATCH(B35,'План ввода основ. ср-в'!B:B,0))),0,INDEX('План ввода основ. ср-в'!I:I,MATCH(B35,'План ввода основ. ср-в'!B:B,0)))","v":0},{"$f":"IF(ISNA(INDEX('План ввода основ. ср-в'!L:L,MATCH(B35,'План ввода основ. ср-в'!B:B,0))),0,INDEX('План ввода основ. ср-в'!L:L,MATCH(B35,'План ввода основ. ср-в'!B:B,0)))","v":0.8},null,{"$f":"IF(ISNA(INDEX('План ввода основ. ср-в'!K:K,MATCH(B35,'План ввода основ. ср-в'!B:B,0))),0,INDEX('План ввода основ. ср-в'!K:K,MATCH(B35,'План ввода основ. ср-в'!B:B,0)))","v":0.25},0.8,null,0.25,{"$f":"IF(ISNA(INDEX('План ввода основ. ср-в'!N:N,MATCH(B35,'План ввода основ. ср-в'!B:B,0))),0,INDEX('План ввода основ. ср-в'!N:N,MATCH(B35,'План ввода основ. ср-в'!B:B,0)))","v":0},null,{"$f":"IF(ISNA(INDEX('План ввода основ. ср-в'!M:M,MATCH(B35,'План ввода основ. ср-в'!B:B,0))),0,INDEX('План ввода основ. ср-в'!M:M,MATCH(B35,'План ввода основ. ср-в'!B:B,0)))","v":0},{"$f":"IF(ISNA(INDEX('План ввода основ. ср-в'!P:P,MATCH(B35,'План ввода основ. ср-в'!B:B,0))),0,INDEX('План ввода основ. ср-в'!P:P,MATCH(B35,'План ввода основ. ср-в'!B:B,0)))","v":0},null,{"$f":"IF(ISNA(INDEX('План ввода основ. ср-в'!O:O,MATCH(B35,'План ввода основ. ср-в'!B:B,0))),0,INDEX('План ввода основ. ср-в'!O:O,MATCH(B35,'План ввода основ. ср-в'!B:B,0)))","v":0},{"$f":"IF(ISNA(INDEX('План ввода основ. ср-в'!R:R,MATCH(B35,'План ввода основ. ср-в'!B:B,0))),0,INDEX('План ввода основ. ср-в'!R:R,MATCH(B35,'План ввода основ. ср-в'!B:B,0)))","v":0},null,{"$f":"IF(ISNA(INDEX('План ввода основ. ср-в'!Q:Q,MATCH(B35,'План ввода основ. ср-в'!B:B,0))),0,INDEX('План ввода основ. ср-в'!Q:Q,MATCH(B35,'План ввода основ. ср-в'!B:B,0)))","v":0},{"$f":"IF(ISNA(INDEX('План ввода основ. ср-в'!T:T,MATCH(B35,'План ввода основ. ср-в'!B:B,0))),0,INDEX('План ввода основ. ср-в'!T:T,MATCH(B35,'План ввода основ. ср-в'!B:B,0)))","v":0},null,{"$f":"IF(ISNA(INDEX('План ввода основ. ср-в'!S:S,MATCH(B35,'План ввода основ. ср-в'!B:B,0))),0,INDEX('План ввода основ. ср-в'!S:S,MATCH(B35,'План ввода основ. ср-в'!B:B,0)))","v":0},0.8,null,0.25,null,{"$f":"IF(ISNA(INDEX('План ввода основ. ср-в'!W:W,MATCH(B35,'План ввода основ. ср-в'!B:B,0))),0,INDEX('План ввода основ. ср-в'!W:W,MATCH(B35,'План ввода основ. ср-в'!B:B,0)))","v":0.49067796610169501},{"$f":"IF(ISNA(INDEX('План ввода основ. ср-в'!X:X,MATCH(B35,'План ввода основ. ср-в'!B:B,0))),0,INDEX('План ввода основ. ср-в'!X:X,MATCH(B35,'План ввода основ. ср-в'!B:B,0)))","v":1.1449152542372882},{"$f":"IF(ISNA(INDEX('План ввода основ. ср-в'!Y:Y,MATCH(B35,'План ввода основ. ср-в'!B:B,0))),0,INDEX('План ввода основ. ср-в'!Y:Y,MATCH(B35,'План ввода основ. ср-в'!B:B,0)))","v":1.6355932203389834},3.2711864406779663,{"$f":"IF(ISNA(INDEX('План ввода основ. ср-в'!Z:Z,MATCH(B35,'План ввода основ. ср-в'!B:B,0))),0,INDEX('План ввода основ. ср-в'!Z:Z,MATCH(B35,'План ввода основ. ср-в'!B:B,0)))","v":0},{"$f":"IF(ISNA(INDEX('План ввода основ. ср-в'!AA:AA,MATCH(B35,'План ввода основ. ср-в'!B:B,0))),0,INDEX('План ввода основ. ср-в'!AA:AA,MATCH(B35,'План ввода основ. ср-в'!B:B,0)))","v":0},{"$f":"IF(ISNA(INDEX('План ввода основ. ср-в'!AB:AB,MATCH(B35,'План ввода основ. ср-в'!B:B,0))),0,INDEX('План ввода основ. ср-в'!AB:AB,MATCH(B35,'План ввода основ. ср-в'!B:B,0)))","v":0},{"$f":"IF(ISNA(INDEX('План ввода основ. ср-в'!AC:AC,MATCH(B35,'План ввода основ. ср-в'!B:B,0))),0,INDEX('План ввода основ. ср-в'!AC:AC,MATCH(B35,'План ввода основ. ср-в'!B:B,0)))","v":0},3.2711864406779663]
[14,"Реконструкция ВЛ-0,4кВ от КТП 1206/160 кВА с заменой КТП",null,null,null,null,null,null,2.2000000000000002,"/",0.16,0,"",0,0,"",0,0,"",0,0,"",0,2.2000000000000002,"/",0.16,7.0677966101694913,{"$f":"IF(ISNA(INDEX('План ввода основ. ср-в'!F:F,MATCH(B36,'План ввода основ. ср-в'!B:B,0))),0,INDEX('План ввода основ. ср-в'!F:F,MATCH(B36,'План ввода основ. ср-в'!B:B,0)))","v":0},"",{"$f":"IF(ISNA(INDEX('План ввода основ. ср-в'!E:E,MATCH(B36,'План ввода основ. ср-в'!B:B,0))),0,INDEX('План ввода основ. ср-в'!E:E,MATCH(B36,'План ввода основ. ср-в'!B:B,0)))","v":0},{"$f":"IF(ISNA(INDEX('План ввода основ. ср-в'!H:H,MATCH(B36,'План ввода основ. ср-в'!B:B,0))),0,INDEX('План ввода основ. ср-в'!H:H,MATCH(B36,'План ввода основ. ср-в'!B:B,0)))","v":0},"",{"$f":"IF(ISNA(INDEX('План ввода основ. ср-в'!G:G,MATCH(B36,'План ввода основ. ср-в'!B:B,0))),0,INDEX('План ввода основ. ср-в'!G:G,MATCH(B36,'План ввода основ. ср-в'!B:B,0)))","v":0},{"$f":"IF(ISNA(INDEX('План ввода основ. ср-в'!J:J,MATCH(B36,'План ввода основ. ср-в'!B:B,0))),0,INDEX('План ввода основ. ср-в'!J:J,MATCH(B36,'План ввода основ. ср-в'!B:B,0)))","v":0},"",{"$f":"IF(ISNA(INDEX('План ввода основ. ср-в'!I:I,MATCH(B36,'План ввода основ. ср-в'!B:B,0))),0,INDEX('План ввода основ. ср-в'!I:I,MATCH(B36,'План ввода основ. ср-в'!B:B,0)))","v":0},{"$f":"IF(ISNA(INDEX('План ввода основ. ср-в'!L:L,MATCH(B36,'План ввода основ. ср-в'!B:B,0))),0,INDEX('План ввода основ. ср-в'!L:L,MATCH(B36,'План ввода основ. ср-в'!B:B,0)))","v":2.2000000000000002},"/",{"$f":"IF(ISNA(INDEX('План ввода основ. ср-в'!K:K,MATCH(B36,'План ввода основ. ср-в'!B:B,0))),0,INDEX('План ввода основ. ср-в'!K:K,MATCH(B36,'План ввода основ. ср-в'!B:B,0)))","v":0.16},2.2000000000000002,"/",0.16,{"$f":"IF(ISNA(INDEX('План ввода основ. ср-в'!N:N,MATCH(B36,'План ввода основ. ср-в'!B:B,0))),0,INDEX('План ввода основ. ср-в'!N:N,MATCH(B36,'План ввода основ. ср-в'!B:B,0)))","v":0},"",{"$f":"IF(ISNA(INDEX('План ввода основ. ср-в'!M:M,MATCH(B36,'План ввода основ. ср-в'!B:B,0))),0,INDEX('План ввода основ. ср-в'!M:M,MATCH(B36,'План ввода основ. ср-в'!B:B,0)))","v":0},{"$f":"IF(ISNA(INDEX('План ввода основ. ср-в'!P:P,MATCH(B36,'План ввода основ. ср-в'!B:B,0))),0,INDEX('План ввода основ. ср-в'!P:P,MATCH(B36,'План ввода основ. ср-в'!B:B,0)))","v":0},"",{"$f":"IF(ISNA(INDEX('План ввода основ. ср-в'!O:O,MATCH(B36,'План ввода основ. ср-в'!B:B,0))),0,INDEX('План ввода основ. ср-в'!O:O,MATCH(B36,'План ввода основ. ср-в'!B:B,0)))","v":0},{"$f":"IF(ISNA(INDEX('План ввода основ. ср-в'!R:R,MATCH(B36,'План ввода основ. ср-в'!B:B,0))),0,INDEX('План ввода основ. ср-в'!R:R,MATCH(B36,'План ввода основ. ср-в'!B:B,0)))","v":0},"",{"$f":"IF(ISNA(INDEX('План ввода основ. ср-в'!Q:Q,MATCH(B36,'План ввода основ. ср-в'!B:B,0))),0,INDEX('План ввода основ. ср-в'!Q:Q,MATCH(B36,'План ввода основ. ср-в'!B:B,0)))","v":0},{"$f":"IF(ISNA(INDEX('План ввода основ. ср-в'!T:T,MATCH(B36,'План ввода основ. ср-в'!B:B,0))),0,INDEX('План ввода основ. ср-в'!T:T,MATCH(B36,'План ввода основ. ср-в'!B:B,0)))","v":0},"",{"$f":"IF(ISNA(INDEX('План ввода основ. ср-в'!S:S,MATCH(B36,'План ввода основ. ср-в'!B:B,0))),0,INDEX('План ввода основ. ср-в'!S:S,MATCH(B36,'План ввода основ. ср-в'!B:B,0)))","v":0},2.2000000000000002,"/",0.16,{"$f":"IF(ISNA(INDEX('План ввода основ. ср-в'!V:V,MATCH(B36,'План ввода основ. ср-в'!B:B,0))),0,INDEX('План ввода основ. ср-в'!V:V,MATCH(B36,'План ввода основ. ср-в'!B:B,0)))","v":0},{"$f":"IF(ISNA(INDEX('План ввода основ. ср-в'!W:W,MATCH(B36,'План ввода основ. ср-в'!B:B,0))),0,INDEX('План ввода основ. ср-в'!W:W,MATCH(B36,'План ввода основ. ср-в'!B:B,0)))","v":1.0601694915254236},{"$f":"IF(ISNA(INDEX('План ввода основ. ср-в'!X:X,MATCH(B36,'План ввода основ. ср-в'!B:B,0))),0,INDEX('План ввода основ. ср-в'!X:X,MATCH(B36,'План ввода основ. ср-в'!B:B,0)))","v":2.4737288135593216},{"$f":"IF(ISNA(INDEX('План ввода основ. ср-в'!Y:Y,MATCH(B36,'План ввода основ. ср-в'!B:B,0))),0,INDEX('План ввода основ. ср-в'!Y:Y,MATCH(B36,'План ввода основ. ср-в'!B:B,0)))","v":3.5338983050847457},7.0677966101694913,{"$f":"IF(ISNA(INDEX('План ввода основ. ср-в'!Z:Z,MATCH(B36,'План ввода основ. ср-в'!B:B,0))),0,INDEX('План ввода основ. ср-в'!Z:Z,MATCH(B36,'План ввода основ. ср-в'!B:B,0)))","v":0},{"$f":"IF(ISNA(INDEX('План ввода основ. ср-в'!AA:AA,MATCH(B36,'План ввода основ. ср-в'!B:B,0))),0,INDEX('План ввода основ. ср-в'!AA:AA,MATCH(B36,'План ввода основ. ср-в'!B:B,0)))","v":0},{"$f":"IF(ISNA(INDEX('План ввода основ. ср-в'!AB:AB,MATCH(B36,'План ввода основ. ср-в'!B:B,0))),0,INDEX('План ввода основ. ср-в'!AB:AB,MATCH(B36,'План ввода основ. ср-в'!B:B,0)))","v":0},{"$f":"IF(ISNA(INDEX('План ввода основ. ср-в'!AC:AC,MATCH(B36,'План ввода основ. ср-в'!B:B,0))),0,INDEX('План ввода основ. ср-в'!AC:AC,MATCH(B36,'План ввода основ. ср-в'!B:B,0)))","v":0},7.0677966101694913]
[15,"Реконструкция ВЛ-0,4кВ от КТП 1202/250 кВА с заменой КТП",null,null,null,null,null,null,1.05,"/",0.25,0,"",0,0,"",0,0,"",0,0,"",0,1.05,"/",0.25,3.9491525423728815,{"$f":"IF(ISNA(INDEX('План ввода основ. ср-в'!F:F,MATCH(B37,'План ввода основ. ср-в'!B:B,0))),0,INDEX('План ввода основ. ср-в'!F:F,MATCH(B37,'План ввода основ. ср-в'!B:B,0)))","v":0},"",{"$f":"IF(ISNA(INDEX('План ввода основ. ср-в'!E:E,MATCH(B37,'План ввода основ. ср-в'!B:B,0))),0,INDEX('План ввода основ. ср-в'!E:E,MATCH(B37,'План ввода основ. ср-в'!B:B,0)))","v":0},{"$f":"IF(ISNA(INDEX('План ввода основ. ср-в'!H:H,MATCH(B37,'План ввода основ. ср-в'!B:B,0))),0,INDEX('План ввода основ. ср-в'!H:H,MATCH(B37,'План ввода основ. ср-в'!B:B,0)))","v":0},"",{"$f":"IF(ISNA(INDEX('План ввода основ. ср-в'!G:G,MATCH(B37,'План ввода основ. ср-в'!B:B,0))),0,INDEX('План ввода основ. ср-в'!G:G,MATCH(B37,'План ввода основ. ср-в'!B:B,0)))","v":0},{"$f":"IF(ISNA(INDEX('План ввода основ. ср-в'!J:J,MATCH(B37,'План ввода основ. ср-в'!B:B,0))),0,INDEX('План ввода основ. ср-в'!J:J,MATCH(B37,'План ввода основ. ср-в'!B:B,0)))","v":0},"",{"$f":"IF(ISNA(INDEX('План ввода основ. ср-в'!I:I,MATCH(B37,'План ввода основ. ср-в'!B:B,0))),0,INDEX('План ввода основ. ср-в'!I:I,MATCH(B37,'План ввода основ. ср-в'!B:B,0)))","v":0},{"$f":"IF(ISNA(INDEX('План ввода основ. ср-в'!L:L,MATCH(B37,'План ввода основ. ср-в'!B:B,0))),0,INDEX('План ввода основ. ср-в'!L:L,MATCH(B37,'План ввода основ. ср-в'!B:B,0)))","v":1.05},"/",{"$f":"IF(ISNA(INDEX('План ввода основ. ср-в'!K:K,MATCH(B37,'План ввода основ. ср-в'!B:B,0))),0,INDEX('План ввода основ. ср-в'!K:K,MATCH(B37,'План ввода основ. ср-в'!B:B,0)))","v":0.25},1.05,"/",0.25,{"$f":"IF(ISNA(INDEX('План ввода основ. ср-в'!N:N,MATCH(B37,'План ввода основ. ср-в'!B:B,0))),0,INDEX('План ввода основ. ср-в'!N:N,MATCH(B37,'План ввода основ. ср-в'!B:B,0)))","v":0},"",{"$f":"IF(ISNA(INDEX('План ввода основ. ср-в'!M:M,MATCH(B37,'План ввода основ. ср-в'!B:B,0))),0,INDEX('План ввода основ. ср-в'!M:M,MATCH(B37,'План ввода основ. ср-в'!B:B,0)))","v":0},{"$f":"IF(ISNA(INDEX('План ввода основ. ср-в'!P:P,MATCH(B37,'План ввода основ. ср-в'!B:B,0))),0,INDEX('План ввода основ. ср-в'!P:P,MATCH(B37,'План ввода основ. ср-в'!B:B,0)))","v":0},"",{"$f":"IF(ISNA(INDEX('План ввода основ. ср-в'!O:O,MATCH(B37,'План ввода основ. ср-в'!B:B,0))),0,INDEX('План ввода основ. ср-в'!O:O,MATCH(B37,'План ввода основ. ср-в'!B:B,0)))","v":0},{"$f":"IF(ISNA(INDEX('План ввода основ. ср-в'!R:R,MATCH(B37,'План ввода основ. ср-в'!B:B,0))),0,INDEX('План ввода основ. ср-в'!R:R,MATCH(B37,'План ввода основ. ср-в'!B:B,0)))","v":0},"",{"$f":"IF(ISNA(INDEX('План ввода основ. ср-в'!Q:Q,MATCH(B37,'План ввода основ. ср-в'!B:B,0))),0,INDEX('План ввода основ. ср-в'!Q:Q,MATCH(B37,'План ввода основ. ср-в'!B:B,0)))","v":0},{"$f":"IF(ISNA(INDEX('План ввода основ. ср-в'!T:T,MATCH(B37,'План ввода основ. ср-в'!B:B,0))),0,INDEX('План ввода основ. ср-в'!T:T,MATCH(B37,'План ввода основ. ср-в'!B:B,0)))","v":0},"",{"$f":"IF(ISNA(INDEX('План ввода основ. ср-в'!S:S,MATCH(B37,'План ввода основ. ср-в'!B:B,0))),0,INDEX('План ввода основ. ср-в'!S:S,MATCH(B37,'План ввода основ. ср-в'!B:B,0)))","v":0},1.05,"/",0.25,{"$f":"IF(ISNA(INDEX('План ввода основ. ср-в'!V:V,MATCH(B37,'План ввода основ. ср-в'!B:B,0))),0,INDEX('План ввода основ. ср-в'!V:V,MATCH(B37,'План ввода основ. ср-в'!B:B,0)))","v":0},{"$f":"IF(ISNA(INDEX('План ввода основ. ср-в'!W:W,MATCH(B37,'План ввода основ. ср-в'!B:B,0))),0,INDEX('План ввода основ. ср-в'!W:W,MATCH(B37,'План ввода основ. ср-в'!B:B,0)))","v":0.59237288135593225},{"$f":"IF(ISNA(INDEX('План ввода основ. ср-в'!X:X,MATCH(B37,'План ввода основ. ср-в'!B:B,0))),0,INDEX('План ввода основ. ср-в'!X:X,MATCH(B37,'План ввода основ. ср-в'!B:B,0)))","v":1.3822033898305084},{"$f":"IF(ISNA(INDEX('План ввода основ. ср-в'!Y:Y,MATCH(B37,'План ввода основ. ср-в'!B:B,0))),0,INDEX('План ввода основ. ср-в'!Y:Y,MATCH(B37,'План ввода основ. ср-в'!B:B,0)))","v":1.9745762711864407},3.9491525423728815,{"$f":"IF(ISNA(INDEX('План ввода основ. ср-в'!Z:Z,MATCH(B37,'План ввода основ. ср-в'!B:B,0))),0,INDEX('План ввода основ. ср-в'!Z:Z,MATCH(B37,'План ввода основ. ср-в'!B:B,0)))","v":0},{"$f":"IF(ISNA(INDEX('План ввода основ. ср-в'!AA:AA,MATCH(B37,'План ввода основ. ср-в'!B:B,0))),0,INDEX('План ввода основ. ср-в'!AA:AA,MATCH(B37,'План ввода основ. ср-в'!B:B,0)))","v":0},{"$f":"IF(ISNA(INDEX('План ввода основ. ср-в'!AB:AB,MATCH(B37,'План ввода основ. ср-в'!B:B,0))),0,INDEX('План ввода основ. ср-в'!AB:AB,MATCH(B37,'План ввода основ. ср-в'!B:B,0)))","v":0},{"$f":"IF(ISNA(INDEX('План ввода основ. ср-в'!AC:AC,MATCH(B37,'План ввода основ. ср-в'!B:B,0))),0,INDEX('План ввода основ. ср-в'!AC:AC,MATCH(B37,'План ввода основ. ср-в'!B:B,0)))","v":0},3.9491525423728815]
[16,"Реконструкция ВЛ-0,4кВ от КТП 709/250 кВА с заменой КТП",null,null,null,null,null,null,0,"",0,0.42,"/",0.25,0,"",0,0,"",0,0,"",0,0.42,"/",0.25,2.0135593220338985,{"$f":"IF(ISNA(INDEX('План ввода основ. ср-в'!F:F,MATCH(B38,'План ввода основ. ср-в'!B:B,0))),0,INDEX('План ввода основ. ср-в'!F:F,MATCH(B38,'План ввода основ. ср-в'!B:B,0)))","v":0},"",{"$f":"IF(ISNA(INDEX('План ввода основ. ср-в'!E:E,MATCH(B38,'План ввода основ. ср-в'!B:B,0))),0,INDEX('План ввода основ. ср-в'!E:E,MATCH(B38,'План ввода основ. ср-в'!B:B,0)))","v":0},{"$f":"IF(ISNA(INDEX('План ввода основ. ср-в'!H:H,MATCH(B38,'План ввода основ. ср-в'!B:B,0))),0,INDEX('План ввода основ. ср-в'!H:H,MATCH(B38,'План ввода основ. ср-в'!B:B,0)))","v":0},"",{"$f":"IF(ISNA(INDEX('План ввода основ. ср-в'!G:G,MATCH(B38,'План ввода основ. ср-в'!B:B,0))),0,INDEX('План ввода основ. ср-в'!G:G,MATCH(B38,'План ввода основ. ср-в'!B:B,0)))","v":0},{"$f":"IF(ISNA(INDEX('План ввода основ. ср-в'!J:J,MATCH(B38,'План ввода основ. ср-в'!B:B,0))),0,INDEX('План ввода основ. ср-в'!J:J,MATCH(B38,'План ввода основ. ср-в'!B:B,0)))","v":0},"",{"$f":"IF(ISNA(INDEX('План ввода основ. ср-в'!I:I,MATCH(B38,'План ввода основ. ср-в'!B:B,0))),0,INDEX('План ввода основ. ср-в'!I:I,MATCH(B38,'План ввода основ. ср-в'!B:B,0)))","v":0},{"$f":"IF(ISNA(INDEX('План ввода основ. ср-в'!L:L,MATCH(B38,'План ввода основ. ср-в'!B:B,0))),0,INDEX('План ввода основ. ср-в'!L:L,MATCH(B38,'План ввода основ. ср-в'!B:B,0)))","v":0},"",{"$f":"IF(ISNA(INDEX('План ввода основ. ср-в'!K:K,MATCH(B38,'План ввода основ. ср-в'!B:B,0))),0,INDEX('План ввода основ. ср-в'!K:K,MATCH(B38,'План ввода основ. ср-в'!B:B,0)))","v":0},0,"/",0,{"$f":"IF(ISNA(INDEX('План ввода основ. ср-в'!N:N,MATCH(B38,'План ввода основ. ср-в'!B:B,0))),0,INDEX('План ввода основ. ср-в'!N:N,MATCH(B38,'План ввода основ. ср-в'!B:B,0)))","v":0.42},"/",{"$f":"IF(ISNA(INDEX('План ввода основ. ср-в'!M:M,MATCH(B38,'План ввода основ. ср-в'!B:B,0))),0,INDEX('План ввода основ. ср-в'!M:M,MATCH(B38,'План ввода основ. ср-в'!B:B,0)))","v":0.25},{"$f":"IF(ISNA(INDEX('План ввода основ. ср-в'!P:P,MATCH(B38,'План ввода основ. ср-в'!B:B,0))),0,INDEX('План ввода основ. ср-в'!P:P,MATCH(B38,'План ввода основ. ср-в'!B:B,0)))","v":0},"",{"$f":"IF(ISNA(INDEX('План ввода основ. ср-в'!O:O,MATCH(B38,'План ввода основ. ср-в'!B:B,0))),0,INDEX('План ввода основ. ср-в'!O:O,MATCH(B38,'План ввода основ. ср-в'!B:B,0)))","v":0},{"$f":"IF(ISNA(INDEX('План ввода основ. ср-в'!R:R,MATCH(B38,'План ввода основ. ср-в'!B:B,0))),0,INDEX('План ввода основ. ср-в'!R:R,MATCH(B38,'План ввода основ. ср-в'!B:B,0)))","v":0},"",{"$f":"IF(ISNA(INDEX('План ввода основ. ср-в'!Q:Q,MATCH(B38,'План ввода основ. ср-в'!B:B,0))),0,INDEX('План ввода основ. ср-в'!Q:Q,MATCH(B38,'План ввода основ. ср-в'!B:B,0)))","v":0},{"$f":"IF(ISNA(INDEX('План ввода основ. ср-в'!T:T,MATCH(B38,'План ввода основ. ср-в'!B:B,0))),0,INDEX('План ввода основ. ср-в'!T:T,MATCH(B38,'План ввода основ. ср-в'!B:B,0)))","v":0},"",{"$f":"IF(ISNA(INDEX('План ввода основ. ср-в'!S:S,MATCH(B38,'План ввода основ. ср-в'!B:B,0))),0,INDEX('План ввода основ. ср-в'!S:S,MATCH(B38,'План ввода основ. ср-в'!B:B,0)))","v":0},0.42,"/",0.25,{"$f":"IF(ISNA(INDEX('План ввода основ. ср-в'!V:V,MATCH(B38,'План ввода основ. ср-в'!B:B,0))),0,INDEX('План ввода основ. ср-в'!V:V,MATCH(B38,'План ввода основ. ср-в'!B:B,0)))","v":0},{"$f":"IF(ISNA(INDEX('План ввода основ. ср-в'!W:W,MATCH(B38,'План ввода основ. ср-в'!B:B,0))),0,INDEX('План ввода основ. ср-в'!W:W,MATCH(B38,'План ввода основ. ср-в'!B:B,0)))","v":0},{"$f":"IF(ISNA(INDEX('План ввода основ. ср-в'!X:X,MATCH(B38,'План ввода основ. ср-в'!B:B,0))),0,INDEX('План ввода основ. ср-в'!X:X,MATCH(B38,'План ввода основ. ср-в'!B:B,0)))","v":0},{"$f":"IF(ISNA(INDEX('План ввода основ. ср-в'!Y:Y,MATCH(B38,'План ввода основ. ср-в'!B:B,0))),0,INDEX('План ввода основ. ср-в'!Y:Y,MATCH(B38,'План ввода основ. ср-в'!B:B,0)))","v":0},0,{"$f":"IF(ISNA(INDEX('План ввода основ. ср-в'!Z:Z,MATCH(B38,'План ввода основ. ср-в'!B:B,0))),0,INDEX('План ввода основ. ср-в'!Z:Z,MATCH(B38,'План ввода основ. ср-в'!B:B,0)))","v":2.0135593220338985},{"$f":"IF(ISNA(INDEX('План ввода основ. ср-в'!AA:AA,MATCH(B38,'План ввода основ. ср-в'!B:B,0))),0,INDEX('План ввода основ. ср-в'!AA:AA,MATCH(B38,'План ввода основ. ср-в'!B:B,0)))","v":0},{"$f":"IF(ISNA(INDEX('План ввода основ. ср-в'!AB:AB,MATCH(B38,'План ввода основ. ср-в'!B:B,0))),0,INDEX('План ввода основ. ср-в'!AB:AB,MATCH(B38,'План ввода основ. ср-в'!B:B,0)))","v":0},{"$f":"IF(ISNA(INDEX('План ввода основ. ср-в'!AC:AC,MATCH(B38,'План ввода основ. ср-в'!B:B,0))),0,INDEX('План ввода основ. ср-в'!AC:AC,MATCH(B38,'План ввода основ. ср-в'!B:B,0)))","v":0},2.0135593220338985]
[17,"Реконструкция ВЛ-0,4кВ от КТП 501/320 кВА с заменой КТП",null,null,null,null,null,null,0,"",0,0.42,"/",0.32,0,"",0,0,"",0,0,"",0,0.42,"/",0.32,2.0135593220338985,{"$f":"IF(ISNA(INDEX('План ввода основ. ср-в'!F:F,MATCH(B39,'План ввода основ. ср-в'!B:B,0))),0,INDEX('План ввода основ. ср-в'!F:F,MATCH(B39,'План ввода основ. ср-в'!B:B,0)))","v":0},"",{"$f":"IF(ISNA(INDEX('План ввода основ. ср-в'!E:E,MATCH(B39,'План ввода основ. ср-в'!B:B,0))),0,INDEX('План ввода основ. ср-в'!E:E,MATCH(B39,'План ввода основ. ср-в'!B:B,0)))","v":0},{"$f":"IF(ISNA(INDEX('План ввода основ. ср-в'!H:H,MATCH(B39,'План ввода основ. ср-в'!B:B,0))),0,INDEX('План ввода основ. ср-в'!H:H,MATCH(B39,'План ввода основ. ср-в'!B:B,0)))","v":0},"",{"$f":"IF(ISNA(INDEX('План ввода основ. ср-в'!G:G,MATCH(B39,'План ввода основ. ср-в'!B:B,0))),0,INDEX('План ввода основ. ср-в'!G:G,MATCH(B39,'План ввода основ. ср-в'!B:B,0)))","v":0},{"$f":"IF(ISNA(INDEX('План ввода основ. ср-в'!J:J,MATCH(B39,'План ввода основ. ср-в'!B:B,0))),0,INDEX('План ввода основ. ср-в'!J:J,MATCH(B39,'План ввода основ. ср-в'!B:B,0)))","v":0},"",{"$f":"IF(ISNA(INDEX('План ввода основ. ср-в'!I:I,MATCH(B39,'План ввода основ. ср-в'!B:B,0))),0,INDEX('План ввода основ. ср-в'!I:I,MATCH(B39,'План ввода основ. ср-в'!B:B,0)))","v":0},{"$f":"IF(ISNA(INDEX('План ввода основ. ср-в'!L:L,MATCH(B39,'План ввода основ. ср-в'!B:B,0))),0,INDEX('План ввода основ. ср-в'!L:L,MATCH(B39,'План ввода основ. ср-в'!B:B,0)))","v":0},"",{"$f":"IF(ISNA(INDEX('План ввода основ. ср-в'!K:K,MATCH(B39,'План ввода основ. ср-в'!B:B,0))),0,INDEX('План ввода основ. ср-в'!K:K,MATCH(B39,'План ввода основ. ср-в'!B:B,0)))","v":0},0,"/",0,{"$f":"IF(ISNA(INDEX('План ввода основ. ср-в'!N:N,MATCH(B39,'План ввода основ. ср-в'!B:B,0))),0,INDEX('План ввода основ. ср-в'!N:N,MATCH(B39,'План ввода основ. ср-в'!B:B,0)))","v":0.42},"/",{"$f":"IF(ISNA(INDEX('План ввода основ. ср-в'!M:M,MATCH(B39,'План ввода основ. ср-в'!B:B,0))),0,INDEX('План ввода основ. ср-в'!M:M,MATCH(B39,'План ввода основ. ср-в'!B:B,0)))","v":0.32},{"$f":"IF(ISNA(INDEX('План ввода основ. ср-в'!P:P,MATCH(B39,'План ввода основ. ср-в'!B:B,0))),0,INDEX('План ввода основ. ср-в'!P:P,MATCH(B39,'План ввода основ. ср-в'!B:B,0)))","v":0},"",{"$f":"IF(ISNA(INDEX('План ввода основ. ср-в'!O:O,MATCH(B39,'План ввода основ. ср-в'!B:B,0))),0,INDEX('План ввода основ. ср-в'!O:O,MATCH(B39,'План ввода основ. ср-в'!B:B,0)))","v":0},{"$f":"IF(ISNA(INDEX('План ввода основ. ср-в'!R:R,MATCH(B39,'План ввода основ. ср-в'!B:B,0))),0,INDEX('План ввода основ. ср-в'!R:R,MATCH(B39,'План ввода основ. ср-в'!B:B,0)))","v":0},"",{"$f":"IF(ISNA(INDEX('План ввода основ. ср-в'!Q:Q,MATCH(B39,'План ввода основ. ср-в'!B:B,0))),0,INDEX('План ввода основ. ср-в'!Q:Q,MATCH(B39,'План ввода основ. ср-в'!B:B,0)))","v":0},{"$f":"IF(ISNA(INDEX('План ввода основ. ср-в'!T:T,MATCH(B39,'План ввода основ. ср-в'!B:B,0))),0,INDEX('План ввода основ. ср-в'!T:T,MATCH(B39,'План ввода основ. ср-в'!B:B,0)))","v":0},"",{"$f":"IF(ISNA(INDEX('План ввода основ. ср-в'!S:S,MATCH(B39,'План ввода основ. ср-в'!B:B,0))),0,INDEX('План ввода основ. ср-в'!S:S,MATCH(B39,'План ввода основ. ср-в'!B:B,0)))","v":0},0.42,"/",0.32,{"$f":"IF(ISNA(INDEX('План ввода основ. ср-в'!V:V,MATCH(B39,'План ввода основ. ср-в'!B:B,0))),0,INDEX('План ввода основ. ср-в'!V:V,MATCH(B39,'План ввода основ. ср-в'!B:B,0)))","v":0},{"$f":"IF(ISNA(INDEX('План ввода основ. ср-в'!W:W,MATCH(B39,'План ввода основ. ср-в'!B:B,0))),0,INDEX('План ввода основ. ср-в'!W:W,MATCH(B39,'План ввода основ. ср-в'!B:B,0)))","v":0},{"$f":"IF(ISNA(INDEX('План ввода основ. ср-в'!X:X,MATCH(B39,'План ввода основ. ср-в'!B:B,0))),0,INDEX('План ввода основ. ср-в'!X:X,MATCH(B39,'План ввода основ. ср-в'!B:B,0)))","v":0},{"$f":"IF(ISNA(INDEX('План ввода основ. ср-в'!Y:Y,MATCH(B39,'План ввода основ. ср-в'!B:B,0))),0,INDEX('План ввода основ. ср-в'!Y:Y,MATCH(B39,'План ввода основ. ср-в'!B:B,0)))","v":0},0,{"$f":"IF(ISNA(INDEX('План ввода основ. ср-в'!Z:Z,MATCH(B39,'План ввода основ. ср-в'!B:B,0))),0,INDEX('План ввода основ. ср-в'!Z:Z,MATCH(B39,'План ввода основ. ср-в'!B:B,0)))","v":2.0135593220338985},{"$f":"IF(ISNA(INDEX('План ввода основ. ср-в'!AA:AA,MATCH(B39,'План ввода основ. ср-в'!B:B,0))),0,INDEX('План ввода основ. ср-в'!AA:AA,MATCH(B39,'План ввода основ. ср-в'!B:B,0)))","v":0},{"$f":"IF(ISNA(INDEX('План ввода основ. ср-в'!AB:AB,MATCH(B39,'План ввода основ. ср-в'!B:B,0))),0,INDEX('План ввода основ. ср-в'!AB:AB,MATCH(B39,'План ввода основ. ср-в'!B:B,0)))","v":0},{"$f":"IF(ISNA(INDEX('План ввода основ. ср-в'!AC:AC,MATCH(B39,'План ввода основ. ср-в'!B:B,0))),0,INDEX('План ввода основ. ср-в'!AC:AC,MATCH(B39,'План ввода основ. ср-в'!B:B,0)))","v":0},2.0135593220338985]
[18,"Реконструкция ВЛ-0,4кВ от КТП 809/100 кВА с заменой КТП",null,null,null,null,null,null,0,"",0,0,"",0,1.36,"/",0.1,0,"",0,0,"",0,1.36,"/",0.1,4.2440677966101701,{"$f":"IF(ISNA(INDEX('План ввода основ. ср-в'!F:F,MATCH(B40,'План ввода основ. ср-в'!B:B,0))),0,INDEX('План ввода основ. ср-в'!F:F,MATCH(B40,'План ввода основ. ср-в'!B:B,0)))","v":0},"",{"$f":"IF(ISNA(INDEX('План ввода основ. ср-в'!E:E,MATCH(B40,'План ввода основ. ср-в'!B:B,0))),0,INDEX('План ввода основ. ср-в'!E:E,MATCH(B40,'План ввода основ. ср-в'!B:B,0)))","v":0},{"$f":"IF(ISNA(INDEX('План ввода основ. ср-в'!H:H,MATCH(B40,'План ввода основ. ср-в'!B:B,0))),0,INDEX('План ввода основ. ср-в'!H:H,MATCH(B40,'План ввода основ. ср-в'!B:B,0)))","v":0},"",{"$f":"IF(ISNA(INDEX('План ввода основ. ср-в'!G:G,MATCH(B40,'План ввода основ. ср-в'!B:B,0))),0,INDEX('План ввода основ. ср-в'!G:G,MATCH(B40,'План ввода основ. ср-в'!B:B,0)))","v":0},{"$f":"IF(ISNA(INDEX('План ввода основ. ср-в'!J:J,MATCH(B40,'План ввода основ. ср-в'!B:B,0))),0,INDEX('План ввода основ. ср-в'!J:J,MATCH(B40,'План ввода основ. ср-в'!B:B,0)))","v":0},"",{"$f":"IF(ISNA(INDEX('План ввода основ. ср-в'!I:I,MATCH(B40,'План ввода основ. ср-в'!B:B,0))),0,INDEX('План ввода основ. ср-в'!I:I,MATCH(B40,'План ввода основ. ср-в'!B:B,0)))","v":0},{"$f":"IF(ISNA(INDEX('План ввода основ. ср-в'!L:L,MATCH(B40,'План ввода основ. ср-в'!B:B,0))),0,INDEX('План ввода основ. ср-в'!L:L,MATCH(B40,'План ввода основ. ср-в'!B:B,0)))","v":0},"",{"$f":"IF(ISNA(INDEX('План ввода основ. ср-в'!K:K,MATCH(B40,'План ввода основ. ср-в'!B:B,0))),0,INDEX('План ввода основ. ср-в'!K:K,MATCH(B40,'План ввода основ. ср-в'!B:B,0)))","v":0},0,"/",0,{"$f":"IF(ISNA(INDEX('План ввода основ. ср-в'!N:N,MATCH(B40,'План ввода основ. ср-в'!B:B,0))),0,INDEX('План ввода основ. ср-в'!N:N,MATCH(B40,'План ввода основ. ср-в'!B:B,0)))","v":0},"",{"$f":"IF(ISNA(INDEX('План ввода основ. ср-в'!M:M,MATCH(B40,'План ввода основ. ср-в'!B:B,0))),0,INDEX('План ввода основ. ср-в'!M:M,MATCH(B40,'План ввода основ. ср-в'!B:B,0)))","v":0},{"$f":"IF(ISNA(INDEX('План ввода основ. ср-в'!P:P,MATCH(B40,'План ввода основ. ср-в'!B:B,0))),0,INDEX('План ввода основ. ср-в'!P:P,MATCH(B40,'План ввода основ. ср-в'!B:B,0)))","v":1.36},"/",{"$f":"IF(ISNA(INDEX('План ввода основ. ср-в'!O:O,MATCH(B40,'План ввода основ. ср-в'!B:B,0))),0,INDEX('План ввода основ. ср-в'!O:O,MATCH(B40,'План ввода основ. ср-в'!B:B,0)))","v":0.1},{"$f":"IF(ISNA(INDEX('План ввода основ. ср-в'!R:R,MATCH(B40,'План ввода основ. ср-в'!B:B,0))),0,INDEX('План ввода основ. ср-в'!R:R,MATCH(B40,'План ввода основ. ср-в'!B:B,0)))","v":0},"",{"$f":"IF(ISNA(INDEX('План ввода основ. ср-в'!Q:Q,MATCH(B40,'План ввода основ. ср-в'!B:B,0))),0,INDEX('План ввода основ. ср-в'!Q:Q,MATCH(B40,'План ввода основ. ср-в'!B:B,0)))","v":0},{"$f":"IF(ISNA(INDEX('План ввода основ. ср-в'!T:T,MATCH(B40,'План ввода основ. ср-в'!B:B,0))),0,INDEX('План ввода основ. ср-в'!T:T,MATCH(B40,'План ввода основ. ср-в'!B:B,0)))","v":0},"",{"$f":"IF(ISNA(INDEX('План ввода основ. ср-в'!S:S,MATCH(B40,'План ввода основ. ср-в'!B:B,0))),0,INDEX('План ввода основ. ср-в'!S:S,MATCH(B40,'План ввода основ. ср-в'!B:B,0)))","v":0},1.36,"/",0.1,{"$f":"IF(ISNA(INDEX('План ввода основ. ср-в'!V:V,MATCH(B40,'План ввода основ. ср-в'!B:B,0))),0,INDEX('План ввода основ. ср-в'!V:V,MATCH(B40,'План ввода основ. ср-в'!B:B,0)))","v":0},{"$f":"IF(ISNA(INDEX('План ввода основ. ср-в'!W:W,MATCH(B40,'План ввода основ. ср-в'!B:B,0))),0,INDEX('План ввода основ. ср-в'!W:W,MATCH(B40,'План ввода основ. ср-в'!B:B,0)))","v":0},{"$f":"IF(ISNA(INDEX('План ввода основ. ср-в'!X:X,MATCH(B40,'План ввода основ. ср-в'!B:B,0))),0,INDEX('План ввода основ. ср-в'!X:X,MATCH(B40,'План ввода основ. ср-в'!B:B,0)))","v":0},{"$f":"IF(ISNA(INDEX('План ввода основ. ср-в'!Y:Y,MATCH(B40,'План ввода основ. ср-в'!B:B,0))),0,INDEX('План ввода основ. ср-в'!Y:Y,MATCH(B40,'План ввода основ. ср-в'!B:B,0)))","v":0},0,{"$f":"IF(ISNA(INDEX('План ввода основ. ср-в'!Z:Z,MATCH(B40,'План ввода основ. ср-в'!B:B,0))),0,INDEX('План ввода основ. ср-в'!Z:Z,MATCH(B40,'План ввода основ. ср-в'!B:B,0)))","v":0},{"$f":"IF(ISNA(INDEX('План ввода основ. ср-в'!AA:AA,MATCH(B40,'План ввода основ. ср-в'!B:B,0))),0,INDEX('План ввода основ. ср-в'!AA:AA,MATCH(B40,'План ввода основ. ср-в'!B:B,0)))","v":4.2440677966101701},{"$f":"IF(ISNA(INDEX('План ввода основ. ср-в'!AB:AB,MATCH(B40,'План ввода основ. ср-в'!B:B,0))),0,INDEX('План ввода основ. ср-в'!AB:AB,MATCH(B40,'План ввода основ. ср-в'!B:B,0)))","v":0},{"$f":"IF(ISNA(INDEX('План ввода основ. ср-в'!AC:AC,MATCH(B40,'План ввода основ. ср-в'!B:B,0))),0,INDEX('План ввода основ. ср-в'!AC:AC,MATCH(B40,'План ввода основ. ср-в'!B:B,0)))","v":0},4.2440677966101701]
[19,"Реконструкция ВЛ-0,4кВ от КТП 201/400 кВА с заменой КТП",null,null,null,null,null,null,0,"",0,0,"",0,1.6,"/",0.4,0,"",0,0,"",0,1.6,"/",0.4,4.8135593220338979,{"$f":"IF(ISNA(INDEX('План ввода основ. ср-в'!F:F,MATCH(B41,'План ввода основ. ср-в'!B:B,0))),0,INDEX('План ввода основ. ср-в'!F:F,MATCH(B41,'План ввода основ. ср-в'!B:B,0)))","v":0},"",{"$f":"IF(ISNA(INDEX('План ввода основ. ср-в'!E:E,MATCH(B41,'План ввода основ. ср-в'!B:B,0))),0,INDEX('План ввода основ. ср-в'!E:E,MATCH(B41,'План ввода основ. ср-в'!B:B,0)))","v":0},{"$f":"IF(ISNA(INDEX('План ввода основ. ср-в'!H:H,MATCH(B41,'План ввода основ. ср-в'!B:B,0))),0,INDEX('План ввода основ. ср-в'!H:H,MATCH(B41,'План ввода основ. ср-в'!B:B,0)))","v":0},"",{"$f":"IF(ISNA(INDEX('План ввода основ. ср-в'!G:G,MATCH(B41,'План ввода основ. ср-в'!B:B,0))),0,INDEX('План ввода основ. ср-в'!G:G,MATCH(B41,'План ввода основ. ср-в'!B:B,0)))","v":0},{"$f":"IF(ISNA(INDEX('План ввода основ. ср-в'!J:J,MATCH(B41,'План ввода основ. ср-в'!B:B,0))),0,INDEX('План ввода основ. ср-в'!J:J,MATCH(B41,'План ввода основ. ср-в'!B:B,0)))","v":0},"",{"$f":"IF(ISNA(INDEX('План ввода основ. ср-в'!I:I,MATCH(B41,'План ввода основ. ср-в'!B:B,0))),0,INDEX('План ввода основ. ср-в'!I:I,MATCH(B41,'План ввода основ. ср-в'!B:B,0)))","v":0},{"$f":"IF(ISNA(INDEX('План ввода основ. ср-в'!L:L,MATCH(B41,'План ввода основ. ср-в'!B:B,0))),0,INDEX('План ввода основ. ср-в'!L:L,MATCH(B41,'План ввода основ. ср-в'!B:B,0)))","v":0},"",{"$f":"IF(ISNA(INDEX('План ввода основ. ср-в'!K:K,MATCH(B41,'План ввода основ. ср-в'!B:B,0))),0,INDEX('План ввода основ. ср-в'!K:K,MATCH(B41,'План ввода основ. ср-в'!B:B,0)))","v":0},0,"/",0,{"$f":"IF(ISNA(INDEX('План ввода основ. ср-в'!N:N,MATCH(B41,'План ввода основ. ср-в'!B:B,0))),0,INDEX('План ввода основ. ср-в'!N:N,MATCH(B41,'План ввода основ. ср-в'!B:B,0)))","v":0},"",{"$f":"IF(ISNA(INDEX('План ввода основ. ср-в'!M:M,MATCH(B41,'План ввода основ. ср-в'!B:B,0))),0,INDEX('План ввода основ. ср-в'!M:M,MATCH(B41,'План ввода основ. ср-в'!B:B,0)))","v":0},{"$f":"IF(ISNA(INDEX('План ввода основ. ср-в'!P:P,MATCH(B41,'План ввода основ. ср-в'!B:B,0))),0,INDEX('План ввода основ. ср-в'!P:P,MATCH(B41,'План ввода основ. ср-в'!B:B,0)))","v":1.6},"/",{"$f":"IF(ISNA(INDEX('План ввода основ. ср-в'!O:O,MATCH(B41,'План ввода основ. ср-в'!B:B,0))),0,INDEX('План ввода основ. ср-в'!O:O,MATCH(B41,'План ввода основ. ср-в'!B:B,0)))","v":0.4},{"$f":"IF(ISNA(INDEX('План ввода основ. ср-в'!R:R,MATCH(B41,'План ввода основ. ср-в'!B:B,0))),0,INDEX('План ввода основ. ср-в'!R:R,MATCH(B41,'План ввода основ. ср-в'!B:B,0)))","v":0},"",{"$f":"IF(ISNA(INDEX('План ввода основ. ср-в'!Q:Q,MATCH(B41,'План ввода основ. ср-в'!B:B,0))),0,INDEX('План ввода основ. ср-в'!Q:Q,MATCH(B41,'План ввода основ. ср-в'!B:B,0)))","v":0},{"$f":"IF(ISNA(INDEX('План ввода основ. ср-в'!T:T,MATCH(B41,'План ввода основ. ср-в'!B:B,0))),0,INDEX('План ввода основ. ср-в'!T:T,MATCH(B41,'План ввода основ. ср-в'!B:B,0)))","v":0},"",{"$f":"IF(ISNA(INDEX('План ввода основ. ср-в'!S:S,MATCH(B41,'План ввода основ. ср-в'!B:B,0))),0,INDEX('План ввода основ. ср-в'!S:S,MATCH(B41,'План ввода основ. ср-в'!B:B,0)))","v":0},1.6,"/",0.4,{"$f":"IF(ISNA(INDEX('План ввода основ. ср-в'!V:V,MATCH(B41,'План ввода основ. ср-в'!B:B,0))),0,INDEX('План ввода основ. ср-в'!V:V,MATCH(B41,'План ввода основ. ср-в'!B:B,0)))","v":0},{"$f":"IF(ISNA(INDEX('План ввода основ. ср-в'!W:W,MATCH(B41,'План ввода основ. ср-в'!B:B,0))),0,INDEX('План ввода основ. ср-в'!W:W,MATCH(B41,'План ввода основ. ср-в'!B:B,0)))","v":0},{"$f":"IF(ISNA(INDEX('План ввода основ. ср-в'!X:X,MATCH(B41,'План ввода основ. ср-в'!B:B,0))),0,INDEX('План ввода основ. ср-в'!X:X,MATCH(B41,'План ввода основ. ср-в'!B:B,0)))","v":0},{"$f":"IF(ISNA(INDEX('План ввода основ. ср-в'!Y:Y,MATCH(B41,'План ввода основ. ср-в'!B:B,0))),0,INDEX('План ввода основ. ср-в'!Y:Y,MATCH(B41,'План ввода основ. ср-в'!B:B,0)))","v":0},0,{"$f":"IF(ISNA(INDEX('План ввода основ. ср-в'!Z:Z,MATCH(B41,'План ввода основ. ср-в'!B:B,0))),0,INDEX('План ввода основ. ср-в'!Z:Z,MATCH(B41,'План ввода основ. ср-в'!B:B,0)))","v":0},{"$f":"IF(ISNA(INDEX('План ввода основ. ср-в'!AA:AA,MATCH(B41,'План ввода основ. ср-в'!B:B,0))),0,INDEX('План ввода основ. ср-в'!AA:AA,MATCH(B41,'План ввода основ. ср-в'!B:B,0)))","v":4.8135593220338979},{"$f":"IF(ISNA(INDEX('План ввода основ. ср-в'!AB:AB,MATCH(B41,'План ввода основ. ср-в'!B:B,0))),0,INDEX('План ввода основ. ср-в'!AB:AB,MATCH(B41,'План ввода основ. ср-в'!B:B,0)))","v":0},{"$f":"IF(ISNA(INDEX('План ввода основ. ср-в'!AC:AC,MATCH(B41,'План ввода основ. ср-в'!B:B,0))),0,INDEX('План ввода основ. ср-в'!AC:AC,MATCH(B41,'План ввода основ. ср-в'!B:B,0)))","v":0},4.8135593220338979]
[20,"Реконструкция ВЛ-0,4кВ от КТП 109/400 кВА с заменой КТП",null,null,null,null,null,null,0,"",0,0,"",0,1.22,"/",0.4,0,"",0,0,"",0,1.22,"/",0.4,3.9118644067796611,{"$f":"IF(ISNA(INDEX('План ввода основ. ср-в'!F:F,MATCH(B42,'План ввода основ. ср-в'!B:B,0))),0,INDEX('План ввода основ. ср-в'!F:F,MATCH(B42,'План ввода основ. ср-в'!B:B,0)))","v":0},"",{"$f":"IF(ISNA(INDEX('План ввода основ. ср-в'!E:E,MATCH(B42,'План ввода основ. ср-в'!B:B,0))),0,INDEX('План ввода основ. ср-в'!E:E,MATCH(B42,'План ввода основ. ср-в'!B:B,0)))","v":0},{"$f":"IF(ISNA(INDEX('План ввода основ. ср-в'!H:H,MATCH(B42,'План ввода основ. ср-в'!B:B,0))),0,INDEX('План ввода основ. ср-в'!H:H,MATCH(B42,'План ввода основ. ср-в'!B:B,0)))","v":0},"",{"$f":"IF(ISNA(INDEX('План ввода основ. ср-в'!G:G,MATCH(B42,'План ввода основ. ср-в'!B:B,0))),0,INDEX('План ввода основ. ср-в'!G:G,MATCH(B42,'План ввода основ. ср-в'!B:B,0)))","v":0},{"$f":"IF(ISNA(INDEX('План ввода основ. ср-в'!J:J,MATCH(B42,'План ввода основ. ср-в'!B:B,0))),0,INDEX('План ввода основ. ср-в'!J:J,MATCH(B42,'План ввода основ. ср-в'!B:B,0)))","v":0},"",{"$f":"IF(ISNA(INDEX('План ввода основ. ср-в'!I:I,MATCH(B42,'План ввода основ. ср-в'!B:B,0))),0,INDEX('План ввода основ. ср-в'!I:I,MATCH(B42,'План ввода основ. ср-в'!B:B,0)))","v":0},{"$f":"IF(ISNA(INDEX('План ввода основ. ср-в'!L:L,MATCH(B42,'План ввода основ. ср-в'!B:B,0))),0,INDEX('План ввода основ. ср-в'!L:L,MATCH(B42,'План ввода основ. ср-в'!B:B,0)))","v":0},"",{"$f":"IF(ISNA(INDEX('План ввода основ. ср-в'!K:K,MATCH(B42,'План ввода основ. ср-в'!B:B,0))),0,INDEX('План ввода основ. ср-в'!K:K,MATCH(B42,'План ввода основ. ср-в'!B:B,0)))","v":0},0,"/",0,{"$f":"IF(ISNA(INDEX('План ввода основ. ср-в'!N:N,MATCH(B42,'План ввода основ. ср-в'!B:B,0))),0,INDEX('План ввода основ. ср-в'!N:N,MATCH(B42,'План ввода основ. ср-в'!B:B,0)))","v":0},"",{"$f":"IF(ISNA(INDEX('План ввода основ. ср-в'!M:M,MATCH(B42,'План ввода основ. ср-в'!B:B,0))),0,INDEX('План ввода основ. ср-в'!M:M,MATCH(B42,'План ввода основ. ср-в'!B:B,0)))","v":0},{"$f":"IF(ISNA(INDEX('План ввода основ. ср-в'!P:P,MATCH(B42,'План ввода основ. ср-в'!B:B,0))),0,INDEX('План ввода основ. ср-в'!P:P,MATCH(B42,'План ввода основ. ср-в'!B:B,0)))","v":1.22},"/",{"$f":"IF(ISNA(INDEX('План ввода основ. ср-в'!O:O,MATCH(B42,'План ввода основ. ср-в'!B:B,0))),0,INDEX('План ввода основ. ср-в'!O:O,MATCH(B42,'План ввода основ. ср-в'!B:B,0)))","v":0.4},{"$f":"IF(ISNA(INDEX('План ввода основ. ср-в'!R:R,MATCH(B42,'План ввода основ. ср-в'!B:B,0))),0,INDEX('План ввода основ. ср-в'!R:R,MATCH(B42,'План ввода основ. ср-в'!B:B,0)))","v":0},"",{"$f":"IF(ISNA(INDEX('План ввода основ. ср-в'!Q:Q,MATCH(B42,'План ввода основ. ср-в'!B:B,0))),0,INDEX('План ввода основ. ср-в'!Q:Q,MATCH(B42,'План ввода основ. ср-в'!B:B,0)))","v":0},{"$f":"IF(ISNA(INDEX('План ввода основ. ср-в'!T:T,MATCH(B42,'План ввода основ. ср-в'!B:B,0))),0,INDEX('План ввода основ. ср-в'!T:T,MATCH(B42,'План ввода основ. ср-в'!B:B,0)))","v":0},"",{"$f":"IF(ISNA(INDEX('План ввода основ. ср-в'!S:S,MATCH(B42,'План ввода основ. ср-в'!B:B,0))),0,INDEX('План ввода основ. ср-в'!S:S,MATCH(B42,'План ввода основ. ср-в'!B:B,0)))","v":0},1.22,"/",0.4,{"$f":"IF(ISNA(INDEX('План ввода основ. ср-в'!V:V,MATCH(B42,'План ввода основ. ср-в'!B:B,0))),0,INDEX('План ввода основ. ср-в'!V:V,MATCH(B42,'План ввода основ. ср-в'!B:B,0)))","v":0},{"$f":"IF(ISNA(INDEX('План ввода основ. ср-в'!W:W,MATCH(B42,'План ввода основ. ср-в'!B:B,0))),0,INDEX('План ввода основ. ср-в'!W:W,MATCH(B42,'План ввода основ. ср-в'!B:B,0)))","v":0},{"$f":"IF(ISNA(INDEX('План ввода основ. ср-в'!X:X,MATCH(B42,'План ввода основ. ср-в'!B:B,0))),0,INDEX('План ввода основ. ср-в'!X:X,MATCH(B42,'План ввода основ. ср-в'!B:B,0)))","v":0},{"$f":"IF(ISNA(INDEX('План ввода основ. ср-в'!Y:Y,MATCH(B42,'План ввода основ. ср-в'!B:B,0))),0,INDEX('План ввода основ. ср-в'!Y:Y,MATCH(B42,'План ввода основ. ср-в'!B:B,0)))","v":0},0,{"$f":"IF(ISNA(INDEX('План ввода основ. ср-в'!Z:Z,MATCH(B42,'План ввода основ. ср-в'!B:B,0))),0,INDEX('План ввода основ. ср-в'!Z:Z,MATCH(B42,'План ввода основ. ср-в'!B:B,0)))","v":0},{"$f":"IF(ISNA(INDEX('План ввода основ. ср-в'!AA:AA,MATCH(B42,'План ввода основ. ср-в'!B:B,0))),0,INDEX('План ввода основ. ср-в'!AA:AA,MATCH(B42,'План ввода основ. ср-в'!B:B,0)))","v":3.9118644067796611},{"$f":"IF(ISNA(INDEX('План ввода основ. ср-в'!AB:AB,MATCH(B42,'План ввода основ. ср-в'!B:B,0))),0,INDEX('План ввода основ. ср-в'!AB:AB,MATCH(B42,'План ввода основ. ср-в'!B:B,0)))","v":0},{"$f":"IF(ISNA(INDEX('План ввода основ. ср-в'!AC:AC,MATCH(B42,'План ввода основ. ср-в'!B:B,0))),0,INDEX('План ввода основ. ср-в'!AC:AC,MATCH(B42,'План ввода основ. ср-в'!B:B,0)))","v":0},3.9118644067796611]
[21,"Реконструкция ВЛ-0,4кВ от КТП 905/400 кВА с заменой КТП",null,null,null,null,null,null,0,"",0,0,"",0,1.62,"/",0.4,0,"",0,0,"",0,1.62,"/",0.4,4.8610169491525426,{"$f":"IF(ISNA(INDEX('План ввода основ. ср-в'!F:F,MATCH(B43,'План ввода основ. ср-в'!B:B,0))),0,INDEX('План ввода основ. ср-в'!F:F,MATCH(B43,'План ввода основ. ср-в'!B:B,0)))","v":0},"",{"$f":"IF(ISNA(INDEX('План ввода основ. ср-в'!E:E,MATCH(B43,'План ввода основ. ср-в'!B:B,0))),0,INDEX('План ввода основ. ср-в'!E:E,MATCH(B43,'План ввода основ. ср-в'!B:B,0)))","v":0},{"$f":"IF(ISNA(INDEX('План ввода основ. ср-в'!H:H,MATCH(B43,'План ввода основ. ср-в'!B:B,0))),0,INDEX('План ввода основ. ср-в'!H:H,MATCH(B43,'План ввода основ. ср-в'!B:B,0)))","v":0},"",{"$f":"IF(ISNA(INDEX('План ввода основ. ср-в'!G:G,MATCH(B43,'План ввода основ. ср-в'!B:B,0))),0,INDEX('План ввода основ. ср-в'!G:G,MATCH(B43,'План ввода основ. ср-в'!B:B,0)))","v":0},{"$f":"IF(ISNA(INDEX('План ввода основ. ср-в'!J:J,MATCH(B43,'План ввода основ. ср-в'!B:B,0))),0,INDEX('План ввода основ. ср-в'!J:J,MATCH(B43,'План ввода основ. ср-в'!B:B,0)))","v":0},"",{"$f":"IF(ISNA(INDEX('План ввода основ. ср-в'!I:I,MATCH(B43,'План ввода основ. ср-в'!B:B,0))),0,INDEX('План ввода основ. ср-в'!I:I,MATCH(B43,'План ввода основ. ср-в'!B:B,0)))","v":0},{"$f":"IF(ISNA(INDEX('План ввода основ. ср-в'!L:L,MATCH(B43,'План ввода основ. ср-в'!B:B,0))),0,INDEX('План ввода основ. ср-в'!L:L,MATCH(B43,'План ввода основ. ср-в'!B:B,0)))","v":0},"",{"$f":"IF(ISNA(INDEX('План ввода основ. ср-в'!K:K,MATCH(B43,'План ввода основ. ср-в'!B:B,0))),0,INDEX('План ввода основ. ср-в'!K:K,MATCH(B43,'План ввода основ. ср-в'!B:B,0)))","v":0},0,"/",0,{"$f":"IF(ISNA(INDEX('План ввода основ. ср-в'!N:N,MATCH(B43,'План ввода основ. ср-в'!B:B,0))),0,INDEX('План ввода основ. ср-в'!N:N,MATCH(B43,'План ввода основ. ср-в'!B:B,0)))","v":0},"",{"$f":"IF(ISNA(INDEX('План ввода основ. ср-в'!M:M,MATCH(B43,'План ввода основ. ср-в'!B:B,0))),0,INDEX('План ввода основ. ср-в'!M:M,MATCH(B43,'План ввода основ. ср-в'!B:B,0)))","v":0},{"$f":"IF(ISNA(INDEX('План ввода основ. ср-в'!P:P,MATCH(B43,'План ввода основ. ср-в'!B:B,0))),0,INDEX('План ввода основ. ср-в'!P:P,MATCH(B43,'План ввода основ. ср-в'!B:B,0)))","v":1.62},"/",{"$f":"IF(ISNA(INDEX('План ввода основ. ср-в'!O:O,MATCH(B43,'План ввода основ. ср-в'!B:B,0))),0,INDEX('План ввода основ. ср-в'!O:O,MATCH(B43,'План ввода основ. ср-в'!B:B,0)))","v":0.4},{"$f":"IF(ISNA(INDEX('План ввода основ. ср-в'!R:R,MATCH(B43,'План ввода основ. ср-в'!B:B,0))),0,INDEX('План ввода основ. ср-в'!R:R,MATCH(B43,'План ввода основ. ср-в'!B:B,0)))","v":0},"",{"$f":"IF(ISNA(INDEX('План ввода основ. ср-в'!Q:Q,MATCH(B43,'План ввода основ. ср-в'!B:B,0))),0,INDEX('План ввода основ. ср-в'!Q:Q,MATCH(B43,'План ввода основ. ср-в'!B:B,0)))","v":0},{"$f":"IF(ISNA(INDEX('План ввода основ. ср-в'!T:T,MATCH(B43,'План ввода основ. ср-в'!B:B,0))),0,INDEX('План ввода основ. ср-в'!T:T,MATCH(B43,'План ввода основ. ср-в'!B:B,0)))","v":0},"",{"$f":"IF(ISNA(INDEX('План ввода основ. ср-в'!S:S,MATCH(B43,'План ввода основ. ср-в'!B:B,0))),0,INDEX('План ввода основ. ср-в'!S:S,MATCH(B43,'План ввода основ. ср-в'!B:B,0)))","v":0},1.62,"/",0.4,{"$f":"IF(ISNA(INDEX('План ввода основ. ср-в'!V:V,MATCH(B43,'План ввода основ. ср-в'!B:B,0))),0,INDEX('План ввода основ. ср-в'!V:V,MATCH(B43,'План ввода основ. ср-в'!B:B,0)))","v":0},{"$f":"IF(ISNA(INDEX('План ввода основ. ср-в'!W:W,MATCH(B43,'План ввода основ. ср-в'!B:B,0))),0,INDEX('План ввода основ. ср-в'!W:W,MATCH(B43,'План ввода основ. ср-в'!B:B,0)))","v":0},{"$f":"IF(ISNA(INDEX('План ввода основ. ср-в'!X:X,MATCH(B43,'План ввода основ. ср-в'!B:B,0))),0,INDEX('План ввода основ. ср-в'!X:X,MATCH(B43,'План ввода основ. ср-в'!B:B,0)))","v":0},{"$f":"IF(ISNA(INDEX('План ввода основ. ср-в'!Y:Y,MATCH(B43,'План ввода основ. ср-в'!B:B,0))),0,INDEX('План ввода основ. ср-в'!Y:Y,MATCH(B43,'План ввода основ. ср-в'!B:B,0)))","v":0},0,{"$f":"IF(ISNA(INDEX('План ввода основ. ср-в'!Z:Z,MATCH(B43,'План ввода основ. ср-в'!B:B,0))),0,INDEX('План ввода основ. ср-в'!Z:Z,MATCH(B43,'План ввода основ. ср-в'!B:B,0)))","v":0},{"$f":"IF(ISNA(INDEX('План ввода основ. ср-в'!AA:AA,MATCH(B43,'План ввода основ. ср-в'!B:B,0))),0,INDEX('План ввода основ. ср-в'!AA:AA,MATCH(B43,'План ввода основ. ср-в'!B:B,0)))","v":4.8610169491525426},{"$f":"IF(ISNA(INDEX('План ввода основ. ср-в'!AB:AB,MATCH(B43,'План ввода основ. ср-в'!B:B,0))),0,INDEX('План ввода основ. ср-в'!AB:AB,MATCH(B43,'План ввода основ. ср-в'!B:B,0)))","v":0},{"$f":"IF(ISNA(INDEX('План ввода основ. ср-в'!AC:AC,MATCH(B43,'План ввода основ. ср-в'!B:B,0))),0,INDEX('План ввода основ. ср-в'!AC:AC,MATCH(B43,'План ввода основ. ср-в'!B:B,0)))","v":0},4.8610169491525426]
[22,"Реконструкция ВЛ-0,4кВ от КТП 114/400 кВА с заменой КТП",null,null,null,null,null,null,0,"",0,0,"",0,0,"",0,0.72,"/",0.4,0,"",0,0.72,"/",0.4,2.7254237288135594,{"$f":"IF(ISNA(INDEX('План ввода основ. ср-в'!F:F,MATCH(B44,'План ввода основ. ср-в'!B:B,0))),0,INDEX('План ввода основ. ср-в'!F:F,MATCH(B44,'План ввода основ. ср-в'!B:B,0)))","v":0},"",{"$f":"IF(ISNA(INDEX('План ввода основ. ср-в'!E:E,MATCH(B44,'План ввода основ. ср-в'!B:B,0))),0,INDEX('План ввода основ. ср-в'!E:E,MATCH(B44,'План ввода основ. ср-в'!B:B,0)))","v":0},{"$f":"IF(ISNA(INDEX('План ввода основ. ср-в'!H:H,MATCH(B44,'План ввода основ. ср-в'!B:B,0))),0,INDEX('План ввода основ. ср-в'!H:H,MATCH(B44,'План ввода основ. ср-в'!B:B,0)))","v":0},"",{"$f":"IF(ISNA(INDEX('План ввода основ. ср-в'!G:G,MATCH(B44,'План ввода основ. ср-в'!B:B,0))),0,INDEX('План ввода основ. ср-в'!G:G,MATCH(B44,'План ввода основ. ср-в'!B:B,0)))","v":0},{"$f":"IF(ISNA(INDEX('План ввода основ. ср-в'!J:J,MATCH(B44,'План ввода основ. ср-в'!B:B,0))),0,INDEX('План ввода основ. ср-в'!J:J,MATCH(B44,'План ввода основ. ср-в'!B:B,0)))","v":0},"",{"$f":"IF(ISNA(INDEX('План ввода основ. ср-в'!I:I,MATCH(B44,'План ввода основ. ср-в'!B:B,0))),0,INDEX('План ввода основ. ср-в'!I:I,MATCH(B44,'План ввода основ. ср-в'!B:B,0)))","v":0},{"$f":"IF(ISNA(INDEX('План ввода основ. ср-в'!L:L,MATCH(B44,'План ввода основ. ср-в'!B:B,0))),0,INDEX('План ввода основ. ср-в'!L:L,MATCH(B44,'План ввода основ. ср-в'!B:B,0)))","v":0},"",{"$f":"IF(ISNA(INDEX('План ввода основ. ср-в'!K:K,MATCH(B44,'План ввода основ. ср-в'!B:B,0))),0,INDEX('План ввода основ. ср-в'!K:K,MATCH(B44,'План ввода основ. ср-в'!B:B,0)))","v":0},0,"/",0,{"$f":"IF(ISNA(INDEX('План ввода основ. ср-в'!N:N,MATCH(B44,'План ввода основ. ср-в'!B:B,0))),0,INDEX('План ввода основ. ср-в'!N:N,MATCH(B44,'План ввода основ. ср-в'!B:B,0)))","v":0},"",{"$f":"IF(ISNA(INDEX('План ввода основ. ср-в'!M:M,MATCH(B44,'План ввода основ. ср-в'!B:B,0))),0,INDEX('План ввода основ. ср-в'!M:M,MATCH(B44,'План ввода основ. ср-в'!B:B,0)))","v":0},{"$f":"IF(ISNA(INDEX('План ввода основ. ср-в'!P:P,MATCH(B44,'План ввода основ. ср-в'!B:B,0))),0,INDEX('План ввода основ. ср-в'!P:P,MATCH(B44,'План ввода основ. ср-в'!B:B,0)))","v":0},"",{"$f":"IF(ISNA(INDEX('План ввода основ. ср-в'!O:O,MATCH(B44,'План ввода основ. ср-в'!B:B,0))),0,INDEX('План ввода основ. ср-в'!O:O,MATCH(B44,'План ввода основ. ср-в'!B:B,0)))","v":0},{"$f":"IF(ISNA(INDEX('План ввода основ. ср-в'!R:R,MATCH(B44,'План ввода основ. ср-в'!B:B,0))),0,INDEX('План ввода основ. ср-в'!R:R,MATCH(B44,'План ввода основ. ср-в'!B:B,0)))","v":0.72},"/",{"$f":"IF(ISNA(INDEX('План ввода основ. ср-в'!Q:Q,MATCH(B44,'План ввода основ. ср-в'!B:B,0))),0,INDEX('План ввода основ. ср-в'!Q:Q,MATCH(B44,'План ввода основ. ср-в'!B:B,0)))","v":0.4},{"$f":"IF(ISNA(INDEX('План ввода основ. ср-в'!T:T,MATCH(B44,'План ввода основ. ср-в'!B:B,0))),0,INDEX('План ввода основ. ср-в'!T:T,MATCH(B44,'План ввода основ. ср-в'!B:B,0)))","v":0},"",{"$f":"IF(ISNA(INDEX('План ввода основ. ср-в'!S:S,MATCH(B44,'План ввода основ. ср-в'!B:B,0))),0,INDEX('План ввода основ. ср-в'!S:S,MATCH(B44,'План ввода основ. ср-в'!B:B,0)))","v":0},0.72,"/",0.4,{"$f":"IF(ISNA(INDEX('План ввода основ. ср-в'!V:V,MATCH(B44,'План ввода основ. ср-в'!B:B,0))),0,INDEX('План ввода основ. ср-в'!V:V,MATCH(B44,'План ввода основ. ср-в'!B:B,0)))","v":0},{"$f":"IF(ISNA(INDEX('План ввода основ. ср-в'!W:W,MATCH(B44,'План ввода основ. ср-в'!B:B,0))),0,INDEX('План ввода основ. ср-в'!W:W,MATCH(B44,'План ввода основ. ср-в'!B:B,0)))","v":0},{"$f":"IF(ISNA(INDEX('План ввода основ. ср-в'!X:X,MATCH(B44,'План ввода основ. ср-в'!B:B,0))),0,INDEX('План ввода основ. ср-в'!X:X,MATCH(B44,'План ввода основ. ср-в'!B:B,0)))","v":0},{"$f":"IF(ISNA(INDEX('План ввода основ. ср-в'!Y:Y,MATCH(B44,'План ввода основ. ср-в'!B:B,0))),0,INDEX('План ввода основ. ср-в'!Y:Y,MATCH(B44,'План ввода основ. ср-в'!B:B,0)))","v":0},0,{"$f":"IF(ISNA(INDEX('План ввода основ. ср-в'!Z:Z,MATCH(B44,'План ввода основ. ср-в'!B:B,0))),0,INDEX('План ввода основ. ср-в'!Z:Z,MATCH(B44,'План ввода основ. ср-в'!B:B,0)))","v":0},{"$f":"IF(ISNA(INDEX('План ввода основ. ср-в'!AA:AA,MATCH(B44,'План ввода основ. ср-в'!B:B,0))),0,INDEX('План ввода основ. ср-в'!AA:AA,MATCH(B44,'План ввода основ. ср-в'!B:B,0)))","v":0},{"$f":"IF(ISNA(INDEX('План ввода основ. ср-в'!AB:AB,MATCH(B44,'План ввода основ. ср-в'!B:B,0))),0,INDEX('План ввода основ. ср-в'!AB:AB,MATCH(B44,'План ввода основ. ср-в'!B:B,0)))","v":2.7254237288135594},{"$f":"IF(ISNA(INDEX('План ввода основ. ср-в'!AC:AC,MATCH(B44,'План ввода основ. ср-в'!B:B,0))),0,INDEX('План ввода основ. ср-в'!AC:AC,MATCH(B44,'План ввода основ. ср-в'!B:B,0)))","v":0},2.7254237288135594]
[23,"Реконструкция ВЛ-0,4кВ от КТП 407/400 кВА с заменой КТП",null,null,null,null,null,null,0,"",0,0,"",0,0,"",0,0.52,"/",0.4,0,"",0,0.52,"/",0.4,2.2508474576271187,{"$f":"IF(ISNA(INDEX('План ввода основ. ср-в'!F:F,MATCH(B45,'План ввода основ. ср-в'!B:B,0))),0,INDEX('План ввода основ. ср-в'!F:F,MATCH(B45,'План ввода основ. ср-в'!B:B,0)))","v":0},"",{"$f":"IF(ISNA(INDEX('План ввода основ. ср-в'!E:E,MATCH(B45,'План ввода основ. ср-в'!B:B,0))),0,INDEX('План ввода основ. ср-в'!E:E,MATCH(B45,'План ввода основ. ср-в'!B:B,0)))","v":0},{"$f":"IF(ISNA(INDEX('План ввода основ. ср-в'!H:H,MATCH(B45,'План ввода основ. ср-в'!B:B,0))),0,INDEX('План ввода основ. ср-в'!H:H,MATCH(B45,'План ввода основ. ср-в'!B:B,0)))","v":0},"",{"$f":"IF(ISNA(INDEX('План ввода основ. ср-в'!G:G,MATCH(B45,'План ввода основ. ср-в'!B:B,0))),0,INDEX('План ввода основ. ср-в'!G:G,MATCH(B45,'План ввода основ. ср-в'!B:B,0)))","v":0},{"$f":"IF(ISNA(INDEX('План ввода основ. ср-в'!J:J,MATCH(B45,'План ввода основ. ср-в'!B:B,0))),0,INDEX('План ввода основ. ср-в'!J:J,MATCH(B45,'План ввода основ. ср-в'!B:B,0)))","v":0},"",{"$f":"IF(ISNA(INDEX('План ввода основ. ср-в'!I:I,MATCH(B45,'План ввода основ. ср-в'!B:B,0))),0,INDEX('План ввода основ. ср-в'!I:I,MATCH(B45,'План ввода основ. ср-в'!B:B,0)))","v":0},{"$f":"IF(ISNA(INDEX('План ввода основ. ср-в'!L:L,MATCH(B45,'План ввода основ. ср-в'!B:B,0))),0,INDEX('План ввода основ. ср-в'!L:L,MATCH(B45,'План ввода основ. ср-в'!B:B,0)))","v":0},"",{"$f":"IF(ISNA(INDEX('План ввода основ. ср-в'!K:K,MATCH(B45,'План ввода основ. ср-в'!B:B,0))),0,INDEX('План ввода основ. ср-в'!K:K,MATCH(B45,'План ввода основ. ср-в'!B:B,0)))","v":0},0,"/",0,{"$f":"IF(ISNA(INDEX('План ввода основ. ср-в'!N:N,MATCH(B45,'План ввода основ. ср-в'!B:B,0))),0,INDEX('План ввода основ. ср-в'!N:N,MATCH(B45,'План ввода основ. ср-в'!B:B,0)))","v":0},"",{"$f":"IF(ISNA(INDEX('План ввода основ. ср-в'!M:M,MATCH(B45,'План ввода основ. ср-в'!B:B,0))),0,INDEX('План ввода основ. ср-в'!M:M,MATCH(B45,'План ввода основ. ср-в'!B:B,0)))","v":0},{"$f":"IF(ISNA(INDEX('План ввода основ. ср-в'!P:P,MATCH(B45,'План ввода основ. ср-в'!B:B,0))),0,INDEX('План ввода основ. ср-в'!P:P,MATCH(B45,'План ввода основ. ср-в'!B:B,0)))","v":0},"",{"$f":"IF(ISNA(INDEX('План ввода основ. ср-в'!O:O,MATCH(B45,'План ввода основ. ср-в'!B:B,0))),0,INDEX('План ввода основ. ср-в'!O:O,MATCH(B45,'План ввода основ. ср-в'!B:B,0)))","v":0},{"$f":"IF(ISNA(INDEX('План ввода основ. ср-в'!R:R,MATCH(B45,'План ввода основ. ср-в'!B:B,0))),0,INDEX('План ввода основ. ср-в'!R:R,MATCH(B45,'План ввода основ. ср-в'!B:B,0)))","v":0.52},"/",{"$f":"IF(ISNA(INDEX('План ввода основ. ср-в'!Q:Q,MATCH(B45,'План ввода основ. ср-в'!B:B,0))),0,INDEX('План ввода основ. ср-в'!Q:Q,MATCH(B45,'План ввода основ. ср-в'!B:B,0)))","v":0.4},{"$f":"IF(ISNA(INDEX('План ввода основ. ср-в'!T:T,MATCH(B45,'План ввода основ. ср-в'!B:B,0))),0,INDEX('План ввода основ. ср-в'!T:T,MATCH(B45,'План ввода основ. ср-в'!B:B,0)))","v":0},"",{"$f":"IF(ISNA(INDEX('План ввода основ. ср-в'!S:S,MATCH(B45,'План ввода основ. ср-в'!B:B,0))),0,INDEX('План ввода основ. ср-в'!S:S,MATCH(B45,'План ввода основ. ср-в'!B:B,0)))","v":0},0.52,"/",0.4,{"$f":"IF(ISNA(INDEX('План ввода основ. ср-в'!V:V,MATCH(B45,'План ввода основ. ср-в'!B:B,0))),0,INDEX('План ввода основ. ср-в'!V:V,MATCH(B45,'План ввода основ. ср-в'!B:B,0)))","v":0},{"$f":"IF(ISNA(INDEX('План ввода основ. ср-в'!W:W,MATCH(B45,'План ввода основ. ср-в'!B:B,0))),0,INDEX('План ввода основ. ср-в'!W:W,MATCH(B45,'План ввода основ. ср-в'!B:B,0)))","v":0},{"$f":"IF(ISNA(INDEX('План ввода основ. ср-в'!X:X,MATCH(B45,'План ввода основ. ср-в'!B:B,0))),0,INDEX('План ввода основ. ср-в'!X:X,MATCH(B45,'План ввода основ. ср-в'!B:B,0)))","v":0},{"$f":"IF(ISNA(INDEX('План ввода основ. ср-в'!Y:Y,MATCH(B45,'План ввода основ. ср-в'!B:B,0))),0,INDEX('План ввода основ. ср-в'!Y:Y,MATCH(B45,'План ввода основ. ср-в'!B:B,0)))","v":0},0,{"$f":"IF(ISNA(INDEX('План ввода основ. ср-в'!Z:Z,MATCH(B45,'План ввода основ. ср-в'!B:B,0))),0,INDEX('План ввода основ. ср-в'!Z:Z,MATCH(B45,'План ввода основ. ср-в'!B:B,0)))","v":0},{"$f":"IF(ISNA(INDEX('План ввода основ. ср-в'!AA:AA,MATCH(B45,'План ввода основ. ср-в'!B:B,0))),0,INDEX('План ввода основ. ср-в'!AA:AA,MATCH(B45,'План ввода основ. ср-в'!B:B,0)))","v":0},{"$f":"IF(ISNA(INDEX('План ввода основ. ср-в'!AB:AB,MATCH(B45,'План ввода основ. ср-в'!B:B,0))),0,INDEX('План ввода основ. ср-в'!AB:AB,MATCH(B45,'План ввода основ. ср-в'!B:B,0)))","v":2.2508474576271187},{"$f":"IF(ISNA(INDEX('План ввода основ. ср-в'!AC:AC,MATCH(B45,'План ввода основ. ср-в'!B:B,0))),0,INDEX('План ввода основ. ср-в'!AC:AC,MATCH(B45,'План ввода основ. ср-в'!B:B,0)))","v":0},2.2508474576271187]
[24,"Реконструкция ВЛ-0,4кВ от КТП 122/400 кВА с заменой КТП",null,null,null,null,null,null,0,"",0,0,"",0,0,"",0,0,"",0,1.9,"/",0.4,1.9,"/",0.4,2.2508474576271187,{"$f":"IF(ISNA(INDEX('План ввода основ. ср-в'!F:F,MATCH(B46,'План ввода основ. ср-в'!B:B,0))),0,INDEX('План ввода основ. ср-в'!F:F,MATCH(B46,'План ввода основ. ср-в'!B:B,0)))","v":0},"",{"$f":"IF(ISNA(INDEX('План ввода основ. ср-в'!E:E,MATCH(B46,'План ввода основ. ср-в'!B:B,0))),0,INDEX('План ввода основ. ср-в'!E:E,MATCH(B46,'План ввода основ. ср-в'!B:B,0)))","v":0},{"$f":"IF(ISNA(INDEX('План ввода основ. ср-в'!H:H,MATCH(B46,'План ввода основ. ср-в'!B:B,0))),0,INDEX('План ввода основ. ср-в'!H:H,MATCH(B46,'План ввода основ. ср-в'!B:B,0)))","v":0},"",{"$f":"IF(ISNA(INDEX('План ввода основ. ср-в'!G:G,MATCH(B46,'План ввода основ. ср-в'!B:B,0))),0,INDEX('План ввода основ. ср-в'!G:G,MATCH(B46,'План ввода основ. ср-в'!B:B,0)))","v":0},{"$f":"IF(ISNA(INDEX('План ввода основ. ср-в'!J:J,MATCH(B46,'План ввода основ. ср-в'!B:B,0))),0,INDEX('План ввода основ. ср-в'!J:J,MATCH(B46,'План ввода основ. ср-в'!B:B,0)))","v":0},"",{"$f":"IF(ISNA(INDEX('План ввода основ. ср-в'!I:I,MATCH(B46,'План ввода основ. ср-в'!B:B,0))),0,INDEX('План ввода основ. ср-в'!I:I,MATCH(B46,'План ввода основ. ср-в'!B:B,0)))","v":0},{"$f":"IF(ISNA(INDEX('План ввода основ. ср-в'!L:L,MATCH(B46,'План ввода основ. ср-в'!B:B,0))),0,INDEX('План ввода основ. ср-в'!L:L,MATCH(B46,'План ввода основ. ср-в'!B:B,0)))","v":0},"",{"$f":"IF(ISNA(INDEX('План ввода основ. ср-в'!K:K,MATCH(B46,'План ввода основ. ср-в'!B:B,0))),0,INDEX('План ввода основ. ср-в'!K:K,MATCH(B46,'План ввода основ. ср-в'!B:B,0)))","v":0},0,"/",0,{"$f":"IF(ISNA(INDEX('План ввода основ. ср-в'!N:N,MATCH(B46,'План ввода основ. ср-в'!B:B,0))),0,INDEX('План ввода основ. ср-в'!N:N,MATCH(B46,'План ввода основ. ср-в'!B:B,0)))","v":0},"",{"$f":"IF(ISNA(INDEX('План ввода основ. ср-в'!M:M,MATCH(B46,'План ввода основ. ср-в'!B:B,0))),0,INDEX('План ввода основ. ср-в'!M:M,MATCH(B46,'План ввода основ. ср-в'!B:B,0)))","v":0},{"$f":"IF(ISNA(INDEX('План ввода основ. ср-в'!P:P,MATCH(B46,'План ввода основ. ср-в'!B:B,0))),0,INDEX('План ввода основ. ср-в'!P:P,MATCH(B46,'План ввода основ. ср-в'!B:B,0)))","v":0},"",{"$f":"IF(ISNA(INDEX('План ввода основ. ср-в'!O:O,MATCH(B46,'План ввода основ. ср-в'!B:B,0))),0,INDEX('План ввода основ. ср-в'!O:O,MATCH(B46,'План ввода основ. ср-в'!B:B,0)))","v":0},{"$f":"IF(ISNA(INDEX('План ввода основ. ср-в'!R:R,MATCH(B46,'План ввода основ. ср-в'!B:B,0))),0,INDEX('План ввода основ. ср-в'!R:R,MATCH(B46,'План ввода основ. ср-в'!B:B,0)))","v":0},"",{"$f":"IF(ISNA(INDEX('План ввода основ. ср-в'!Q:Q,MATCH(B46,'План ввода основ. ср-в'!B:B,0))),0,INDEX('План ввода основ. ср-в'!Q:Q,MATCH(B46,'План ввода основ. ср-в'!B:B,0)))","v":0},{"$f":"IF(ISNA(INDEX('План ввода основ. ср-в'!T:T,MATCH(B46,'План ввода основ. ср-в'!B:B,0))),0,INDEX('План ввода основ. ср-в'!T:T,MATCH(B46,'План ввода основ. ср-в'!B:B,0)))","v":1.9},"/",{"$f":"IF(ISNA(INDEX('План ввода основ. ср-в'!S:S,MATCH(B46,'План ввода основ. ср-в'!B:B,0))),0,INDEX('План ввода основ. ср-в'!S:S,MATCH(B46,'План ввода основ. ср-в'!B:B,0)))","v":0.4},1.9,"/",0.4,{"$f":"IF(ISNA(INDEX('План ввода основ. ср-в'!V:V,MATCH(B46,'План ввода основ. ср-в'!B:B,0))),0,INDEX('План ввода основ. ср-в'!V:V,MATCH(B46,'План ввода основ. ср-в'!B:B,0)))","v":0},{"$f":"IF(ISNA(INDEX('План ввода основ. ср-в'!W:W,MATCH(B46,'План ввода основ. ср-в'!B:B,0))),0,INDEX('План ввода основ. ср-в'!W:W,MATCH(B46,'План ввода основ. ср-в'!B:B,0)))","v":0},{"$f":"IF(ISNA(INDEX('План ввода основ. ср-в'!X:X,MATCH(B46,'План ввода основ. ср-в'!B:B,0))),0,INDEX('План ввода основ. ср-в'!X:X,MATCH(B46,'План ввода основ. ср-в'!B:B,0)))","v":0},{"$f":"IF(ISNA(INDEX('План ввода основ. ср-в'!Y:Y,MATCH(B46,'План ввода основ. ср-в'!B:B,0))),0,INDEX('План ввода основ. ср-в'!Y:Y,MATCH(B46,'План ввода основ. ср-в'!B:B,0)))","v":0},0,{"$f":"IF(ISNA(INDEX('План ввода основ. ср-в'!Z:Z,MATCH(B46,'План ввода основ. ср-в'!B:B,0))),0,INDEX('План ввода основ. ср-в'!Z:Z,MATCH(B46,'План ввода основ. ср-в'!B:B,0)))","v":0},{"$f":"IF(ISNA(INDEX('План ввода основ. ср-в'!AA:AA,MATCH(B46,'План ввода основ. ср-в'!B:B,0))),0,INDEX('План ввода основ. ср-в'!AA:AA,MATCH(B46,'План ввода основ. ср-в'!B:B,0)))","v":0},{"$f":"IF(ISNA(INDEX('План ввода основ. ср-в'!AB:AB,MATCH(B46,'План ввода основ. ср-в'!B:B,0))),0,INDEX('План ввода основ. ср-в'!AB:AB,MATCH(B46,'План ввода основ. ср-в'!B:B,0)))","v":0},{"$f":"IF(ISNA(INDEX('План ввода основ. ср-в'!AC:AC,MATCH(B46,'План ввода основ. ср-в'!B:B,0))),0,INDEX('План ввода основ. ср-в'!AC:AC,MATCH(B46,'План ввода основ. ср-в'!B:B,0)))","v":2.2508474576271187},2.2508474576271187]
[25,"Реконструкция ВЛ-0,4кВ от КТП 906/250 кВА с заменой КТП",null,null,null,null,null,null,0,{"$f":"IF(AND(I47=0,K47=0),\"\",\"/\")","v":""},0,0,{"$f":"IF(AND(L47=0,N47=0),\"\",\"/\")","v":""},0,0,{"$f":"IF(AND(O47=0,Q47=0),\"\",\"/\")","v":""},0,0,{"$f":"IF(AND(R47=0,T47=0),\"\",\"/\")","v":""},0,3.85,{"$f":"IF(AND(U47=0,W47=0),\"\",\"/\")","v":"/"},0.25,3.85,"/",0.25,10.152542372881355,{"$f":"IF(ISNA(INDEX('План ввода основ. ср-в'!F:F,MATCH(B47,'План ввода основ. ср-в'!B:B,0))),0,INDEX('План ввода основ. ср-в'!F:F,MATCH(B47,'План ввода основ. ср-в'!B:B,0)))","v":0},{"$f":"IF(AND(AB47=0,AD47=0),\"\",\"/\")","v":""},{"$f":"IF(ISNA(INDEX('План ввода основ. ср-в'!E:E,MATCH(B47,'План ввода основ. ср-в'!B:B,0))),0,INDEX('План ввода основ. ср-в'!E:E,MATCH(B47,'План ввода основ. ср-в'!B:B,0)))","v":0},{"$f":"IF(ISNA(INDEX('План ввода основ. ср-в'!H:H,MATCH(B47,'План ввода основ. ср-в'!B:B,0))),0,INDEX('План ввода основ. ср-в'!H:H,MATCH(B47,'План ввода основ. ср-в'!B:B,0)))","v":0},{"$f":"IF(AND(AE47=0,AG47=0),\"\",\"/\")","v":""},{"$f":"IF(ISNA(INDEX('План ввода основ. ср-в'!G:G,MATCH(B47,'План ввода основ. ср-в'!B:B,0))),0,INDEX('План ввода основ. ср-в'!G:G,MATCH(B47,'План ввода основ. ср-в'!B:B,0)))","v":0},{"$f":"IF(ISNA(INDEX('План ввода основ. ср-в'!J:J,MATCH(B47,'План ввода основ. ср-в'!B:B,0))),0,INDEX('План ввода основ. ср-в'!J:J,MATCH(B47,'План ввода основ. ср-в'!B:B,0)))","v":0},{"$f":"IF(AND(AH47=0,AJ47=0),\"\",\"/\")","v":""},{"$f":"IF(ISNA(INDEX('План ввода основ. ср-в'!I:I,MATCH(B47,'План ввода основ. ср-в'!B:B,0))),0,INDEX('План ввода основ. ср-в'!I:I,MATCH(B47,'План ввода основ. ср-в'!B:B,0)))","v":0},{"$f":"IF(ISNA(INDEX('План ввода основ. ср-в'!L:L,MATCH(B47,'План ввода основ. ср-в'!B:B,0))),0,INDEX('План ввода основ. ср-в'!L:L,MATCH(B47,'План ввода основ. ср-в'!B:B,0)))","v":0},{"$f":"IF(AND(AK47=0,AM47=0),\"\",\"/\")","v":""},{"$f":"IF(ISNA(INDEX('План ввода основ. ср-в'!K:K,MATCH(B47,'План ввода основ. ср-в'!B:B,0))),0,INDEX('План ввода основ. ср-в'!K:K,MATCH(B47,'План ввода основ. ср-в'!B:B,0)))","v":0},0,"/",0,{"$f":"IF(ISNA(INDEX('План ввода основ. ср-в'!N:N,MATCH(B47,'План ввода основ. ср-в'!B:B,0))),0,INDEX('План ввода основ. ср-в'!N:N,MATCH(B47,'План ввода основ. ср-в'!B:B,0)))","v":0},"",{"$f":"IF(ISNA(INDEX('План ввода основ. ср-в'!M:M,MATCH(B47,'План ввода основ. ср-в'!B:B,0))),0,INDEX('План ввода основ. ср-в'!M:M,MATCH(B47,'План ввода основ. ср-в'!B:B,0)))","v":0},{"$f":"IF(ISNA(INDEX('План ввода основ. ср-в'!P:P,MATCH(B47,'План ввода основ. ср-в'!B:B,0))),0,INDEX('План ввода основ. ср-в'!P:P,MATCH(B47,'План ввода основ. ср-в'!B:B,0)))","v":0},"",{"$f":"IF(ISNA(INDEX('План ввода основ. ср-в'!O:O,MATCH(B47,'План ввода основ. ср-в'!B:B,0))),0,INDEX('План ввода основ. ср-в'!O:O,MATCH(B47,'План ввода основ. ср-в'!B:B,0)))","v":0},{"$f":"IF(ISNA(INDEX('План ввода основ. ср-в'!R:R,MATCH(B47,'План ввода основ. ср-в'!B:B,0))),0,INDEX('План ввода основ. ср-в'!R:R,MATCH(B47,'План ввода основ. ср-в'!B:B,0)))","v":0},"",{"$f":"IF(ISNA(INDEX('План ввода основ. ср-в'!Q:Q,MATCH(B47,'План ввода основ. ср-в'!B:B,0))),0,INDEX('План ввода основ. ср-в'!Q:Q,MATCH(B47,'План ввода основ. ср-в'!B:B,0)))","v":0},{"$f":"IF(ISNA(INDEX('План ввода основ. ср-в'!T:T,MATCH(B47,'План ввода основ. ср-в'!B:B,0))),0,INDEX('План ввода основ. ср-в'!T:T,MATCH(B47,'План ввода основ. ср-в'!B:B,0)))","v":3.85},"/",{"$f":"IF(ISNA(INDEX('План ввода основ. ср-в'!S:S,MATCH(B47,'План ввода основ. ср-в'!B:B,0))),0,INDEX('План ввода основ. ср-в'!S:S,MATCH(B47,'План ввода основ. ср-в'!B:B,0)))","v":0.25},3.85,"/",0.25,{"$f":"IF(ISNA(INDEX('План ввода основ. ср-в'!V:V,MATCH(B47,'План ввода основ. ср-в'!B:B,0))),0,INDEX('План ввода основ. ср-в'!V:V,MATCH(B47,'План ввода основ. ср-в'!B:B,0)))","v":0},{"$f":"IF(ISNA(INDEX('План ввода основ. ср-в'!W:W,MATCH(B47,'План ввода основ. ср-в'!B:B,0))),0,INDEX('План ввода основ. ср-в'!W:W,MATCH(B47,'План ввода основ. ср-в'!B:B,0)))","v":0},{"$f":"IF(ISNA(INDEX('План ввода основ. ср-в'!X:X,MATCH(B47,'План ввода основ. ср-в'!B:B,0))),0,INDEX('План ввода основ. ср-в'!X:X,MATCH(B47,'План ввода основ. ср-в'!B:B,0)))","v":0},{"$f":"IF(ISNA(INDEX('План ввода основ. ср-в'!Y:Y,MATCH(B47,'План ввода основ. ср-в'!B:B,0))),0,INDEX('План ввода основ. ср-в'!Y:Y,MATCH(B47,'План ввода основ. ср-в'!B:B,0)))","v":0},0,{"$f":"IF(ISNA(INDEX('План ввода основ. ср-в'!Z:Z,MATCH(B47,'План ввода основ. ср-в'!B:B,0))),0,INDEX('План ввода основ. ср-в'!Z:Z,MATCH(B47,'План ввода основ. ср-в'!B:B,0)))","v":0},{"$f":"IF(ISNA(INDEX('План ввода основ. ср-в'!AA:AA,MATCH(B47,'План ввода основ. ср-в'!B:B,0))),0,INDEX('План ввода основ. ср-в'!AA:AA,MATCH(B47,'План ввода основ. ср-в'!B:B,0)))","v":0},{"$f":"IF(ISNA(INDEX('План ввода основ. ср-в'!AB:AB,MATCH(B47,'План ввода основ. ср-в'!B:B,0))),0,INDEX('План ввода основ. ср-в'!AB:AB,MATCH(B47,'План ввода основ. ср-в'!B:B,0)))","v":0},{"$f":"IF(ISNA(INDEX('План ввода основ. ср-в'!AC:AC,MATCH(B47,'План ввода основ. ср-в'!B:B,0))),0,INDEX('План ввода основ. ср-в'!AC:AC,MATCH(B47,'План ввода основ. ср-в'!B:B,0)))","v":10.152542372881355},10.152542372881355]
[26,"Волжский район",null,null,null,null,null,null,0,"",0,0,"",0,0,"",0,0,"",0,0,"",0,0,"/",0,0,{"$f":"IF(ISNA(INDEX('План ввода основ. ср-в'!F:F,MATCH(B48,'План ввода основ. ср-в'!B:B,0))),0,INDEX('План ввода основ. ср-в'!F:F,MATCH(B48,'План ввода основ. ср-в'!B:B,0)))","v":0},"",{"$f":"IF(ISNA(INDEX('План ввода основ. ср-в'!E:E,MATCH(B48,'План ввода основ. ср-в'!B:B,0))),0,INDEX('План ввода основ. ср-в'!E:E,MATCH(B48,'План ввода основ. ср-в'!B:B,0)))","v":0},{"$f":"IF(ISNA(INDEX('План ввода основ. ср-в'!H:H,MATCH(B48,'План ввода основ. ср-в'!B:B,0))),0,INDEX('План ввода основ. ср-в'!H:H,MATCH(B48,'План ввода основ. ср-в'!B:B,0)))","v":0},"",{"$f":"IF(ISNA(INDEX('План ввода основ. ср-в'!G:G,MATCH(B48,'План ввода основ. ср-в'!B:B,0))),0,INDEX('План ввода основ. ср-в'!G:G,MATCH(B48,'План ввода основ. ср-в'!B:B,0)))","v":0},{"$f":"IF(ISNA(INDEX('План ввода основ. ср-в'!J:J,MATCH(B48,'План ввода основ. ср-в'!B:B,0))),0,INDEX('План ввода основ. ср-в'!J:J,MATCH(B48,'План ввода основ. ср-в'!B:B,0)))","v":0},"",{"$f":"IF(ISNA(INDEX('План ввода основ. ср-в'!I:I,MATCH(B48,'План ввода основ. ср-в'!B:B,0))),0,INDEX('План ввода основ. ср-в'!I:I,MATCH(B48,'План ввода основ. ср-в'!B:B,0)))","v":0},{"$f":"IF(ISNA(INDEX('План ввода основ. ср-в'!L:L,MATCH(B48,'План ввода основ. ср-в'!B:B,0))),0,INDEX('План ввода основ. ср-в'!L:L,MATCH(B48,'План ввода основ. ср-в'!B:B,0)))","v":0},"",{"$f":"IF(ISNA(INDEX('План ввода основ. ср-в'!K:K,MATCH(B48,'План ввода основ. ср-в'!B:B,0))),0,INDEX('План ввода основ. ср-в'!K:K,MATCH(B48,'План ввода основ. ср-в'!B:B,0)))","v":0},0,"/",0,{"$f":"IF(ISNA(INDEX('План ввода основ. ср-в'!N:N,MATCH(B48,'План ввода основ. ср-в'!B:B,0))),0,INDEX('План ввода основ. ср-в'!N:N,MATCH(B48,'План ввода основ. ср-в'!B:B,0)))","v":0},{"$f":"IF(AND(AQ48=0,AS48=0),\"\",\"/\")","v":""},{"$f":"IF(ISNA(INDEX('План ввода основ. ср-в'!M:M,MATCH(B48,'План ввода основ. ср-в'!B:B,0))),0,INDEX('План ввода основ. ср-в'!M:M,MATCH(B48,'План ввода основ. ср-в'!B:B,0)))","v":0},{"$f":"IF(ISNA(INDEX('План ввода основ. ср-в'!P:P,MATCH(B48,'План ввода основ. ср-в'!B:B,0))),0,INDEX('План ввода основ. ср-в'!P:P,MATCH(B48,'План ввода основ. ср-в'!B:B,0)))","v":0},{"$f":"IF(AND(AT48=0,AV48=0),\"\",\"/\")","v":""},{"$f":"IF(ISNA(INDEX('План ввода основ. ср-в'!O:O,MATCH(B48,'План ввода основ. ср-в'!B:B,0))),0,INDEX('План ввода основ. ср-в'!O:O,MATCH(B48,'План ввода основ. ср-в'!B:B,0)))","v":0},{"$f":"IF(ISNA(INDEX('План ввода основ. ср-в'!R:R,MATCH(B48,'План ввода основ. ср-в'!B:B,0))),0,INDEX('План ввода основ. ср-в'!R:R,MATCH(B48,'План ввода основ. ср-в'!B:B,0)))","v":0},{"$f":"IF(AND(AW48=0,AY48=0),\"\",\"/\")","v":""},{"$f":"IF(ISNA(INDEX('План ввода основ. ср-в'!Q:Q,MATCH(B48,'План ввода основ. ср-в'!B:B,0))),0,INDEX('План ввода основ. ср-в'!Q:Q,MATCH(B48,'План ввода основ. ср-в'!B:B,0)))","v":0},{"$f":"IF(ISNA(INDEX('План ввода основ. ср-в'!T:T,MATCH(B48,'План ввода основ. ср-в'!B:B,0))),0,INDEX('План ввода основ. ср-в'!T:T,MATCH(B48,'План ввода основ. ср-в'!B:B,0)))","v":0},{"$f":"IF(AND(AZ48=0,BB48=0),\"\",\"/\")","v":""},{"$f":"IF(ISNA(INDEX('План ввода основ. ср-в'!S:S,MATCH(B48,'План ввода основ. ср-в'!B:B,0))),0,INDEX('План ввода основ. ср-в'!S:S,MATCH(B48,'План ввода основ. ср-в'!B:B,0)))","v":0},0,"/",0,{"$f":"IF(ISNA(INDEX('План ввода основ. ср-в'!V:V,MATCH(B48,'План ввода основ. ср-в'!B:B,0))),0,INDEX('План ввода основ. ср-в'!V:V,MATCH(B48,'План ввода основ. ср-в'!B:B,0)))","v":0},{"$f":"IF(ISNA(INDEX('План ввода основ. ср-в'!W:W,MATCH(B48,'План ввода основ. ср-в'!B:B,0))),0,INDEX('План ввода основ. ср-в'!W:W,MATCH(B48,'План ввода основ. ср-в'!B:B,0)))","v":0},{"$f":"IF(ISNA(INDEX('План ввода основ. ср-в'!X:X,MATCH(B48,'План ввода основ. ср-в'!B:B,0))),0,INDEX('План ввода основ. ср-в'!X:X,MATCH(B48,'План ввода основ. ср-в'!B:B,0)))","v":0},{"$f":"IF(ISNA(INDEX('План ввода основ. ср-в'!Y:Y,MATCH(B48,'План ввода основ. ср-в'!B:B,0))),0,INDEX('План ввода основ. ср-в'!Y:Y,MATCH(B48,'План ввода основ. ср-в'!B:B,0)))","v":0},0,{"$f":"IF(ISNA(INDEX('План ввода основ. ср-в'!Z:Z,MATCH(B48,'План ввода основ. ср-в'!B:B,0))),0,INDEX('План ввода основ. ср-в'!Z:Z,MATCH(B48,'План ввода основ. ср-в'!B:B,0)))","v":0},{"$f":"IF(ISNA(INDEX('План ввода основ. ср-в'!AA:AA,MATCH(B48,'План ввода основ. ср-в'!B:B,0))),0,INDEX('План ввода основ. ср-в'!AA:AA,MATCH(B48,'План ввода основ. ср-в'!B:B,0)))","v":0},{"$f":"IF(ISNA(INDEX('План ввода основ. ср-в'!AB:AB,MATCH(B48,'План ввода основ. ср-в'!B:B,0))),0,INDEX('План ввода основ. ср-в'!AB:AB,MATCH(B48,'План ввода основ. ср-в'!B:B,0)))","v":0},{"$f":"IF(ISNA(INDEX('План ввода основ. ср-в'!AC:AC,MATCH(B48,'План ввода основ. ср-в'!B:B,0))),0,INDEX('План ввода основ. ср-в'!AC:AC,MATCH(B48,'План ввода основ. ср-в'!B:B,0)))","v":0},0]
[27,"Повышение надежности энергоснабжения п.г.т. Петра-Дубрава",null,null,null,null,null,null,0,"",0,0,"",0,0,"",0,0,"",0,0,"",0,0,"/",0,1082.6610169491526,{"$f":"IF(ISNA(INDEX('План ввода основ. ср-в'!F:F,MATCH(B49,'План ввода основ. ср-в'!B:B,0))),0,INDEX('План ввода основ. ср-в'!F:F,MATCH(B49,'План ввода основ. ср-в'!B:B,0)))","v":0},"",{"$f":"IF(ISNA(INDEX('План ввода основ. ср-в'!E:E,MATCH(B49,'План ввода основ. ср-в'!B:B,0))),0,INDEX('План ввода основ. ср-в'!E:E,MATCH(B49,'План ввода основ. ср-в'!B:B,0)))","v":0},{"$f":"IF(ISNA(INDEX('План ввода основ. ср-в'!H:H,MATCH(B49,'План ввода основ. ср-в'!B:B,0))),0,INDEX('План ввода основ. ср-в'!H:H,MATCH(B49,'План ввода основ. ср-в'!B:B,0)))","v":0},"",{"$f":"IF(ISNA(INDEX('План ввода основ. ср-в'!G:G,MATCH(B49,'План ввода основ. ср-в'!B:B,0))),0,INDEX('План ввода основ. ср-в'!G:G,MATCH(B49,'План ввода основ. ср-в'!B:B,0)))","v":0},{"$f":"IF(ISNA(INDEX('План ввода основ. ср-в'!J:J,MATCH(B49,'План ввода основ. ср-в'!B:B,0))),0,INDEX('План ввода основ. ср-в'!J:J,MATCH(B49,'План ввода основ. ср-в'!B:B,0)))","v":0},"",{"$f":"IF(ISNA(INDEX('План ввода основ. ср-в'!I:I,MATCH(B49,'План ввода основ. ср-в'!B:B,0))),0,INDEX('План ввода основ. ср-в'!I:I,MATCH(B49,'План ввода основ. ср-в'!B:B,0)))","v":0},{"$f":"IF(ISNA(INDEX('План ввода основ. ср-в'!L:L,MATCH(B49,'План ввода основ. ср-в'!B:B,0))),0,INDEX('План ввода основ. ср-в'!L:L,MATCH(B49,'План ввода основ. ср-в'!B:B,0)))","v":0},"",{"$f":"IF(ISNA(INDEX('План ввода основ. ср-в'!K:K,MATCH(B49,'План ввода основ. ср-в'!B:B,0))),0,INDEX('План ввода основ. ср-в'!K:K,MATCH(B49,'План ввода основ. ср-в'!B:B,0)))","v":0},0,"/",0,{"$f":"IF(ISNA(INDEX('План ввода основ. ср-в'!N:N,MATCH(B49,'План ввода основ. ср-в'!B:B,0))),0,INDEX('План ввода основ. ср-в'!N:N,MATCH(B49,'План ввода основ. ср-в'!B:B,0)))","v":24},"/",{"$f":"IF(ISNA(INDEX('План ввода основ. ср-в'!M:M,MATCH(B49,'План ввода основ. ср-в'!B:B,0))),0,INDEX('План ввода основ. ср-в'!M:M,MATCH(B49,'План ввода основ. ср-в'!B:B,0)))","v":12.8},{"$f":"IF(ISNA(INDEX('План ввода основ. ср-в'!P:P,MATCH(B49,'План ввода основ. ср-в'!B:B,0))),0,INDEX('План ввода основ. ср-в'!P:P,MATCH(B49,'План ввода основ. ср-в'!B:B,0)))","v":26.3},"/",{"$f":"IF(ISNA(INDEX('План ввода основ. ср-в'!O:O,MATCH(B49,'План ввода основ. ср-в'!B:B,0))),0,INDEX('План ввода основ. ср-в'!O:O,MATCH(B49,'План ввода основ. ср-в'!B:B,0)))","v":12.8},{"$f":"IF(ISNA(INDEX('План ввода основ. ср-в'!R:R,MATCH(B49,'План ввода основ. ср-в'!B:B,0))),0,INDEX('План ввода основ. ср-в'!R:R,MATCH(B49,'План ввода основ. ср-в'!B:B,0)))","v":28},"/",{"$f":"IF(ISNA(INDEX('План ввода основ. ср-в'!Q:Q,MATCH(B49,'План ввода основ. ср-в'!B:B,0))),0,INDEX('План ввода основ. ср-в'!Q:Q,MATCH(B49,'План ввода основ. ср-в'!B:B,0)))","v":12.8},{"$f":"IF(ISNA(INDEX('План ввода основ. ср-в'!T:T,MATCH(B49,'План ввода основ. ср-в'!B:B,0))),0,INDEX('План ввода основ. ср-в'!T:T,MATCH(B49,'План ввода основ. ср-в'!B:B,0)))","v":30},"/",{"$f":"IF(ISNA(INDEX('План ввода основ. ср-в'!S:S,MATCH(B49,'План ввода основ. ср-в'!B:B,0))),0,INDEX('План ввода основ. ср-в'!S:S,MATCH(B49,'План ввода основ. ср-в'!B:B,0)))","v":12.8},108.3,"/",51.2,{"$f":"IF(ISNA(INDEX('План ввода основ. ср-в'!V:V,MATCH(B49,'План ввода основ. ср-в'!B:B,0))),0,INDEX('План ввода основ. ср-в'!V:V,MATCH(B49,'План ввода основ. ср-в'!B:B,0)))","v":0},{"$f":"IF(ISNA(INDEX('План ввода основ. ср-в'!W:W,MATCH(B49,'План ввода основ. ср-в'!B:B,0))),0,INDEX('План ввода основ. ср-в'!W:W,MATCH(B49,'План ввода основ. ср-в'!B:B,0)))","v":0},{"$f":"IF(ISNA(INDEX('План ввода основ. ср-в'!X:X,MATCH(B49,'План ввода основ. ср-в'!B:B,0))),0,INDEX('План ввода основ. ср-в'!X:X,MATCH(B49,'План ввода основ. ср-в'!B:B,0)))","v":0},{"$f":"IF(ISNA(INDEX('План ввода основ. ср-в'!Y:Y,MATCH(B49,'План ввода основ. ср-в'!B:B,0))),0,INDEX('План ввода основ. ср-в'!Y:Y,MATCH(B49,'План ввода основ. ср-в'!B:B,0)))","v":0},0,{"$f":"IF(ISNA(INDEX('План ввода основ. ср-в'!Z:Z,MATCH(B49,'План ввода основ. ср-в'!B:B,0))),0,INDEX('План ввода основ. ср-в'!Z:Z,MATCH(B49,'План ввода основ. ср-в'!B:B,0)))","v":240},{"$f":"IF(ISNA(INDEX('План ввода основ. ср-в'!AA:AA,MATCH(B49,'План ввода основ. ср-в'!B:B,0))),0,INDEX('План ввода основ. ср-в'!AA:AA,MATCH(B49,'План ввода основ. ср-в'!B:B,0)))","v":263},{"$f":"IF(ISNA(INDEX('План ввода основ. ср-в'!AB:AB,MATCH(B49,'План ввода основ. ср-в'!B:B,0))),0,INDEX('План ввода основ. ср-в'!AB:AB,MATCH(B49,'План ввода основ. ср-в'!B:B,0)))","v":279.66101694915255},{"$f":"IF(ISNA(INDEX('План ввода основ. ср-в'!AC:AC,MATCH(B49,'План ввода основ. ср-в'!B:B,0))),0,INDEX('План ввода основ. ср-в'!AC:AC,MATCH(B49,'План ввода основ. ср-в'!B:B,0)))","v":300},1082.6610169491526]
[28,"Реконструкция, инфраструктуры объектов электрохозяйства в г.о. Самара в целях обеспечения надежности ЭС объектов Южный город, Заречье в Волжском районе",null,null,null,null,null,null,0,"",0,0,"",0,0,"",0,0,"",0,0,"",0,0,"/",0,1188.0169491525423,{"$f":"IF(ISNA(INDEX('План ввода основ. ср-в'!F:F,MATCH(B50,'План ввода основ. ср-в'!B:B,0))),0,INDEX('План ввода основ. ср-в'!F:F,MATCH(B50,'План ввода основ. ср-в'!B:B,0)))","v":0},"",{"$f":"IF(ISNA(INDEX('План ввода основ. ср-в'!E:E,MATCH(B50,'План ввода основ. ср-в'!B:B,0))),0,INDEX('План ввода основ. ср-в'!E:E,MATCH(B50,'План ввода основ. ср-в'!B:B,0)))","v":0},{"$f":"IF(ISNA(INDEX('План ввода основ. ср-в'!H:H,MATCH(B50,'План ввода основ. ср-в'!B:B,0))),0,INDEX('План ввода основ. ср-в'!H:H,MATCH(B50,'План ввода основ. ср-в'!B:B,0)))","v":0},"",{"$f":"IF(ISNA(INDEX('План ввода основ. ср-в'!G:G,MATCH(B50,'План ввода основ. ср-в'!B:B,0))),0,INDEX('План ввода основ. ср-в'!G:G,MATCH(B50,'План ввода основ. ср-в'!B:B,0)))","v":0},{"$f":"IF(ISNA(INDEX('План ввода основ. ср-в'!J:J,MATCH(B50,'План ввода основ. ср-в'!B:B,0))),0,INDEX('План ввода основ. ср-в'!J:J,MATCH(B50,'План ввода основ. ср-в'!B:B,0)))","v":0},"",{"$f":"IF(ISNA(INDEX('План ввода основ. ср-в'!I:I,MATCH(B50,'План ввода основ. ср-в'!B:B,0))),0,INDEX('План ввода основ. ср-в'!I:I,MATCH(B50,'План ввода основ. ср-в'!B:B,0)))","v":0},{"$f":"IF(ISNA(INDEX('План ввода основ. ср-в'!L:L,MATCH(B50,'План ввода основ. ср-в'!B:B,0))),0,INDEX('План ввода основ. ср-в'!L:L,MATCH(B50,'План ввода основ. ср-в'!B:B,0)))","v":0},"",{"$f":"IF(ISNA(INDEX('План ввода основ. ср-в'!K:K,MATCH(B50,'План ввода основ. ср-в'!B:B,0))),0,INDEX('План ввода основ. ср-в'!K:K,MATCH(B50,'План ввода основ. ср-в'!B:B,0)))","v":0},0,"/",0,{"$f":"IF(ISNA(INDEX('План ввода основ. ср-в'!N:N,MATCH(B50,'План ввода основ. ср-в'!B:B,0))),0,INDEX('План ввода основ. ср-в'!N:N,MATCH(B50,'План ввода основ. ср-в'!B:B,0)))","v":12},"/",{"$f":"IF(ISNA(INDEX('План ввода основ. ср-в'!M:M,MATCH(B50,'План ввода основ. ср-в'!B:B,0))),0,INDEX('План ввода основ. ср-в'!M:M,MATCH(B50,'План ввода основ. ср-в'!B:B,0)))","v":0},{"$f":"IF(ISNA(INDEX('План ввода основ. ср-в'!P:P,MATCH(B50,'План ввода основ. ср-в'!B:B,0))),0,INDEX('План ввода основ. ср-в'!P:P,MATCH(B50,'План ввода основ. ср-в'!B:B,0)))","v":12},"/",{"$f":"IF(ISNA(INDEX('План ввода основ. ср-в'!O:O,MATCH(B50,'План ввода основ. ср-в'!B:B,0))),0,INDEX('План ввода основ. ср-в'!O:O,MATCH(B50,'План ввода основ. ср-в'!B:B,0)))","v":63},{"$f":"IF(ISNA(INDEX('План ввода основ. ср-в'!R:R,MATCH(B50,'План ввода основ. ср-в'!B:B,0))),0,INDEX('План ввода основ. ср-в'!R:R,MATCH(B50,'План ввода основ. ср-в'!B:B,0)))","v":12},"/",{"$f":"IF(ISNA(INDEX('План ввода основ. ср-в'!Q:Q,MATCH(B50,'План ввода основ. ср-в'!B:B,0))),0,INDEX('План ввода основ. ср-в'!Q:Q,MATCH(B50,'План ввода основ. ср-в'!B:B,0)))","v":70.2},{"$f":"IF(ISNA(INDEX('План ввода основ. ср-в'!T:T,MATCH(B50,'План ввода основ. ср-в'!B:B,0))),0,INDEX('План ввода основ. ср-в'!T:T,MATCH(B50,'План ввода основ. ср-в'!B:B,0)))","v":30},"/",{"$f":"IF(ISNA(INDEX('План ввода основ. ср-в'!S:S,MATCH(B50,'План ввода основ. ср-в'!B:B,0))),0,INDEX('План ввода основ. ср-в'!S:S,MATCH(B50,'План ввода основ. ср-в'!B:B,0)))","v":70.2},66,"/",203.39999999999998,{"$f":"IF(ISNA(INDEX('План ввода основ. ср-в'!V:V,MATCH(B50,'План ввода основ. ср-в'!B:B,0))),0,INDEX('План ввода основ. ср-в'!V:V,MATCH(B50,'План ввода основ. ср-в'!B:B,0)))","v":0},{"$f":"IF(ISNA(INDEX('План ввода основ. ср-в'!W:W,MATCH(B50,'План ввода основ. ср-в'!B:B,0))),0,INDEX('План ввода основ. ср-в'!W:W,MATCH(B50,'План ввода основ. ср-в'!B:B,0)))","v":0},{"$f":"IF(ISNA(INDEX('План ввода основ. ср-в'!X:X,MATCH(B50,'План ввода основ. ср-в'!B:B,0))),0,INDEX('План ввода основ. ср-в'!X:X,MATCH(B50,'План ввода основ. ср-в'!B:B,0)))","v":0},{"$f":"IF(ISNA(INDEX('План ввода основ. ср-в'!Y:Y,MATCH(B50,'План ввода основ. ср-в'!B:B,0))),0,INDEX('План ввода основ. ср-в'!Y:Y,MATCH(B50,'План ввода основ. ср-в'!B:B,0)))","v":0},0,{"$f":"IF(ISNA(INDEX('План ввода основ. ср-в'!Z:Z,MATCH(B50,'План ввода основ. ср-в'!B:B,0))),0,INDEX('План ввода основ. ср-в'!Z:Z,MATCH(B50,'План ввода основ. ср-в'!B:B,0)))","v":172.00000000000003},{"$f":"IF(ISNA(INDEX('План ввода основ. ср-в'!AA:AA,MATCH(B50,'План ввода основ. ср-в'!B:B,0))),0,INDEX('План ввода основ. ср-в'!AA:AA,MATCH(B50,'План ввода основ. ср-в'!B:B,0)))","v":290},{"$f":"IF(ISNA(INDEX('План ввода основ. ср-в'!AB:AB,MATCH(B50,'План ввода основ. ср-в'!B:B,0))),0,INDEX('План ввода основ. ср-в'!AB:AB,MATCH(B50,'План ввода основ. ср-в'!B:B,0)))","v":346.0169491525424},{"$f":"IF(ISNA(INDEX('План ввода основ. ср-в'!AC:AC,MATCH(B50,'План ввода основ. ср-в'!B:B,0))),0,INDEX('План ввода основ. ср-в'!AC:AC,MATCH(B50,'План ввода основ. ср-в'!B:B,0)))","v":380},1188.0169491525423]
[29,"Повышение надежности энергоснабжения электросетевого района  с. Лопатино",null,null,null,null,null,null,13.4,"/",0,0,"",0,0,"",0,0,"",0,0,"",0,13.4,"/",0,41.228813559322035,{"$f":"IF(ISNA(INDEX('План ввода основ. ср-в'!F:F,MATCH(B51,'План ввода основ. ср-в'!B:B,0))),0,INDEX('План ввода основ. ср-в'!F:F,MATCH(B51,'План ввода основ. ср-в'!B:B,0)))","v":0},"",{"$f":"IF(ISNA(INDEX('План ввода основ. ср-в'!E:E,MATCH(B51,'План ввода основ. ср-в'!B:B,0))),0,INDEX('План ввода основ. ср-в'!E:E,MATCH(B51,'План ввода основ. ср-в'!B:B,0)))","v":0},{"$f":"IF(ISNA(INDEX('План ввода основ. ср-в'!H:H,MATCH(B51,'План ввода основ. ср-в'!B:B,0))),0,INDEX('План ввода основ. ср-в'!H:H,MATCH(B51,'План ввода основ. ср-в'!B:B,0)))","v":0},"",{"$f":"IF(ISNA(INDEX('План ввода основ. ср-в'!G:G,MATCH(B51,'План ввода основ. ср-в'!B:B,0))),0,INDEX('План ввода основ. ср-в'!G:G,MATCH(B51,'План ввода основ. ср-в'!B:B,0)))","v":0},{"$f":"IF(ISNA(INDEX('План ввода основ. ср-в'!J:J,MATCH(B51,'План ввода основ. ср-в'!B:B,0))),0,INDEX('План ввода основ. ср-в'!J:J,MATCH(B51,'План ввода основ. ср-в'!B:B,0)))","v":0},"",{"$f":"IF(ISNA(INDEX('План ввода основ. ср-в'!I:I,MATCH(B51,'План ввода основ. ср-в'!B:B,0))),0,INDEX('План ввода основ. ср-в'!I:I,MATCH(B51,'План ввода основ. ср-в'!B:B,0)))","v":0},{"$f":"IF(ISNA(INDEX('План ввода основ. ср-в'!L:L,MATCH(B51,'План ввода основ. ср-в'!B:B,0))),0,INDEX('План ввода основ. ср-в'!L:L,MATCH(B51,'План ввода основ. ср-в'!B:B,0)))","v":13.4},"/",{"$f":"IF(ISNA(INDEX('План ввода основ. ср-в'!K:K,MATCH(B51,'План ввода основ. ср-в'!B:B,0))),0,INDEX('План ввода основ. ср-в'!K:K,MATCH(B51,'План ввода основ. ср-в'!B:B,0)))","v":0},13.4,"/",0,{"$f":"IF(ISNA(INDEX('План ввода основ. ср-в'!N:N,MATCH(B51,'План ввода основ. ср-в'!B:B,0))),0,INDEX('План ввода основ. ср-в'!N:N,MATCH(B51,'План ввода основ. ср-в'!B:B,0)))","v":0},"",{"$f":"IF(ISNA(INDEX('План ввода основ. ср-в'!M:M,MATCH(B51,'План ввода основ. ср-в'!B:B,0))),0,INDEX('План ввода основ. ср-в'!M:M,MATCH(B51,'План ввода основ. ср-в'!B:B,0)))","v":0},{"$f":"IF(ISNA(INDEX('План ввода основ. ср-в'!P:P,MATCH(B51,'План ввода основ. ср-в'!B:B,0))),0,INDEX('План ввода основ. ср-в'!P:P,MATCH(B51,'План ввода основ. ср-в'!B:B,0)))","v":0},"",{"$f":"IF(ISNA(INDEX('План ввода основ. ср-в'!O:O,MATCH(B51,'План ввода основ. ср-в'!B:B,0))),0,INDEX('План ввода основ. ср-в'!O:O,MATCH(B51,'План ввода основ. ср-в'!B:B,0)))","v":0},{"$f":"IF(ISNA(INDEX('План ввода основ. ср-в'!R:R,MATCH(B51,'План ввода основ. ср-в'!B:B,0))),0,INDEX('План ввода основ. ср-в'!R:R,MATCH(B51,'План ввода основ. ср-в'!B:B,0)))","v":0},"",{"$f":"IF(ISNA(INDEX('План ввода основ. ср-в'!Q:Q,MATCH(B51,'План ввода основ. ср-в'!B:B,0))),0,INDEX('План ввода основ. ср-в'!Q:Q,MATCH(B51,'План ввода основ. ср-в'!B:B,0)))","v":0},{"$f":"IF(ISNA(INDEX('План ввода основ. ср-в'!T:T,MATCH(B51,'План ввода основ. ср-в'!B:B,0))),0,INDEX('План ввода основ. ср-в'!T:T,MATCH(B51,'План ввода основ. ср-в'!B:B,0)))","v":0},"",{"$f":"IF(ISNA(INDEX('План ввода основ. ср-в'!S:S,MATCH(B51,'План ввода основ. ср-в'!B:B,0))),0,INDEX('План ввода основ. ср-в'!S:S,MATCH(B51,'План ввода основ. ср-в'!B:B,0)))","v":0},13.4,"/",0,{"$f":"IF(ISNA(INDEX('План ввода основ. ср-в'!V:V,MATCH(B51,'План ввода основ. ср-в'!B:B,0))),0,INDEX('План ввода основ. ср-в'!V:V,MATCH(B51,'План ввода основ. ср-в'!B:B,0)))","v":0},{"$f":"IF(ISNA(INDEX('План ввода основ. ср-в'!W:W,MATCH(B51,'План ввода основ. ср-в'!B:B,0))),0,INDEX('План ввода основ. ср-в'!W:W,MATCH(B51,'План ввода основ. ср-в'!B:B,0)))","v":6.1843220338983054},{"$f":"IF(ISNA(INDEX('План ввода основ. ср-в'!X:X,MATCH(B51,'План ввода основ. ср-в'!B:B,0))),0,INDEX('План ввода основ. ср-в'!X:X,MATCH(B51,'План ввода основ. ср-в'!B:B,0)))","v":14.430084745762711},{"$f":"IF(ISNA(INDEX('План ввода основ. ср-в'!Y:Y,MATCH(B51,'План ввода основ. ср-в'!B:B,0))),0,INDEX('План ввода основ. ср-в'!Y:Y,MATCH(B51,'План ввода основ. ср-в'!B:B,0)))","v":20.614406779661017},41.228813559322035,{"$f":"IF(ISNA(INDEX('План ввода основ. ср-в'!Z:Z,MATCH(B51,'План ввода основ. ср-в'!B:B,0))),0,INDEX('План ввода основ. ср-в'!Z:Z,MATCH(B51,'План ввода основ. ср-в'!B:B,0)))","v":0},{"$f":"IF(ISNA(INDEX('План ввода основ. ср-в'!AA:AA,MATCH(B51,'План ввода основ. ср-в'!B:B,0))),0,INDEX('План ввода основ. ср-в'!AA:AA,MATCH(B51,'План ввода основ. ср-в'!B:B,0)))","v":0},{"$f":"IF(ISNA(INDEX('План ввода основ. ср-в'!AB:AB,MATCH(B51,'План ввода основ. ср-в'!B:B,0))),0,INDEX('План ввода основ. ср-в'!AB:AB,MATCH(B51,'План ввода основ. ср-в'!B:B,0)))","v":0},{"$f":"IF(ISNA(INDEX('План ввода основ. ср-в'!AC:AC,MATCH(B51,'План ввода основ. ср-в'!B:B,0))),0,INDEX('План ввода основ. ср-в'!AC:AC,MATCH(B51,'План ввода основ. ср-в'!B:B,0)))","v":0},41.228813559322035]
[30,"Реконструкция ЗТП КУР 2010/2х100 кВА с заменой трансформаторов на 400 кВА",null,null,null,null,null,null,0,"/",0.2,0,"",0,0,"",0,0,"",0,0,"",0,0,"/",0.2,4.6610169491525424,{"$f":"IF(ISNA(INDEX('План ввода основ. ср-в'!F:F,MATCH(B52,'План ввода основ. ср-в'!B:B,0))),0,INDEX('План ввода основ. ср-в'!F:F,MATCH(B52,'План ввода основ. ср-в'!B:B,0)))","v":0},"",{"$f":"IF(ISNA(INDEX('План ввода основ. ср-в'!E:E,MATCH(B52,'План ввода основ. ср-в'!B:B,0))),0,INDEX('План ввода основ. ср-в'!E:E,MATCH(B52,'План ввода основ. ср-в'!B:B,0)))","v":0},{"$f":"IF(ISNA(INDEX('План ввода основ. ср-в'!H:H,MATCH(B52,'План ввода основ. ср-в'!B:B,0))),0,INDEX('План ввода основ. ср-в'!H:H,MATCH(B52,'План ввода основ. ср-в'!B:B,0)))","v":0},"",{"$f":"IF(ISNA(INDEX('План ввода основ. ср-в'!G:G,MATCH(B52,'План ввода основ. ср-в'!B:B,0))),0,INDEX('План ввода основ. ср-в'!G:G,MATCH(B52,'План ввода основ. ср-в'!B:B,0)))","v":0},{"$f":"IF(ISNA(INDEX('План ввода основ. ср-в'!J:J,MATCH(B52,'План ввода основ. ср-в'!B:B,0))),0,INDEX('План ввода основ. ср-в'!J:J,MATCH(B52,'План ввода основ. ср-в'!B:B,0)))","v":0},"",{"$f":"IF(ISNA(INDEX('План ввода основ. ср-в'!I:I,MATCH(B52,'План ввода основ. ср-в'!B:B,0))),0,INDEX('План ввода основ. ср-в'!I:I,MATCH(B52,'План ввода основ. ср-в'!B:B,0)))","v":0},{"$f":"IF(ISNA(INDEX('План ввода основ. ср-в'!L:L,MATCH(B52,'План ввода основ. ср-в'!B:B,0))),0,INDEX('План ввода основ. ср-в'!L:L,MATCH(B52,'План ввода основ. ср-в'!B:B,0)))","v":0},"/",{"$f":"IF(ISNA(INDEX('План ввода основ. ср-в'!K:K,MATCH(B52,'План ввода основ. ср-в'!B:B,0))),0,INDEX('План ввода основ. ср-в'!K:K,MATCH(B52,'План ввода основ. ср-в'!B:B,0)))","v":0.8},0,"/",0.8,{"$f":"IF(ISNA(INDEX('План ввода основ. ср-в'!N:N,MATCH(B52,'План ввода основ. ср-в'!B:B,0))),0,INDEX('План ввода основ. ср-в'!N:N,MATCH(B52,'План ввода основ. ср-в'!B:B,0)))","v":0},"",{"$f":"IF(ISNA(INDEX('План ввода основ. ср-в'!M:M,MATCH(B52,'План ввода основ. ср-в'!B:B,0))),0,INDEX('План ввода основ. ср-в'!M:M,MATCH(B52,'План ввода основ. ср-в'!B:B,0)))","v":0},{"$f":"IF(ISNA(INDEX('План ввода основ. ср-в'!P:P,MATCH(B52,'План ввода основ. ср-в'!B:B,0))),0,INDEX('План ввода основ. ср-в'!P:P,MATCH(B52,'План ввода основ. ср-в'!B:B,0)))","v":0},"",{"$f":"IF(ISNA(INDEX('План ввода основ. ср-в'!O:O,MATCH(B52,'План ввода основ. ср-в'!B:B,0))),0,INDEX('План ввода основ. ср-в'!O:O,MATCH(B52,'План ввода основ. ср-в'!B:B,0)))","v":0},{"$f":"IF(ISNA(INDEX('План ввода основ. ср-в'!R:R,MATCH(B52,'План ввода основ. ср-в'!B:B,0))),0,INDEX('План ввода основ. ср-в'!R:R,MATCH(B52,'План ввода основ. ср-в'!B:B,0)))","v":0},"",{"$f":"IF(ISNA(INDEX('План ввода основ. ср-в'!Q:Q,MATCH(B52,'План ввода основ. ср-в'!B:B,0))),0,INDEX('План ввода основ. ср-в'!Q:Q,MATCH(B52,'План ввода основ. ср-в'!B:B,0)))","v":0},{"$f":"IF(ISNA(INDEX('План ввода основ. ср-в'!T:T,MATCH(B52,'План ввода основ. ср-в'!B:B,0))),0,INDEX('План ввода основ. ср-в'!T:T,MATCH(B52,'План ввода основ. ср-в'!B:B,0)))","v":0},"",{"$f":"IF(ISNA(INDEX('План ввода основ. ср-в'!S:S,MATCH(B52,'План ввода основ. ср-в'!B:B,0))),0,INDEX('План ввода основ. ср-в'!S:S,MATCH(B52,'План ввода основ. ср-в'!B:B,0)))","v":0},0,"/",0.8,{"$f":"IF(ISNA(INDEX('План ввода основ. ср-в'!V:V,MATCH(B52,'План ввода основ. ср-в'!B:B,0))),0,INDEX('План ввода основ. ср-в'!V:V,MATCH(B52,'План ввода основ. ср-в'!B:B,0)))","v":0},{"$f":"IF(ISNA(INDEX('План ввода основ. ср-в'!W:W,MATCH(B52,'План ввода основ. ср-в'!B:B,0))),0,INDEX('План ввода основ. ср-в'!W:W,MATCH(B52,'План ввода основ. ср-в'!B:B,0)))","v":0.69915254237288138},{"$f":"IF(ISNA(INDEX('План ввода основ. ср-в'!X:X,MATCH(B52,'План ввода основ. ср-в'!B:B,0))),0,INDEX('План ввода основ. ср-в'!X:X,MATCH(B52,'План ввода основ. ср-в'!B:B,0)))","v":1.6313559322033897},{"$f":"IF(ISNA(INDEX('План ввода основ. ср-в'!Y:Y,MATCH(B52,'План ввода основ. ср-в'!B:B,0))),0,INDEX('План ввода основ. ср-в'!Y:Y,MATCH(B52,'План ввода основ. ср-в'!B:B,0)))","v":2.3305084745762712},4.6610169491525424,{"$f":"IF(ISNA(INDEX('План ввода основ. ср-в'!Z:Z,MATCH(B52,'План ввода основ. ср-в'!B:B,0))),0,INDEX('План ввода основ. ср-в'!Z:Z,MATCH(B52,'План ввода основ. ср-в'!B:B,0)))","v":0},{"$f":"IF(ISNA(INDEX('План ввода основ. ср-в'!AA:AA,MATCH(B52,'План ввода основ. ср-в'!B:B,0))),0,INDEX('План ввода основ. ср-в'!AA:AA,MATCH(B52,'План ввода основ. ср-в'!B:B,0)))","v":0},{"$f":"IF(ISNA(INDEX('План ввода основ. ср-в'!AB:AB,MATCH(B52,'План ввода основ. ср-в'!B:B,0))),0,INDEX('План ввода основ. ср-в'!AB:AB,MATCH(B52,'План ввода основ. ср-в'!B:B,0)))","v":0},{"$f":"IF(ISNA(INDEX('План ввода основ. ср-в'!AC:AC,MATCH(B52,'План ввода основ. ср-в'!B:B,0))),0,INDEX('План ввода основ. ср-в'!AC:AC,MATCH(B52,'План ввода основ. ср-в'!B:B,0)))","v":0},4.6610169491525424]
[31,"Реконструкция ВЛ-0,4кВ от ЗТП Кур 906/400 кВА с заменой в ЗТП РУ-0,4 кВ ",null,null,null,null,null,null,1.1000000000000001,null,0,0,null,0,null,null,null,0,null,0,0,null,0,1.1000000000000001,null,0,3.6186440677966107,{"$f":"IF(ISNA(INDEX('План ввода основ. ср-в'!F:F,MATCH(B53,'План ввода основ. ср-в'!B:B,0))),0,INDEX('План ввода основ. ср-в'!F:F,MATCH(B53,'План ввода основ. ср-в'!B:B,0)))","v":0},null,{"$f":"IF(ISNA(INDEX('План ввода основ. ср-в'!E:E,MATCH(B53,'План ввода основ. ср-в'!B:B,0))),0,INDEX('План ввода основ. ср-в'!E:E,MATCH(B53,'План ввода основ. ср-в'!B:B,0)))","v":0},{"$f":"IF(ISNA(INDEX('План ввода основ. ср-в'!H:H,MATCH(B53,'План ввода основ. ср-в'!B:B,0))),0,INDEX('План ввода основ. ср-в'!H:H,MATCH(B53,'План ввода основ. ср-в'!B:B,0)))","v":0},null,{"$f":"IF(ISNA(INDEX('План ввода основ. ср-в'!G:G,MATCH(B53,'План ввода основ. ср-в'!B:B,0))),0,INDEX('План ввода основ. ср-в'!G:G,MATCH(B53,'План ввода основ. ср-в'!B:B,0)))","v":0},{"$f":"IF(ISNA(INDEX('План ввода основ. ср-в'!J:J,MATCH(B53,'План ввода основ. ср-в'!B:B,0))),0,INDEX('План ввода основ. ср-в'!J:J,MATCH(B53,'План ввода основ. ср-в'!B:B,0)))","v":0},null,{"$f":"IF(ISNA(INDEX('План ввода основ. ср-в'!I:I,MATCH(B53,'План ввода основ. ср-в'!B:B,0))),0,INDEX('План ввода основ. ср-в'!I:I,MATCH(B53,'План ввода основ. ср-в'!B:B,0)))","v":0},{"$f":"IF(ISNA(INDEX('План ввода основ. ср-в'!L:L,MATCH(B53,'План ввода основ. ср-в'!B:B,0))),0,INDEX('План ввода основ. ср-в'!L:L,MATCH(B53,'План ввода основ. ср-в'!B:B,0)))","v":1.1000000000000001},null,{"$f":"IF(ISNA(INDEX('План ввода основ. ср-в'!K:K,MATCH(B53,'План ввода основ. ср-в'!B:B,0))),0,INDEX('План ввода основ. ср-в'!K:K,MATCH(B53,'План ввода основ. ср-в'!B:B,0)))","v":0},1.1000000000000001,null,0,{"$f":"IF(ISNA(INDEX('План ввода основ. ср-в'!N:N,MATCH(B53,'План ввода основ. ср-в'!B:B,0))),0,INDEX('План ввода основ. ср-в'!N:N,MATCH(B53,'План ввода основ. ср-в'!B:B,0)))","v":0},null,{"$f":"IF(ISNA(INDEX('План ввода основ. ср-в'!M:M,MATCH(B53,'План ввода основ. ср-в'!B:B,0))),0,INDEX('План ввода основ. ср-в'!M:M,MATCH(B53,'План ввода основ. ср-в'!B:B,0)))","v":0},{"$f":"IF(ISNA(INDEX('План ввода основ. ср-в'!P:P,MATCH(B53,'План ввода основ. ср-в'!B:B,0))),0,INDEX('План ввода основ. ср-в'!P:P,MATCH(B53,'План ввода основ. ср-в'!B:B,0)))","v":0},null,{"$f":"IF(ISNA(INDEX('План ввода основ. ср-в'!O:O,MATCH(B53,'План ввода основ. ср-в'!B:B,0))),0,INDEX('План ввода основ. ср-в'!O:O,MATCH(B53,'План ввода основ. ср-в'!B:B,0)))","v":0},{"$f":"IF(ISNA(INDEX('План ввода основ. ср-в'!R:R,MATCH(B53,'План ввода основ. ср-в'!B:B,0))),0,INDEX('План ввода основ. ср-в'!R:R,MATCH(B53,'План ввода основ. ср-в'!B:B,0)))","v":0},null,{"$f":"IF(ISNA(INDEX('План ввода основ. ср-в'!Q:Q,MATCH(B53,'План ввода основ. ср-в'!B:B,0))),0,INDEX('План ввода основ. ср-в'!Q:Q,MATCH(B53,'План ввода основ. ср-в'!B:B,0)))","v":0},{"$f":"IF(ISNA(INDEX('План ввода основ. ср-в'!T:T,MATCH(B53,'План ввода основ. ср-в'!B:B,0))),0,INDEX('План ввода основ. ср-в'!T:T,MATCH(B53,'План ввода основ. ср-в'!B:B,0)))","v":0},null,{"$f":"IF(ISNA(INDEX('План ввода основ. ср-в'!S:S,MATCH(B53,'План ввода основ. ср-в'!B:B,0))),0,INDEX('План ввода основ. ср-в'!S:S,MATCH(B53,'План ввода основ. ср-в'!B:B,0)))","v":0},1.1000000000000001,null,0,null,{"$f":"IF(ISNA(INDEX('План ввода основ. ср-в'!W:W,MATCH(B53,'План ввода основ. ср-в'!B:B,0))),0,INDEX('План ввода основ. ср-в'!W:W,MATCH(B53,'План ввода основ. ср-в'!B:B,0)))","v":0.54279661016949154},{"$f":"IF(ISNA(INDEX('План ввода основ. ср-в'!X:X,MATCH(B53,'План ввода основ. ср-в'!B:B,0))),0,INDEX('План ввода основ. ср-в'!X:X,MATCH(B53,'План ввода основ. ср-в'!B:B,0)))","v":1.2665254237288137},{"$f":"IF(ISNA(INDEX('План ввода основ. ср-в'!Y:Y,MATCH(B53,'План ввода основ. ср-в'!B:B,0))),0,INDEX('План ввода основ. ср-в'!Y:Y,MATCH(B53,'План ввода основ. ср-в'!B:B,0)))","v":1.8093220338983054},3.6186440677966107,{"$f":"IF(ISNA(INDEX('План ввода основ. ср-в'!Z:Z,MATCH(B53,'План ввода основ. ср-в'!B:B,0))),0,INDEX('План ввода основ. ср-в'!Z:Z,MATCH(B53,'План ввода основ. ср-в'!B:B,0)))","v":0},{"$f":"IF(ISNA(INDEX('План ввода основ. ср-в'!AA:AA,MATCH(B53,'План ввода основ. ср-в'!B:B,0))),0,INDEX('План ввода основ. ср-в'!AA:AA,MATCH(B53,'План ввода основ. ср-в'!B:B,0)))","v":0},{"$f":"IF(ISNA(INDEX('План ввода основ. ср-в'!AB:AB,MATCH(B53,'План ввода основ. ср-в'!B:B,0))),0,INDEX('План ввода основ. ср-в'!AB:AB,MATCH(B53,'План ввода основ. ср-в'!B:B,0)))","v":0},{"$f":"IF(ISNA(INDEX('План ввода основ. ср-в'!AC:AC,MATCH(B53,'План ввода основ. ср-в'!B:B,0))),0,INDEX('План ввода основ. ср-в'!AC:AC,MATCH(B53,'План ввода основ. ср-в'!B:B,0)))","v":0},3.6186440677966107]
[32,"Реконструкция ВЛ-0,4кВ от ЗТП Кур 901/250 кВА с заменой в ЗТП РУ-0,4 кВ ",null,null,null,null,null,null,1,null,0,0,null,0,null,null,null,0,null,0,0,null,0,1,null,0,3.3474576271186445,{"$f":"IF(ISNA(INDEX('План ввода основ. ср-в'!F:F,MATCH(B54,'План ввода основ. ср-в'!B:B,0))),0,INDEX('План ввода основ. ср-в'!F:F,MATCH(B54,'План ввода основ. ср-в'!B:B,0)))","v":0},null,{"$f":"IF(ISNA(INDEX('План ввода основ. ср-в'!E:E,MATCH(B54,'План ввода основ. ср-в'!B:B,0))),0,INDEX('План ввода основ. ср-в'!E:E,MATCH(B54,'План ввода основ. ср-в'!B:B,0)))","v":0},{"$f":"IF(ISNA(INDEX('План ввода основ. ср-в'!H:H,MATCH(B54,'План ввода основ. ср-в'!B:B,0))),0,INDEX('План ввода основ. ср-в'!H:H,MATCH(B54,'План ввода основ. ср-в'!B:B,0)))","v":0},null,{"$f":"IF(ISNA(INDEX('План ввода основ. ср-в'!G:G,MATCH(B54,'План ввода основ. ср-в'!B:B,0))),0,INDEX('План ввода основ. ср-в'!G:G,MATCH(B54,'План ввода основ. ср-в'!B:B,0)))","v":0},{"$f":"IF(ISNA(INDEX('План ввода основ. ср-в'!J:J,MATCH(B54,'План ввода основ. ср-в'!B:B,0))),0,INDEX('План ввода основ. ср-в'!J:J,MATCH(B54,'План ввода основ. ср-в'!B:B,0)))","v":0},null,{"$f":"IF(ISNA(INDEX('План ввода основ. ср-в'!I:I,MATCH(B54,'План ввода основ. ср-в'!B:B,0))),0,INDEX('План ввода основ. ср-в'!I:I,MATCH(B54,'План ввода основ. ср-в'!B:B,0)))","v":0},{"$f":"IF(ISNA(INDEX('План ввода основ. ср-в'!L:L,MATCH(B54,'План ввода основ. ср-в'!B:B,0))),0,INDEX('План ввода основ. ср-в'!L:L,MATCH(B54,'План ввода основ. ср-в'!B:B,0)))","v":1},null,{"$f":"IF(ISNA(INDEX('План ввода основ. ср-в'!K:K,MATCH(B54,'План ввода основ. ср-в'!B:B,0))),0,INDEX('План ввода основ. ср-в'!K:K,MATCH(B54,'План ввода основ. ср-в'!B:B,0)))","v":0},1,null,0,{"$f":"IF(ISNA(INDEX('План ввода основ. ср-в'!N:N,MATCH(B54,'План ввода основ. ср-в'!B:B,0))),0,INDEX('План ввода основ. ср-в'!N:N,MATCH(B54,'План ввода основ. ср-в'!B:B,0)))","v":0},null,{"$f":"IF(ISNA(INDEX('План ввода основ. ср-в'!M:M,MATCH(B54,'План ввода основ. ср-в'!B:B,0))),0,INDEX('План ввода основ. ср-в'!M:M,MATCH(B54,'План ввода основ. ср-в'!B:B,0)))","v":0},{"$f":"IF(ISNA(INDEX('План ввода основ. ср-в'!P:P,MATCH(B54,'План ввода основ. ср-в'!B:B,0))),0,INDEX('План ввода основ. ср-в'!P:P,MATCH(B54,'План ввода основ. ср-в'!B:B,0)))","v":0},null,{"$f":"IF(ISNA(INDEX('План ввода основ. ср-в'!O:O,MATCH(B54,'План ввода основ. ср-в'!B:B,0))),0,INDEX('План ввода основ. ср-в'!O:O,MATCH(B54,'План ввода основ. ср-в'!B:B,0)))","v":0},{"$f":"IF(ISNA(INDEX('План ввода основ. ср-в'!R:R,MATCH(B54,'План ввода основ. ср-в'!B:B,0))),0,INDEX('План ввода основ. ср-в'!R:R,MATCH(B54,'План ввода основ. ср-в'!B:B,0)))","v":0},null,{"$f":"IF(ISNA(INDEX('План ввода основ. ср-в'!Q:Q,MATCH(B54,'План ввода основ. ср-в'!B:B,0))),0,INDEX('План ввода основ. ср-в'!Q:Q,MATCH(B54,'План ввода основ. ср-в'!B:B,0)))","v":0},{"$f":"IF(ISNA(INDEX('План ввода основ. ср-в'!T:T,MATCH(B54,'План ввода основ. ср-в'!B:B,0))),0,INDEX('План ввода основ. ср-в'!T:T,MATCH(B54,'План ввода основ. ср-в'!B:B,0)))","v":0},null,{"$f":"IF(ISNA(INDEX('План ввода основ. ср-в'!S:S,MATCH(B54,'План ввода основ. ср-в'!B:B,0))),0,INDEX('План ввода основ. ср-в'!S:S,MATCH(B54,'План ввода основ. ср-в'!B:B,0)))","v":0},1,null,0,null,{"$f":"IF(ISNA(INDEX('План ввода основ. ср-в'!W:W,MATCH(B54,'План ввода основ. ср-в'!B:B,0))),0,INDEX('План ввода основ. ср-в'!W:W,MATCH(B54,'План ввода основ. ср-в'!B:B,0)))","v":0.5021186440677966},{"$f":"IF(ISNA(INDEX('План ввода основ. ср-в'!X:X,MATCH(B54,'План ввода основ. ср-в'!B:B,0))),0,INDEX('План ввода основ. ср-в'!X:X,MATCH(B54,'План ввода основ. ср-в'!B:B,0)))","v":1.1716101694915255},{"$f":"IF(ISNA(INDEX('План ввода основ. ср-в'!Y:Y,MATCH(B54,'План ввода основ. ср-в'!B:B,0))),0,INDEX('План ввода основ. ср-в'!Y:Y,MATCH(B54,'План ввода основ. ср-в'!B:B,0)))","v":1.6737288135593222},3.3474576271186445,{"$f":"IF(ISNA(INDEX('План ввода основ. ср-в'!Z:Z,MATCH(B54,'План ввода основ. ср-в'!B:B,0))),0,INDEX('План ввода основ. ср-в'!Z:Z,MATCH(B54,'План ввода основ. ср-в'!B:B,0)))","v":0},{"$f":"IF(ISNA(INDEX('План ввода основ. ср-в'!AA:AA,MATCH(B54,'План ввода основ. ср-в'!B:B,0))),0,INDEX('План ввода основ. ср-в'!AA:AA,MATCH(B54,'План ввода основ. ср-в'!B:B,0)))","v":0},{"$f":"IF(ISNA(INDEX('План ввода основ. ср-в'!AB:AB,MATCH(B54,'План ввода основ. ср-в'!B:B,0))),0,INDEX('План ввода основ. ср-в'!AB:AB,MATCH(B54,'План ввода основ. ср-в'!B:B,0)))","v":0},{"$f":"IF(ISNA(INDEX('План ввода основ. ср-в'!AC:AC,MATCH(B54,'План ввода основ. ср-в'!B:B,0))),0,INDEX('План ввода основ. ср-в'!AC:AC,MATCH(B54,'План ввода основ. ср-в'!B:B,0)))","v":0},3.3474576271186445]
[33,"Реконструкция ВЛ-0,4 кВ от КТП Р 402/400 кВА с заменой КТП",null,null,null,null,null,null,1,"/",0.4,0,"",0,0,"",0,0,"",0,0,"",0,1,"/",0.4,4.0677966101694913,{"$f":"IF(ISNA(INDEX('План ввода основ. ср-в'!F:F,MATCH(B55,'План ввода основ. ср-в'!B:B,0))),0,INDEX('План ввода основ. ср-в'!F:F,MATCH(B55,'План ввода основ. ср-в'!B:B,0)))","v":0},"",{"$f":"IF(ISNA(INDEX('План ввода основ. ср-в'!E:E,MATCH(B55,'План ввода основ. ср-в'!B:B,0))),0,INDEX('План ввода основ. ср-в'!E:E,MATCH(B55,'План ввода основ. ср-в'!B:B,0)))","v":0},{"$f":"IF(ISNA(INDEX('План ввода основ. ср-в'!H:H,MATCH(B55,'План ввода основ. ср-в'!B:B,0))),0,INDEX('План ввода основ. ср-в'!H:H,MATCH(B55,'План ввода основ. ср-в'!B:B,0)))","v":0},"",{"$f":"IF(ISNA(INDEX('План ввода основ. ср-в'!G:G,MATCH(B55,'План ввода основ. ср-в'!B:B,0))),0,INDEX('План ввода основ. ср-в'!G:G,MATCH(B55,'План ввода основ. ср-в'!B:B,0)))","v":0},{"$f":"IF(ISNA(INDEX('План ввода основ. ср-в'!J:J,MATCH(B55,'План ввода основ. ср-в'!B:B,0))),0,INDEX('План ввода основ. ср-в'!J:J,MATCH(B55,'План ввода основ. ср-в'!B:B,0)))","v":0},"",{"$f":"IF(ISNA(INDEX('План ввода основ. ср-в'!I:I,MATCH(B55,'План ввода основ. ср-в'!B:B,0))),0,INDEX('План ввода основ. ср-в'!I:I,MATCH(B55,'План ввода основ. ср-в'!B:B,0)))","v":0},{"$f":"IF(ISNA(INDEX('План ввода основ. ср-в'!L:L,MATCH(B55,'План ввода основ. ср-в'!B:B,0))),0,INDEX('План ввода основ. ср-в'!L:L,MATCH(B55,'План ввода основ. ср-в'!B:B,0)))","v":1},"/",{"$f":"IF(ISNA(INDEX('План ввода основ. ср-в'!K:K,MATCH(B55,'План ввода основ. ср-в'!B:B,0))),0,INDEX('План ввода основ. ср-в'!K:K,MATCH(B55,'План ввода основ. ср-в'!B:B,0)))","v":0.4},1,"/",0.4,{"$f":"IF(ISNA(INDEX('План ввода основ. ср-в'!N:N,MATCH(B55,'План ввода основ. ср-в'!B:B,0))),0,INDEX('План ввода основ. ср-в'!N:N,MATCH(B55,'План ввода основ. ср-в'!B:B,0)))","v":0},"",{"$f":"IF(ISNA(INDEX('План ввода основ. ср-в'!M:M,MATCH(B55,'План ввода основ. ср-в'!B:B,0))),0,INDEX('План ввода основ. ср-в'!M:M,MATCH(B55,'План ввода основ. ср-в'!B:B,0)))","v":0},{"$f":"IF(ISNA(INDEX('План ввода основ. ср-в'!P:P,MATCH(B55,'План ввода основ. ср-в'!B:B,0))),0,INDEX('План ввода основ. ср-в'!P:P,MATCH(B55,'План ввода основ. ср-в'!B:B,0)))","v":0},"",{"$f":"IF(ISNA(INDEX('План ввода основ. ср-в'!O:O,MATCH(B55,'План ввода основ. ср-в'!B:B,0))),0,INDEX('План ввода основ. ср-в'!O:O,MATCH(B55,'План ввода основ. ср-в'!B:B,0)))","v":0},{"$f":"IF(ISNA(INDEX('План ввода основ. ср-в'!R:R,MATCH(B55,'План ввода основ. ср-в'!B:B,0))),0,INDEX('План ввода основ. ср-в'!R:R,MATCH(B55,'План ввода основ. ср-в'!B:B,0)))","v":0},"",{"$f":"IF(ISNA(INDEX('План ввода основ. ср-в'!Q:Q,MATCH(B55,'План ввода основ. ср-в'!B:B,0))),0,INDEX('План ввода основ. ср-в'!Q:Q,MATCH(B55,'План ввода основ. ср-в'!B:B,0)))","v":0},{"$f":"IF(ISNA(INDEX('План ввода основ. ср-в'!T:T,MATCH(B55,'План ввода основ. ср-в'!B:B,0))),0,INDEX('План ввода основ. ср-в'!T:T,MATCH(B55,'План ввода основ. ср-в'!B:B,0)))","v":0},"",{"$f":"IF(ISNA(INDEX('План ввода основ. ср-в'!S:S,MATCH(B55,'План ввода основ. ср-в'!B:B,0))),0,INDEX('План ввода основ. ср-в'!S:S,MATCH(B55,'План ввода основ. ср-в'!B:B,0)))","v":0},1,"/",0.4,{"$f":"IF(ISNA(INDEX('План ввода основ. ср-в'!V:V,MATCH(B55,'План ввода основ. ср-в'!B:B,0))),0,INDEX('План ввода основ. ср-в'!V:V,MATCH(B55,'План ввода основ. ср-в'!B:B,0)))","v":0},{"$f":"IF(ISNA(INDEX('План ввода основ. ср-в'!W:W,MATCH(B55,'План ввода основ. ср-в'!B:B,0))),0,INDEX('План ввода основ. ср-в'!W:W,MATCH(B55,'План ввода основ. ср-в'!B:B,0)))","v":0.61016949152542366},{"$f":"IF(ISNA(INDEX('План ввода основ. ср-в'!X:X,MATCH(B55,'План ввода основ. ср-в'!B:B,0))),0,INDEX('План ввода основ. ср-в'!X:X,MATCH(B55,'План ввода основ. ср-в'!B:B,0)))","v":1.4237288135593218},{"$f":"IF(ISNA(INDEX('План ввода основ. ср-в'!Y:Y,MATCH(B55,'План ввода основ. ср-в'!B:B,0))),0,INDEX('План ввода основ. ср-в'!Y:Y,MATCH(B55,'План ввода основ. ср-в'!B:B,0)))","v":2.0338983050847457},4.0677966101694913,{"$f":"IF(ISNA(INDEX('План ввода основ. ср-в'!Z:Z,MATCH(B55,'План ввода основ. ср-в'!B:B,0))),0,INDEX('План ввода основ. ср-в'!Z:Z,MATCH(B55,'План ввода основ. ср-в'!B:B,0)))","v":0},{"$f":"IF(ISNA(INDEX('План ввода основ. ср-в'!AA:AA,MATCH(B55,'План ввода основ. ср-в'!B:B,0))),0,INDEX('План ввода основ. ср-в'!AA:AA,MATCH(B55,'План ввода основ. ср-в'!B:B,0)))","v":0},{"$f":"IF(ISNA(INDEX('План ввода основ. ср-в'!AB:AB,MATCH(B55,'План ввода основ. ср-в'!B:B,0))),0,INDEX('План ввода основ. ср-в'!AB:AB,MATCH(B55,'План ввода основ. ср-в'!B:B,0)))","v":0},{"$f":"IF(ISNA(INDEX('План ввода основ. ср-в'!AC:AC,MATCH(B55,'План ввода основ. ср-в'!B:B,0))),0,INDEX('План ввода основ. ср-в'!AC:AC,MATCH(B55,'План ввода основ. ср-в'!B:B,0)))","v":0},4.0677966101694913]
[34,"Реконструкция ВЛ-0,4 кВ от КТП Р 605/250 кВА с заменой КТП ",null,null,null,null,null,null,2.65,"/",0.25,0,"",0,0,"",0,0,"",0,0,"",0,2.65,"/",0.25,8.2881355932203391,{"$f":"IF(ISNA(INDEX('План ввода основ. ср-в'!F:F,MATCH(B56,'План ввода основ. ср-в'!B:B,0))),0,INDEX('План ввода основ. ср-в'!F:F,MATCH(B56,'План ввода основ. ср-в'!B:B,0)))","v":0},"",{"$f":"IF(ISNA(INDEX('План ввода основ. ср-в'!E:E,MATCH(B56,'План ввода основ. ср-в'!B:B,0))),0,INDEX('План ввода основ. ср-в'!E:E,MATCH(B56,'План ввода основ. ср-в'!B:B,0)))","v":0},{"$f":"IF(ISNA(INDEX('План ввода основ. ср-в'!H:H,MATCH(B56,'План ввода основ. ср-в'!B:B,0))),0,INDEX('План ввода основ. ср-в'!H:H,MATCH(B56,'План ввода основ. ср-в'!B:B,0)))","v":0},"",{"$f":"IF(ISNA(INDEX('План ввода основ. ср-в'!G:G,MATCH(B56,'План ввода основ. ср-в'!B:B,0))),0,INDEX('План ввода основ. ср-в'!G:G,MATCH(B56,'План ввода основ. ср-в'!B:B,0)))","v":0},{"$f":"IF(ISNA(INDEX('План ввода основ. ср-в'!J:J,MATCH(B56,'План ввода основ. ср-в'!B:B,0))),0,INDEX('План ввода основ. ср-в'!J:J,MATCH(B56,'План ввода основ. ср-в'!B:B,0)))","v":0},"",{"$f":"IF(ISNA(INDEX('План ввода основ. ср-в'!I:I,MATCH(B56,'План ввода основ. ср-в'!B:B,0))),0,INDEX('План ввода основ. ср-в'!I:I,MATCH(B56,'План ввода основ. ср-в'!B:B,0)))","v":0},{"$f":"IF(ISNA(INDEX('План ввода основ. ср-в'!L:L,MATCH(B56,'План ввода основ. ср-в'!B:B,0))),0,INDEX('План ввода основ. ср-в'!L:L,MATCH(B56,'План ввода основ. ср-в'!B:B,0)))","v":2.65},"/",{"$f":"IF(ISNA(INDEX('План ввода основ. ср-в'!K:K,MATCH(B56,'План ввода основ. ср-в'!B:B,0))),0,INDEX('План ввода основ. ср-в'!K:K,MATCH(B56,'План ввода основ. ср-в'!B:B,0)))","v":0.25},2.65,"/",0.25,{"$f":"IF(ISNA(INDEX('План ввода основ. ср-в'!N:N,MATCH(B56,'План ввода основ. ср-в'!B:B,0))),0,INDEX('План ввода основ. ср-в'!N:N,MATCH(B56,'План ввода основ. ср-в'!B:B,0)))","v":0},"",{"$f":"IF(ISNA(INDEX('План ввода основ. ср-в'!M:M,MATCH(B56,'План ввода основ. ср-в'!B:B,0))),0,INDEX('План ввода основ. ср-в'!M:M,MATCH(B56,'План ввода основ. ср-в'!B:B,0)))","v":0},{"$f":"IF(ISNA(INDEX('План ввода основ. ср-в'!P:P,MATCH(B56,'План ввода основ. ср-в'!B:B,0))),0,INDEX('План ввода основ. ср-в'!P:P,MATCH(B56,'План ввода основ. ср-в'!B:B,0)))","v":0},"",{"$f":"IF(ISNA(INDEX('План ввода основ. ср-в'!O:O,MATCH(B56,'План ввода основ. ср-в'!B:B,0))),0,INDEX('План ввода основ. ср-в'!O:O,MATCH(B56,'План ввода основ. ср-в'!B:B,0)))","v":0},{"$f":"IF(ISNA(INDEX('План ввода основ. ср-в'!R:R,MATCH(B56,'План ввода основ. ср-в'!B:B,0))),0,INDEX('План ввода основ. ср-в'!R:R,MATCH(B56,'План ввода основ. ср-в'!B:B,0)))","v":0},"",{"$f":"IF(ISNA(INDEX('План ввода основ. ср-в'!Q:Q,MATCH(B56,'План ввода основ. ср-в'!B:B,0))),0,INDEX('План ввода основ. ср-в'!Q:Q,MATCH(B56,'План ввода основ. ср-в'!B:B,0)))","v":0},{"$f":"IF(ISNA(INDEX('План ввода основ. ср-в'!T:T,MATCH(B56,'План ввода основ. ср-в'!B:B,0))),0,INDEX('План ввода основ. ср-в'!T:T,MATCH(B56,'План ввода основ. ср-в'!B:B,0)))","v":0},"",{"$f":"IF(ISNA(INDEX('План ввода основ. ср-в'!S:S,MATCH(B56,'План ввода основ. ср-в'!B:B,0))),0,INDEX('План ввода основ. ср-в'!S:S,MATCH(B56,'План ввода основ. ср-в'!B:B,0)))","v":0},2.65,"/",0.25,{"$f":"IF(ISNA(INDEX('План ввода основ. ср-в'!V:V,MATCH(B56,'План ввода основ. ср-в'!B:B,0))),0,INDEX('План ввода основ. ср-в'!V:V,MATCH(B56,'План ввода основ. ср-в'!B:B,0)))","v":0},{"$f":"IF(ISNA(INDEX('План ввода основ. ср-в'!W:W,MATCH(B56,'План ввода основ. ср-в'!B:B,0))),0,INDEX('План ввода основ. ср-в'!W:W,MATCH(B56,'План ввода основ. ср-в'!B:B,0)))","v":1.2432203389830507},{"$f":"IF(ISNA(INDEX('План ввода основ. ср-в'!X:X,MATCH(B56,'План ввода основ. ср-в'!B:B,0))),0,INDEX('План ввода основ. ср-в'!X:X,MATCH(B56,'План ввода основ. ср-в'!B:B,0)))","v":2.9008474576271186},{"$f":"IF(ISNA(INDEX('План ввода основ. ср-в'!Y:Y,MATCH(B56,'План ввода основ. ср-в'!B:B,0))),0,INDEX('План ввода основ. ср-в'!Y:Y,MATCH(B56,'План ввода основ. ср-в'!B:B,0)))","v":4.1440677966101696},8.2881355932203391,{"$f":"IF(ISNA(INDEX('План ввода основ. ср-в'!Z:Z,MATCH(B56,'План ввода основ. ср-в'!B:B,0))),0,INDEX('План ввода основ. ср-в'!Z:Z,MATCH(B56,'План ввода основ. ср-в'!B:B,0)))","v":0},{"$f":"IF(ISNA(INDEX('План ввода основ. ср-в'!AA:AA,MATCH(B56,'План ввода основ. ср-в'!B:B,0))),0,INDEX('План ввода основ. ср-в'!AA:AA,MATCH(B56,'План ввода основ. ср-в'!B:B,0)))","v":0},{"$f":"IF(ISNA(INDEX('План ввода основ. ср-в'!AB:AB,MATCH(B56,'План ввода основ. ср-в'!B:B,0))),0,INDEX('План ввода основ. ср-в'!AB:AB,MATCH(B56,'План ввода основ. ср-в'!B:B,0)))","v":0},{"$f":"IF(ISNA(INDEX('План ввода основ. ср-в'!AC:AC,MATCH(B56,'План ввода основ. ср-в'!B:B,0))),0,INDEX('План ввода основ. ср-в'!AC:AC,MATCH(B56,'План ввода основ. ср-в'!B:B,0)))","v":0},8.2881355932203391]
[35,"Реконструкция ВЛ-0,4кВ от ЗТП Кур 906/400 кВА с заменой ЗТП на КТП ",null,null,null,null,null,null,0,"",0,0.85,"/",0.4,0,"",0,0,"",0,0,"",0,0.85,"/",0.4,3.0338983050847461,{"$f":"IF(ISNA(INDEX('План ввода основ. ср-в'!F:F,MATCH(B57,'План ввода основ. ср-в'!B:B,0))),0,INDEX('План ввода основ. ср-в'!F:F,MATCH(B57,'План ввода основ. ср-в'!B:B,0)))","v":0},"",{"$f":"IF(ISNA(INDEX('План ввода основ. ср-в'!E:E,MATCH(B57,'План ввода основ. ср-в'!B:B,0))),0,INDEX('План ввода основ. ср-в'!E:E,MATCH(B57,'План ввода основ. ср-в'!B:B,0)))","v":0},{"$f":"IF(ISNA(INDEX('План ввода основ. ср-в'!H:H,MATCH(B57,'План ввода основ. ср-в'!B:B,0))),0,INDEX('План ввода основ. ср-в'!H:H,MATCH(B57,'План ввода основ. ср-в'!B:B,0)))","v":0},"",{"$f":"IF(ISNA(INDEX('План ввода основ. ср-в'!G:G,MATCH(B57,'План ввода основ. ср-в'!B:B,0))),0,INDEX('План ввода основ. ср-в'!G:G,MATCH(B57,'План ввода основ. ср-в'!B:B,0)))","v":0},{"$f":"IF(ISNA(INDEX('План ввода основ. ср-в'!J:J,MATCH(B57,'План ввода основ. ср-в'!B:B,0))),0,INDEX('План ввода основ. ср-в'!J:J,MATCH(B57,'План ввода основ. ср-в'!B:B,0)))","v":0},"",{"$f":"IF(ISNA(INDEX('План ввода основ. ср-в'!I:I,MATCH(B57,'План ввода основ. ср-в'!B:B,0))),0,INDEX('План ввода основ. ср-в'!I:I,MATCH(B57,'План ввода основ. ср-в'!B:B,0)))","v":0},{"$f":"IF(ISNA(INDEX('План ввода основ. ср-в'!L:L,MATCH(B57,'План ввода основ. ср-в'!B:B,0))),0,INDEX('План ввода основ. ср-в'!L:L,MATCH(B57,'План ввода основ. ср-в'!B:B,0)))","v":0},"",{"$f":"IF(ISNA(INDEX('План ввода основ. ср-в'!K:K,MATCH(B57,'План ввода основ. ср-в'!B:B,0))),0,INDEX('План ввода основ. ср-в'!K:K,MATCH(B57,'План ввода основ. ср-в'!B:B,0)))","v":0},0,"/",0,{"$f":"IF(ISNA(INDEX('План ввода основ. ср-в'!N:N,MATCH(B57,'План ввода основ. ср-в'!B:B,0))),0,INDEX('План ввода основ. ср-в'!N:N,MATCH(B57,'План ввода основ. ср-в'!B:B,0)))","v":0.85},"/",{"$f":"IF(ISNA(INDEX('План ввода основ. ср-в'!M:M,MATCH(B57,'План ввода основ. ср-в'!B:B,0))),0,INDEX('План ввода основ. ср-в'!M:M,MATCH(B57,'План ввода основ. ср-в'!B:B,0)))","v":0.4},{"$f":"IF(ISNA(INDEX('План ввода основ. ср-в'!P:P,MATCH(B57,'План ввода основ. ср-в'!B:B,0))),0,INDEX('План ввода основ. ср-в'!P:P,MATCH(B57,'План ввода основ. ср-в'!B:B,0)))","v":0},"",{"$f":"IF(ISNA(INDEX('План ввода основ. ср-в'!O:O,MATCH(B57,'План ввода основ. ср-в'!B:B,0))),0,INDEX('План ввода основ. ср-в'!O:O,MATCH(B57,'План ввода основ. ср-в'!B:B,0)))","v":0},{"$f":"IF(ISNA(INDEX('План ввода основ. ср-в'!R:R,MATCH(B57,'План ввода основ. ср-в'!B:B,0))),0,INDEX('План ввода основ. ср-в'!R:R,MATCH(B57,'План ввода основ. ср-в'!B:B,0)))","v":0},"",{"$f":"IF(ISNA(INDEX('План ввода основ. ср-в'!Q:Q,MATCH(B57,'План ввода основ. ср-в'!B:B,0))),0,INDEX('План ввода основ. ср-в'!Q:Q,MATCH(B57,'План ввода основ. ср-в'!B:B,0)))","v":0},{"$f":"IF(ISNA(INDEX('План ввода основ. ср-в'!T:T,MATCH(B57,'План ввода основ. ср-в'!B:B,0))),0,INDEX('План ввода основ. ср-в'!T:T,MATCH(B57,'План ввода основ. ср-в'!B:B,0)))","v":0},"",{"$f":"IF(ISNA(INDEX('План ввода основ. ср-в'!S:S,MATCH(B57,'План ввода основ. ср-в'!B:B,0))),0,INDEX('План ввода основ. ср-в'!S:S,MATCH(B57,'План ввода основ. ср-в'!B:B,0)))","v":0},0.85,"/",0.4,{"$f":"IF(ISNA(INDEX('План ввода основ. ср-в'!V:V,MATCH(B57,'План ввода основ. ср-в'!B:B,0))),0,INDEX('План ввода основ. ср-в'!V:V,MATCH(B57,'План ввода основ. ср-в'!B:B,0)))","v":0},{"$f":"IF(ISNA(INDEX('План ввода основ. ср-в'!W:W,MATCH(B57,'План ввода основ. ср-в'!B:B,0))),0,INDEX('План ввода основ. ср-в'!W:W,MATCH(B57,'План ввода основ. ср-в'!B:B,0)))","v":0},{"$f":"IF(ISNA(INDEX('План ввода основ. ср-в'!X:X,MATCH(B57,'План ввода основ. ср-в'!B:B,0))),0,INDEX('План ввода основ. ср-в'!X:X,MATCH(B57,'План ввода основ. ср-в'!B:B,0)))","v":0},{"$f":"IF(ISNA(INDEX('План ввода основ. ср-в'!Y:Y,MATCH(B57,'План ввода основ. ср-в'!B:B,0))),0,INDEX('План ввода основ. ср-в'!Y:Y,MATCH(B57,'План ввода основ. ср-в'!B:B,0)))","v":0},0,{"$f":"IF(ISNA(INDEX('План ввода основ. ср-в'!Z:Z,MATCH(B57,'План ввода основ. ср-в'!B:B,0))),0,INDEX('План ввода основ. ср-в'!Z:Z,MATCH(B57,'План ввода основ. ср-в'!B:B,0)))","v":3.0338983050847461},{"$f":"IF(ISNA(INDEX('План ввода основ. ср-в'!AA:AA,MATCH(B57,'План ввода основ. ср-в'!B:B,0))),0,INDEX('План ввода основ. ср-в'!AA:AA,MATCH(B57,'План ввода основ. ср-в'!B:B,0)))","v":0},{"$f":"IF(ISNA(INDEX('План ввода основ. ср-в'!AB:AB,MATCH(B57,'План ввода основ. ср-в'!B:B,0))),0,INDEX('План ввода основ. ср-в'!AB:AB,MATCH(B57,'План ввода основ. ср-в'!B:B,0)))","v":0},{"$f":"IF(ISNA(INDEX('План ввода основ. ср-в'!AC:AC,MATCH(B57,'План ввода основ. ср-в'!B:B,0))),0,INDEX('План ввода основ. ср-в'!AC:AC,MATCH(B57,'План ввода основ. ср-в'!B:B,0)))","v":0},3.0338983050847461]
[36,"Реконструкция ВЛ-0,4кВ от ЗТП Кур 901/250 кВА с заменой ЗТП на КТП ",null,null,null,null,null,null,0,"",0,1.4,"/",0.25,0,"",0,0,"",0,0,"",0,1.4,"/",0.25,4.3389830508474576,{"$f":"IF(ISNA(INDEX('План ввода основ. ср-в'!F:F,MATCH(B58,'План ввода основ. ср-в'!B:B,0))),0,INDEX('План ввода основ. ср-в'!F:F,MATCH(B58,'План ввода основ. ср-в'!B:B,0)))","v":0},"",{"$f":"IF(ISNA(INDEX('План ввода основ. ср-в'!E:E,MATCH(B58,'План ввода основ. ср-в'!B:B,0))),0,INDEX('План ввода основ. ср-в'!E:E,MATCH(B58,'План ввода основ. ср-в'!B:B,0)))","v":0},{"$f":"IF(ISNA(INDEX('План ввода основ. ср-в'!H:H,MATCH(B58,'План ввода основ. ср-в'!B:B,0))),0,INDEX('План ввода основ. ср-в'!H:H,MATCH(B58,'План ввода основ. ср-в'!B:B,0)))","v":0},"",{"$f":"IF(ISNA(INDEX('План ввода основ. ср-в'!G:G,MATCH(B58,'План ввода основ. ср-в'!B:B,0))),0,INDEX('План ввода основ. ср-в'!G:G,MATCH(B58,'План ввода основ. ср-в'!B:B,0)))","v":0},{"$f":"IF(ISNA(INDEX('План ввода основ. ср-в'!J:J,MATCH(B58,'План ввода основ. ср-в'!B:B,0))),0,INDEX('План ввода основ. ср-в'!J:J,MATCH(B58,'План ввода основ. ср-в'!B:B,0)))","v":0},"",{"$f":"IF(ISNA(INDEX('План ввода основ. ср-в'!I:I,MATCH(B58,'План ввода основ. ср-в'!B:B,0))),0,INDEX('План ввода основ. ср-в'!I:I,MATCH(B58,'План ввода основ. ср-в'!B:B,0)))","v":0},{"$f":"IF(ISNA(INDEX('План ввода основ. ср-в'!L:L,MATCH(B58,'План ввода основ. ср-в'!B:B,0))),0,INDEX('План ввода основ. ср-в'!L:L,MATCH(B58,'План ввода основ. ср-в'!B:B,0)))","v":0},"",{"$f":"IF(ISNA(INDEX('План ввода основ. ср-в'!K:K,MATCH(B58,'План ввода основ. ср-в'!B:B,0))),0,INDEX('План ввода основ. ср-в'!K:K,MATCH(B58,'План ввода основ. ср-в'!B:B,0)))","v":0},0,"/",0,{"$f":"IF(ISNA(INDEX('План ввода основ. ср-в'!N:N,MATCH(B58,'План ввода основ. ср-в'!B:B,0))),0,INDEX('План ввода основ. ср-в'!N:N,MATCH(B58,'План ввода основ. ср-в'!B:B,0)))","v":1.4},"/",{"$f":"IF(ISNA(INDEX('План ввода основ. ср-в'!M:M,MATCH(B58,'План ввода основ. ср-в'!B:B,0))),0,INDEX('План ввода основ. ср-в'!M:M,MATCH(B58,'План ввода основ. ср-в'!B:B,0)))","v":0.25},{"$f":"IF(ISNA(INDEX('План ввода основ. ср-в'!P:P,MATCH(B58,'План ввода основ. ср-в'!B:B,0))),0,INDEX('План ввода основ. ср-в'!P:P,MATCH(B58,'План ввода основ. ср-в'!B:B,0)))","v":0},"",{"$f":"IF(ISNA(INDEX('План ввода основ. ср-в'!O:O,MATCH(B58,'План ввода основ. ср-в'!B:B,0))),0,INDEX('План ввода основ. ср-в'!O:O,MATCH(B58,'План ввода основ. ср-в'!B:B,0)))","v":0},{"$f":"IF(ISNA(INDEX('План ввода основ. ср-в'!R:R,MATCH(B58,'План ввода основ. ср-в'!B:B,0))),0,INDEX('План ввода основ. ср-в'!R:R,MATCH(B58,'План ввода основ. ср-в'!B:B,0)))","v":0},"",{"$f":"IF(ISNA(INDEX('План ввода основ. ср-в'!Q:Q,MATCH(B58,'План ввода основ. ср-в'!B:B,0))),0,INDEX('План ввода основ. ср-в'!Q:Q,MATCH(B58,'План ввода основ. ср-в'!B:B,0)))","v":0},{"$f":"IF(ISNA(INDEX('План ввода основ. ср-в'!T:T,MATCH(B58,'План ввода основ. ср-в'!B:B,0))),0,INDEX('План ввода основ. ср-в'!T:T,MATCH(B58,'План ввода основ. ср-в'!B:B,0)))","v":0},"",{"$f":"IF(ISNA(INDEX('План ввода основ. ср-в'!S:S,MATCH(B58,'План ввода основ. ср-в'!B:B,0))),0,INDEX('План ввода основ. ср-в'!S:S,MATCH(B58,'План ввода основ. ср-в'!B:B,0)))","v":0},1.4,"/",0.25,{"$f":"IF(ISNA(INDEX('План ввода основ. ср-в'!V:V,MATCH(B58,'План ввода основ. ср-в'!B:B,0))),0,INDEX('План ввода основ. ср-в'!V:V,MATCH(B58,'План ввода основ. ср-в'!B:B,0)))","v":0},{"$f":"IF(ISNA(INDEX('План ввода основ. ср-в'!W:W,MATCH(B58,'План ввода основ. ср-в'!B:B,0))),0,INDEX('План ввода основ. ср-в'!W:W,MATCH(B58,'План ввода основ. ср-в'!B:B,0)))","v":0},{"$f":"IF(ISNA(INDEX('План ввода основ. ср-в'!X:X,MATCH(B58,'План ввода основ. ср-в'!B:B,0))),0,INDEX('План ввода основ. ср-в'!X:X,MATCH(B58,'План ввода основ. ср-в'!B:B,0)))","v":0},{"$f":"IF(ISNA(INDEX('План ввода основ. ср-в'!Y:Y,MATCH(B58,'План ввода основ. ср-в'!B:B,0))),0,INDEX('План ввода основ. ср-в'!Y:Y,MATCH(B58,'План ввода основ. ср-в'!B:B,0)))","v":0},0,{"$f":"IF(ISNA(INDEX('План ввода основ. ср-в'!Z:Z,MATCH(B58,'План ввода основ. ср-в'!B:B,0))),0,INDEX('План ввода основ. ср-в'!Z:Z,MATCH(B58,'План ввода основ. ср-в'!B:B,0)))","v":4.3389830508474576},{"$f":"IF(ISNA(INDEX('План ввода основ. ср-в'!AA:AA,MATCH(B58,'План ввода основ. ср-в'!B:B,0))),0,INDEX('План ввода основ. ср-в'!AA:AA,MATCH(B58,'План ввода основ. ср-в'!B:B,0)))","v":0},{"$f":"IF(ISNA(INDEX('План ввода основ. ср-в'!AB:AB,MATCH(B58,'План ввода основ. ср-в'!B:B,0))),0,INDEX('План ввода основ. ср-в'!AB:AB,MATCH(B58,'План ввода основ. ср-в'!B:B,0)))","v":0},{"$f":"IF(ISNA(INDEX('План ввода основ. ср-в'!AC:AC,MATCH(B58,'План ввода основ. ср-в'!B:B,0))),0,INDEX('План ввода основ. ср-в'!AC:AC,MATCH(B58,'План ввода основ. ср-в'!B:B,0)))","v":0},4.3389830508474576]
[37,"Реконструкция ВЛ-0,4 кВ от КТП Р 402/400 кВА",null,null,null,null,null,null,0,"",0,1,"/",0,0,"",0,0,"",0,0,"",0,1,"/",0,2.3728813559322033,{"$f":"IF(ISNA(INDEX('План ввода основ. ср-в'!F:F,MATCH(B59,'План ввода основ. ср-в'!B:B,0))),0,INDEX('План ввода основ. ср-в'!F:F,MATCH(B59,'План ввода основ. ср-в'!B:B,0)))","v":0},"",{"$f":"IF(ISNA(INDEX('План ввода основ. ср-в'!E:E,MATCH(B59,'План ввода основ. ср-в'!B:B,0))),0,INDEX('План ввода основ. ср-в'!E:E,MATCH(B59,'План ввода основ. ср-в'!B:B,0)))","v":0},{"$f":"IF(ISNA(INDEX('План ввода основ. ср-в'!H:H,MATCH(B59,'План ввода основ. ср-в'!B:B,0))),0,INDEX('План ввода основ. ср-в'!H:H,MATCH(B59,'План ввода основ. ср-в'!B:B,0)))","v":0},"",{"$f":"IF(ISNA(INDEX('План ввода основ. ср-в'!G:G,MATCH(B59,'План ввода основ. ср-в'!B:B,0))),0,INDEX('План ввода основ. ср-в'!G:G,MATCH(B59,'План ввода основ. ср-в'!B:B,0)))","v":0},{"$f":"IF(ISNA(INDEX('План ввода основ. ср-в'!J:J,MATCH(B59,'План ввода основ. ср-в'!B:B,0))),0,INDEX('План ввода основ. ср-в'!J:J,MATCH(B59,'План ввода основ. ср-в'!B:B,0)))","v":0},"",{"$f":"IF(ISNA(INDEX('План ввода основ. ср-в'!I:I,MATCH(B59,'План ввода основ. ср-в'!B:B,0))),0,INDEX('План ввода основ. ср-в'!I:I,MATCH(B59,'План ввода основ. ср-в'!B:B,0)))","v":0},{"$f":"IF(ISNA(INDEX('План ввода основ. ср-в'!L:L,MATCH(B59,'План ввода основ. ср-в'!B:B,0))),0,INDEX('План ввода основ. ср-в'!L:L,MATCH(B59,'План ввода основ. ср-в'!B:B,0)))","v":0},"",{"$f":"IF(ISNA(INDEX('План ввода основ. ср-в'!K:K,MATCH(B59,'План ввода основ. ср-в'!B:B,0))),0,INDEX('План ввода основ. ср-в'!K:K,MATCH(B59,'План ввода основ. ср-в'!B:B,0)))","v":0},0,"/",0,{"$f":"IF(ISNA(INDEX('План ввода основ. ср-в'!N:N,MATCH(B59,'План ввода основ. ср-в'!B:B,0))),0,INDEX('План ввода основ. ср-в'!N:N,MATCH(B59,'План ввода основ. ср-в'!B:B,0)))","v":1},"/",{"$f":"IF(ISNA(INDEX('План ввода основ. ср-в'!M:M,MATCH(B59,'План ввода основ. ср-в'!B:B,0))),0,INDEX('План ввода основ. ср-в'!M:M,MATCH(B59,'План ввода основ. ср-в'!B:B,0)))","v":0},{"$f":"IF(ISNA(INDEX('План ввода основ. ср-в'!P:P,MATCH(B59,'План ввода основ. ср-в'!B:B,0))),0,INDEX('План ввода основ. ср-в'!P:P,MATCH(B59,'План ввода основ. ср-в'!B:B,0)))","v":0},"",{"$f":"IF(ISNA(INDEX('План ввода основ. ср-в'!O:O,MATCH(B59,'План ввода основ. ср-в'!B:B,0))),0,INDEX('План ввода основ. ср-в'!O:O,MATCH(B59,'План ввода основ. ср-в'!B:B,0)))","v":0},{"$f":"IF(ISNA(INDEX('План ввода основ. ср-в'!R:R,MATCH(B59,'План ввода основ. ср-в'!B:B,0))),0,INDEX('План ввода основ. ср-в'!R:R,MATCH(B59,'План ввода основ. ср-в'!B:B,0)))","v":0},"",{"$f":"IF(ISNA(INDEX('План ввода основ. ср-в'!Q:Q,MATCH(B59,'План ввода основ. ср-в'!B:B,0))),0,INDEX('План ввода основ. ср-в'!Q:Q,MATCH(B59,'План ввода основ. ср-в'!B:B,0)))","v":0},{"$f":"IF(ISNA(INDEX('План ввода основ. ср-в'!T:T,MATCH(B59,'План ввода основ. ср-в'!B:B,0))),0,INDEX('План ввода основ. ср-в'!T:T,MATCH(B59,'План ввода основ. ср-в'!B:B,0)))","v":0},"",{"$f":"IF(ISNA(INDEX('План ввода основ. ср-в'!S:S,MATCH(B59,'План ввода основ. ср-в'!B:B,0))),0,INDEX('План ввода основ. ср-в'!S:S,MATCH(B59,'План ввода основ. ср-в'!B:B,0)))","v":0},1,"/",0,{"$f":"IF(ISNA(INDEX('План ввода основ. ср-в'!V:V,MATCH(B59,'План ввода основ. ср-в'!B:B,0))),0,INDEX('План ввода основ. ср-в'!V:V,MATCH(B59,'План ввода основ. ср-в'!B:B,0)))","v":0},{"$f":"IF(ISNA(INDEX('План ввода основ. ср-в'!W:W,MATCH(B59,'План ввода основ. ср-в'!B:B,0))),0,INDEX('План ввода основ. ср-в'!W:W,MATCH(B59,'План ввода основ. ср-в'!B:B,0)))","v":0},{"$f":"IF(ISNA(INDEX('План ввода основ. ср-в'!X:X,MATCH(B59,'План ввода основ. ср-в'!B:B,0))),0,INDEX('План ввода основ. ср-в'!X:X,MATCH(B59,'План ввода основ. ср-в'!B:B,0)))","v":0},{"$f":"IF(ISNA(INDEX('План ввода основ. ср-в'!Y:Y,MATCH(B59,'План ввода основ. ср-в'!B:B,0))),0,INDEX('План ввода основ. ср-в'!Y:Y,MATCH(B59,'План ввода основ. ср-в'!B:B,0)))","v":0},0,{"$f":"IF(ISNA(INDEX('План ввода основ. ср-в'!Z:Z,MATCH(B59,'План ввода основ. ср-в'!B:B,0))),0,INDEX('План ввода основ. ср-в'!Z:Z,MATCH(B59,'План ввода основ. ср-в'!B:B,0)))","v":2.3728813559322033},{"$f":"IF(ISNA(INDEX('План ввода основ. ср-в'!AA:AA,MATCH(B59,'План ввода основ. ср-в'!B:B,0))),0,INDEX('План ввода основ. ср-в'!AA:AA,MATCH(B59,'План ввода основ. ср-в'!B:B,0)))","v":0},{"$f":"IF(ISNA(INDEX('План ввода основ. ср-в'!AB:AB,MATCH(B59,'План ввода основ. ср-в'!B:B,0))),0,INDEX('План ввода основ. ср-в'!AB:AB,MATCH(B59,'План ввода основ. ср-в'!B:B,0)))","v":0},{"$f":"IF(ISNA(INDEX('План ввода основ. ср-в'!AC:AC,MATCH(B59,'План ввода основ. ср-в'!B:B,0))),0,INDEX('План ввода основ. ср-в'!AC:AC,MATCH(B59,'План ввода основ. ср-в'!B:B,0)))","v":0},2.3728813559322033]
[38,"Реконструкция ВЛ-10 кВ Ф-8 отпайка к КТП Пм 802/100 кВА с заменой КТП ",null,null,null,null,null,null,0,"",0,3.6,"/",0.1,0,"",0,0,"",0,0,"",0,3.6,"/",0.1,9.322033898305083,{"$f":"IF(ISNA(INDEX('План ввода основ. ср-в'!F:F,MATCH(B60,'План ввода основ. ср-в'!B:B,0))),0,INDEX('План ввода основ. ср-в'!F:F,MATCH(B60,'План ввода основ. ср-в'!B:B,0)))","v":0},"",{"$f":"IF(ISNA(INDEX('План ввода основ. ср-в'!E:E,MATCH(B60,'План ввода основ. ср-в'!B:B,0))),0,INDEX('План ввода основ. ср-в'!E:E,MATCH(B60,'План ввода основ. ср-в'!B:B,0)))","v":0},{"$f":"IF(ISNA(INDEX('План ввода основ. ср-в'!H:H,MATCH(B60,'План ввода основ. ср-в'!B:B,0))),0,INDEX('План ввода основ. ср-в'!H:H,MATCH(B60,'План ввода основ. ср-в'!B:B,0)))","v":0},"",{"$f":"IF(ISNA(INDEX('План ввода основ. ср-в'!G:G,MATCH(B60,'План ввода основ. ср-в'!B:B,0))),0,INDEX('План ввода основ. ср-в'!G:G,MATCH(B60,'План ввода основ. ср-в'!B:B,0)))","v":0},{"$f":"IF(ISNA(INDEX('План ввода основ. ср-в'!J:J,MATCH(B60,'План ввода основ. ср-в'!B:B,0))),0,INDEX('План ввода основ. ср-в'!J:J,MATCH(B60,'План ввода основ. ср-в'!B:B,0)))","v":0},"",{"$f":"IF(ISNA(INDEX('План ввода основ. ср-в'!I:I,MATCH(B60,'План ввода основ. ср-в'!B:B,0))),0,INDEX('План ввода основ. ср-в'!I:I,MATCH(B60,'План ввода основ. ср-в'!B:B,0)))","v":0},{"$f":"IF(ISNA(INDEX('План ввода основ. ср-в'!L:L,MATCH(B60,'План ввода основ. ср-в'!B:B,0))),0,INDEX('План ввода основ. ср-в'!L:L,MATCH(B60,'План ввода основ. ср-в'!B:B,0)))","v":0},"",{"$f":"IF(ISNA(INDEX('План ввода основ. ср-в'!K:K,MATCH(B60,'План ввода основ. ср-в'!B:B,0))),0,INDEX('План ввода основ. ср-в'!K:K,MATCH(B60,'План ввода основ. ср-в'!B:B,0)))","v":0},0,"/",0,{"$f":"IF(ISNA(INDEX('План ввода основ. ср-в'!N:N,MATCH(B60,'План ввода основ. ср-в'!B:B,0))),0,INDEX('План ввода основ. ср-в'!N:N,MATCH(B60,'План ввода основ. ср-в'!B:B,0)))","v":3.6},"/",{"$f":"IF(ISNA(INDEX('План ввода основ. ср-в'!M:M,MATCH(B60,'План ввода основ. ср-в'!B:B,0))),0,INDEX('План ввода основ. ср-в'!M:M,MATCH(B60,'План ввода основ. ср-в'!B:B,0)))","v":0.1},{"$f":"IF(ISNA(INDEX('План ввода основ. ср-в'!P:P,MATCH(B60,'План ввода основ. ср-в'!B:B,0))),0,INDEX('План ввода основ. ср-в'!P:P,MATCH(B60,'План ввода основ. ср-в'!B:B,0)))","v":0},"",{"$f":"IF(ISNA(INDEX('План ввода основ. ср-в'!O:O,MATCH(B60,'План ввода основ. ср-в'!B:B,0))),0,INDEX('План ввода основ. ср-в'!O:O,MATCH(B60,'План ввода основ. ср-в'!B:B,0)))","v":0},{"$f":"IF(ISNA(INDEX('План ввода основ. ср-в'!R:R,MATCH(B60,'План ввода основ. ср-в'!B:B,0))),0,INDEX('План ввода основ. ср-в'!R:R,MATCH(B60,'План ввода основ. ср-в'!B:B,0)))","v":0},"",{"$f":"IF(ISNA(INDEX('План ввода основ. ср-в'!Q:Q,MATCH(B60,'План ввода основ. ср-в'!B:B,0))),0,INDEX('План ввода основ. ср-в'!Q:Q,MATCH(B60,'План ввода основ. ср-в'!B:B,0)))","v":0},{"$f":"IF(ISNA(INDEX('План ввода основ. ср-в'!T:T,MATCH(B60,'План ввода основ. ср-в'!B:B,0))),0,INDEX('План ввода основ. ср-в'!T:T,MATCH(B60,'План ввода основ. ср-в'!B:B,0)))","v":0},"",{"$f":"IF(ISNA(INDEX('План ввода основ. ср-в'!S:S,MATCH(B60,'План ввода основ. ср-в'!B:B,0))),0,INDEX('План ввода основ. ср-в'!S:S,MATCH(B60,'План ввода основ. ср-в'!B:B,0)))","v":0},3.6,"/",0.1,{"$f":"IF(ISNA(INDEX('План ввода основ. ср-в'!V:V,MATCH(B60,'План ввода основ. ср-в'!B:B,0))),0,INDEX('План ввода основ. ср-в'!V:V,MATCH(B60,'План ввода основ. ср-в'!B:B,0)))","v":0},{"$f":"IF(ISNA(INDEX('План ввода основ. ср-в'!W:W,MATCH(B60,'План ввода основ. ср-в'!B:B,0))),0,INDEX('План ввода основ. ср-в'!W:W,MATCH(B60,'План ввода основ. ср-в'!B:B,0)))","v":0},{"$f":"IF(ISNA(INDEX('План ввода основ. ср-в'!X:X,MATCH(B60,'План ввода основ. ср-в'!B:B,0))),0,INDEX('План ввода основ. ср-в'!X:X,MATCH(B60,'План ввода основ. ср-в'!B:B,0)))","v":0},{"$f":"IF(ISNA(INDEX('План ввода основ. ср-в'!Y:Y,MATCH(B60,'План ввода основ. ср-в'!B:B,0))),0,INDEX('План ввода основ. ср-в'!Y:Y,MATCH(B60,'План ввода основ. ср-в'!B:B,0)))","v":0},0,{"$f":"IF(ISNA(INDEX('План ввода основ. ср-в'!Z:Z,MATCH(B60,'План ввода основ. ср-в'!B:B,0))),0,INDEX('План ввода основ. ср-в'!Z:Z,MATCH(B60,'План ввода основ. ср-в'!B:B,0)))","v":9.322033898305083},{"$f":"IF(ISNA(INDEX('План ввода основ. ср-в'!AA:AA,MATCH(B60,'План ввода основ. ср-в'!B:B,0))),0,INDEX('План ввода основ. ср-в'!AA:AA,MATCH(B60,'План ввода основ. ср-в'!B:B,0)))","v":0},{"$f":"IF(ISNA(INDEX('План ввода основ. ср-в'!AB:AB,MATCH(B60,'План ввода основ. ср-в'!B:B,0))),0,INDEX('План ввода основ. ср-в'!AB:AB,MATCH(B60,'План ввода основ. ср-в'!B:B,0)))","v":0},{"$f":"IF(ISNA(INDEX('План ввода основ. ср-в'!AC:AC,MATCH(B60,'План ввода основ. ср-в'!B:B,0))),0,INDEX('План ввода основ. ср-в'!AC:AC,MATCH(B60,'План ввода основ. ср-в'!B:B,0)))","v":0},9.322033898305083]
[39,"Реконструкция ВЛ-0,4 кВ Ф-1 КТП Л 2502/320 кВА",null,null,null,null,null,null,0,"",0,0.7,"/",0,0,"",0,0,"",0,0,"",0,0.7,"/",0,1.6610169491525422,{"$f":"IF(ISNA(INDEX('План ввода основ. ср-в'!F:F,MATCH(B61,'План ввода основ. ср-в'!B:B,0))),0,INDEX('План ввода основ. ср-в'!F:F,MATCH(B61,'План ввода основ. ср-в'!B:B,0)))","v":0},"",{"$f":"IF(ISNA(INDEX('План ввода основ. ср-в'!E:E,MATCH(B61,'План ввода основ. ср-в'!B:B,0))),0,INDEX('План ввода основ. ср-в'!E:E,MATCH(B61,'План ввода основ. ср-в'!B:B,0)))","v":0},{"$f":"IF(ISNA(INDEX('План ввода основ. ср-в'!H:H,MATCH(B61,'План ввода основ. ср-в'!B:B,0))),0,INDEX('План ввода основ. ср-в'!H:H,MATCH(B61,'План ввода основ. ср-в'!B:B,0)))","v":0},"",{"$f":"IF(ISNA(INDEX('План ввода основ. ср-в'!G:G,MATCH(B61,'План ввода основ. ср-в'!B:B,0))),0,INDEX('План ввода основ. ср-в'!G:G,MATCH(B61,'План ввода основ. ср-в'!B:B,0)))","v":0},{"$f":"IF(ISNA(INDEX('План ввода основ. ср-в'!J:J,MATCH(B61,'План ввода основ. ср-в'!B:B,0))),0,INDEX('План ввода основ. ср-в'!J:J,MATCH(B61,'План ввода основ. ср-в'!B:B,0)))","v":0},"",{"$f":"IF(ISNA(INDEX('План ввода основ. ср-в'!I:I,MATCH(B61,'План ввода основ. ср-в'!B:B,0))),0,INDEX('План ввода основ. ср-в'!I:I,MATCH(B61,'План ввода основ. ср-в'!B:B,0)))","v":0},{"$f":"IF(ISNA(INDEX('План ввода основ. ср-в'!L:L,MATCH(B61,'План ввода основ. ср-в'!B:B,0))),0,INDEX('План ввода основ. ср-в'!L:L,MATCH(B61,'План ввода основ. ср-в'!B:B,0)))","v":0},"",{"$f":"IF(ISNA(INDEX('План ввода основ. ср-в'!K:K,MATCH(B61,'План ввода основ. ср-в'!B:B,0))),0,INDEX('План ввода основ. ср-в'!K:K,MATCH(B61,'План ввода основ. ср-в'!B:B,0)))","v":0},0,"/",0,{"$f":"IF(ISNA(INDEX('План ввода основ. ср-в'!N:N,MATCH(B61,'План ввода основ. ср-в'!B:B,0))),0,INDEX('План ввода основ. ср-в'!N:N,MATCH(B61,'План ввода основ. ср-в'!B:B,0)))","v":0.7},"/",{"$f":"IF(ISNA(INDEX('План ввода основ. ср-в'!M:M,MATCH(B61,'План ввода основ. ср-в'!B:B,0))),0,INDEX('План ввода основ. ср-в'!M:M,MATCH(B61,'План ввода основ. ср-в'!B:B,0)))","v":0},{"$f":"IF(ISNA(INDEX('План ввода основ. ср-в'!P:P,MATCH(B61,'План ввода основ. ср-в'!B:B,0))),0,INDEX('План ввода основ. ср-в'!P:P,MATCH(B61,'План ввода основ. ср-в'!B:B,0)))","v":0},"",{"$f":"IF(ISNA(INDEX('План ввода основ. ср-в'!O:O,MATCH(B61,'План ввода основ. ср-в'!B:B,0))),0,INDEX('План ввода основ. ср-в'!O:O,MATCH(B61,'План ввода основ. ср-в'!B:B,0)))","v":0},{"$f":"IF(ISNA(INDEX('План ввода основ. ср-в'!R:R,MATCH(B61,'План ввода основ. ср-в'!B:B,0))),0,INDEX('План ввода основ. ср-в'!R:R,MATCH(B61,'План ввода основ. ср-в'!B:B,0)))","v":0},"",{"$f":"IF(ISNA(INDEX('План ввода основ. ср-в'!Q:Q,MATCH(B61,'План ввода основ. ср-в'!B:B,0))),0,INDEX('План ввода основ. ср-в'!Q:Q,MATCH(B61,'План ввода основ. ср-в'!B:B,0)))","v":0},{"$f":"IF(ISNA(INDEX('План ввода основ. ср-в'!T:T,MATCH(B61,'План ввода основ. ср-в'!B:B,0))),0,INDEX('План ввода основ. ср-в'!T:T,MATCH(B61,'План ввода основ. ср-в'!B:B,0)))","v":0},"",{"$f":"IF(ISNA(INDEX('План ввода основ. ср-в'!S:S,MATCH(B61,'План ввода основ. ср-в'!B:B,0))),0,INDEX('План ввода основ. ср-в'!S:S,MATCH(B61,'План ввода основ. ср-в'!B:B,0)))","v":0},0.7,"/",0,{"$f":"IF(ISNA(INDEX('План ввода основ. ср-в'!V:V,MATCH(B61,'План ввода основ. ср-в'!B:B,0))),0,INDEX('План ввода основ. ср-в'!V:V,MATCH(B61,'План ввода основ. ср-в'!B:B,0)))","v":0},{"$f":"IF(ISNA(INDEX('План ввода основ. ср-в'!W:W,MATCH(B61,'План ввода основ. ср-в'!B:B,0))),0,INDEX('План ввода основ. ср-в'!W:W,MATCH(B61,'План ввода основ. ср-в'!B:B,0)))","v":0},{"$f":"IF(ISNA(INDEX('План ввода основ. ср-в'!X:X,MATCH(B61,'План ввода основ. ср-в'!B:B,0))),0,INDEX('План ввода основ. ср-в'!X:X,MATCH(B61,'План ввода основ. ср-в'!B:B,0)))","v":0},{"$f":"IF(ISNA(INDEX('План ввода основ. ср-в'!Y:Y,MATCH(B61,'План ввода основ. ср-в'!B:B,0))),0,INDEX('План ввода основ. ср-в'!Y:Y,MATCH(B61,'План ввода основ. ср-в'!B:B,0)))","v":0},0,{"$f":"IF(ISNA(INDEX('План ввода основ. ср-в'!Z:Z,MATCH(B61,'План ввода основ. ср-в'!B:B,0))),0,INDEX('План ввода основ. ср-в'!Z:Z,MATCH(B61,'План ввода основ. ср-в'!B:B,0)))","v":1.6610169491525422},{"$f":"IF(ISNA(INDEX('План ввода основ. ср-в'!AA:AA,MATCH(B61,'План ввода основ. ср-в'!B:B,0))),0,INDEX('План ввода основ. ср-в'!AA:AA,MATCH(B61,'План ввода основ. ср-в'!B:B,0)))","v":0},{"$f":"IF(ISNA(INDEX('План ввода основ. ср-в'!AB:AB,MATCH(B61,'План ввода основ. ср-в'!B:B,0))),0,INDEX('План ввода основ. ср-в'!AB:AB,MATCH(B61,'План ввода основ. ср-в'!B:B,0)))","v":0},{"$f":"IF(ISNA(INDEX('План ввода основ. ср-в'!AC:AC,MATCH(B61,'План ввода основ. ср-в'!B:B,0))),0,INDEX('План ввода основ. ср-в'!AC:AC,MATCH(B61,'План ввода основ. ср-в'!B:B,0)))","v":0},1.6610169491525422]
[40,"Реконструкция ВЛ-0,4 кВ от КТП 211/250 кВА с заменой КТП на 400 кВА.",null,null,null,null,null,null,0,"",0,1.5,"/",0.25,0,"",0,0,"",0,0,"",0,1.5,"/",0.25,4.5762711864406773,{"$f":"IF(ISNA(INDEX('План ввода основ. ср-в'!F:F,MATCH(B62,'План ввода основ. ср-в'!B:B,0))),0,INDEX('План ввода основ. ср-в'!F:F,MATCH(B62,'План ввода основ. ср-в'!B:B,0)))","v":0},"",{"$f":"IF(ISNA(INDEX('План ввода основ. ср-в'!E:E,MATCH(B62,'План ввода основ. ср-в'!B:B,0))),0,INDEX('План ввода основ. ср-в'!E:E,MATCH(B62,'План ввода основ. ср-в'!B:B,0)))","v":0},{"$f":"IF(ISNA(INDEX('План ввода основ. ср-в'!H:H,MATCH(B62,'План ввода основ. ср-в'!B:B,0))),0,INDEX('План ввода основ. ср-в'!H:H,MATCH(B62,'План ввода основ. ср-в'!B:B,0)))","v":0},"",{"$f":"IF(ISNA(INDEX('План ввода основ. ср-в'!G:G,MATCH(B62,'План ввода основ. ср-в'!B:B,0))),0,INDEX('План ввода основ. ср-в'!G:G,MATCH(B62,'План ввода основ. ср-в'!B:B,0)))","v":0},{"$f":"IF(ISNA(INDEX('План ввода основ. ср-в'!J:J,MATCH(B62,'План ввода основ. ср-в'!B:B,0))),0,INDEX('План ввода основ. ср-в'!J:J,MATCH(B62,'План ввода основ. ср-в'!B:B,0)))","v":0},"",{"$f":"IF(ISNA(INDEX('План ввода основ. ср-в'!I:I,MATCH(B62,'План ввода основ. ср-в'!B:B,0))),0,INDEX('План ввода основ. ср-в'!I:I,MATCH(B62,'План ввода основ. ср-в'!B:B,0)))","v":0},{"$f":"IF(ISNA(INDEX('План ввода основ. ср-в'!L:L,MATCH(B62,'План ввода основ. ср-в'!B:B,0))),0,INDEX('План ввода основ. ср-в'!L:L,MATCH(B62,'План ввода основ. ср-в'!B:B,0)))","v":0},"",{"$f":"IF(ISNA(INDEX('План ввода основ. ср-в'!K:K,MATCH(B62,'План ввода основ. ср-в'!B:B,0))),0,INDEX('План ввода основ. ср-в'!K:K,MATCH(B62,'План ввода основ. ср-в'!B:B,0)))","v":0},0,"/",0,{"$f":"IF(ISNA(INDEX('План ввода основ. ср-в'!N:N,MATCH(B62,'План ввода основ. ср-в'!B:B,0))),0,INDEX('План ввода основ. ср-в'!N:N,MATCH(B62,'План ввода основ. ср-в'!B:B,0)))","v":1.5},"/",{"$f":"IF(ISNA(INDEX('План ввода основ. ср-в'!M:M,MATCH(B62,'План ввода основ. ср-в'!B:B,0))),0,INDEX('План ввода основ. ср-в'!M:M,MATCH(B62,'План ввода основ. ср-в'!B:B,0)))","v":0.4},{"$f":"IF(ISNA(INDEX('План ввода основ. ср-в'!P:P,MATCH(B62,'План ввода основ. ср-в'!B:B,0))),0,INDEX('План ввода основ. ср-в'!P:P,MATCH(B62,'План ввода основ. ср-в'!B:B,0)))","v":0},"",{"$f":"IF(ISNA(INDEX('План ввода основ. ср-в'!O:O,MATCH(B62,'План ввода основ. ср-в'!B:B,0))),0,INDEX('План ввода основ. ср-в'!O:O,MATCH(B62,'План ввода основ. ср-в'!B:B,0)))","v":0},{"$f":"IF(ISNA(INDEX('План ввода основ. ср-в'!R:R,MATCH(B62,'План ввода основ. ср-в'!B:B,0))),0,INDEX('План ввода основ. ср-в'!R:R,MATCH(B62,'План ввода основ. ср-в'!B:B,0)))","v":0},"",{"$f":"IF(ISNA(INDEX('План ввода основ. ср-в'!Q:Q,MATCH(B62,'План ввода основ. ср-в'!B:B,0))),0,INDEX('План ввода основ. ср-в'!Q:Q,MATCH(B62,'План ввода основ. ср-в'!B:B,0)))","v":0},{"$f":"IF(ISNA(INDEX('План ввода основ. ср-в'!T:T,MATCH(B62,'План ввода основ. ср-в'!B:B,0))),0,INDEX('План ввода основ. ср-в'!T:T,MATCH(B62,'План ввода основ. ср-в'!B:B,0)))","v":0},"",{"$f":"IF(ISNA(INDEX('План ввода основ. ср-в'!S:S,MATCH(B62,'План ввода основ. ср-в'!B:B,0))),0,INDEX('План ввода основ. ср-в'!S:S,MATCH(B62,'План ввода основ. ср-в'!B:B,0)))","v":0},1.5,"/",0.4,{"$f":"IF(ISNA(INDEX('План ввода основ. ср-в'!V:V,MATCH(B62,'План ввода основ. ср-в'!B:B,0))),0,INDEX('План ввода основ. ср-в'!V:V,MATCH(B62,'План ввода основ. ср-в'!B:B,0)))","v":0},{"$f":"IF(ISNA(INDEX('План ввода основ. ср-в'!W:W,MATCH(B62,'План ввода основ. ср-в'!B:B,0))),0,INDEX('План ввода основ. ср-в'!W:W,MATCH(B62,'План ввода основ. ср-в'!B:B,0)))","v":0},{"$f":"IF(ISNA(INDEX('План ввода основ. ср-в'!X:X,MATCH(B62,'План ввода основ. ср-в'!B:B,0))),0,INDEX('План ввода основ. ср-в'!X:X,MATCH(B62,'План ввода основ. ср-в'!B:B,0)))","v":0},{"$f":"IF(ISNA(INDEX('План ввода основ. ср-в'!Y:Y,MATCH(B62,'План ввода основ. ср-в'!B:B,0))),0,INDEX('План ввода основ. ср-в'!Y:Y,MATCH(B62,'План ввода основ. ср-в'!B:B,0)))","v":0},0,{"$f":"IF(ISNA(INDEX('План ввода основ. ср-в'!Z:Z,MATCH(B62,'План ввода основ. ср-в'!B:B,0))),0,INDEX('План ввода основ. ср-в'!Z:Z,MATCH(B62,'План ввода основ. ср-в'!B:B,0)))","v":4.5762711864406773},{"$f":"IF(ISNA(INDEX('План ввода основ. ср-в'!AA:AA,MATCH(B62,'План ввода основ. ср-в'!B:B,0))),0,INDEX('План ввода основ. ср-в'!AA:AA,MATCH(B62,'План ввода основ. ср-в'!B:B,0)))","v":0},{"$f":"IF(ISNA(INDEX('План ввода основ. ср-в'!AB:AB,MATCH(B62,'План ввода основ. ср-в'!B:B,0))),0,INDEX('План ввода основ. ср-в'!AB:AB,MATCH(B62,'План ввода основ. ср-в'!B:B,0)))","v":0},{"$f":"IF(ISNA(INDEX('План ввода основ. ср-в'!AC:AC,MATCH(B62,'План ввода основ. ср-в'!B:B,0))),0,INDEX('План ввода основ. ср-в'!AC:AC,MATCH(B62,'План ввода основ. ср-в'!B:B,0)))","v":0},4.5762711864406773]
[41,"Реконструкция ВЛ-0,4 кВ от КТП 213",null,null,null,null,null,null,0,"",0,1.8,"/",0,0,"",0,0,"",0,0,"",0,1.8,"/",0,4.2711864406779663,{"$f":"IF(ISNA(INDEX('План ввода основ. ср-в'!F:F,MATCH(B63,'План ввода основ. ср-в'!B:B,0))),0,INDEX('План ввода основ. ср-в'!F:F,MATCH(B63,'План ввода основ. ср-в'!B:B,0)))","v":0},"",{"$f":"IF(ISNA(INDEX('План ввода основ. ср-в'!E:E,MATCH(B63,'План ввода основ. ср-в'!B:B,0))),0,INDEX('План ввода основ. ср-в'!E:E,MATCH(B63,'План ввода основ. ср-в'!B:B,0)))","v":0},{"$f":"IF(ISNA(INDEX('План ввода основ. ср-в'!H:H,MATCH(B63,'План ввода основ. ср-в'!B:B,0))),0,INDEX('План ввода основ. ср-в'!H:H,MATCH(B63,'План ввода основ. ср-в'!B:B,0)))","v":0},"",{"$f":"IF(ISNA(INDEX('План ввода основ. ср-в'!G:G,MATCH(B63,'План ввода основ. ср-в'!B:B,0))),0,INDEX('План ввода основ. ср-в'!G:G,MATCH(B63,'План ввода основ. ср-в'!B:B,0)))","v":0},{"$f":"IF(ISNA(INDEX('План ввода основ. ср-в'!J:J,MATCH(B63,'План ввода основ. ср-в'!B:B,0))),0,INDEX('План ввода основ. ср-в'!J:J,MATCH(B63,'План ввода основ. ср-в'!B:B,0)))","v":0},"",{"$f":"IF(ISNA(INDEX('План ввода основ. ср-в'!I:I,MATCH(B63,'План ввода основ. ср-в'!B:B,0))),0,INDEX('План ввода основ. ср-в'!I:I,MATCH(B63,'План ввода основ. ср-в'!B:B,0)))","v":0},{"$f":"IF(ISNA(INDEX('План ввода основ. ср-в'!L:L,MATCH(B63,'План ввода основ. ср-в'!B:B,0))),0,INDEX('План ввода основ. ср-в'!L:L,MATCH(B63,'План ввода основ. ср-в'!B:B,0)))","v":0},"",{"$f":"IF(ISNA(INDEX('План ввода основ. ср-в'!K:K,MATCH(B63,'План ввода основ. ср-в'!B:B,0))),0,INDEX('План ввода основ. ср-в'!K:K,MATCH(B63,'План ввода основ. ср-в'!B:B,0)))","v":0},0,"/",0,{"$f":"IF(ISNA(INDEX('План ввода основ. ср-в'!N:N,MATCH(B63,'План ввода основ. ср-в'!B:B,0))),0,INDEX('План ввода основ. ср-в'!N:N,MATCH(B63,'План ввода основ. ср-в'!B:B,0)))","v":1.8},"/",{"$f":"IF(ISNA(INDEX('План ввода основ. ср-в'!M:M,MATCH(B63,'План ввода основ. ср-в'!B:B,0))),0,INDEX('План ввода основ. ср-в'!M:M,MATCH(B63,'План ввода основ. ср-в'!B:B,0)))","v":0},{"$f":"IF(ISNA(INDEX('План ввода основ. ср-в'!P:P,MATCH(B63,'План ввода основ. ср-в'!B:B,0))),0,INDEX('План ввода основ. ср-в'!P:P,MATCH(B63,'План ввода основ. ср-в'!B:B,0)))","v":0},"",{"$f":"IF(ISNA(INDEX('План ввода основ. ср-в'!O:O,MATCH(B63,'План ввода основ. ср-в'!B:B,0))),0,INDEX('План ввода основ. ср-в'!O:O,MATCH(B63,'План ввода основ. ср-в'!B:B,0)))","v":0},{"$f":"IF(ISNA(INDEX('План ввода основ. ср-в'!R:R,MATCH(B63,'План ввода основ. ср-в'!B:B,0))),0,INDEX('План ввода основ. ср-в'!R:R,MATCH(B63,'План ввода основ. ср-в'!B:B,0)))","v":0},"",{"$f":"IF(ISNA(INDEX('План ввода основ. ср-в'!Q:Q,MATCH(B63,'План ввода основ. ср-в'!B:B,0))),0,INDEX('План ввода основ. ср-в'!Q:Q,MATCH(B63,'План ввода основ. ср-в'!B:B,0)))","v":0},{"$f":"IF(ISNA(INDEX('План ввода основ. ср-в'!T:T,MATCH(B63,'План ввода основ. ср-в'!B:B,0))),0,INDEX('План ввода основ. ср-в'!T:T,MATCH(B63,'План ввода основ. ср-в'!B:B,0)))","v":0},"",{"$f":"IF(ISNA(INDEX('План ввода основ. ср-в'!S:S,MATCH(B63,'План ввода основ. ср-в'!B:B,0))),0,INDEX('План ввода основ. ср-в'!S:S,MATCH(B63,'План ввода основ. ср-в'!B:B,0)))","v":0},1.8,"/",0,{"$f":"IF(ISNA(INDEX('План ввода основ. ср-в'!V:V,MATCH(B63,'План ввода основ. ср-в'!B:B,0))),0,INDEX('План ввода основ. ср-в'!V:V,MATCH(B63,'План ввода основ. ср-в'!B:B,0)))","v":0},{"$f":"IF(ISNA(INDEX('План ввода основ. ср-в'!W:W,MATCH(B63,'План ввода основ. ср-в'!B:B,0))),0,INDEX('План ввода основ. ср-в'!W:W,MATCH(B63,'План ввода основ. ср-в'!B:B,0)))","v":0},{"$f":"IF(ISNA(INDEX('План ввода основ. ср-в'!X:X,MATCH(B63,'План ввода основ. ср-в'!B:B,0))),0,INDEX('План ввода основ. ср-в'!X:X,MATCH(B63,'План ввода основ. ср-в'!B:B,0)))","v":0},{"$f":"IF(ISNA(INDEX('План ввода основ. ср-в'!Y:Y,MATCH(B63,'План ввода основ. ср-в'!B:B,0))),0,INDEX('План ввода основ. ср-в'!Y:Y,MATCH(B63,'План ввода основ. ср-в'!B:B,0)))","v":0},0,{"$f":"IF(ISNA(INDEX('План ввода основ. ср-в'!Z:Z,MATCH(B63,'План ввода основ. ср-в'!B:B,0))),0,INDEX('План ввода основ. ср-в'!Z:Z,MATCH(B63,'План ввода основ. ср-в'!B:B,0)))","v":4.2711864406779663},{"$f":"IF(ISNA(INDEX('План ввода основ. ср-в'!AA:AA,MATCH(B63,'План ввода основ. ср-в'!B:B,0))),0,INDEX('План ввода основ. ср-в'!AA:AA,MATCH(B63,'План ввода основ. ср-в'!B:B,0)))","v":0},{"$f":"IF(ISNA(INDEX('План ввода основ. ср-в'!AB:AB,MATCH(B63,'План ввода основ. ср-в'!B:B,0))),0,INDEX('План ввода основ. ср-в'!AB:AB,MATCH(B63,'План ввода основ. ср-в'!B:B,0)))","v":0},{"$f":"IF(ISNA(INDEX('План ввода основ. ср-в'!AC:AC,MATCH(B63,'План ввода основ. ср-в'!B:B,0))),0,INDEX('План ввода основ. ср-в'!AC:AC,MATCH(B63,'План ввода основ. ср-в'!B:B,0)))","v":0},4.2711864406779663]
[42,"Реконструкция ВЛ-0,4 кВ от КТП Р 106/400 кВА с заменой КТП ",null,null,null,null,null,null,0,"",0,0,"",0,3.2,"/",0.4,0,"",0,0,"",0,3.2,"/",0.4,8.6101694915254221,{"$f":"IF(ISNA(INDEX('План ввода основ. ср-в'!F:F,MATCH(B64,'План ввода основ. ср-в'!B:B,0))),0,INDEX('План ввода основ. ср-в'!F:F,MATCH(B64,'План ввода основ. ср-в'!B:B,0)))","v":0},"",{"$f":"IF(ISNA(INDEX('План ввода основ. ср-в'!E:E,MATCH(B64,'План ввода основ. ср-в'!B:B,0))),0,INDEX('План ввода основ. ср-в'!E:E,MATCH(B64,'План ввода основ. ср-в'!B:B,0)))","v":0},{"$f":"IF(ISNA(INDEX('План ввода основ. ср-в'!H:H,MATCH(B64,'План ввода основ. ср-в'!B:B,0))),0,INDEX('План ввода основ. ср-в'!H:H,MATCH(B64,'План ввода основ. ср-в'!B:B,0)))","v":0},"",{"$f":"IF(ISNA(INDEX('План ввода основ. ср-в'!G:G,MATCH(B64,'План ввода основ. ср-в'!B:B,0))),0,INDEX('План ввода основ. ср-в'!G:G,MATCH(B64,'План ввода основ. ср-в'!B:B,0)))","v":0},{"$f":"IF(ISNA(INDEX('План ввода основ. ср-в'!J:J,MATCH(B64,'План ввода основ. ср-в'!B:B,0))),0,INDEX('План ввода основ. ср-в'!J:J,MATCH(B64,'План ввода основ. ср-в'!B:B,0)))","v":0},"",{"$f":"IF(ISNA(INDEX('План ввода основ. ср-в'!I:I,MATCH(B64,'План ввода основ. ср-в'!B:B,0))),0,INDEX('План ввода основ. ср-в'!I:I,MATCH(B64,'План ввода основ. ср-в'!B:B,0)))","v":0},{"$f":"IF(ISNA(INDEX('План ввода основ. ср-в'!L:L,MATCH(B64,'План ввода основ. ср-в'!B:B,0))),0,INDEX('План ввода основ. ср-в'!L:L,MATCH(B64,'План ввода основ. ср-в'!B:B,0)))","v":0},"",{"$f":"IF(ISNA(INDEX('План ввода основ. ср-в'!K:K,MATCH(B64,'План ввода основ. ср-в'!B:B,0))),0,INDEX('План ввода основ. ср-в'!K:K,MATCH(B64,'План ввода основ. ср-в'!B:B,0)))","v":0},0,"/",0,{"$f":"IF(ISNA(INDEX('План ввода основ. ср-в'!N:N,MATCH(B64,'План ввода основ. ср-в'!B:B,0))),0,INDEX('План ввода основ. ср-в'!N:N,MATCH(B64,'План ввода основ. ср-в'!B:B,0)))","v":0},"",{"$f":"IF(ISNA(INDEX('План ввода основ. ср-в'!M:M,MATCH(B64,'План ввода основ. ср-в'!B:B,0))),0,INDEX('План ввода основ. ср-в'!M:M,MATCH(B64,'План ввода основ. ср-в'!B:B,0)))","v":0},{"$f":"IF(ISNA(INDEX('План ввода основ. ср-в'!P:P,MATCH(B64,'План ввода основ. ср-в'!B:B,0))),0,INDEX('План ввода основ. ср-в'!P:P,MATCH(B64,'План ввода основ. ср-в'!B:B,0)))","v":3.2},"/",{"$f":"IF(ISNA(INDEX('План ввода основ. ср-в'!O:O,MATCH(B64,'План ввода основ. ср-в'!B:B,0))),0,INDEX('План ввода основ. ср-в'!O:O,MATCH(B64,'План ввода основ. ср-в'!B:B,0)))","v":0.4},{"$f":"IF(ISNA(INDEX('План ввода основ. ср-в'!R:R,MATCH(B64,'План ввода основ. ср-в'!B:B,0))),0,INDEX('План ввода основ. ср-в'!R:R,MATCH(B64,'План ввода основ. ср-в'!B:B,0)))","v":0},"",{"$f":"IF(ISNA(INDEX('План ввода основ. ср-в'!Q:Q,MATCH(B64,'План ввода основ. ср-в'!B:B,0))),0,INDEX('План ввода основ. ср-в'!Q:Q,MATCH(B64,'План ввода основ. ср-в'!B:B,0)))","v":0},{"$f":"IF(ISNA(INDEX('План ввода основ. ср-в'!T:T,MATCH(B64,'План ввода основ. ср-в'!B:B,0))),0,INDEX('План ввода основ. ср-в'!T:T,MATCH(B64,'План ввода основ. ср-в'!B:B,0)))","v":0},"",{"$f":"IF(ISNA(INDEX('План ввода основ. ср-в'!S:S,MATCH(B64,'План ввода основ. ср-в'!B:B,0))),0,INDEX('План ввода основ. ср-в'!S:S,MATCH(B64,'План ввода основ. ср-в'!B:B,0)))","v":0},3.2,"/",0.4,{"$f":"IF(ISNA(INDEX('План ввода основ. ср-в'!V:V,MATCH(B64,'План ввода основ. ср-в'!B:B,0))),0,INDEX('План ввода основ. ср-в'!V:V,MATCH(B64,'План ввода основ. ср-в'!B:B,0)))","v":0},{"$f":"IF(ISNA(INDEX('План ввода основ. ср-в'!W:W,MATCH(B64,'План ввода основ. ср-в'!B:B,0))),0,INDEX('План ввода основ. ср-в'!W:W,MATCH(B64,'План ввода основ. ср-в'!B:B,0)))","v":0},{"$f":"IF(ISNA(INDEX('План ввода основ. ср-в'!X:X,MATCH(B64,'План ввода основ. ср-в'!B:B,0))),0,INDEX('План ввода основ. ср-в'!X:X,MATCH(B64,'План ввода основ. ср-в'!B:B,0)))","v":0},{"$f":"IF(ISNA(INDEX('План ввода основ. ср-в'!Y:Y,MATCH(B64,'План ввода основ. ср-в'!B:B,0))),0,INDEX('План ввода основ. ср-в'!Y:Y,MATCH(B64,'План ввода основ. ср-в'!B:B,0)))","v":0},0,{"$f":"IF(ISNA(INDEX('План ввода основ. ср-в'!Z:Z,MATCH(B64,'План ввода основ. ср-в'!B:B,0))),0,INDEX('План ввода основ. ср-в'!Z:Z,MATCH(B64,'План ввода основ. ср-в'!B:B,0)))","v":0},{"$f":"IF(ISNA(INDEX('План ввода основ. ср-в'!AA:AA,MATCH(B64,'План ввода основ. ср-в'!B:B,0))),0,INDEX('План ввода основ. ср-в'!AA:AA,MATCH(B64,'План ввода основ. ср-в'!B:B,0)))","v":8.6101694915254221},{"$f":"IF(ISNA(INDEX('План ввода основ. ср-в'!AB:AB,MATCH(B64,'План ввода основ. ср-в'!B:B,0))),0,INDEX('План ввода основ. ср-в'!AB:AB,MATCH(B64,'План ввода основ. ср-в'!B:B,0)))","v":0},{"$f":"IF(ISNA(INDEX('План ввода основ. ср-в'!AC:AC,MATCH(B64,'План ввода основ. ср-в'!B:B,0))),0,INDEX('План ввода основ. ср-в'!AC:AC,MATCH(B64,'План ввода основ. ср-в'!B:B,0)))","v":0},8.6101694915254221]
[43,"Реконструкция ВЛ-6 кВ Ф-30 ПС Овощная отпайка  до КТП Ов 3008/250 кВА с заменой КТП на 400 кВА ",null,null,null,null,null,null,0,"",0,0,"",0,0.36,"/",0.25,0,"",0,0,"",0,0.36,"/",0.25,1.8711864406779664,{"$f":"IF(ISNA(INDEX('План ввода основ. ср-в'!F:F,MATCH(B65,'План ввода основ. ср-в'!B:B,0))),0,INDEX('План ввода основ. ср-в'!F:F,MATCH(B65,'План ввода основ. ср-в'!B:B,0)))","v":0},"",{"$f":"IF(ISNA(INDEX('План ввода основ. ср-в'!E:E,MATCH(B65,'План ввода основ. ср-в'!B:B,0))),0,INDEX('План ввода основ. ср-в'!E:E,MATCH(B65,'План ввода основ. ср-в'!B:B,0)))","v":0},{"$f":"IF(ISNA(INDEX('План ввода основ. ср-в'!H:H,MATCH(B65,'План ввода основ. ср-в'!B:B,0))),0,INDEX('План ввода основ. ср-в'!H:H,MATCH(B65,'План ввода основ. ср-в'!B:B,0)))","v":0},"",{"$f":"IF(ISNA(INDEX('План ввода основ. ср-в'!G:G,MATCH(B65,'План ввода основ. ср-в'!B:B,0))),0,INDEX('План ввода основ. ср-в'!G:G,MATCH(B65,'План ввода основ. ср-в'!B:B,0)))","v":0},{"$f":"IF(ISNA(INDEX('План ввода основ. ср-в'!J:J,MATCH(B65,'План ввода основ. ср-в'!B:B,0))),0,INDEX('План ввода основ. ср-в'!J:J,MATCH(B65,'План ввода основ. ср-в'!B:B,0)))","v":0},"",{"$f":"IF(ISNA(INDEX('План ввода основ. ср-в'!I:I,MATCH(B65,'План ввода основ. ср-в'!B:B,0))),0,INDEX('План ввода основ. ср-в'!I:I,MATCH(B65,'План ввода основ. ср-в'!B:B,0)))","v":0},{"$f":"IF(ISNA(INDEX('План ввода основ. ср-в'!L:L,MATCH(B65,'План ввода основ. ср-в'!B:B,0))),0,INDEX('План ввода основ. ср-в'!L:L,MATCH(B65,'План ввода основ. ср-в'!B:B,0)))","v":0},"",{"$f":"IF(ISNA(INDEX('План ввода основ. ср-в'!K:K,MATCH(B65,'План ввода основ. ср-в'!B:B,0))),0,INDEX('План ввода основ. ср-в'!K:K,MATCH(B65,'План ввода основ. ср-в'!B:B,0)))","v":0},0,"/",0,{"$f":"IF(ISNA(INDEX('План ввода основ. ср-в'!N:N,MATCH(B65,'План ввода основ. ср-в'!B:B,0))),0,INDEX('План ввода основ. ср-в'!N:N,MATCH(B65,'План ввода основ. ср-в'!B:B,0)))","v":0},"",{"$f":"IF(ISNA(INDEX('План ввода основ. ср-в'!M:M,MATCH(B65,'План ввода основ. ср-в'!B:B,0))),0,INDEX('План ввода основ. ср-в'!M:M,MATCH(B65,'План ввода основ. ср-в'!B:B,0)))","v":0},{"$f":"IF(ISNA(INDEX('План ввода основ. ср-в'!P:P,MATCH(B65,'План ввода основ. ср-в'!B:B,0))),0,INDEX('План ввода основ. ср-в'!P:P,MATCH(B65,'План ввода основ. ср-в'!B:B,0)))","v":0.36},"/",{"$f":"IF(ISNA(INDEX('План ввода основ. ср-в'!O:O,MATCH(B65,'План ввода основ. ср-в'!B:B,0))),0,INDEX('План ввода основ. ср-в'!O:O,MATCH(B65,'План ввода основ. ср-в'!B:B,0)))","v":0.4},{"$f":"IF(ISNA(INDEX('План ввода основ. ср-в'!R:R,MATCH(B65,'План ввода основ. ср-в'!B:B,0))),0,INDEX('План ввода основ. ср-в'!R:R,MATCH(B65,'План ввода основ. ср-в'!B:B,0)))","v":0},"",{"$f":"IF(ISNA(INDEX('План ввода основ. ср-в'!Q:Q,MATCH(B65,'План ввода основ. ср-в'!B:B,0))),0,INDEX('План ввода основ. ср-в'!Q:Q,MATCH(B65,'План ввода основ. ср-в'!B:B,0)))","v":0},{"$f":"IF(ISNA(INDEX('План ввода основ. ср-в'!T:T,MATCH(B65,'План ввода основ. ср-в'!B:B,0))),0,INDEX('План ввода основ. ср-в'!T:T,MATCH(B65,'План ввода основ. ср-в'!B:B,0)))","v":0},"",{"$f":"IF(ISNA(INDEX('План ввода основ. ср-в'!S:S,MATCH(B65,'План ввода основ. ср-в'!B:B,0))),0,INDEX('План ввода основ. ср-в'!S:S,MATCH(B65,'План ввода основ. ср-в'!B:B,0)))","v":0},0.36,"/",0.4,{"$f":"IF(ISNA(INDEX('План ввода основ. ср-в'!V:V,MATCH(B65,'План ввода основ. ср-в'!B:B,0))),0,INDEX('План ввода основ. ср-в'!V:V,MATCH(B65,'План ввода основ. ср-в'!B:B,0)))","v":0},{"$f":"IF(ISNA(INDEX('План ввода основ. ср-в'!W:W,MATCH(B65,'План ввода основ. ср-в'!B:B,0))),0,INDEX('План ввода основ. ср-в'!W:W,MATCH(B65,'План ввода основ. ср-в'!B:B,0)))","v":0},{"$f":"IF(ISNA(INDEX('План ввода основ. ср-в'!X:X,MATCH(B65,'План ввода основ. ср-в'!B:B,0))),0,INDEX('План ввода основ. ср-в'!X:X,MATCH(B65,'План ввода основ. ср-в'!B:B,0)))","v":0},{"$f":"IF(ISNA(INDEX('План ввода основ. ср-в'!Y:Y,MATCH(B65,'План ввода основ. ср-в'!B:B,0))),0,INDEX('План ввода основ. ср-в'!Y:Y,MATCH(B65,'План ввода основ. ср-в'!B:B,0)))","v":0},0,{"$f":"IF(ISNA(INDEX('План ввода основ. ср-в'!Z:Z,MATCH(B65,'План ввода основ. ср-в'!B:B,0))),0,INDEX('План ввода основ. ср-в'!Z:Z,MATCH(B65,'План ввода основ. ср-в'!B:B,0)))","v":0},{"$f":"IF(ISNA(INDEX('План ввода основ. ср-в'!AA:AA,MATCH(B65,'План ввода основ. ср-в'!B:B,0))),0,INDEX('План ввода основ. ср-в'!AA:AA,MATCH(B65,'План ввода основ. ср-в'!B:B,0)))","v":1.8711864406779664},{"$f":"IF(ISNA(INDEX('План ввода основ. ср-в'!AB:AB,MATCH(B65,'План ввода основ. ср-в'!B:B,0))),0,INDEX('План ввода основ. ср-в'!AB:AB,MATCH(B65,'План ввода основ. ср-в'!B:B,0)))","v":0},{"$f":"IF(ISNA(INDEX('План ввода основ. ср-в'!AC:AC,MATCH(B65,'План ввода основ. ср-в'!B:B,0))),0,INDEX('План ввода основ. ср-в'!AC:AC,MATCH(B65,'План ввода основ. ср-в'!B:B,0)))","v":0},1.8711864406779664]
[44,"Реконструкция ВЛ-6 кВ Ф-1 отпайка  до КТП Пм 102/250 кВА с заменой КТП ",null,null,null,null,null,null,0,"",0,0,"",0,0.06,"/",0.25,0,"",0,0,"",0,0.06,"/",0.25,1.159322033898305,{"$f":"IF(ISNA(INDEX('План ввода основ. ср-в'!F:F,MATCH(B66,'План ввода основ. ср-в'!B:B,0))),0,INDEX('План ввода основ. ср-в'!F:F,MATCH(B66,'План ввода основ. ср-в'!B:B,0)))","v":0},"",{"$f":"IF(ISNA(INDEX('План ввода основ. ср-в'!E:E,MATCH(B66,'План ввода основ. ср-в'!B:B,0))),0,INDEX('План ввода основ. ср-в'!E:E,MATCH(B66,'План ввода основ. ср-в'!B:B,0)))","v":0},{"$f":"IF(ISNA(INDEX('План ввода основ. ср-в'!H:H,MATCH(B66,'План ввода основ. ср-в'!B:B,0))),0,INDEX('План ввода основ. ср-в'!H:H,MATCH(B66,'План ввода основ. ср-в'!B:B,0)))","v":0},"",{"$f":"IF(ISNA(INDEX('План ввода основ. ср-в'!G:G,MATCH(B66,'План ввода основ. ср-в'!B:B,0))),0,INDEX('План ввода основ. ср-в'!G:G,MATCH(B66,'План ввода основ. ср-в'!B:B,0)))","v":0},{"$f":"IF(ISNA(INDEX('План ввода основ. ср-в'!J:J,MATCH(B66,'План ввода основ. ср-в'!B:B,0))),0,INDEX('План ввода основ. ср-в'!J:J,MATCH(B66,'План ввода основ. ср-в'!B:B,0)))","v":0},"",{"$f":"IF(ISNA(INDEX('План ввода основ. ср-в'!I:I,MATCH(B66,'План ввода основ. ср-в'!B:B,0))),0,INDEX('План ввода основ. ср-в'!I:I,MATCH(B66,'План ввода основ. ср-в'!B:B,0)))","v":0},{"$f":"IF(ISNA(INDEX('План ввода основ. ср-в'!L:L,MATCH(B66,'План ввода основ. ср-в'!B:B,0))),0,INDEX('План ввода основ. ср-в'!L:L,MATCH(B66,'План ввода основ. ср-в'!B:B,0)))","v":0},"",{"$f":"IF(ISNA(INDEX('План ввода основ. ср-в'!K:K,MATCH(B66,'План ввода основ. ср-в'!B:B,0))),0,INDEX('План ввода основ. ср-в'!K:K,MATCH(B66,'План ввода основ. ср-в'!B:B,0)))","v":0},0,"/",0,{"$f":"IF(ISNA(INDEX('План ввода основ. ср-в'!N:N,MATCH(B66,'План ввода основ. ср-в'!B:B,0))),0,INDEX('План ввода основ. ср-в'!N:N,MATCH(B66,'План ввода основ. ср-в'!B:B,0)))","v":0},"",{"$f":"IF(ISNA(INDEX('План ввода основ. ср-в'!M:M,MATCH(B66,'План ввода основ. ср-в'!B:B,0))),0,INDEX('План ввода основ. ср-в'!M:M,MATCH(B66,'План ввода основ. ср-в'!B:B,0)))","v":0},{"$f":"IF(ISNA(INDEX('План ввода основ. ср-в'!P:P,MATCH(B66,'План ввода основ. ср-в'!B:B,0))),0,INDEX('План ввода основ. ср-в'!P:P,MATCH(B66,'План ввода основ. ср-в'!B:B,0)))","v":0.06},"/",{"$f":"IF(ISNA(INDEX('План ввода основ. ср-в'!O:O,MATCH(B66,'План ввода основ. ср-в'!B:B,0))),0,INDEX('План ввода основ. ср-в'!O:O,MATCH(B66,'План ввода основ. ср-в'!B:B,0)))","v":0.25},{"$f":"IF(ISNA(INDEX('План ввода основ. ср-в'!R:R,MATCH(B66,'План ввода основ. ср-в'!B:B,0))),0,INDEX('План ввода основ. ср-в'!R:R,MATCH(B66,'План ввода основ. ср-в'!B:B,0)))","v":0},"",{"$f":"IF(ISNA(INDEX('План ввода основ. ср-в'!Q:Q,MATCH(B66,'План ввода основ. ср-в'!B:B,0))),0,INDEX('План ввода основ. ср-в'!Q:Q,MATCH(B66,'План ввода основ. ср-в'!B:B,0)))","v":0},{"$f":"IF(ISNA(INDEX('План ввода основ. ср-в'!T:T,MATCH(B66,'План ввода основ. ср-в'!B:B,0))),0,INDEX('План ввода основ. ср-в'!T:T,MATCH(B66,'План ввода основ. ср-в'!B:B,0)))","v":0},"",{"$f":"IF(ISNA(INDEX('План ввода основ. ср-в'!S:S,MATCH(B66,'План ввода основ. ср-в'!B:B,0))),0,INDEX('План ввода основ. ср-в'!S:S,MATCH(B66,'План ввода основ. ср-в'!B:B,0)))","v":0},0.06,"/",0.25,{"$f":"IF(ISNA(INDEX('План ввода основ. ср-в'!V:V,MATCH(B66,'План ввода основ. ср-в'!B:B,0))),0,INDEX('План ввода основ. ср-в'!V:V,MATCH(B66,'План ввода основ. ср-в'!B:B,0)))","v":0},{"$f":"IF(ISNA(INDEX('План ввода основ. ср-в'!W:W,MATCH(B66,'План ввода основ. ср-в'!B:B,0))),0,INDEX('План ввода основ. ср-в'!W:W,MATCH(B66,'План ввода основ. ср-в'!B:B,0)))","v":0},{"$f":"IF(ISNA(INDEX('План ввода основ. ср-в'!X:X,MATCH(B66,'План ввода основ. ср-в'!B:B,0))),0,INDEX('План ввода основ. ср-в'!X:X,MATCH(B66,'План ввода основ. ср-в'!B:B,0)))","v":0},{"$f":"IF(ISNA(INDEX('План ввода основ. ср-в'!Y:Y,MATCH(B66,'План ввода основ. ср-в'!B:B,0))),0,INDEX('План ввода основ. ср-в'!Y:Y,MATCH(B66,'План ввода основ. ср-в'!B:B,0)))","v":0},0,{"$f":"IF(ISNA(INDEX('План ввода основ. ср-в'!Z:Z,MATCH(B66,'План ввода основ. ср-в'!B:B,0))),0,INDEX('План ввода основ. ср-в'!Z:Z,MATCH(B66,'План ввода основ. ср-в'!B:B,0)))","v":0},{"$f":"IF(ISNA(INDEX('План ввода основ. ср-в'!AA:AA,MATCH(B66,'План ввода основ. ср-в'!B:B,0))),0,INDEX('План ввода основ. ср-в'!AA:AA,MATCH(B66,'План ввода основ. ср-в'!B:B,0)))","v":1.159322033898305},{"$f":"IF(ISNA(INDEX('План ввода основ. ср-в'!AB:AB,MATCH(B66,'План ввода основ. ср-в'!B:B,0))),0,INDEX('План ввода основ. ср-в'!AB:AB,MATCH(B66,'План ввода основ. ср-в'!B:B,0)))","v":0},{"$f":"IF(ISNA(INDEX('План ввода основ. ср-в'!AC:AC,MATCH(B66,'План ввода основ. ср-в'!B:B,0))),0,INDEX('План ввода основ. ср-в'!AC:AC,MATCH(B66,'План ввода основ. ср-в'!B:B,0)))","v":0},1.159322033898305]
[45,"Реконструкция ВЛ-0,4 кВ от КТП 215",null,null,null,null,null,null,0,"",0,0,"",0,1.6,"/",0,0,"",0,0,"",0,1.6,"/",0,3.7966101694915251,{"$f":"IF(ISNA(INDEX('План ввода основ. ср-в'!F:F,MATCH(B67,'План ввода основ. ср-в'!B:B,0))),0,INDEX('План ввода основ. ср-в'!F:F,MATCH(B67,'План ввода основ. ср-в'!B:B,0)))","v":0},"",{"$f":"IF(ISNA(INDEX('План ввода основ. ср-в'!E:E,MATCH(B67,'План ввода основ. ср-в'!B:B,0))),0,INDEX('План ввода основ. ср-в'!E:E,MATCH(B67,'План ввода основ. ср-в'!B:B,0)))","v":0},{"$f":"IF(ISNA(INDEX('План ввода основ. ср-в'!H:H,MATCH(B67,'План ввода основ. ср-в'!B:B,0))),0,INDEX('План ввода основ. ср-в'!H:H,MATCH(B67,'План ввода основ. ср-в'!B:B,0)))","v":0},"",{"$f":"IF(ISNA(INDEX('План ввода основ. ср-в'!G:G,MATCH(B67,'План ввода основ. ср-в'!B:B,0))),0,INDEX('План ввода основ. ср-в'!G:G,MATCH(B67,'План ввода основ. ср-в'!B:B,0)))","v":0},{"$f":"IF(ISNA(INDEX('План ввода основ. ср-в'!J:J,MATCH(B67,'План ввода основ. ср-в'!B:B,0))),0,INDEX('План ввода основ. ср-в'!J:J,MATCH(B67,'План ввода основ. ср-в'!B:B,0)))","v":0},"",{"$f":"IF(ISNA(INDEX('План ввода основ. ср-в'!I:I,MATCH(B67,'План ввода основ. ср-в'!B:B,0))),0,INDEX('План ввода основ. ср-в'!I:I,MATCH(B67,'План ввода основ. ср-в'!B:B,0)))","v":0},{"$f":"IF(ISNA(INDEX('План ввода основ. ср-в'!L:L,MATCH(B67,'План ввода основ. ср-в'!B:B,0))),0,INDEX('План ввода основ. ср-в'!L:L,MATCH(B67,'План ввода основ. ср-в'!B:B,0)))","v":0},"",{"$f":"IF(ISNA(INDEX('План ввода основ. ср-в'!K:K,MATCH(B67,'План ввода основ. ср-в'!B:B,0))),0,INDEX('План ввода основ. ср-в'!K:K,MATCH(B67,'План ввода основ. ср-в'!B:B,0)))","v":0},0,"/",0,{"$f":"IF(ISNA(INDEX('План ввода основ. ср-в'!N:N,MATCH(B67,'План ввода основ. ср-в'!B:B,0))),0,INDEX('План ввода основ. ср-в'!N:N,MATCH(B67,'План ввода основ. ср-в'!B:B,0)))","v":0},"",{"$f":"IF(ISNA(INDEX('План ввода основ. ср-в'!M:M,MATCH(B67,'План ввода основ. ср-в'!B:B,0))),0,INDEX('План ввода основ. ср-в'!M:M,MATCH(B67,'План ввода основ. ср-в'!B:B,0)))","v":0},{"$f":"IF(ISNA(INDEX('План ввода основ. ср-в'!P:P,MATCH(B67,'План ввода основ. ср-в'!B:B,0))),0,INDEX('План ввода основ. ср-в'!P:P,MATCH(B67,'План ввода основ. ср-в'!B:B,0)))","v":1.6},"/",{"$f":"IF(ISNA(INDEX('План ввода основ. ср-в'!O:O,MATCH(B67,'План ввода основ. ср-в'!B:B,0))),0,INDEX('План ввода основ. ср-в'!O:O,MATCH(B67,'План ввода основ. ср-в'!B:B,0)))","v":0},{"$f":"IF(ISNA(INDEX('План ввода основ. ср-в'!R:R,MATCH(B67,'План ввода основ. ср-в'!B:B,0))),0,INDEX('План ввода основ. ср-в'!R:R,MATCH(B67,'План ввода основ. ср-в'!B:B,0)))","v":0},"",{"$f":"IF(ISNA(INDEX('План ввода основ. ср-в'!Q:Q,MATCH(B67,'План ввода основ. ср-в'!B:B,0))),0,INDEX('План ввода основ. ср-в'!Q:Q,MATCH(B67,'План ввода основ. ср-в'!B:B,0)))","v":0},{"$f":"IF(ISNA(INDEX('План ввода основ. ср-в'!T:T,MATCH(B67,'План ввода основ. ср-в'!B:B,0))),0,INDEX('План ввода основ. ср-в'!T:T,MATCH(B67,'План ввода основ. ср-в'!B:B,0)))","v":0},"",{"$f":"IF(ISNA(INDEX('План ввода основ. ср-в'!S:S,MATCH(B67,'План ввода основ. ср-в'!B:B,0))),0,INDEX('План ввода основ. ср-в'!S:S,MATCH(B67,'План ввода основ. ср-в'!B:B,0)))","v":0},1.6,"/",0,{"$f":"IF(ISNA(INDEX('План ввода основ. ср-в'!V:V,MATCH(B67,'План ввода основ. ср-в'!B:B,0))),0,INDEX('План ввода основ. ср-в'!V:V,MATCH(B67,'План ввода основ. ср-в'!B:B,0)))","v":0},{"$f":"IF(ISNA(INDEX('План ввода основ. ср-в'!W:W,MATCH(B67,'План ввода основ. ср-в'!B:B,0))),0,INDEX('План ввода основ. ср-в'!W:W,MATCH(B67,'План ввода основ. ср-в'!B:B,0)))","v":0},{"$f":"IF(ISNA(INDEX('План ввода основ. ср-в'!X:X,MATCH(B67,'План ввода основ. ср-в'!B:B,0))),0,INDEX('План ввода основ. ср-в'!X:X,MATCH(B67,'План ввода основ. ср-в'!B:B,0)))","v":0},{"$f":"IF(ISNA(INDEX('План ввода основ. ср-в'!Y:Y,MATCH(B67,'План ввода основ. ср-в'!B:B,0))),0,INDEX('План ввода основ. ср-в'!Y:Y,MATCH(B67,'План ввода основ. ср-в'!B:B,0)))","v":0},0,{"$f":"IF(ISNA(INDEX('План ввода основ. ср-в'!Z:Z,MATCH(B67,'План ввода основ. ср-в'!B:B,0))),0,INDEX('План ввода основ. ср-в'!Z:Z,MATCH(B67,'План ввода основ. ср-в'!B:B,0)))","v":0},{"$f":"IF(ISNA(INDEX('План ввода основ. ср-в'!AA:AA,MATCH(B67,'План ввода основ. ср-в'!B:B,0))),0,INDEX('План ввода основ. ср-в'!AA:AA,MATCH(B67,'План ввода основ. ср-в'!B:B,0)))","v":3.7966101694915251},{"$f":"IF(ISNA(INDEX('План ввода основ. ср-в'!AB:AB,MATCH(B67,'План ввода основ. ср-в'!B:B,0))),0,INDEX('План ввода основ. ср-в'!AB:AB,MATCH(B67,'План ввода основ. ср-в'!B:B,0)))","v":0},{"$f":"IF(ISNA(INDEX('План ввода основ. ср-в'!AC:AC,MATCH(B67,'План ввода основ. ср-в'!B:B,0))),0,INDEX('План ввода основ. ср-в'!AC:AC,MATCH(B67,'План ввода основ. ср-в'!B:B,0)))","v":0},3.7966101694915251]
[46,"Реконструкция ВЛ-0,4 кВ от КТП 218",null,null,null,null,null,null,0,"",0,0,"",0,0.8,"/",0,0,"",0,0,"",0,0.8,"/",0,1.8983050847457625,{"$f":"IF(ISNA(INDEX('План ввода основ. ср-в'!F:F,MATCH(B68,'План ввода основ. ср-в'!B:B,0))),0,INDEX('План ввода основ. ср-в'!F:F,MATCH(B68,'План ввода основ. ср-в'!B:B,0)))","v":0},"",{"$f":"IF(ISNA(INDEX('План ввода основ. ср-в'!E:E,MATCH(B68,'План ввода основ. ср-в'!B:B,0))),0,INDEX('План ввода основ. ср-в'!E:E,MATCH(B68,'План ввода основ. ср-в'!B:B,0)))","v":0},{"$f":"IF(ISNA(INDEX('План ввода основ. ср-в'!H:H,MATCH(B68,'План ввода основ. ср-в'!B:B,0))),0,INDEX('План ввода основ. ср-в'!H:H,MATCH(B68,'План ввода основ. ср-в'!B:B,0)))","v":0},"",{"$f":"IF(ISNA(INDEX('План ввода основ. ср-в'!G:G,MATCH(B68,'План ввода основ. ср-в'!B:B,0))),0,INDEX('План ввода основ. ср-в'!G:G,MATCH(B68,'План ввода основ. ср-в'!B:B,0)))","v":0},{"$f":"IF(ISNA(INDEX('План ввода основ. ср-в'!J:J,MATCH(B68,'План ввода основ. ср-в'!B:B,0))),0,INDEX('План ввода основ. ср-в'!J:J,MATCH(B68,'План ввода основ. ср-в'!B:B,0)))","v":0},"",{"$f":"IF(ISNA(INDEX('План ввода основ. ср-в'!I:I,MATCH(B68,'План ввода основ. ср-в'!B:B,0))),0,INDEX('План ввода основ. ср-в'!I:I,MATCH(B68,'План ввода основ. ср-в'!B:B,0)))","v":0},{"$f":"IF(ISNA(INDEX('План ввода основ. ср-в'!L:L,MATCH(B68,'План ввода основ. ср-в'!B:B,0))),0,INDEX('План ввода основ. ср-в'!L:L,MATCH(B68,'План ввода основ. ср-в'!B:B,0)))","v":0},"",{"$f":"IF(ISNA(INDEX('План ввода основ. ср-в'!K:K,MATCH(B68,'План ввода основ. ср-в'!B:B,0))),0,INDEX('План ввода основ. ср-в'!K:K,MATCH(B68,'План ввода основ. ср-в'!B:B,0)))","v":0},0,"/",0,{"$f":"IF(ISNA(INDEX('План ввода основ. ср-в'!N:N,MATCH(B68,'План ввода основ. ср-в'!B:B,0))),0,INDEX('План ввода основ. ср-в'!N:N,MATCH(B68,'План ввода основ. ср-в'!B:B,0)))","v":0},"",{"$f":"IF(ISNA(INDEX('План ввода основ. ср-в'!M:M,MATCH(B68,'План ввода основ. ср-в'!B:B,0))),0,INDEX('План ввода основ. ср-в'!M:M,MATCH(B68,'План ввода основ. ср-в'!B:B,0)))","v":0},{"$f":"IF(ISNA(INDEX('План ввода основ. ср-в'!P:P,MATCH(B68,'План ввода основ. ср-в'!B:B,0))),0,INDEX('План ввода основ. ср-в'!P:P,MATCH(B68,'План ввода основ. ср-в'!B:B,0)))","v":0.8},"/",{"$f":"IF(ISNA(INDEX('План ввода основ. ср-в'!O:O,MATCH(B68,'План ввода основ. ср-в'!B:B,0))),0,INDEX('План ввода основ. ср-в'!O:O,MATCH(B68,'План ввода основ. ср-в'!B:B,0)))","v":0},{"$f":"IF(ISNA(INDEX('План ввода основ. ср-в'!R:R,MATCH(B68,'План ввода основ. ср-в'!B:B,0))),0,INDEX('План ввода основ. ср-в'!R:R,MATCH(B68,'План ввода основ. ср-в'!B:B,0)))","v":0},"",{"$f":"IF(ISNA(INDEX('План ввода основ. ср-в'!Q:Q,MATCH(B68,'План ввода основ. ср-в'!B:B,0))),0,INDEX('План ввода основ. ср-в'!Q:Q,MATCH(B68,'План ввода основ. ср-в'!B:B,0)))","v":0},{"$f":"IF(ISNA(INDEX('План ввода основ. ср-в'!T:T,MATCH(B68,'План ввода основ. ср-в'!B:B,0))),0,INDEX('План ввода основ. ср-в'!T:T,MATCH(B68,'План ввода основ. ср-в'!B:B,0)))","v":0},"",{"$f":"IF(ISNA(INDEX('План ввода основ. ср-в'!S:S,MATCH(B68,'План ввода основ. ср-в'!B:B,0))),0,INDEX('План ввода основ. ср-в'!S:S,MATCH(B68,'План ввода основ. ср-в'!B:B,0)))","v":0},0.8,"/",0,{"$f":"IF(ISNA(INDEX('План ввода основ. ср-в'!V:V,MATCH(B68,'План ввода основ. ср-в'!B:B,0))),0,INDEX('План ввода основ. ср-в'!V:V,MATCH(B68,'План ввода основ. ср-в'!B:B,0)))","v":0},{"$f":"IF(ISNA(INDEX('План ввода основ. ср-в'!W:W,MATCH(B68,'План ввода основ. ср-в'!B:B,0))),0,INDEX('План ввода основ. ср-в'!W:W,MATCH(B68,'План ввода основ. ср-в'!B:B,0)))","v":0},{"$f":"IF(ISNA(INDEX('План ввода основ. ср-в'!X:X,MATCH(B68,'План ввода основ. ср-в'!B:B,0))),0,INDEX('План ввода основ. ср-в'!X:X,MATCH(B68,'План ввода основ. ср-в'!B:B,0)))","v":0},{"$f":"IF(ISNA(INDEX('План ввода основ. ср-в'!Y:Y,MATCH(B68,'План ввода основ. ср-в'!B:B,0))),0,INDEX('План ввода основ. ср-в'!Y:Y,MATCH(B68,'План ввода основ. ср-в'!B:B,0)))","v":0},0,{"$f":"IF(ISNA(INDEX('План ввода основ. ср-в'!Z:Z,MATCH(B68,'План ввода основ. ср-в'!B:B,0))),0,INDEX('План ввода основ. ср-в'!Z:Z,MATCH(B68,'План ввода основ. ср-в'!B:B,0)))","v":0},{"$f":"IF(ISNA(INDEX('План ввода основ. ср-в'!AA:AA,MATCH(B68,'План ввода основ. ср-в'!B:B,0))),0,INDEX('План ввода основ. ср-в'!AA:AA,MATCH(B68,'План ввода основ. ср-в'!B:B,0)))","v":1.8983050847457625},{"$f":"IF(ISNA(INDEX('План ввода основ. ср-в'!AB:AB,MATCH(B68,'План ввода основ. ср-в'!B:B,0))),0,INDEX('План ввода основ. ср-в'!AB:AB,MATCH(B68,'План ввода основ. ср-в'!B:B,0)))","v":0},{"$f":"IF(ISNA(INDEX('План ввода основ. ср-в'!AC:AC,MATCH(B68,'План ввода основ. ср-в'!B:B,0))),0,INDEX('План ввода основ. ср-в'!AC:AC,MATCH(B68,'План ввода основ. ср-в'!B:B,0)))","v":0},1.8983050847457625]
[47,"Реконструкция ВЛ-0,4 кВ от КТП Р 304/400 кВА с заменой КТП ",null,null,null,null,null,null,0,"",0,0,"",0,0,"",0,1.8,"/",0.4,0,"",0,1.8,"/",0.4,5.2881355932203391,{"$f":"IF(ISNA(INDEX('План ввода основ. ср-в'!F:F,MATCH(B69,'План ввода основ. ср-в'!B:B,0))),0,INDEX('План ввода основ. ср-в'!F:F,MATCH(B69,'План ввода основ. ср-в'!B:B,0)))","v":0},"",{"$f":"IF(ISNA(INDEX('План ввода основ. ср-в'!E:E,MATCH(B69,'План ввода основ. ср-в'!B:B,0))),0,INDEX('План ввода основ. ср-в'!E:E,MATCH(B69,'План ввода основ. ср-в'!B:B,0)))","v":0},{"$f":"IF(ISNA(INDEX('План ввода основ. ср-в'!H:H,MATCH(B69,'План ввода основ. ср-в'!B:B,0))),0,INDEX('План ввода основ. ср-в'!H:H,MATCH(B69,'План ввода основ. ср-в'!B:B,0)))","v":0},"",{"$f":"IF(ISNA(INDEX('План ввода основ. ср-в'!G:G,MATCH(B69,'План ввода основ. ср-в'!B:B,0))),0,INDEX('План ввода основ. ср-в'!G:G,MATCH(B69,'План ввода основ. ср-в'!B:B,0)))","v":0},{"$f":"IF(ISNA(INDEX('План ввода основ. ср-в'!J:J,MATCH(B69,'План ввода основ. ср-в'!B:B,0))),0,INDEX('План ввода основ. ср-в'!J:J,MATCH(B69,'План ввода основ. ср-в'!B:B,0)))","v":0},"",{"$f":"IF(ISNA(INDEX('План ввода основ. ср-в'!I:I,MATCH(B69,'План ввода основ. ср-в'!B:B,0))),0,INDEX('План ввода основ. ср-в'!I:I,MATCH(B69,'План ввода основ. ср-в'!B:B,0)))","v":0},{"$f":"IF(ISNA(INDEX('План ввода основ. ср-в'!L:L,MATCH(B69,'План ввода основ. ср-в'!B:B,0))),0,INDEX('План ввода основ. ср-в'!L:L,MATCH(B69,'План ввода основ. ср-в'!B:B,0)))","v":0},"",{"$f":"IF(ISNA(INDEX('План ввода основ. ср-в'!K:K,MATCH(B69,'План ввода основ. ср-в'!B:B,0))),0,INDEX('План ввода основ. ср-в'!K:K,MATCH(B69,'План ввода основ. ср-в'!B:B,0)))","v":0},0,"/",0,{"$f":"IF(ISNA(INDEX('План ввода основ. ср-в'!N:N,MATCH(B69,'План ввода основ. ср-в'!B:B,0))),0,INDEX('План ввода основ. ср-в'!N:N,MATCH(B69,'План ввода основ. ср-в'!B:B,0)))","v":0},"",{"$f":"IF(ISNA(INDEX('План ввода основ. ср-в'!M:M,MATCH(B69,'План ввода основ. ср-в'!B:B,0))),0,INDEX('План ввода основ. ср-в'!M:M,MATCH(B69,'План ввода основ. ср-в'!B:B,0)))","v":0},{"$f":"IF(ISNA(INDEX('План ввода основ. ср-в'!P:P,MATCH(B69,'План ввода основ. ср-в'!B:B,0))),0,INDEX('План ввода основ. ср-в'!P:P,MATCH(B69,'План ввода основ. ср-в'!B:B,0)))","v":0},"",{"$f":"IF(ISNA(INDEX('План ввода основ. ср-в'!O:O,MATCH(B69,'План ввода основ. ср-в'!B:B,0))),0,INDEX('План ввода основ. ср-в'!O:O,MATCH(B69,'План ввода основ. ср-в'!B:B,0)))","v":0},{"$f":"IF(ISNA(INDEX('План ввода основ. ср-в'!R:R,MATCH(B69,'План ввода основ. ср-в'!B:B,0))),0,INDEX('План ввода основ. ср-в'!R:R,MATCH(B69,'План ввода основ. ср-в'!B:B,0)))","v":1.8},"/",{"$f":"IF(ISNA(INDEX('План ввода основ. ср-в'!Q:Q,MATCH(B69,'План ввода основ. ср-в'!B:B,0))),0,INDEX('План ввода основ. ср-в'!Q:Q,MATCH(B69,'План ввода основ. ср-в'!B:B,0)))","v":0.4},{"$f":"IF(ISNA(INDEX('План ввода основ. ср-в'!T:T,MATCH(B69,'План ввода основ. ср-в'!B:B,0))),0,INDEX('План ввода основ. ср-в'!T:T,MATCH(B69,'План ввода основ. ср-в'!B:B,0)))","v":0},"",{"$f":"IF(ISNA(INDEX('План ввода основ. ср-в'!S:S,MATCH(B69,'План ввода основ. ср-в'!B:B,0))),0,INDEX('План ввода основ. ср-в'!S:S,MATCH(B69,'План ввода основ. ср-в'!B:B,0)))","v":0},1.8,"/",0.4,{"$f":"IF(ISNA(INDEX('План ввода основ. ср-в'!V:V,MATCH(B69,'План ввода основ. ср-в'!B:B,0))),0,INDEX('План ввода основ. ср-в'!V:V,MATCH(B69,'План ввода основ. ср-в'!B:B,0)))","v":0},{"$f":"IF(ISNA(INDEX('План ввода основ. ср-в'!W:W,MATCH(B69,'План ввода основ. ср-в'!B:B,0))),0,INDEX('План ввода основ. ср-в'!W:W,MATCH(B69,'План ввода основ. ср-в'!B:B,0)))","v":0},{"$f":"IF(ISNA(INDEX('План ввода основ. ср-в'!X:X,MATCH(B69,'План ввода основ. ср-в'!B:B,0))),0,INDEX('План ввода основ. ср-в'!X:X,MATCH(B69,'План ввода основ. ср-в'!B:B,0)))","v":0},{"$f":"IF(ISNA(INDEX('План ввода основ. ср-в'!Y:Y,MATCH(B69,'План ввода основ. ср-в'!B:B,0))),0,INDEX('План ввода основ. ср-в'!Y:Y,MATCH(B69,'План ввода основ. ср-в'!B:B,0)))","v":0},0,{"$f":"IF(ISNA(INDEX('План ввода основ. ср-в'!Z:Z,MATCH(B69,'План ввода основ. ср-в'!B:B,0))),0,INDEX('План ввода основ. ср-в'!Z:Z,MATCH(B69,'План ввода основ. ср-в'!B:B,0)))","v":0},{"$f":"IF(ISNA(INDEX('План ввода основ. ср-в'!AA:AA,MATCH(B69,'План ввода основ. ср-в'!B:B,0))),0,INDEX('План ввода основ. ср-в'!AA:AA,MATCH(B69,'План ввода основ. ср-в'!B:B,0)))","v":0},{"$f":"IF(ISNA(INDEX('План ввода основ. ср-в'!AB:AB,MATCH(B69,'План ввода основ. ср-в'!B:B,0))),0,INDEX('План ввода основ. ср-в'!AB:AB,MATCH(B69,'План ввода основ. ср-в'!B:B,0)))","v":5.2881355932203391},{"$f":"IF(ISNA(INDEX('План ввода основ. ср-в'!AC:AC,MATCH(B69,'План ввода основ. ср-в'!B:B,0))),0,INDEX('План ввода основ. ср-в'!AC:AC,MATCH(B69,'План ввода основ. ср-в'!B:B,0)))","v":0},5.2881355932203391]
[48,"Елховский район",null,null,null,null,null,null,0,"",0,0,"",0,0,"",0,0,"",0,0,"",0,0,"/",0,0,{"$f":"IF(ISNA(INDEX('План ввода основ. ср-в'!F:F,MATCH(B70,'План ввода основ. ср-в'!B:B,0))),0,INDEX('План ввода основ. ср-в'!F:F,MATCH(B70,'План ввода основ. ср-в'!B:B,0)))","v":0},"",{"$f":"IF(ISNA(INDEX('План ввода основ. ср-в'!E:E,MATCH(B70,'План ввода основ. ср-в'!B:B,0))),0,INDEX('План ввода основ. ср-в'!E:E,MATCH(B70,'План ввода основ. ср-в'!B:B,0)))","v":0},{"$f":"IF(ISNA(INDEX('План ввода основ. ср-в'!H:H,MATCH(B70,'План ввода основ. ср-в'!B:B,0))),0,INDEX('План ввода основ. ср-в'!H:H,MATCH(B70,'План ввода основ. ср-в'!B:B,0)))","v":0},"",{"$f":"IF(ISNA(INDEX('План ввода основ. ср-в'!G:G,MATCH(B70,'План ввода основ. ср-в'!B:B,0))),0,INDEX('План ввода основ. ср-в'!G:G,MATCH(B70,'План ввода основ. ср-в'!B:B,0)))","v":0},{"$f":"IF(ISNA(INDEX('План ввода основ. ср-в'!J:J,MATCH(B70,'План ввода основ. ср-в'!B:B,0))),0,INDEX('План ввода основ. ср-в'!J:J,MATCH(B70,'План ввода основ. ср-в'!B:B,0)))","v":0},"",{"$f":"IF(ISNA(INDEX('План ввода основ. ср-в'!I:I,MATCH(B70,'План ввода основ. ср-в'!B:B,0))),0,INDEX('План ввода основ. ср-в'!I:I,MATCH(B70,'План ввода основ. ср-в'!B:B,0)))","v":0},{"$f":"IF(ISNA(INDEX('План ввода основ. ср-в'!L:L,MATCH(B70,'План ввода основ. ср-в'!B:B,0))),0,INDEX('План ввода основ. ср-в'!L:L,MATCH(B70,'План ввода основ. ср-в'!B:B,0)))","v":0},"",{"$f":"IF(ISNA(INDEX('План ввода основ. ср-в'!K:K,MATCH(B70,'План ввода основ. ср-в'!B:B,0))),0,INDEX('План ввода основ. ср-в'!K:K,MATCH(B70,'План ввода основ. ср-в'!B:B,0)))","v":0},0,"/",0,{"$f":"IF(ISNA(INDEX('План ввода основ. ср-в'!N:N,MATCH(B70,'План ввода основ. ср-в'!B:B,0))),0,INDEX('План ввода основ. ср-в'!N:N,MATCH(B70,'План ввода основ. ср-в'!B:B,0)))","v":0},"",{"$f":"IF(ISNA(INDEX('План ввода основ. ср-в'!M:M,MATCH(B70,'План ввода основ. ср-в'!B:B,0))),0,INDEX('План ввода основ. ср-в'!M:M,MATCH(B70,'План ввода основ. ср-в'!B:B,0)))","v":0},{"$f":"IF(ISNA(INDEX('План ввода основ. ср-в'!P:P,MATCH(B70,'План ввода основ. ср-в'!B:B,0))),0,INDEX('План ввода основ. ср-в'!P:P,MATCH(B70,'План ввода основ. ср-в'!B:B,0)))","v":0},"",{"$f":"IF(ISNA(INDEX('План ввода основ. ср-в'!O:O,MATCH(B70,'План ввода основ. ср-в'!B:B,0))),0,INDEX('План ввода основ. ср-в'!O:O,MATCH(B70,'План ввода основ. ср-в'!B:B,0)))","v":0},{"$f":"IF(ISNA(INDEX('План ввода основ. ср-в'!R:R,MATCH(B70,'План ввода основ. ср-в'!B:B,0))),0,INDEX('План ввода основ. ср-в'!R:R,MATCH(B70,'План ввода основ. ср-в'!B:B,0)))","v":0},"",{"$f":"IF(ISNA(INDEX('План ввода основ. ср-в'!Q:Q,MATCH(B70,'План ввода основ. ср-в'!B:B,0))),0,INDEX('План ввода основ. ср-в'!Q:Q,MATCH(B70,'План ввода основ. ср-в'!B:B,0)))","v":0},{"$f":"IF(ISNA(INDEX('План ввода основ. ср-в'!T:T,MATCH(B70,'План ввода основ. ср-в'!B:B,0))),0,INDEX('План ввода основ. ср-в'!T:T,MATCH(B70,'План ввода основ. ср-в'!B:B,0)))","v":0},"",{"$f":"IF(ISNA(INDEX('План ввода основ. ср-в'!S:S,MATCH(B70,'План ввода основ. ср-в'!B:B,0))),0,INDEX('План ввода основ. ср-в'!S:S,MATCH(B70,'План ввода основ. ср-в'!B:B,0)))","v":0},0,"/",0,{"$f":"IF(ISNA(INDEX('План ввода основ. ср-в'!V:V,MATCH(B70,'План ввода основ. ср-в'!B:B,0))),0,INDEX('План ввода основ. ср-в'!V:V,MATCH(B70,'План ввода основ. ср-в'!B:B,0)))","v":0},{"$f":"IF(ISNA(INDEX('План ввода основ. ср-в'!W:W,MATCH(B70,'План ввода основ. ср-в'!B:B,0))),0,INDEX('План ввода основ. ср-в'!W:W,MATCH(B70,'План ввода основ. ср-в'!B:B,0)))","v":0},{"$f":"IF(ISNA(INDEX('План ввода основ. ср-в'!X:X,MATCH(B70,'План ввода основ. ср-в'!B:B,0))),0,INDEX('План ввода основ. ср-в'!X:X,MATCH(B70,'План ввода основ. ср-в'!B:B,0)))","v":0},{"$f":"IF(ISNA(INDEX('План ввода основ. ср-в'!Y:Y,MATCH(B70,'План ввода основ. ср-в'!B:B,0))),0,INDEX('План ввода основ. ср-в'!Y:Y,MATCH(B70,'План ввода основ. ср-в'!B:B,0)))","v":0},0,{"$f":"IF(ISNA(INDEX('План ввода основ. ср-в'!Z:Z,MATCH(B70,'План ввода основ. ср-в'!B:B,0))),0,INDEX('План ввода основ. ср-в'!Z:Z,MATCH(B70,'План ввода основ. ср-в'!B:B,0)))","v":0},{"$f":"IF(ISNA(INDEX('План ввода основ. ср-в'!AA:AA,MATCH(B70,'План ввода основ. ср-в'!B:B,0))),0,INDEX('План ввода основ. ср-в'!AA:AA,MATCH(B70,'План ввода основ. ср-в'!B:B,0)))","v":0},{"$f":"IF(ISNA(INDEX('План ввода основ. ср-в'!AB:AB,MATCH(B70,'План ввода основ. ср-в'!B:B,0))),0,INDEX('План ввода основ. ср-в'!AB:AB,MATCH(B70,'План ввода основ. ср-в'!B:B,0)))","v":0},{"$f":"IF(ISNA(INDEX('План ввода основ. ср-в'!AC:AC,MATCH(B70,'План ввода основ. ср-в'!B:B,0))),0,INDEX('План ввода основ. ср-в'!AC:AC,MATCH(B70,'План ввода основ. ср-в'!B:B,0)))","v":0},0]
[49,"Реконструкция ВЛ-0,4кВ от КТП КМ 810/100 кВА с заменой КТП",null,null,null,null,null,null,0.92,"/",0.1,0,"",0,0,"",0,0,"",0,0,"",0,0.92,"/",0.1,3.5969491525423729,{"$f":"IF(ISNA(INDEX('План ввода основ. ср-в'!F:F,MATCH(B71,'План ввода основ. ср-в'!B:B,0))),0,INDEX('План ввода основ. ср-в'!F:F,MATCH(B71,'План ввода основ. ср-в'!B:B,0)))","v":0},"",{"$f":"IF(ISNA(INDEX('План ввода основ. ср-в'!E:E,MATCH(B71,'План ввода основ. ср-в'!B:B,0))),0,INDEX('План ввода основ. ср-в'!E:E,MATCH(B71,'План ввода основ. ср-в'!B:B,0)))","v":0},{"$f":"IF(ISNA(INDEX('План ввода основ. ср-в'!H:H,MATCH(B71,'План ввода основ. ср-в'!B:B,0))),0,INDEX('План ввода основ. ср-в'!H:H,MATCH(B71,'План ввода основ. ср-в'!B:B,0)))","v":0},"",{"$f":"IF(ISNA(INDEX('План ввода основ. ср-в'!G:G,MATCH(B71,'План ввода основ. ср-в'!B:B,0))),0,INDEX('План ввода основ. ср-в'!G:G,MATCH(B71,'План ввода основ. ср-в'!B:B,0)))","v":0},{"$f":"IF(ISNA(INDEX('План ввода основ. ср-в'!J:J,MATCH(B71,'План ввода основ. ср-в'!B:B,0))),0,INDEX('План ввода основ. ср-в'!J:J,MATCH(B71,'План ввода основ. ср-в'!B:B,0)))","v":0},"",{"$f":"IF(ISNA(INDEX('План ввода основ. ср-в'!I:I,MATCH(B71,'План ввода основ. ср-в'!B:B,0))),0,INDEX('План ввода основ. ср-в'!I:I,MATCH(B71,'План ввода основ. ср-в'!B:B,0)))","v":0},{"$f":"IF(ISNA(INDEX('План ввода основ. ср-в'!L:L,MATCH(B71,'План ввода основ. ср-в'!B:B,0))),0,INDEX('План ввода основ. ср-в'!L:L,MATCH(B71,'План ввода основ. ср-в'!B:B,0)))","v":0.92},"/",{"$f":"IF(ISNA(INDEX('План ввода основ. ср-в'!K:K,MATCH(B71,'План ввода основ. ср-в'!B:B,0))),0,INDEX('План ввода основ. ср-в'!K:K,MATCH(B71,'План ввода основ. ср-в'!B:B,0)))","v":0.1},0.92,"/",0.1,{"$f":"IF(ISNA(INDEX('План ввода основ. ср-в'!N:N,MATCH(B71,'План ввода основ. ср-в'!B:B,0))),0,INDEX('План ввода основ. ср-в'!N:N,MATCH(B71,'План ввода основ. ср-в'!B:B,0)))","v":0},"",{"$f":"IF(ISNA(INDEX('План ввода основ. ср-в'!M:M,MATCH(B71,'План ввода основ. ср-в'!B:B,0))),0,INDEX('План ввода основ. ср-в'!M:M,MATCH(B71,'План ввода основ. ср-в'!B:B,0)))","v":0},{"$f":"IF(ISNA(INDEX('План ввода основ. ср-в'!P:P,MATCH(B71,'План ввода основ. ср-в'!B:B,0))),0,INDEX('План ввода основ. ср-в'!P:P,MATCH(B71,'План ввода основ. ср-в'!B:B,0)))","v":0},"",{"$f":"IF(ISNA(INDEX('План ввода основ. ср-в'!O:O,MATCH(B71,'План ввода основ. ср-в'!B:B,0))),0,INDEX('План ввода основ. ср-в'!O:O,MATCH(B71,'План ввода основ. ср-в'!B:B,0)))","v":0},{"$f":"IF(ISNA(INDEX('План ввода основ. ср-в'!R:R,MATCH(B71,'План ввода основ. ср-в'!B:B,0))),0,INDEX('План ввода основ. ср-в'!R:R,MATCH(B71,'План ввода основ. ср-в'!B:B,0)))","v":0},"",{"$f":"IF(ISNA(INDEX('План ввода основ. ср-в'!Q:Q,MATCH(B71,'План ввода основ. ср-в'!B:B,0))),0,INDEX('План ввода основ. ср-в'!Q:Q,MATCH(B71,'План ввода основ. ср-в'!B:B,0)))","v":0},{"$f":"IF(ISNA(INDEX('План ввода основ. ср-в'!T:T,MATCH(B71,'План ввода основ. ср-в'!B:B,0))),0,INDEX('План ввода основ. ср-в'!T:T,MATCH(B71,'План ввода основ. ср-в'!B:B,0)))","v":0},"",{"$f":"IF(ISNA(INDEX('План ввода основ. ср-в'!S:S,MATCH(B71,'План ввода основ. ср-в'!B:B,0))),0,INDEX('План ввода основ. ср-в'!S:S,MATCH(B71,'План ввода основ. ср-в'!B:B,0)))","v":0},0.92,"/",0.1,{"$f":"IF(ISNA(INDEX('План ввода основ. ср-в'!V:V,MATCH(B71,'План ввода основ. ср-в'!B:B,0))),0,INDEX('План ввода основ. ср-в'!V:V,MATCH(B71,'План ввода основ. ср-в'!B:B,0)))","v":0},{"$f":"IF(ISNA(INDEX('План ввода основ. ср-в'!W:W,MATCH(B71,'План ввода основ. ср-в'!B:B,0))),0,INDEX('План ввода основ. ср-в'!W:W,MATCH(B71,'План ввода основ. ср-в'!B:B,0)))","v":0.53954237288135587},{"$f":"IF(ISNA(INDEX('План ввода основ. ср-в'!X:X,MATCH(B71,'План ввода основ. ср-в'!B:B,0))),0,INDEX('План ввода основ. ср-в'!X:X,MATCH(B71,'План ввода основ. ср-в'!B:B,0)))","v":1.2589322033898305},{"$f":"IF(ISNA(INDEX('План ввода основ. ср-в'!Y:Y,MATCH(B71,'План ввода основ. ср-в'!B:B,0))),0,INDEX('План ввода основ. ср-в'!Y:Y,MATCH(B71,'План ввода основ. ср-в'!B:B,0)))","v":1.7984745762711865},3.5969491525423729,{"$f":"IF(ISNA(INDEX('План ввода основ. ср-в'!Z:Z,MATCH(B71,'План ввода основ. ср-в'!B:B,0))),0,INDEX('План ввода основ. ср-в'!Z:Z,MATCH(B71,'План ввода основ. ср-в'!B:B,0)))","v":0},{"$f":"IF(ISNA(INDEX('План ввода основ. ср-в'!AA:AA,MATCH(B71,'План ввода основ. ср-в'!B:B,0))),0,INDEX('План ввода основ. ср-в'!AA:AA,MATCH(B71,'План ввода основ. ср-в'!B:B,0)))","v":0},{"$f":"IF(ISNA(INDEX('План ввода основ. ср-в'!AB:AB,MATCH(B71,'План ввода основ. ср-в'!B:B,0))),0,INDEX('План ввода основ. ср-в'!AB:AB,MATCH(B71,'План ввода основ. ср-в'!B:B,0)))","v":0},{"$f":"IF(ISNA(INDEX('План ввода основ. ср-в'!AC:AC,MATCH(B71,'План ввода основ. ср-в'!B:B,0))),0,INDEX('План ввода основ. ср-в'!AC:AC,MATCH(B71,'План ввода основ. ср-в'!B:B,0)))","v":0},3.5969491525423729]
[50,"Реконструкция ВЛ-0,4кВ от КТП Елх 405/400 кВА с заменой КТП",null,null,null,null,null,null,0.6,{"$f":"IF(AND(I72=0,K72=0),\"\",\"/\")","v":"/"},0.4,0,{"$f":"IF(AND(L72=0,N72=0),\"\",\"/\")","v":""},0,0,{"$f":"IF(AND(O72=0,Q72=0),\"\",\"/\")","v":""},0,0,{"$f":"IF(AND(R72=0,T72=0),\"\",\"/\")","v":""},0,0,{"$f":"IF(AND(U72=0,W72=0),\"\",\"/\")","v":""},0,0.6,"/",0.4,2.9830508474576272,{"$f":"IF(ISNA(INDEX('План ввода основ. ср-в'!F:F,MATCH(B72,'План ввода основ. ср-в'!B:B,0))),0,INDEX('План ввода основ. ср-в'!F:F,MATCH(B72,'План ввода основ. ср-в'!B:B,0)))","v":0},{"$f":"IF(AND(AB72=0,AD72=0),\"\",\"/\")","v":""},{"$f":"IF(ISNA(INDEX('План ввода основ. ср-в'!E:E,MATCH(B72,'План ввода основ. ср-в'!B:B,0))),0,INDEX('План ввода основ. ср-в'!E:E,MATCH(B72,'План ввода основ. ср-в'!B:B,0)))","v":0},{"$f":"IF(ISNA(INDEX('План ввода основ. ср-в'!H:H,MATCH(B72,'План ввода основ. ср-в'!B:B,0))),0,INDEX('План ввода основ. ср-в'!H:H,MATCH(B72,'План ввода основ. ср-в'!B:B,0)))","v":0},{"$f":"IF(AND(AE72=0,AG72=0),\"\",\"/\")","v":""},{"$f":"IF(ISNA(INDEX('План ввода основ. ср-в'!G:G,MATCH(B72,'План ввода основ. ср-в'!B:B,0))),0,INDEX('План ввода основ. ср-в'!G:G,MATCH(B72,'План ввода основ. ср-в'!B:B,0)))","v":0},{"$f":"IF(ISNA(INDEX('План ввода основ. ср-в'!J:J,MATCH(B72,'План ввода основ. ср-в'!B:B,0))),0,INDEX('План ввода основ. ср-в'!J:J,MATCH(B72,'План ввода основ. ср-в'!B:B,0)))","v":0},{"$f":"IF(AND(AH72=0,AJ72=0),\"\",\"/\")","v":""},{"$f":"IF(ISNA(INDEX('План ввода основ. ср-в'!I:I,MATCH(B72,'План ввода основ. ср-в'!B:B,0))),0,INDEX('План ввода основ. ср-в'!I:I,MATCH(B72,'План ввода основ. ср-в'!B:B,0)))","v":0},{"$f":"IF(ISNA(INDEX('План ввода основ. ср-в'!L:L,MATCH(B72,'План ввода основ. ср-в'!B:B,0))),0,INDEX('План ввода основ. ср-в'!L:L,MATCH(B72,'План ввода основ. ср-в'!B:B,0)))","v":0.6},{"$f":"IF(AND(AK72=0,AM72=0),\"\",\"/\")","v":"/"},{"$f":"IF(ISNA(INDEX('План ввода основ. ср-в'!K:K,MATCH(B72,'План ввода основ. ср-в'!B:B,0))),0,INDEX('План ввода основ. ср-в'!K:K,MATCH(B72,'План ввода основ. ср-в'!B:B,0)))","v":0.4},0.6,"/",0.4,{"$f":"IF(ISNA(INDEX('План ввода основ. ср-в'!N:N,MATCH(B72,'План ввода основ. ср-в'!B:B,0))),0,INDEX('План ввода основ. ср-в'!N:N,MATCH(B72,'План ввода основ. ср-в'!B:B,0)))","v":0},{"$f":"IF(AND(AQ72=0,AS72=0),\"\",\"/\")","v":""},{"$f":"IF(ISNA(INDEX('План ввода основ. ср-в'!M:M,MATCH(B72,'План ввода основ. ср-в'!B:B,0))),0,INDEX('План ввода основ. ср-в'!M:M,MATCH(B72,'План ввода основ. ср-в'!B:B,0)))","v":0},{"$f":"IF(ISNA(INDEX('План ввода основ. ср-в'!P:P,MATCH(B72,'План ввода основ. ср-в'!B:B,0))),0,INDEX('План ввода основ. ср-в'!P:P,MATCH(B72,'План ввода основ. ср-в'!B:B,0)))","v":0},{"$f":"IF(AND(AT72=0,AV72=0),\"\",\"/\")","v":""},{"$f":"IF(ISNA(INDEX('План ввода основ. ср-в'!O:O,MATCH(B72,'План ввода основ. ср-в'!B:B,0))),0,INDEX('План ввода основ. ср-в'!O:O,MATCH(B72,'План ввода основ. ср-в'!B:B,0)))","v":0},{"$f":"IF(ISNA(INDEX('План ввода основ. ср-в'!R:R,MATCH(B72,'План ввода основ. ср-в'!B:B,0))),0,INDEX('План ввода основ. ср-в'!R:R,MATCH(B72,'План ввода основ. ср-в'!B:B,0)))","v":0},{"$f":"IF(AND(AW72=0,AY72=0),\"\",\"/\")","v":""},{"$f":"IF(ISNA(INDEX('План ввода основ. ср-в'!Q:Q,MATCH(B72,'План ввода основ. ср-в'!B:B,0))),0,INDEX('План ввода основ. ср-в'!Q:Q,MATCH(B72,'План ввода основ. ср-в'!B:B,0)))","v":0},{"$f":"IF(ISNA(INDEX('План ввода основ. ср-в'!T:T,MATCH(B72,'План ввода основ. ср-в'!B:B,0))),0,INDEX('План ввода основ. ср-в'!T:T,MATCH(B72,'План ввода основ. ср-в'!B:B,0)))","v":0},{"$f":"IF(AND(AZ72=0,BB72=0),\"\",\"/\")","v":""},{"$f":"IF(ISNA(INDEX('План ввода основ. ср-в'!S:S,MATCH(B72,'План ввода основ. ср-в'!B:B,0))),0,INDEX('План ввода основ. ср-в'!S:S,MATCH(B72,'План ввода основ. ср-в'!B:B,0)))","v":0},0.6,"/",0.4,{"$f":"IF(ISNA(INDEX('План ввода основ. ср-в'!V:V,MATCH(B72,'План ввода основ. ср-в'!B:B,0))),0,INDEX('План ввода основ. ср-в'!V:V,MATCH(B72,'План ввода основ. ср-в'!B:B,0)))","v":0},{"$f":"IF(ISNA(INDEX('План ввода основ. ср-в'!W:W,MATCH(B72,'План ввода основ. ср-в'!B:B,0))),0,INDEX('План ввода основ. ср-в'!W:W,MATCH(B72,'План ввода основ. ср-в'!B:B,0)))","v":0.44745762711864406},{"$f":"IF(ISNA(INDEX('План ввода основ. ср-в'!X:X,MATCH(B72,'План ввода основ. ср-в'!B:B,0))),0,INDEX('План ввода основ. ср-в'!X:X,MATCH(B72,'План ввода основ. ср-в'!B:B,0)))","v":1.0440677966101695},{"$f":"IF(ISNA(INDEX('План ввода основ. ср-в'!Y:Y,MATCH(B72,'План ввода основ. ср-в'!B:B,0))),0,INDEX('План ввода основ. ср-в'!Y:Y,MATCH(B72,'План ввода основ. ср-в'!B:B,0)))","v":1.4915254237288136},2.9830508474576272,{"$f":"IF(ISNA(INDEX('План ввода основ. ср-в'!Z:Z,MATCH(B72,'План ввода основ. ср-в'!B:B,0))),0,INDEX('План ввода основ. ср-в'!Z:Z,MATCH(B72,'План ввода основ. ср-в'!B:B,0)))","v":0},{"$f":"IF(ISNA(INDEX('План ввода основ. ср-в'!AA:AA,MATCH(B72,'План ввода основ. ср-в'!B:B,0))),0,INDEX('План ввода основ. ср-в'!AA:AA,MATCH(B72,'План ввода основ. ср-в'!B:B,0)))","v":0},{"$f":"IF(ISNA(INDEX('План ввода основ. ср-в'!AB:AB,MATCH(B72,'План ввода основ. ср-в'!B:B,0))),0,INDEX('План ввода основ. ср-в'!AB:AB,MATCH(B72,'План ввода основ. ср-в'!B:B,0)))","v":0},{"$f":"IF(ISNA(INDEX('План ввода основ. ср-в'!AC:AC,MATCH(B72,'План ввода основ. ср-в'!B:B,0))),0,INDEX('План ввода основ. ср-в'!AC:AC,MATCH(B72,'План ввода основ. ср-в'!B:B,0)))","v":0},2.9830508474576272]
[51,"Реконструкция ВЛ-0,4кВ от КТП Елх 713/400 кВА с заменой КТП",null,null,null,null,null,null,0,"",0,0.64,"/",0.4,0,"",0,0,"",0,0,"",0,0.64,"/",0.4,2.535593220338983,{"$f":"IF(ISNA(INDEX('План ввода основ. ср-в'!F:F,MATCH(B73,'План ввода основ. ср-в'!B:B,0))),0,INDEX('План ввода основ. ср-в'!F:F,MATCH(B73,'План ввода основ. ср-в'!B:B,0)))","v":0},"",{"$f":"IF(ISNA(INDEX('План ввода основ. ср-в'!E:E,MATCH(B73,'План ввода основ. ср-в'!B:B,0))),0,INDEX('План ввода основ. ср-в'!E:E,MATCH(B73,'План ввода основ. ср-в'!B:B,0)))","v":0},{"$f":"IF(ISNA(INDEX('План ввода основ. ср-в'!H:H,MATCH(B73,'План ввода основ. ср-в'!B:B,0))),0,INDEX('План ввода основ. ср-в'!H:H,MATCH(B73,'План ввода основ. ср-в'!B:B,0)))","v":0},"",{"$f":"IF(ISNA(INDEX('План ввода основ. ср-в'!G:G,MATCH(B73,'План ввода основ. ср-в'!B:B,0))),0,INDEX('План ввода основ. ср-в'!G:G,MATCH(B73,'План ввода основ. ср-в'!B:B,0)))","v":0},{"$f":"IF(ISNA(INDEX('План ввода основ. ср-в'!J:J,MATCH(B73,'План ввода основ. ср-в'!B:B,0))),0,INDEX('План ввода основ. ср-в'!J:J,MATCH(B73,'План ввода основ. ср-в'!B:B,0)))","v":0},"",{"$f":"IF(ISNA(INDEX('План ввода основ. ср-в'!I:I,MATCH(B73,'План ввода основ. ср-в'!B:B,0))),0,INDEX('План ввода основ. ср-в'!I:I,MATCH(B73,'План ввода основ. ср-в'!B:B,0)))","v":0},{"$f":"IF(ISNA(INDEX('План ввода основ. ср-в'!L:L,MATCH(B73,'План ввода основ. ср-в'!B:B,0))),0,INDEX('План ввода основ. ср-в'!L:L,MATCH(B73,'План ввода основ. ср-в'!B:B,0)))","v":0},"",{"$f":"IF(ISNA(INDEX('План ввода основ. ср-в'!K:K,MATCH(B73,'План ввода основ. ср-в'!B:B,0))),0,INDEX('План ввода основ. ср-в'!K:K,MATCH(B73,'План ввода основ. ср-в'!B:B,0)))","v":0},0,"/",0,{"$f":"IF(ISNA(INDEX('План ввода основ. ср-в'!N:N,MATCH(B73,'План ввода основ. ср-в'!B:B,0))),0,INDEX('План ввода основ. ср-в'!N:N,MATCH(B73,'План ввода основ. ср-в'!B:B,0)))","v":0.64},"/",{"$f":"IF(ISNA(INDEX('План ввода основ. ср-в'!M:M,MATCH(B73,'План ввода основ. ср-в'!B:B,0))),0,INDEX('План ввода основ. ср-в'!M:M,MATCH(B73,'План ввода основ. ср-в'!B:B,0)))","v":0.4},{"$f":"IF(ISNA(INDEX('План ввода основ. ср-в'!P:P,MATCH(B73,'План ввода основ. ср-в'!B:B,0))),0,INDEX('План ввода основ. ср-в'!P:P,MATCH(B73,'План ввода основ. ср-в'!B:B,0)))","v":0},"",{"$f":"IF(ISNA(INDEX('План ввода основ. ср-в'!O:O,MATCH(B73,'План ввода основ. ср-в'!B:B,0))),0,INDEX('План ввода основ. ср-в'!O:O,MATCH(B73,'План ввода основ. ср-в'!B:B,0)))","v":0},{"$f":"IF(ISNA(INDEX('План ввода основ. ср-в'!R:R,MATCH(B73,'План ввода основ. ср-в'!B:B,0))),0,INDEX('План ввода основ. ср-в'!R:R,MATCH(B73,'План ввода основ. ср-в'!B:B,0)))","v":0},"",{"$f":"IF(ISNA(INDEX('План ввода основ. ср-в'!Q:Q,MATCH(B73,'План ввода основ. ср-в'!B:B,0))),0,INDEX('План ввода основ. ср-в'!Q:Q,MATCH(B73,'План ввода основ. ср-в'!B:B,0)))","v":0},{"$f":"IF(ISNA(INDEX('План ввода основ. ср-в'!T:T,MATCH(B73,'План ввода основ. ср-в'!B:B,0))),0,INDEX('План ввода основ. ср-в'!T:T,MATCH(B73,'План ввода основ. ср-в'!B:B,0)))","v":0},"",{"$f":"IF(ISNA(INDEX('План ввода основ. ср-в'!S:S,MATCH(B73,'План ввода основ. ср-в'!B:B,0))),0,INDEX('План ввода основ. ср-в'!S:S,MATCH(B73,'План ввода основ. ср-в'!B:B,0)))","v":0},0.64,"/",0.4,{"$f":"IF(ISNA(INDEX('План ввода основ. ср-в'!V:V,MATCH(B73,'План ввода основ. ср-в'!B:B,0))),0,INDEX('План ввода основ. ср-в'!V:V,MATCH(B73,'План ввода основ. ср-в'!B:B,0)))","v":0},{"$f":"IF(ISNA(INDEX('План ввода основ. ср-в'!W:W,MATCH(B73,'План ввода основ. ср-в'!B:B,0))),0,INDEX('План ввода основ. ср-в'!W:W,MATCH(B73,'План ввода основ. ср-в'!B:B,0)))","v":0},{"$f":"IF(ISNA(INDEX('План ввода основ. ср-в'!X:X,MATCH(B73,'План ввода основ. ср-в'!B:B,0))),0,INDEX('План ввода основ. ср-в'!X:X,MATCH(B73,'План ввода основ. ср-в'!B:B,0)))","v":0},{"$f":"IF(ISNA(INDEX('План ввода основ. ср-в'!Y:Y,MATCH(B73,'План ввода основ. ср-в'!B:B,0))),0,INDEX('План ввода основ. ср-в'!Y:Y,MATCH(B73,'План ввода основ. ср-в'!B:B,0)))","v":0},0,{"$f":"IF(ISNA(INDEX('План ввода основ. ср-в'!Z:Z,MATCH(B73,'План ввода основ. ср-в'!B:B,0))),0,INDEX('План ввода основ. ср-в'!Z:Z,MATCH(B73,'План ввода основ. ср-в'!B:B,0)))","v":2.535593220338983},{"$f":"IF(ISNA(INDEX('План ввода основ. ср-в'!AA:AA,MATCH(B73,'План ввода основ. ср-в'!B:B,0))),0,INDEX('План ввода основ. ср-в'!AA:AA,MATCH(B73,'План ввода основ. ср-в'!B:B,0)))","v":0},{"$f":"IF(ISNA(INDEX('План ввода основ. ср-в'!AB:AB,MATCH(B73,'План ввода основ. ср-в'!B:B,0))),0,INDEX('План ввода основ. ср-в'!AB:AB,MATCH(B73,'План ввода основ. ср-в'!B:B,0)))","v":0},{"$f":"IF(ISNA(INDEX('План ввода основ. ср-в'!AC:AC,MATCH(B73,'План ввода основ. ср-в'!B:B,0))),0,INDEX('План ввода основ. ср-в'!AC:AC,MATCH(B73,'План ввода основ. ср-в'!B:B,0)))","v":0},2.535593220338983]
[52,"Реконструкция ВЛ-0,4кВ от КТП Елх 403/160 кВА с заменой КТП",null,null,null,null,null,null,0,"",0,0.48,"/",0.16,0,"",0,0,"",0,0,"",0,0.48,"/",0.16,2.1559322033898303,{"$f":"IF(ISNA(INDEX('План ввода основ. ср-в'!F:F,MATCH(B74,'План ввода основ. ср-в'!B:B,0))),0,INDEX('План ввода основ. ср-в'!F:F,MATCH(B74,'План ввода основ. ср-в'!B:B,0)))","v":0},"",{"$f":"IF(ISNA(INDEX('План ввода основ. ср-в'!E:E,MATCH(B74,'План ввода основ. ср-в'!B:B,0))),0,INDEX('План ввода основ. ср-в'!E:E,MATCH(B74,'План ввода основ. ср-в'!B:B,0)))","v":0},{"$f":"IF(ISNA(INDEX('План ввода основ. ср-в'!H:H,MATCH(B74,'План ввода основ. ср-в'!B:B,0))),0,INDEX('План ввода основ. ср-в'!H:H,MATCH(B74,'План ввода основ. ср-в'!B:B,0)))","v":0},"",{"$f":"IF(ISNA(INDEX('План ввода основ. ср-в'!G:G,MATCH(B74,'План ввода основ. ср-в'!B:B,0))),0,INDEX('План ввода основ. ср-в'!G:G,MATCH(B74,'План ввода основ. ср-в'!B:B,0)))","v":0},{"$f":"IF(ISNA(INDEX('План ввода основ. ср-в'!J:J,MATCH(B74,'План ввода основ. ср-в'!B:B,0))),0,INDEX('План ввода основ. ср-в'!J:J,MATCH(B74,'План ввода основ. ср-в'!B:B,0)))","v":0},"",{"$f":"IF(ISNA(INDEX('План ввода основ. ср-в'!I:I,MATCH(B74,'План ввода основ. ср-в'!B:B,0))),0,INDEX('План ввода основ. ср-в'!I:I,MATCH(B74,'План ввода основ. ср-в'!B:B,0)))","v":0},{"$f":"IF(ISNA(INDEX('План ввода основ. ср-в'!L:L,MATCH(B74,'План ввода основ. ср-в'!B:B,0))),0,INDEX('План ввода основ. ср-в'!L:L,MATCH(B74,'План ввода основ. ср-в'!B:B,0)))","v":0},"",{"$f":"IF(ISNA(INDEX('План ввода основ. ср-в'!K:K,MATCH(B74,'План ввода основ. ср-в'!B:B,0))),0,INDEX('План ввода основ. ср-в'!K:K,MATCH(B74,'План ввода основ. ср-в'!B:B,0)))","v":0},0,"/",0,{"$f":"IF(ISNA(INDEX('План ввода основ. ср-в'!N:N,MATCH(B74,'План ввода основ. ср-в'!B:B,0))),0,INDEX('План ввода основ. ср-в'!N:N,MATCH(B74,'План ввода основ. ср-в'!B:B,0)))","v":0.48},"/",{"$f":"IF(ISNA(INDEX('План ввода основ. ср-в'!M:M,MATCH(B74,'План ввода основ. ср-в'!B:B,0))),0,INDEX('План ввода основ. ср-в'!M:M,MATCH(B74,'План ввода основ. ср-в'!B:B,0)))","v":0.16},{"$f":"IF(ISNA(INDEX('План ввода основ. ср-в'!P:P,MATCH(B74,'План ввода основ. ср-в'!B:B,0))),0,INDEX('План ввода основ. ср-в'!P:P,MATCH(B74,'План ввода основ. ср-в'!B:B,0)))","v":0},"",{"$f":"IF(ISNA(INDEX('План ввода основ. ср-в'!O:O,MATCH(B74,'План ввода основ. ср-в'!B:B,0))),0,INDEX('План ввода основ. ср-в'!O:O,MATCH(B74,'План ввода основ. ср-в'!B:B,0)))","v":0},{"$f":"IF(ISNA(INDEX('План ввода основ. ср-в'!R:R,MATCH(B74,'План ввода основ. ср-в'!B:B,0))),0,INDEX('План ввода основ. ср-в'!R:R,MATCH(B74,'План ввода основ. ср-в'!B:B,0)))","v":0},"",{"$f":"IF(ISNA(INDEX('План ввода основ. ср-в'!Q:Q,MATCH(B74,'План ввода основ. ср-в'!B:B,0))),0,INDEX('План ввода основ. ср-в'!Q:Q,MATCH(B74,'План ввода основ. ср-в'!B:B,0)))","v":0},{"$f":"IF(ISNA(INDEX('План ввода основ. ср-в'!T:T,MATCH(B74,'План ввода основ. ср-в'!B:B,0))),0,INDEX('План ввода основ. ср-в'!T:T,MATCH(B74,'План ввода основ. ср-в'!B:B,0)))","v":0},"",{"$f":"IF(ISNA(INDEX('План ввода основ. ср-в'!S:S,MATCH(B74,'План ввода основ. ср-в'!B:B,0))),0,INDEX('План ввода основ. ср-в'!S:S,MATCH(B74,'План ввода основ. ср-в'!B:B,0)))","v":0},0.48,"/",0.16,{"$f":"IF(ISNA(INDEX('План ввода основ. ср-в'!V:V,MATCH(B74,'План ввода основ. ср-в'!B:B,0))),0,INDEX('План ввода основ. ср-в'!V:V,MATCH(B74,'План ввода основ. ср-в'!B:B,0)))","v":0},{"$f":"IF(ISNA(INDEX('План ввода основ. ср-в'!W:W,MATCH(B74,'План ввода основ. ср-в'!B:B,0))),0,INDEX('План ввода основ. ср-в'!W:W,MATCH(B74,'План ввода основ. ср-в'!B:B,0)))","v":0},{"$f":"IF(ISNA(INDEX('План ввода основ. ср-в'!X:X,MATCH(B74,'План ввода основ. ср-в'!B:B,0))),0,INDEX('План ввода основ. ср-в'!X:X,MATCH(B74,'План ввода основ. ср-в'!B:B,0)))","v":0},{"$f":"IF(ISNA(INDEX('План ввода основ. ср-в'!Y:Y,MATCH(B74,'План ввода основ. ср-в'!B:B,0))),0,INDEX('План ввода основ. ср-в'!Y:Y,MATCH(B74,'План ввода основ. ср-в'!B:B,0)))","v":0},0,{"$f":"IF(ISNA(INDEX('План ввода основ. ср-в'!Z:Z,MATCH(B74,'План ввода основ. ср-в'!B:B,0))),0,INDEX('План ввода основ. ср-в'!Z:Z,MATCH(B74,'План ввода основ. ср-в'!B:B,0)))","v":2.1559322033898303},{"$f":"IF(ISNA(INDEX('План ввода основ. ср-в'!AA:AA,MATCH(B74,'План ввода основ. ср-в'!B:B,0))),0,INDEX('План ввода основ. ср-в'!AA:AA,MATCH(B74,'План ввода основ. ср-в'!B:B,0)))","v":0},{"$f":"IF(ISNA(INDEX('План ввода основ. ср-в'!AB:AB,MATCH(B74,'План ввода основ. ср-в'!B:B,0))),0,INDEX('План ввода основ. ср-в'!AB:AB,MATCH(B74,'План ввода основ. ср-в'!B:B,0)))","v":0},{"$f":"IF(ISNA(INDEX('План ввода основ. ср-в'!AC:AC,MATCH(B74,'План ввода основ. ср-в'!B:B,0))),0,INDEX('План ввода основ. ср-в'!AC:AC,MATCH(B74,'План ввода основ. ср-в'!B:B,0)))","v":0},2.1559322033898303]
[53,"Кинель-Черкасский район",null,null,null,null,null,null,0,{"$f":"IF(AND(I75=0,K75=0),\"\",\"/\")","v":""},0,0,{"$f":"IF(AND(L75=0,N75=0),\"\",\"/\")","v":""},0,0,{"$f":"IF(AND(O75=0,Q75=0),\"\",\"/\")","v":""},0,0,{"$f":"IF(AND(R75=0,T75=0),\"\",\"/\")","v":""},0,0,{"$f":"IF(AND(U75=0,W75=0),\"\",\"/\")","v":""},0,0,"/",0,0,{"$f":"IF(ISNA(INDEX('План ввода основ. ср-в'!F:F,MATCH(B75,'План ввода основ. ср-в'!B:B,0))),0,INDEX('План ввода основ. ср-в'!F:F,MATCH(B75,'План ввода основ. ср-в'!B:B,0)))","v":0},{"$f":"IF(AND(AB75=0,AD75=0),\"\",\"/\")","v":""},{"$f":"IF(ISNA(INDEX('План ввода основ. ср-в'!E:E,MATCH(B75,'План ввода основ. ср-в'!B:B,0))),0,INDEX('План ввода основ. ср-в'!E:E,MATCH(B75,'План ввода основ. ср-в'!B:B,0)))","v":0},{"$f":"IF(ISNA(INDEX('План ввода основ. ср-в'!H:H,MATCH(B75,'План ввода основ. ср-в'!B:B,0))),0,INDEX('План ввода основ. ср-в'!H:H,MATCH(B75,'План ввода основ. ср-в'!B:B,0)))","v":0},{"$f":"IF(AND(AE75=0,AG75=0),\"\",\"/\")","v":""},{"$f":"IF(ISNA(INDEX('План ввода основ. ср-в'!G:G,MATCH(B75,'План ввода основ. ср-в'!B:B,0))),0,INDEX('План ввода основ. ср-в'!G:G,MATCH(B75,'План ввода основ. ср-в'!B:B,0)))","v":0},{"$f":"IF(ISNA(INDEX('План ввода основ. ср-в'!J:J,MATCH(B75,'План ввода основ. ср-в'!B:B,0))),0,INDEX('План ввода основ. ср-в'!J:J,MATCH(B75,'План ввода основ. ср-в'!B:B,0)))","v":0},{"$f":"IF(AND(AH75=0,AJ75=0),\"\",\"/\")","v":""},{"$f":"IF(ISNA(INDEX('План ввода основ. ср-в'!I:I,MATCH(B75,'План ввода основ. ср-в'!B:B,0))),0,INDEX('План ввода основ. ср-в'!I:I,MATCH(B75,'План ввода основ. ср-в'!B:B,0)))","v":0},{"$f":"IF(ISNA(INDEX('План ввода основ. ср-в'!L:L,MATCH(B75,'План ввода основ. ср-в'!B:B,0))),0,INDEX('План ввода основ. ср-в'!L:L,MATCH(B75,'План ввода основ. ср-в'!B:B,0)))","v":0},{"$f":"IF(AND(AK75=0,AM75=0),\"\",\"/\")","v":""},{"$f":"IF(ISNA(INDEX('План ввода основ. ср-в'!K:K,MATCH(B75,'План ввода основ. ср-в'!B:B,0))),0,INDEX('План ввода основ. ср-в'!K:K,MATCH(B75,'План ввода основ. ср-в'!B:B,0)))","v":0},0,"/",0,{"$f":"IF(ISNA(INDEX('План ввода основ. ср-в'!N:N,MATCH(B75,'План ввода основ. ср-в'!B:B,0))),0,INDEX('План ввода основ. ср-в'!N:N,MATCH(B75,'План ввода основ. ср-в'!B:B,0)))","v":0},{"$f":"IF(AND(AQ75=0,AS75=0),\"\",\"/\")","v":""},{"$f":"IF(ISNA(INDEX('План ввода основ. ср-в'!M:M,MATCH(B75,'План ввода основ. ср-в'!B:B,0))),0,INDEX('План ввода основ. ср-в'!M:M,MATCH(B75,'План ввода основ. ср-в'!B:B,0)))","v":0},{"$f":"IF(ISNA(INDEX('План ввода основ. ср-в'!P:P,MATCH(B75,'План ввода основ. ср-в'!B:B,0))),0,INDEX('План ввода основ. ср-в'!P:P,MATCH(B75,'План ввода основ. ср-в'!B:B,0)))","v":0},{"$f":"IF(AND(AT75=0,AV75=0),\"\",\"/\")","v":""},{"$f":"IF(ISNA(INDEX('План ввода основ. ср-в'!O:O,MATCH(B75,'План ввода основ. ср-в'!B:B,0))),0,INDEX('План ввода основ. ср-в'!O:O,MATCH(B75,'План ввода основ. ср-в'!B:B,0)))","v":0},{"$f":"IF(ISNA(INDEX('План ввода основ. ср-в'!R:R,MATCH(B75,'План ввода основ. ср-в'!B:B,0))),0,INDEX('План ввода основ. ср-в'!R:R,MATCH(B75,'План ввода основ. ср-в'!B:B,0)))","v":0},{"$f":"IF(AND(AW75=0,AY75=0),\"\",\"/\")","v":""},{"$f":"IF(ISNA(INDEX('План ввода основ. ср-в'!Q:Q,MATCH(B75,'План ввода основ. ср-в'!B:B,0))),0,INDEX('План ввода основ. ср-в'!Q:Q,MATCH(B75,'План ввода основ. ср-в'!B:B,0)))","v":0},{"$f":"IF(ISNA(INDEX('План ввода основ. ср-в'!T:T,MATCH(B75,'План ввода основ. ср-в'!B:B,0))),0,INDEX('План ввода основ. ср-в'!T:T,MATCH(B75,'План ввода основ. ср-в'!B:B,0)))","v":0},{"$f":"IF(AND(AZ75=0,BB75=0),\"\",\"/\")","v":""},{"$f":"IF(ISNA(INDEX('План ввода основ. ср-в'!S:S,MATCH(B75,'План ввода основ. ср-в'!B:B,0))),0,INDEX('План ввода основ. ср-в'!S:S,MATCH(B75,'План ввода основ. ср-в'!B:B,0)))","v":0},0,"/",0,{"$f":"IF(ISNA(INDEX('План ввода основ. ср-в'!V:V,MATCH(B75,'План ввода основ. ср-в'!B:B,0))),0,INDEX('План ввода основ. ср-в'!V:V,MATCH(B75,'План ввода основ. ср-в'!B:B,0)))","v":0},{"$f":"IF(ISNA(INDEX('План ввода основ. ср-в'!W:W,MATCH(B75,'План ввода основ. ср-в'!B:B,0))),0,INDEX('План ввода основ. ср-в'!W:W,MATCH(B75,'План ввода основ. ср-в'!B:B,0)))","v":0},{"$f":"IF(ISNA(INDEX('План ввода основ. ср-в'!X:X,MATCH(B75,'План ввода основ. ср-в'!B:B,0))),0,INDEX('План ввода основ. ср-в'!X:X,MATCH(B75,'План ввода основ. ср-в'!B:B,0)))","v":0},{"$f":"IF(ISNA(INDEX('План ввода основ. ср-в'!Y:Y,MATCH(B75,'План ввода основ. ср-в'!B:B,0))),0,INDEX('План ввода основ. ср-в'!Y:Y,MATCH(B75,'План ввода основ. ср-в'!B:B,0)))","v":0},0,{"$f":"IF(ISNA(INDEX('План ввода основ. ср-в'!Z:Z,MATCH(B75,'План ввода основ. ср-в'!B:B,0))),0,INDEX('План ввода основ. ср-в'!Z:Z,MATCH(B75,'План ввода основ. ср-в'!B:B,0)))","v":0},{"$f":"IF(ISNA(INDEX('План ввода основ. ср-в'!AA:AA,MATCH(B75,'План ввода основ. ср-в'!B:B,0))),0,INDEX('План ввода основ. ср-в'!AA:AA,MATCH(B75,'План ввода основ. ср-в'!B:B,0)))","v":0},{"$f":"IF(ISNA(INDEX('План ввода основ. ср-в'!AB:AB,MATCH(B75,'План ввода основ. ср-в'!B:B,0))),0,INDEX('План ввода основ. ср-в'!AB:AB,MATCH(B75,'План ввода основ. ср-в'!B:B,0)))","v":0},{"$f":"IF(ISNA(INDEX('План ввода основ. ср-в'!AC:AC,MATCH(B75,'План ввода основ. ср-в'!B:B,0))),0,INDEX('План ввода основ. ср-в'!AC:AC,MATCH(B75,'План ввода основ. ср-в'!B:B,0)))","v":0},0]
[54,"Реконструкция ВЛ-0,4 кВ от КТП Ч 1704/250 кВА с заменой КТП на 400 кВА",null,null,null,null,null,null,8.1999999999999993,"/",0.25,0,"",0,0,"",0,0,"",0,0,"",0,8.1999999999999993,"/",0.25,23.593220338983052,{"$f":"IF(ISNA(INDEX('План ввода основ. ср-в'!F:F,MATCH(B76,'План ввода основ. ср-в'!B:B,0))),0,INDEX('План ввода основ. ср-в'!F:F,MATCH(B76,'План ввода основ. ср-в'!B:B,0)))","v":0},"",{"$f":"IF(ISNA(INDEX('План ввода основ. ср-в'!E:E,MATCH(B76,'План ввода основ. ср-в'!B:B,0))),0,INDEX('План ввода основ. ср-в'!E:E,MATCH(B76,'План ввода основ. ср-в'!B:B,0)))","v":0},{"$f":"IF(ISNA(INDEX('План ввода основ. ср-в'!H:H,MATCH(B76,'План ввода основ. ср-в'!B:B,0))),0,INDEX('План ввода основ. ср-в'!H:H,MATCH(B76,'План ввода основ. ср-в'!B:B,0)))","v":0},"",{"$f":"IF(ISNA(INDEX('План ввода основ. ср-в'!G:G,MATCH(B76,'План ввода основ. ср-в'!B:B,0))),0,INDEX('План ввода основ. ср-в'!G:G,MATCH(B76,'План ввода основ. ср-в'!B:B,0)))","v":0},{"$f":"IF(ISNA(INDEX('План ввода основ. ср-в'!J:J,MATCH(B76,'План ввода основ. ср-в'!B:B,0))),0,INDEX('План ввода основ. ср-в'!J:J,MATCH(B76,'План ввода основ. ср-в'!B:B,0)))","v":0},"",{"$f":"IF(ISNA(INDEX('План ввода основ. ср-в'!I:I,MATCH(B76,'План ввода основ. ср-в'!B:B,0))),0,INDEX('План ввода основ. ср-в'!I:I,MATCH(B76,'План ввода основ. ср-в'!B:B,0)))","v":0},{"$f":"IF(ISNA(INDEX('План ввода основ. ср-в'!L:L,MATCH(B76,'План ввода основ. ср-в'!B:B,0))),0,INDEX('План ввода основ. ср-в'!L:L,MATCH(B76,'План ввода основ. ср-в'!B:B,0)))","v":8.1999999999999993},"/",{"$f":"IF(ISNA(INDEX('План ввода основ. ср-в'!K:K,MATCH(B76,'План ввода основ. ср-в'!B:B,0))),0,INDEX('План ввода основ. ср-в'!K:K,MATCH(B76,'План ввода основ. ср-в'!B:B,0)))","v":0.4},8.1999999999999993,"/",0.4,{"$f":"IF(ISNA(INDEX('План ввода основ. ср-в'!N:N,MATCH(B76,'План ввода основ. ср-в'!B:B,0))),0,INDEX('План ввода основ. ср-в'!N:N,MATCH(B76,'План ввода основ. ср-в'!B:B,0)))","v":0},"",{"$f":"IF(ISNA(INDEX('План ввода основ. ср-в'!M:M,MATCH(B76,'План ввода основ. ср-в'!B:B,0))),0,INDEX('План ввода основ. ср-в'!M:M,MATCH(B76,'План ввода основ. ср-в'!B:B,0)))","v":0},{"$f":"IF(ISNA(INDEX('План ввода основ. ср-в'!P:P,MATCH(B76,'План ввода основ. ср-в'!B:B,0))),0,INDEX('План ввода основ. ср-в'!P:P,MATCH(B76,'План ввода основ. ср-в'!B:B,0)))","v":0},"",{"$f":"IF(ISNA(INDEX('План ввода основ. ср-в'!O:O,MATCH(B76,'План ввода основ. ср-в'!B:B,0))),0,INDEX('План ввода основ. ср-в'!O:O,MATCH(B76,'План ввода основ. ср-в'!B:B,0)))","v":0},{"$f":"IF(ISNA(INDEX('План ввода основ. ср-в'!R:R,MATCH(B76,'План ввода основ. ср-в'!B:B,0))),0,INDEX('План ввода основ. ср-в'!R:R,MATCH(B76,'План ввода основ. ср-в'!B:B,0)))","v":0},"",{"$f":"IF(ISNA(INDEX('План ввода основ. ср-в'!Q:Q,MATCH(B76,'План ввода основ. ср-в'!B:B,0))),0,INDEX('План ввода основ. ср-в'!Q:Q,MATCH(B76,'План ввода основ. ср-в'!B:B,0)))","v":0},{"$f":"IF(ISNA(INDEX('План ввода основ. ср-в'!T:T,MATCH(B76,'План ввода основ. ср-в'!B:B,0))),0,INDEX('План ввода основ. ср-в'!T:T,MATCH(B76,'План ввода основ. ср-в'!B:B,0)))","v":0},"",{"$f":"IF(ISNA(INDEX('План ввода основ. ср-в'!S:S,MATCH(B76,'План ввода основ. ср-в'!B:B,0))),0,INDEX('План ввода основ. ср-в'!S:S,MATCH(B76,'План ввода основ. ср-в'!B:B,0)))","v":0},8.1999999999999993,"/",0.4,{"$f":"IF(ISNA(INDEX('План ввода основ. ср-в'!V:V,MATCH(B76,'План ввода основ. ср-в'!B:B,0))),0,INDEX('План ввода основ. ср-в'!V:V,MATCH(B76,'План ввода основ. ср-в'!B:B,0)))","v":0},{"$f":"IF(ISNA(INDEX('План ввода основ. ср-в'!W:W,MATCH(B76,'План ввода основ. ср-в'!B:B,0))),0,INDEX('План ввода основ. ср-в'!W:W,MATCH(B76,'План ввода основ. ср-в'!B:B,0)))","v":3.5389830508474578},{"$f":"IF(ISNA(INDEX('План ввода основ. ср-в'!X:X,MATCH(B76,'План ввода основ. ср-в'!B:B,0))),0,INDEX('План ввода основ. ср-в'!X:X,MATCH(B76,'План ввода основ. ср-в'!B:B,0)))","v":8.2576271186440682},{"$f":"IF(ISNA(INDEX('План ввода основ. ср-в'!Y:Y,MATCH(B76,'План ввода основ. ср-в'!B:B,0))),0,INDEX('План ввода основ. ср-в'!Y:Y,MATCH(B76,'План ввода основ. ср-в'!B:B,0)))","v":11.796610169491526},23.593220338983052,{"$f":"IF(ISNA(INDEX('План ввода основ. ср-в'!Z:Z,MATCH(B76,'План ввода основ. ср-в'!B:B,0))),0,INDEX('План ввода основ. ср-в'!Z:Z,MATCH(B76,'План ввода основ. ср-в'!B:B,0)))","v":0},{"$f":"IF(ISNA(INDEX('План ввода основ. ср-в'!AA:AA,MATCH(B76,'План ввода основ. ср-в'!B:B,0))),0,INDEX('План ввода основ. ср-в'!AA:AA,MATCH(B76,'План ввода основ. ср-в'!B:B,0)))","v":0},{"$f":"IF(ISNA(INDEX('План ввода основ. ср-в'!AB:AB,MATCH(B76,'План ввода основ. ср-в'!B:B,0))),0,INDEX('План ввода основ. ср-в'!AB:AB,MATCH(B76,'План ввода основ. ср-в'!B:B,0)))","v":0},{"$f":"IF(ISNA(INDEX('План ввода основ. ср-в'!AC:AC,MATCH(B76,'План ввода основ. ср-в'!B:B,0))),0,INDEX('План ввода основ. ср-в'!AC:AC,MATCH(B76,'План ввода основ. ср-в'!B:B,0)))","v":0},23.593220338983052]
[55,"Реконструкция ВЛ-0,4 кВ от КТП Сад-Г 507/250 кВА  с заменой КТП",null,null,null,null,null,null,2,null,0.25,0,null,0,null,null,null,0,null,0,0,null,0,2,null,0.25,6.5254237288135588,{"$f":"IF(ISNA(INDEX('План ввода основ. ср-в'!F:F,MATCH(B77,'План ввода основ. ср-в'!B:B,0))),0,INDEX('План ввода основ. ср-в'!F:F,MATCH(B77,'План ввода основ. ср-в'!B:B,0)))","v":0},null,{"$f":"IF(ISNA(INDEX('План ввода основ. ср-в'!E:E,MATCH(B77,'План ввода основ. ср-в'!B:B,0))),0,INDEX('План ввода основ. ср-в'!E:E,MATCH(B77,'План ввода основ. ср-в'!B:B,0)))","v":0},{"$f":"IF(ISNA(INDEX('План ввода основ. ср-в'!H:H,MATCH(B77,'План ввода основ. ср-в'!B:B,0))),0,INDEX('План ввода основ. ср-в'!H:H,MATCH(B77,'План ввода основ. ср-в'!B:B,0)))","v":0},null,{"$f":"IF(ISNA(INDEX('План ввода основ. ср-в'!G:G,MATCH(B77,'План ввода основ. ср-в'!B:B,0))),0,INDEX('План ввода основ. ср-в'!G:G,MATCH(B77,'План ввода основ. ср-в'!B:B,0)))","v":0},{"$f":"IF(ISNA(INDEX('План ввода основ. ср-в'!J:J,MATCH(B77,'План ввода основ. ср-в'!B:B,0))),0,INDEX('План ввода основ. ср-в'!J:J,MATCH(B77,'План ввода основ. ср-в'!B:B,0)))","v":0},null,{"$f":"IF(ISNA(INDEX('План ввода основ. ср-в'!I:I,MATCH(B77,'План ввода основ. ср-в'!B:B,0))),0,INDEX('План ввода основ. ср-в'!I:I,MATCH(B77,'План ввода основ. ср-в'!B:B,0)))","v":0},{"$f":"IF(ISNA(INDEX('План ввода основ. ср-в'!L:L,MATCH(B77,'План ввода основ. ср-в'!B:B,0))),0,INDEX('План ввода основ. ср-в'!L:L,MATCH(B77,'План ввода основ. ср-в'!B:B,0)))","v":2},null,{"$f":"IF(ISNA(INDEX('План ввода основ. ср-в'!K:K,MATCH(B77,'План ввода основ. ср-в'!B:B,0))),0,INDEX('План ввода основ. ср-в'!K:K,MATCH(B77,'План ввода основ. ср-в'!B:B,0)))","v":0.25},2,null,0.25,{"$f":"IF(ISNA(INDEX('План ввода основ. ср-в'!N:N,MATCH(B77,'План ввода основ. ср-в'!B:B,0))),0,INDEX('План ввода основ. ср-в'!N:N,MATCH(B77,'План ввода основ. ср-в'!B:B,0)))","v":0},null,{"$f":"IF(ISNA(INDEX('План ввода основ. ср-в'!M:M,MATCH(B77,'План ввода основ. ср-в'!B:B,0))),0,INDEX('План ввода основ. ср-в'!M:M,MATCH(B77,'План ввода основ. ср-в'!B:B,0)))","v":0},{"$f":"IF(ISNA(INDEX('План ввода основ. ср-в'!P:P,MATCH(B77,'План ввода основ. ср-в'!B:B,0))),0,INDEX('План ввода основ. ср-в'!P:P,MATCH(B77,'План ввода основ. ср-в'!B:B,0)))","v":0},null,{"$f":"IF(ISNA(INDEX('План ввода основ. ср-в'!O:O,MATCH(B77,'План ввода основ. ср-в'!B:B,0))),0,INDEX('План ввода основ. ср-в'!O:O,MATCH(B77,'План ввода основ. ср-в'!B:B,0)))","v":0},{"$f":"IF(ISNA(INDEX('План ввода основ. ср-в'!R:R,MATCH(B77,'План ввода основ. ср-в'!B:B,0))),0,INDEX('План ввода основ. ср-в'!R:R,MATCH(B77,'План ввода основ. ср-в'!B:B,0)))","v":0},null,{"$f":"IF(ISNA(INDEX('План ввода основ. ср-в'!Q:Q,MATCH(B77,'План ввода основ. ср-в'!B:B,0))),0,INDEX('План ввода основ. ср-в'!Q:Q,MATCH(B77,'План ввода основ. ср-в'!B:B,0)))","v":0},{"$f":"IF(ISNA(INDEX('План ввода основ. ср-в'!T:T,MATCH(B77,'План ввода основ. ср-в'!B:B,0))),0,INDEX('План ввода основ. ср-в'!T:T,MATCH(B77,'План ввода основ. ср-в'!B:B,0)))","v":0},null,{"$f":"IF(ISNA(INDEX('План ввода основ. ср-в'!S:S,MATCH(B77,'План ввода основ. ср-в'!B:B,0))),0,INDEX('План ввода основ. ср-в'!S:S,MATCH(B77,'План ввода основ. ср-в'!B:B,0)))","v":0},2,null,0.25,null,{"$f":"IF(ISNA(INDEX('План ввода основ. ср-в'!W:W,MATCH(B77,'План ввода основ. ср-в'!B:B,0))),0,INDEX('План ввода основ. ср-в'!W:W,MATCH(B77,'План ввода основ. ср-в'!B:B,0)))","v":0.97881355932203395},{"$f":"IF(ISNA(INDEX('План ввода основ. ср-в'!X:X,MATCH(B77,'План ввода основ. ср-в'!B:B,0))),0,INDEX('План ввода основ. ср-в'!X:X,MATCH(B77,'План ввода основ. ср-в'!B:B,0)))","v":2.2838983050847457},{"$f":"IF(ISNA(INDEX('План ввода основ. ср-в'!Y:Y,MATCH(B77,'План ввода основ. ср-в'!B:B,0))),0,INDEX('План ввода основ. ср-в'!Y:Y,MATCH(B77,'План ввода основ. ср-в'!B:B,0)))","v":3.2627118644067798},6.5254237288135588,{"$f":"IF(ISNA(INDEX('План ввода основ. ср-в'!Z:Z,MATCH(B77,'План ввода основ. ср-в'!B:B,0))),0,INDEX('План ввода основ. ср-в'!Z:Z,MATCH(B77,'План ввода основ. ср-в'!B:B,0)))","v":0},{"$f":"IF(ISNA(INDEX('План ввода основ. ср-в'!AA:AA,MATCH(B77,'План ввода основ. ср-в'!B:B,0))),0,INDEX('План ввода основ. ср-в'!AA:AA,MATCH(B77,'План ввода основ. ср-в'!B:B,0)))","v":0},{"$f":"IF(ISNA(INDEX('План ввода основ. ср-в'!AB:AB,MATCH(B77,'План ввода основ. ср-в'!B:B,0))),0,INDEX('План ввода основ. ср-в'!AB:AB,MATCH(B77,'План ввода основ. ср-в'!B:B,0)))","v":0},{"$f":"IF(ISNA(INDEX('План ввода основ. ср-в'!AC:AC,MATCH(B77,'План ввода основ. ср-в'!B:B,0))),0,INDEX('План ввода основ. ср-в'!AC:AC,MATCH(B77,'План ввода основ. ср-в'!B:B,0)))","v":0},6.5254237288135588]
[56,"Реконструкция ВЛ-0,4кВ от КТП Ку 1316/400кВА с заменой КТП",null,null,null,null,null,null,1.6,null,0.4,0,null,0,null,null,null,0,null,0,0,null,0,1.6,null,0.4,5.6949152542372889,{"$f":"IF(ISNA(INDEX('План ввода основ. ср-в'!F:F,MATCH(B78,'План ввода основ. ср-в'!B:B,0))),0,INDEX('План ввода основ. ср-в'!F:F,MATCH(B78,'План ввода основ. ср-в'!B:B,0)))","v":0},null,{"$f":"IF(ISNA(INDEX('План ввода основ. ср-в'!E:E,MATCH(B78,'План ввода основ. ср-в'!B:B,0))),0,INDEX('План ввода основ. ср-в'!E:E,MATCH(B78,'План ввода основ. ср-в'!B:B,0)))","v":0},{"$f":"IF(ISNA(INDEX('План ввода основ. ср-в'!H:H,MATCH(B78,'План ввода основ. ср-в'!B:B,0))),0,INDEX('План ввода основ. ср-в'!H:H,MATCH(B78,'План ввода основ. ср-в'!B:B,0)))","v":0},null,{"$f":"IF(ISNA(INDEX('План ввода основ. ср-в'!G:G,MATCH(B78,'План ввода основ. ср-в'!B:B,0))),0,INDEX('План ввода основ. ср-в'!G:G,MATCH(B78,'План ввода основ. ср-в'!B:B,0)))","v":0},{"$f":"IF(ISNA(INDEX('План ввода основ. ср-в'!J:J,MATCH(B78,'План ввода основ. ср-в'!B:B,0))),0,INDEX('План ввода основ. ср-в'!J:J,MATCH(B78,'План ввода основ. ср-в'!B:B,0)))","v":0},null,{"$f":"IF(ISNA(INDEX('План ввода основ. ср-в'!I:I,MATCH(B78,'План ввода основ. ср-в'!B:B,0))),0,INDEX('План ввода основ. ср-в'!I:I,MATCH(B78,'План ввода основ. ср-в'!B:B,0)))","v":0},{"$f":"IF(ISNA(INDEX('План ввода основ. ср-в'!L:L,MATCH(B78,'План ввода основ. ср-в'!B:B,0))),0,INDEX('План ввода основ. ср-в'!L:L,MATCH(B78,'План ввода основ. ср-в'!B:B,0)))","v":1.6},null,{"$f":"IF(ISNA(INDEX('План ввода основ. ср-в'!K:K,MATCH(B78,'План ввода основ. ср-в'!B:B,0))),0,INDEX('План ввода основ. ср-в'!K:K,MATCH(B78,'План ввода основ. ср-в'!B:B,0)))","v":0.4},1.6,null,0.4,{"$f":"IF(ISNA(INDEX('План ввода основ. ср-в'!N:N,MATCH(B78,'План ввода основ. ср-в'!B:B,0))),0,INDEX('План ввода основ. ср-в'!N:N,MATCH(B78,'План ввода основ. ср-в'!B:B,0)))","v":0},null,{"$f":"IF(ISNA(INDEX('План ввода основ. ср-в'!M:M,MATCH(B78,'План ввода основ. ср-в'!B:B,0))),0,INDEX('План ввода основ. ср-в'!M:M,MATCH(B78,'План ввода основ. ср-в'!B:B,0)))","v":0},{"$f":"IF(ISNA(INDEX('План ввода основ. ср-в'!P:P,MATCH(B78,'План ввода основ. ср-в'!B:B,0))),0,INDEX('План ввода основ. ср-в'!P:P,MATCH(B78,'План ввода основ. ср-в'!B:B,0)))","v":0},null,{"$f":"IF(ISNA(INDEX('План ввода основ. ср-в'!O:O,MATCH(B78,'План ввода основ. ср-в'!B:B,0))),0,INDEX('План ввода основ. ср-в'!O:O,MATCH(B78,'План ввода основ. ср-в'!B:B,0)))","v":0},{"$f":"IF(ISNA(INDEX('План ввода основ. ср-в'!R:R,MATCH(B78,'План ввода основ. ср-в'!B:B,0))),0,INDEX('План ввода основ. ср-в'!R:R,MATCH(B78,'План ввода основ. ср-в'!B:B,0)))","v":0},null,{"$f":"IF(ISNA(INDEX('План ввода основ. ср-в'!Q:Q,MATCH(B78,'План ввода основ. ср-в'!B:B,0))),0,INDEX('План ввода основ. ср-в'!Q:Q,MATCH(B78,'План ввода основ. ср-в'!B:B,0)))","v":0},{"$f":"IF(ISNA(INDEX('План ввода основ. ср-в'!T:T,MATCH(B78,'План ввода основ. ср-в'!B:B,0))),0,INDEX('План ввода основ. ср-в'!T:T,MATCH(B78,'План ввода основ. ср-в'!B:B,0)))","v":0},null,{"$f":"IF(ISNA(INDEX('План ввода основ. ср-в'!S:S,MATCH(B78,'План ввода основ. ср-в'!B:B,0))),0,INDEX('План ввода основ. ср-в'!S:S,MATCH(B78,'План ввода основ. ср-в'!B:B,0)))","v":0},1.6,null,0.4,null,{"$f":"IF(ISNA(INDEX('План ввода основ. ср-в'!W:W,MATCH(B78,'План ввода основ. ср-в'!B:B,0))),0,INDEX('План ввода основ. ср-в'!W:W,MATCH(B78,'План ввода основ. ср-в'!B:B,0)))","v":0.8542372881355933},{"$f":"IF(ISNA(INDEX('План ввода основ. ср-в'!X:X,MATCH(B78,'План ввода основ. ср-в'!B:B,0))),0,INDEX('План ввода основ. ср-в'!X:X,MATCH(B78,'План ввода основ. ср-в'!B:B,0)))","v":1.993220338983051},{"$f":"IF(ISNA(INDEX('План ввода основ. ср-в'!Y:Y,MATCH(B78,'План ввода основ. ср-в'!B:B,0))),0,INDEX('План ввода основ. ср-в'!Y:Y,MATCH(B78,'План ввода основ. ср-в'!B:B,0)))","v":2.8474576271186445},5.6949152542372889,{"$f":"IF(ISNA(INDEX('План ввода основ. ср-в'!Z:Z,MATCH(B78,'План ввода основ. ср-в'!B:B,0))),0,INDEX('План ввода основ. ср-в'!Z:Z,MATCH(B78,'План ввода основ. ср-в'!B:B,0)))","v":0},{"$f":"IF(ISNA(INDEX('План ввода основ. ср-в'!AA:AA,MATCH(B78,'План ввода основ. ср-в'!B:B,0))),0,INDEX('План ввода основ. ср-в'!AA:AA,MATCH(B78,'План ввода основ. ср-в'!B:B,0)))","v":0},{"$f":"IF(ISNA(INDEX('План ввода основ. ср-в'!AB:AB,MATCH(B78,'План ввода основ. ср-в'!B:B,0))),0,INDEX('План ввода основ. ср-в'!AB:AB,MATCH(B78,'План ввода основ. ср-в'!B:B,0)))","v":0},{"$f":"IF(ISNA(INDEX('План ввода основ. ср-в'!AC:AC,MATCH(B78,'План ввода основ. ср-в'!B:B,0))),0,INDEX('План ввода основ. ср-в'!AC:AC,MATCH(B78,'План ввода основ. ср-в'!B:B,0)))","v":0},5.6949152542372889]
[57,"Реконструкция ВЛ-0,4 кВ от ЗТП Ч 405/400 кВА с заменой ЗТП на КТП 400кВА",null,null,null,null,null,null,4.32,"/",0.4,0,"",0,0,"",0,0,"",0,0,"",0,4.32,"/",0.4,13.071186440677966,{"$f":"IF(ISNA(INDEX('План ввода основ. ср-в'!F:F,MATCH(B79,'План ввода основ. ср-в'!B:B,0))),0,INDEX('План ввода основ. ср-в'!F:F,MATCH(B79,'План ввода основ. ср-в'!B:B,0)))","v":0},"",{"$f":"IF(ISNA(INDEX('План ввода основ. ср-в'!E:E,MATCH(B79,'План ввода основ. ср-в'!B:B,0))),0,INDEX('План ввода основ. ср-в'!E:E,MATCH(B79,'План ввода основ. ср-в'!B:B,0)))","v":0},{"$f":"IF(ISNA(INDEX('План ввода основ. ср-в'!H:H,MATCH(B79,'План ввода основ. ср-в'!B:B,0))),0,INDEX('План ввода основ. ср-в'!H:H,MATCH(B79,'План ввода основ. ср-в'!B:B,0)))","v":0},"",{"$f":"IF(ISNA(INDEX('План ввода основ. ср-в'!G:G,MATCH(B79,'План ввода основ. ср-в'!B:B,0))),0,INDEX('План ввода основ. ср-в'!G:G,MATCH(B79,'План ввода основ. ср-в'!B:B,0)))","v":0},{"$f":"IF(ISNA(INDEX('План ввода основ. ср-в'!J:J,MATCH(B79,'План ввода основ. ср-в'!B:B,0))),0,INDEX('План ввода основ. ср-в'!J:J,MATCH(B79,'План ввода основ. ср-в'!B:B,0)))","v":0},"",{"$f":"IF(ISNA(INDEX('План ввода основ. ср-в'!I:I,MATCH(B79,'План ввода основ. ср-в'!B:B,0))),0,INDEX('План ввода основ. ср-в'!I:I,MATCH(B79,'План ввода основ. ср-в'!B:B,0)))","v":0},{"$f":"IF(ISNA(INDEX('План ввода основ. ср-в'!L:L,MATCH(B79,'План ввода основ. ср-в'!B:B,0))),0,INDEX('План ввода основ. ср-в'!L:L,MATCH(B79,'План ввода основ. ср-в'!B:B,0)))","v":4.32},"/",{"$f":"IF(ISNA(INDEX('План ввода основ. ср-в'!K:K,MATCH(B79,'План ввода основ. ср-в'!B:B,0))),0,INDEX('План ввода основ. ср-в'!K:K,MATCH(B79,'План ввода основ. ср-в'!B:B,0)))","v":0.4},4.32,"/",0.4,{"$f":"IF(ISNA(INDEX('План ввода основ. ср-в'!N:N,MATCH(B79,'План ввода основ. ср-в'!B:B,0))),0,INDEX('План ввода основ. ср-в'!N:N,MATCH(B79,'План ввода основ. ср-в'!B:B,0)))","v":0},"",{"$f":"IF(ISNA(INDEX('План ввода основ. ср-в'!M:M,MATCH(B79,'План ввода основ. ср-в'!B:B,0))),0,INDEX('План ввода основ. ср-в'!M:M,MATCH(B79,'План ввода основ. ср-в'!B:B,0)))","v":0},{"$f":"IF(ISNA(INDEX('План ввода основ. ср-в'!P:P,MATCH(B79,'План ввода основ. ср-в'!B:B,0))),0,INDEX('План ввода основ. ср-в'!P:P,MATCH(B79,'План ввода основ. ср-в'!B:B,0)))","v":0},"",{"$f":"IF(ISNA(INDEX('План ввода основ. ср-в'!O:O,MATCH(B79,'План ввода основ. ср-в'!B:B,0))),0,INDEX('План ввода основ. ср-в'!O:O,MATCH(B79,'План ввода основ. ср-в'!B:B,0)))","v":0},{"$f":"IF(ISNA(INDEX('План ввода основ. ср-в'!R:R,MATCH(B79,'План ввода основ. ср-в'!B:B,0))),0,INDEX('План ввода основ. ср-в'!R:R,MATCH(B79,'План ввода основ. ср-в'!B:B,0)))","v":0},"",{"$f":"IF(ISNA(INDEX('План ввода основ. ср-в'!Q:Q,MATCH(B79,'План ввода основ. ср-в'!B:B,0))),0,INDEX('План ввода основ. ср-в'!Q:Q,MATCH(B79,'План ввода основ. ср-в'!B:B,0)))","v":0},{"$f":"IF(ISNA(INDEX('План ввода основ. ср-в'!T:T,MATCH(B79,'План ввода основ. ср-в'!B:B,0))),0,INDEX('План ввода основ. ср-в'!T:T,MATCH(B79,'План ввода основ. ср-в'!B:B,0)))","v":0},"",{"$f":"IF(ISNA(INDEX('План ввода основ. ср-в'!S:S,MATCH(B79,'План ввода основ. ср-в'!B:B,0))),0,INDEX('План ввода основ. ср-в'!S:S,MATCH(B79,'План ввода основ. ср-в'!B:B,0)))","v":0},4.32,"/",0.4,{"$f":"IF(ISNA(INDEX('План ввода основ. ср-в'!V:V,MATCH(B79,'План ввода основ. ср-в'!B:B,0))),0,INDEX('План ввода основ. ср-в'!V:V,MATCH(B79,'План ввода основ. ср-в'!B:B,0)))","v":0},{"$f":"IF(ISNA(INDEX('План ввода основ. ср-в'!W:W,MATCH(B79,'План ввода основ. ср-в'!B:B,0))),0,INDEX('План ввода основ. ср-в'!W:W,MATCH(B79,'План ввода основ. ср-в'!B:B,0)))","v":1.9606779661016949},{"$f":"IF(ISNA(INDEX('План ввода основ. ср-в'!X:X,MATCH(B79,'План ввода основ. ср-в'!B:B,0))),0,INDEX('План ввода основ. ср-в'!X:X,MATCH(B79,'План ввода основ. ср-в'!B:B,0)))","v":4.574915254237288},{"$f":"IF(ISNA(INDEX('План ввода основ. ср-в'!Y:Y,MATCH(B79,'План ввода основ. ср-в'!B:B,0))),0,INDEX('План ввода основ. ср-в'!Y:Y,MATCH(B79,'План ввода основ. ср-в'!B:B,0)))","v":6.535593220338983},13.071186440677966,{"$f":"IF(ISNA(INDEX('План ввода основ. ср-в'!Z:Z,MATCH(B79,'План ввода основ. ср-в'!B:B,0))),0,INDEX('План ввода основ. ср-в'!Z:Z,MATCH(B79,'План ввода основ. ср-в'!B:B,0)))","v":0},{"$f":"IF(ISNA(INDEX('План ввода основ. ср-в'!AA:AA,MATCH(B79,'План ввода основ. ср-в'!B:B,0))),0,INDEX('План ввода основ. ср-в'!AA:AA,MATCH(B79,'План ввода основ. ср-в'!B:B,0)))","v":0},{"$f":"IF(ISNA(INDEX('План ввода основ. ср-в'!AB:AB,MATCH(B79,'План ввода основ. ср-в'!B:B,0))),0,INDEX('План ввода основ. ср-в'!AB:AB,MATCH(B79,'План ввода основ. ср-в'!B:B,0)))","v":0},{"$f":"IF(ISNA(INDEX('План ввода основ. ср-в'!AC:AC,MATCH(B79,'План ввода основ. ср-в'!B:B,0))),0,INDEX('План ввода основ. ср-в'!AC:AC,MATCH(B79,'План ввода основ. ср-в'!B:B,0)))","v":0},13.071186440677966]
[58,"Реконструкция ВЛ-0,4 кВ от КТП Ку 1309/250 кВА",null,null,null,null,null,null,6,"/",0,0,"",0,0,"",0,0,"",0,0,"",0,6,"/",0,16.271186440677965,{"$f":"IF(ISNA(INDEX('План ввода основ. ср-в'!F:F,MATCH(B80,'План ввода основ. ср-в'!B:B,0))),0,INDEX('План ввода основ. ср-в'!F:F,MATCH(B80,'План ввода основ. ср-в'!B:B,0)))","v":0},"",{"$f":"IF(ISNA(INDEX('План ввода основ. ср-в'!E:E,MATCH(B80,'План ввода основ. ср-в'!B:B,0))),0,INDEX('План ввода основ. ср-в'!E:E,MATCH(B80,'План ввода основ. ср-в'!B:B,0)))","v":0},{"$f":"IF(ISNA(INDEX('План ввода основ. ср-в'!H:H,MATCH(B80,'План ввода основ. ср-в'!B:B,0))),0,INDEX('План ввода основ. ср-в'!H:H,MATCH(B80,'План ввода основ. ср-в'!B:B,0)))","v":0},"",{"$f":"IF(ISNA(INDEX('План ввода основ. ср-в'!G:G,MATCH(B80,'План ввода основ. ср-в'!B:B,0))),0,INDEX('План ввода основ. ср-в'!G:G,MATCH(B80,'План ввода основ. ср-в'!B:B,0)))","v":0},{"$f":"IF(ISNA(INDEX('План ввода основ. ср-в'!J:J,MATCH(B80,'План ввода основ. ср-в'!B:B,0))),0,INDEX('План ввода основ. ср-в'!J:J,MATCH(B80,'План ввода основ. ср-в'!B:B,0)))","v":0},"",{"$f":"IF(ISNA(INDEX('План ввода основ. ср-в'!I:I,MATCH(B80,'План ввода основ. ср-в'!B:B,0))),0,INDEX('План ввода основ. ср-в'!I:I,MATCH(B80,'План ввода основ. ср-в'!B:B,0)))","v":0},{"$f":"IF(ISNA(INDEX('План ввода основ. ср-в'!L:L,MATCH(B80,'План ввода основ. ср-в'!B:B,0))),0,INDEX('План ввода основ. ср-в'!L:L,MATCH(B80,'План ввода основ. ср-в'!B:B,0)))","v":6},"/",{"$f":"IF(ISNA(INDEX('План ввода основ. ср-в'!K:K,MATCH(B80,'План ввода основ. ср-в'!B:B,0))),0,INDEX('План ввода основ. ср-в'!K:K,MATCH(B80,'План ввода основ. ср-в'!B:B,0)))","v":0},6,"/",0,{"$f":"IF(ISNA(INDEX('План ввода основ. ср-в'!N:N,MATCH(B80,'План ввода основ. ср-в'!B:B,0))),0,INDEX('План ввода основ. ср-в'!N:N,MATCH(B80,'План ввода основ. ср-в'!B:B,0)))","v":0},"",{"$f":"IF(ISNA(INDEX('План ввода основ. ср-в'!M:M,MATCH(B80,'План ввода основ. ср-в'!B:B,0))),0,INDEX('План ввода основ. ср-в'!M:M,MATCH(B80,'План ввода основ. ср-в'!B:B,0)))","v":0},{"$f":"IF(ISNA(INDEX('План ввода основ. ср-в'!P:P,MATCH(B80,'План ввода основ. ср-в'!B:B,0))),0,INDEX('План ввода основ. ср-в'!P:P,MATCH(B80,'План ввода основ. ср-в'!B:B,0)))","v":0},"",{"$f":"IF(ISNA(INDEX('План ввода основ. ср-в'!O:O,MATCH(B80,'План ввода основ. ср-в'!B:B,0))),0,INDEX('План ввода основ. ср-в'!O:O,MATCH(B80,'План ввода основ. ср-в'!B:B,0)))","v":0},{"$f":"IF(ISNA(INDEX('План ввода основ. ср-в'!R:R,MATCH(B80,'План ввода основ. ср-в'!B:B,0))),0,INDEX('План ввода основ. ср-в'!R:R,MATCH(B80,'План ввода основ. ср-в'!B:B,0)))","v":0},"",{"$f":"IF(ISNA(INDEX('План ввода основ. ср-в'!Q:Q,MATCH(B80,'План ввода основ. ср-в'!B:B,0))),0,INDEX('План ввода основ. ср-в'!Q:Q,MATCH(B80,'План ввода основ. ср-в'!B:B,0)))","v":0},{"$f":"IF(ISNA(INDEX('План ввода основ. ср-в'!T:T,MATCH(B80,'План ввода основ. ср-в'!B:B,0))),0,INDEX('План ввода основ. ср-в'!T:T,MATCH(B80,'План ввода основ. ср-в'!B:B,0)))","v":0},"",{"$f":"IF(ISNA(INDEX('План ввода основ. ср-в'!S:S,MATCH(B80,'План ввода основ. ср-в'!B:B,0))),0,INDEX('План ввода основ. ср-в'!S:S,MATCH(B80,'План ввода основ. ср-в'!B:B,0)))","v":0},6,"/",0,{"$f":"IF(ISNA(INDEX('План ввода основ. ср-в'!V:V,MATCH(B80,'План ввода основ. ср-в'!B:B,0))),0,INDEX('План ввода основ. ср-в'!V:V,MATCH(B80,'План ввода основ. ср-в'!B:B,0)))","v":0},{"$f":"IF(ISNA(INDEX('План ввода основ. ср-в'!W:W,MATCH(B80,'План ввода основ. ср-в'!B:B,0))),0,INDEX('План ввода основ. ср-в'!W:W,MATCH(B80,'План ввода основ. ср-в'!B:B,0)))","v":2.4406779661016946},{"$f":"IF(ISNA(INDEX('План ввода основ. ср-в'!X:X,MATCH(B80,'План ввода основ. ср-в'!B:B,0))),0,INDEX('План ввода основ. ср-в'!X:X,MATCH(B80,'План ввода основ. ср-в'!B:B,0)))","v":5.6949152542372872},{"$f":"IF(ISNA(INDEX('План ввода основ. ср-в'!Y:Y,MATCH(B80,'План ввода основ. ср-в'!B:B,0))),0,INDEX('План ввода основ. ср-в'!Y:Y,MATCH(B80,'План ввода основ. ср-в'!B:B,0)))","v":8.1355932203389827},16.271186440677965,{"$f":"IF(ISNA(INDEX('План ввода основ. ср-в'!Z:Z,MATCH(B80,'План ввода основ. ср-в'!B:B,0))),0,INDEX('План ввода основ. ср-в'!Z:Z,MATCH(B80,'План ввода основ. ср-в'!B:B,0)))","v":0},{"$f":"IF(ISNA(INDEX('План ввода основ. ср-в'!AA:AA,MATCH(B80,'План ввода основ. ср-в'!B:B,0))),0,INDEX('План ввода основ. ср-в'!AA:AA,MATCH(B80,'План ввода основ. ср-в'!B:B,0)))","v":0},{"$f":"IF(ISNA(INDEX('План ввода основ. ср-в'!AB:AB,MATCH(B80,'План ввода основ. ср-в'!B:B,0))),0,INDEX('План ввода основ. ср-в'!AB:AB,MATCH(B80,'План ввода основ. ср-в'!B:B,0)))","v":0},{"$f":"IF(ISNA(INDEX('План ввода основ. ср-в'!AC:AC,MATCH(B80,'План ввода основ. ср-в'!B:B,0))),0,INDEX('План ввода основ. ср-в'!AC:AC,MATCH(B80,'План ввода основ. ср-в'!B:B,0)))","v":0},16.271186440677965]
[59,"Реконструкция ВЛ-0,4 кВ от ЗТП Ч 1703/400 кВА",null,null,null,null,null,null,0,{"$f":"IF(AND(I81=0,K81=0),\"\",\"/\")","v":""},0,7.6,{"$f":"IF(AND(L81=0,N81=0),\"\",\"/\")","v":"/"},0,0,{"$f":"IF(AND(O81=0,Q81=0),\"\",\"/\")","v":""},0,0,{"$f":"IF(AND(R81=0,T81=0),\"\",\"/\")","v":""},0,0,{"$f":"IF(AND(U81=0,W81=0),\"\",\"/\")","v":""},0,7.6,"/",0,18.033898305084744,{"$f":"IF(ISNA(INDEX('План ввода основ. ср-в'!F:F,MATCH(B81,'План ввода основ. ср-в'!B:B,0))),0,INDEX('План ввода основ. ср-в'!F:F,MATCH(B81,'План ввода основ. ср-в'!B:B,0)))","v":0},{"$f":"IF(AND(AB81=0,AD81=0),\"\",\"/\")","v":""},{"$f":"IF(ISNA(INDEX('План ввода основ. ср-в'!E:E,MATCH(B81,'План ввода основ. ср-в'!B:B,0))),0,INDEX('План ввода основ. ср-в'!E:E,MATCH(B81,'План ввода основ. ср-в'!B:B,0)))","v":0},{"$f":"IF(ISNA(INDEX('План ввода основ. ср-в'!H:H,MATCH(B81,'План ввода основ. ср-в'!B:B,0))),0,INDEX('План ввода основ. ср-в'!H:H,MATCH(B81,'План ввода основ. ср-в'!B:B,0)))","v":0},{"$f":"IF(AND(AE81=0,AG81=0),\"\",\"/\")","v":""},{"$f":"IF(ISNA(INDEX('План ввода основ. ср-в'!G:G,MATCH(B81,'План ввода основ. ср-в'!B:B,0))),0,INDEX('План ввода основ. ср-в'!G:G,MATCH(B81,'План ввода основ. ср-в'!B:B,0)))","v":0},{"$f":"IF(ISNA(INDEX('План ввода основ. ср-в'!J:J,MATCH(B81,'План ввода основ. ср-в'!B:B,0))),0,INDEX('План ввода основ. ср-в'!J:J,MATCH(B81,'План ввода основ. ср-в'!B:B,0)))","v":0},{"$f":"IF(AND(AH81=0,AJ81=0),\"\",\"/\")","v":""},{"$f":"IF(ISNA(INDEX('План ввода основ. ср-в'!I:I,MATCH(B81,'План ввода основ. ср-в'!B:B,0))),0,INDEX('План ввода основ. ср-в'!I:I,MATCH(B81,'План ввода основ. ср-в'!B:B,0)))","v":0},{"$f":"IF(ISNA(INDEX('План ввода основ. ср-в'!L:L,MATCH(B81,'План ввода основ. ср-в'!B:B,0))),0,INDEX('План ввода основ. ср-в'!L:L,MATCH(B81,'План ввода основ. ср-в'!B:B,0)))","v":0},{"$f":"IF(AND(AK81=0,AM81=0),\"\",\"/\")","v":""},{"$f":"IF(ISNA(INDEX('План ввода основ. ср-в'!K:K,MATCH(B81,'План ввода основ. ср-в'!B:B,0))),0,INDEX('План ввода основ. ср-в'!K:K,MATCH(B81,'План ввода основ. ср-в'!B:B,0)))","v":0},0,"/",0,{"$f":"IF(ISNA(INDEX('План ввода основ. ср-в'!N:N,MATCH(B81,'План ввода основ. ср-в'!B:B,0))),0,INDEX('План ввода основ. ср-в'!N:N,MATCH(B81,'План ввода основ. ср-в'!B:B,0)))","v":7.6},{"$f":"IF(AND(AQ81=0,AS81=0),\"\",\"/\")","v":"/"},{"$f":"IF(ISNA(INDEX('План ввода основ. ср-в'!M:M,MATCH(B81,'План ввода основ. ср-в'!B:B,0))),0,INDEX('План ввода основ. ср-в'!M:M,MATCH(B81,'План ввода основ. ср-в'!B:B,0)))","v":0},{"$f":"IF(ISNA(INDEX('План ввода основ. ср-в'!P:P,MATCH(B81,'План ввода основ. ср-в'!B:B,0))),0,INDEX('План ввода основ. ср-в'!P:P,MATCH(B81,'План ввода основ. ср-в'!B:B,0)))","v":0},{"$f":"IF(AND(AT81=0,AV81=0),\"\",\"/\")","v":""},{"$f":"IF(ISNA(INDEX('План ввода основ. ср-в'!O:O,MATCH(B81,'План ввода основ. ср-в'!B:B,0))),0,INDEX('План ввода основ. ср-в'!O:O,MATCH(B81,'План ввода основ. ср-в'!B:B,0)))","v":0},{"$f":"IF(ISNA(INDEX('План ввода основ. ср-в'!R:R,MATCH(B81,'План ввода основ. ср-в'!B:B,0))),0,INDEX('План ввода основ. ср-в'!R:R,MATCH(B81,'План ввода основ. ср-в'!B:B,0)))","v":0},{"$f":"IF(AND(AW81=0,AY81=0),\"\",\"/\")","v":""},{"$f":"IF(ISNA(INDEX('План ввода основ. ср-в'!Q:Q,MATCH(B81,'План ввода основ. ср-в'!B:B,0))),0,INDEX('План ввода основ. ср-в'!Q:Q,MATCH(B81,'План ввода основ. ср-в'!B:B,0)))","v":0},{"$f":"IF(ISNA(INDEX('План ввода основ. ср-в'!T:T,MATCH(B81,'План ввода основ. ср-в'!B:B,0))),0,INDEX('План ввода основ. ср-в'!T:T,MATCH(B81,'План ввода основ. ср-в'!B:B,0)))","v":0},{"$f":"IF(AND(AZ81=0,BB81=0),\"\",\"/\")","v":""},{"$f":"IF(ISNA(INDEX('План ввода основ. ср-в'!S:S,MATCH(B81,'План ввода основ. ср-в'!B:B,0))),0,INDEX('План ввода основ. ср-в'!S:S,MATCH(B81,'План ввода основ. ср-в'!B:B,0)))","v":0},7.6,"/",0,{"$f":"IF(ISNA(INDEX('План ввода основ. ср-в'!V:V,MATCH(B81,'План ввода основ. ср-в'!B:B,0))),0,INDEX('План ввода основ. ср-в'!V:V,MATCH(B81,'План ввода основ. ср-в'!B:B,0)))","v":0},{"$f":"IF(ISNA(INDEX('План ввода основ. ср-в'!W:W,MATCH(B81,'План ввода основ. ср-в'!B:B,0))),0,INDEX('План ввода основ. ср-в'!W:W,MATCH(B81,'План ввода основ. ср-в'!B:B,0)))","v":0},{"$f":"IF(ISNA(INDEX('План ввода основ. ср-в'!X:X,MATCH(B81,'План ввода основ. ср-в'!B:B,0))),0,INDEX('План ввода основ. ср-в'!X:X,MATCH(B81,'План ввода основ. ср-в'!B:B,0)))","v":0},{"$f":"IF(ISNA(INDEX('План ввода основ. ср-в'!Y:Y,MATCH(B81,'План ввода основ. ср-в'!B:B,0))),0,INDEX('План ввода основ. ср-в'!Y:Y,MATCH(B81,'План ввода основ. ср-в'!B:B,0)))","v":0},0,{"$f":"IF(ISNA(INDEX('План ввода основ. ср-в'!Z:Z,MATCH(B81,'План ввода основ. ср-в'!B:B,0))),0,INDEX('План ввода основ. ср-в'!Z:Z,MATCH(B81,'План ввода основ. ср-в'!B:B,0)))","v":18.033898305084744},{"$f":"IF(ISNA(INDEX('План ввода основ. ср-в'!AA:AA,MATCH(B81,'План ввода основ. ср-в'!B:B,0))),0,INDEX('План ввода основ. ср-в'!AA:AA,MATCH(B81,'План ввода основ. ср-в'!B:B,0)))","v":0},{"$f":"IF(ISNA(INDEX('План ввода основ. ср-в'!AB:AB,MATCH(B81,'План ввода основ. ср-в'!B:B,0))),0,INDEX('План ввода основ. ср-в'!AB:AB,MATCH(B81,'План ввода основ. ср-в'!B:B,0)))","v":0},{"$f":"IF(ISNA(INDEX('План ввода основ. ср-в'!AC:AC,MATCH(B81,'План ввода основ. ср-в'!B:B,0))),0,INDEX('План ввода основ. ср-в'!AC:AC,MATCH(B81,'План ввода основ. ср-в'!B:B,0)))","v":0},18.033898305084744]
[60,"Реконструкция ВЛ-0,4 кВ от КТП Ч 417/250 кВА",null,null,null,null,null,null,0,"",0,3.4,"/",0,0,"",0,0,"",0,0,"",0,3.4,"/",0,8.0677966101694913,{"$f":"IF(ISNA(INDEX('План ввода основ. ср-в'!F:F,MATCH(B82,'План ввода основ. ср-в'!B:B,0))),0,INDEX('План ввода основ. ср-в'!F:F,MATCH(B82,'План ввода основ. ср-в'!B:B,0)))","v":0},"",{"$f":"IF(ISNA(INDEX('План ввода основ. ср-в'!E:E,MATCH(B82,'План ввода основ. ср-в'!B:B,0))),0,INDEX('План ввода основ. ср-в'!E:E,MATCH(B82,'План ввода основ. ср-в'!B:B,0)))","v":0},{"$f":"IF(ISNA(INDEX('План ввода основ. ср-в'!H:H,MATCH(B82,'План ввода основ. ср-в'!B:B,0))),0,INDEX('План ввода основ. ср-в'!H:H,MATCH(B82,'План ввода основ. ср-в'!B:B,0)))","v":0},"",{"$f":"IF(ISNA(INDEX('План ввода основ. ср-в'!G:G,MATCH(B82,'План ввода основ. ср-в'!B:B,0))),0,INDEX('План ввода основ. ср-в'!G:G,MATCH(B82,'План ввода основ. ср-в'!B:B,0)))","v":0},{"$f":"IF(ISNA(INDEX('План ввода основ. ср-в'!J:J,MATCH(B82,'План ввода основ. ср-в'!B:B,0))),0,INDEX('План ввода основ. ср-в'!J:J,MATCH(B82,'План ввода основ. ср-в'!B:B,0)))","v":0},"",{"$f":"IF(ISNA(INDEX('План ввода основ. ср-в'!I:I,MATCH(B82,'План ввода основ. ср-в'!B:B,0))),0,INDEX('План ввода основ. ср-в'!I:I,MATCH(B82,'План ввода основ. ср-в'!B:B,0)))","v":0},{"$f":"IF(ISNA(INDEX('План ввода основ. ср-в'!L:L,MATCH(B82,'План ввода основ. ср-в'!B:B,0))),0,INDEX('План ввода основ. ср-в'!L:L,MATCH(B82,'План ввода основ. ср-в'!B:B,0)))","v":0},"",{"$f":"IF(ISNA(INDEX('План ввода основ. ср-в'!K:K,MATCH(B82,'План ввода основ. ср-в'!B:B,0))),0,INDEX('План ввода основ. ср-в'!K:K,MATCH(B82,'План ввода основ. ср-в'!B:B,0)))","v":0},0,"/",0,{"$f":"IF(ISNA(INDEX('План ввода основ. ср-в'!N:N,MATCH(B82,'План ввода основ. ср-в'!B:B,0))),0,INDEX('План ввода основ. ср-в'!N:N,MATCH(B82,'План ввода основ. ср-в'!B:B,0)))","v":3.4},"/",{"$f":"IF(ISNA(INDEX('План ввода основ. ср-в'!M:M,MATCH(B82,'План ввода основ. ср-в'!B:B,0))),0,INDEX('План ввода основ. ср-в'!M:M,MATCH(B82,'План ввода основ. ср-в'!B:B,0)))","v":0},{"$f":"IF(ISNA(INDEX('План ввода основ. ср-в'!P:P,MATCH(B82,'План ввода основ. ср-в'!B:B,0))),0,INDEX('План ввода основ. ср-в'!P:P,MATCH(B82,'План ввода основ. ср-в'!B:B,0)))","v":0},"",{"$f":"IF(ISNA(INDEX('План ввода основ. ср-в'!O:O,MATCH(B82,'План ввода основ. ср-в'!B:B,0))),0,INDEX('План ввода основ. ср-в'!O:O,MATCH(B82,'План ввода основ. ср-в'!B:B,0)))","v":0},{"$f":"IF(ISNA(INDEX('План ввода основ. ср-в'!R:R,MATCH(B82,'План ввода основ. ср-в'!B:B,0))),0,INDEX('План ввода основ. ср-в'!R:R,MATCH(B82,'План ввода основ. ср-в'!B:B,0)))","v":0},"",{"$f":"IF(ISNA(INDEX('План ввода основ. ср-в'!Q:Q,MATCH(B82,'План ввода основ. ср-в'!B:B,0))),0,INDEX('План ввода основ. ср-в'!Q:Q,MATCH(B82,'План ввода основ. ср-в'!B:B,0)))","v":0},{"$f":"IF(ISNA(INDEX('План ввода основ. ср-в'!T:T,MATCH(B82,'План ввода основ. ср-в'!B:B,0))),0,INDEX('План ввода основ. ср-в'!T:T,MATCH(B82,'План ввода основ. ср-в'!B:B,0)))","v":0},"",{"$f":"IF(ISNA(INDEX('План ввода основ. ср-в'!S:S,MATCH(B82,'План ввода основ. ср-в'!B:B,0))),0,INDEX('План ввода основ. ср-в'!S:S,MATCH(B82,'План ввода основ. ср-в'!B:B,0)))","v":0},3.4,"/",0,{"$f":"IF(ISNA(INDEX('План ввода основ. ср-в'!V:V,MATCH(B82,'План ввода основ. ср-в'!B:B,0))),0,INDEX('План ввода основ. ср-в'!V:V,MATCH(B82,'План ввода основ. ср-в'!B:B,0)))","v":0},{"$f":"IF(ISNA(INDEX('План ввода основ. ср-в'!W:W,MATCH(B82,'План ввода основ. ср-в'!B:B,0))),0,INDEX('План ввода основ. ср-в'!W:W,MATCH(B82,'План ввода основ. ср-в'!B:B,0)))","v":0},{"$f":"IF(ISNA(INDEX('План ввода основ. ср-в'!X:X,MATCH(B82,'План ввода основ. ср-в'!B:B,0))),0,INDEX('План ввода основ. ср-в'!X:X,MATCH(B82,'План ввода основ. ср-в'!B:B,0)))","v":0},{"$f":"IF(ISNA(INDEX('План ввода основ. ср-в'!Y:Y,MATCH(B82,'План ввода основ. ср-в'!B:B,0))),0,INDEX('План ввода основ. ср-в'!Y:Y,MATCH(B82,'План ввода основ. ср-в'!B:B,0)))","v":0},0,{"$f":"IF(ISNA(INDEX('План ввода основ. ср-в'!Z:Z,MATCH(B82,'План ввода основ. ср-в'!B:B,0))),0,INDEX('План ввода основ. ср-в'!Z:Z,MATCH(B82,'План ввода основ. ср-в'!B:B,0)))","v":8.0677966101694913},{"$f":"IF(ISNA(INDEX('План ввода основ. ср-в'!AA:AA,MATCH(B82,'План ввода основ. ср-в'!B:B,0))),0,INDEX('План ввода основ. ср-в'!AA:AA,MATCH(B82,'План ввода основ. ср-в'!B:B,0)))","v":0},{"$f":"IF(ISNA(INDEX('План ввода основ. ср-в'!AB:AB,MATCH(B82,'План ввода основ. ср-в'!B:B,0))),0,INDEX('План ввода основ. ср-в'!AB:AB,MATCH(B82,'План ввода основ. ср-в'!B:B,0)))","v":0},{"$f":"IF(ISNA(INDEX('План ввода основ. ср-в'!AC:AC,MATCH(B82,'План ввода основ. ср-в'!B:B,0))),0,INDEX('План ввода основ. ср-в'!AC:AC,MATCH(B82,'План ввода основ. ср-в'!B:B,0)))","v":0},8.0677966101694913]
[61,"Реконструкция ВЛ-0,4 кВ от КТП Ку 1312/250 кВА",null,null,null,null,null,null,0,"",0,2.5,"/",0,0,"",0,0,"",0,0,"",0,2.5,"/",0,5.9322033898305087,{"$f":"IF(ISNA(INDEX('План ввода основ. ср-в'!F:F,MATCH(B83,'План ввода основ. ср-в'!B:B,0))),0,INDEX('План ввода основ. ср-в'!F:F,MATCH(B83,'План ввода основ. ср-в'!B:B,0)))","v":0},"",{"$f":"IF(ISNA(INDEX('План ввода основ. ср-в'!E:E,MATCH(B83,'План ввода основ. ср-в'!B:B,0))),0,INDEX('План ввода основ. ср-в'!E:E,MATCH(B83,'План ввода основ. ср-в'!B:B,0)))","v":0},{"$f":"IF(ISNA(INDEX('План ввода основ. ср-в'!H:H,MATCH(B83,'План ввода основ. ср-в'!B:B,0))),0,INDEX('План ввода основ. ср-в'!H:H,MATCH(B83,'План ввода основ. ср-в'!B:B,0)))","v":0},"",{"$f":"IF(ISNA(INDEX('План ввода основ. ср-в'!G:G,MATCH(B83,'План ввода основ. ср-в'!B:B,0))),0,INDEX('План ввода основ. ср-в'!G:G,MATCH(B83,'План ввода основ. ср-в'!B:B,0)))","v":0},{"$f":"IF(ISNA(INDEX('План ввода основ. ср-в'!J:J,MATCH(B83,'План ввода основ. ср-в'!B:B,0))),0,INDEX('План ввода основ. ср-в'!J:J,MATCH(B83,'План ввода основ. ср-в'!B:B,0)))","v":0},"",{"$f":"IF(ISNA(INDEX('План ввода основ. ср-в'!I:I,MATCH(B83,'План ввода основ. ср-в'!B:B,0))),0,INDEX('План ввода основ. ср-в'!I:I,MATCH(B83,'План ввода основ. ср-в'!B:B,0)))","v":0},{"$f":"IF(ISNA(INDEX('План ввода основ. ср-в'!L:L,MATCH(B83,'План ввода основ. ср-в'!B:B,0))),0,INDEX('План ввода основ. ср-в'!L:L,MATCH(B83,'План ввода основ. ср-в'!B:B,0)))","v":0},"",{"$f":"IF(ISNA(INDEX('План ввода основ. ср-в'!K:K,MATCH(B83,'План ввода основ. ср-в'!B:B,0))),0,INDEX('План ввода основ. ср-в'!K:K,MATCH(B83,'План ввода основ. ср-в'!B:B,0)))","v":0},0,"/",0,{"$f":"IF(ISNA(INDEX('План ввода основ. ср-в'!N:N,MATCH(B83,'План ввода основ. ср-в'!B:B,0))),0,INDEX('План ввода основ. ср-в'!N:N,MATCH(B83,'План ввода основ. ср-в'!B:B,0)))","v":2.5},"/",{"$f":"IF(ISNA(INDEX('План ввода основ. ср-в'!M:M,MATCH(B83,'План ввода основ. ср-в'!B:B,0))),0,INDEX('План ввода основ. ср-в'!M:M,MATCH(B83,'План ввода основ. ср-в'!B:B,0)))","v":0},{"$f":"IF(ISNA(INDEX('План ввода основ. ср-в'!P:P,MATCH(B83,'План ввода основ. ср-в'!B:B,0))),0,INDEX('План ввода основ. ср-в'!P:P,MATCH(B83,'План ввода основ. ср-в'!B:B,0)))","v":0},"",{"$f":"IF(ISNA(INDEX('План ввода основ. ср-в'!O:O,MATCH(B83,'План ввода основ. ср-в'!B:B,0))),0,INDEX('План ввода основ. ср-в'!O:O,MATCH(B83,'План ввода основ. ср-в'!B:B,0)))","v":0},{"$f":"IF(ISNA(INDEX('План ввода основ. ср-в'!R:R,MATCH(B83,'План ввода основ. ср-в'!B:B,0))),0,INDEX('План ввода основ. ср-в'!R:R,MATCH(B83,'План ввода основ. ср-в'!B:B,0)))","v":0},"",{"$f":"IF(ISNA(INDEX('План ввода основ. ср-в'!Q:Q,MATCH(B83,'План ввода основ. ср-в'!B:B,0))),0,INDEX('План ввода основ. ср-в'!Q:Q,MATCH(B83,'План ввода основ. ср-в'!B:B,0)))","v":0},{"$f":"IF(ISNA(INDEX('План ввода основ. ср-в'!T:T,MATCH(B83,'План ввода основ. ср-в'!B:B,0))),0,INDEX('План ввода основ. ср-в'!T:T,MATCH(B83,'План ввода основ. ср-в'!B:B,0)))","v":0},"",{"$f":"IF(ISNA(INDEX('План ввода основ. ср-в'!S:S,MATCH(B83,'План ввода основ. ср-в'!B:B,0))),0,INDEX('План ввода основ. ср-в'!S:S,MATCH(B83,'План ввода основ. ср-в'!B:B,0)))","v":0},2.5,"/",0,{"$f":"IF(ISNA(INDEX('План ввода основ. ср-в'!V:V,MATCH(B83,'План ввода основ. ср-в'!B:B,0))),0,INDEX('План ввода основ. ср-в'!V:V,MATCH(B83,'План ввода основ. ср-в'!B:B,0)))","v":0},{"$f":"IF(ISNA(INDEX('План ввода основ. ср-в'!W:W,MATCH(B83,'План ввода основ. ср-в'!B:B,0))),0,INDEX('План ввода основ. ср-в'!W:W,MATCH(B83,'План ввода основ. ср-в'!B:B,0)))","v":0},{"$f":"IF(ISNA(INDEX('План ввода основ. ср-в'!X:X,MATCH(B83,'План ввода основ. ср-в'!B:B,0))),0,INDEX('План ввода основ. ср-в'!X:X,MATCH(B83,'План ввода основ. ср-в'!B:B,0)))","v":0},{"$f":"IF(ISNA(INDEX('План ввода основ. ср-в'!Y:Y,MATCH(B83,'План ввода основ. ср-в'!B:B,0))),0,INDEX('План ввода основ. ср-в'!Y:Y,MATCH(B83,'План ввода основ. ср-в'!B:B,0)))","v":0},0,{"$f":"IF(ISNA(INDEX('План ввода основ. ср-в'!Z:Z,MATCH(B83,'План ввода основ. ср-в'!B:B,0))),0,INDEX('План ввода основ. ср-в'!Z:Z,MATCH(B83,'План ввода основ. ср-в'!B:B,0)))","v":5.9322033898305087},{"$f":"IF(ISNA(INDEX('План ввода основ. ср-в'!AA:AA,MATCH(B83,'План ввода основ. ср-в'!B:B,0))),0,INDEX('План ввода основ. ср-в'!AA:AA,MATCH(B83,'План ввода основ. ср-в'!B:B,0)))","v":0},{"$f":"IF(ISNA(INDEX('План ввода основ. ср-в'!AB:AB,MATCH(B83,'План ввода основ. ср-в'!B:B,0))),0,INDEX('План ввода основ. ср-в'!AB:AB,MATCH(B83,'План ввода основ. ср-в'!B:B,0)))","v":0},{"$f":"IF(ISNA(INDEX('План ввода основ. ср-в'!AC:AC,MATCH(B83,'План ввода основ. ср-в'!B:B,0))),0,INDEX('План ввода основ. ср-в'!AC:AC,MATCH(B83,'План ввода основ. ср-в'!B:B,0)))","v":0},5.9322033898305087]
[62,"Реконструкция ВЛ-0,4 кВ от КТП Кр 1906/400 кВА",null,null,null,null,null,null,0,{"$f":"IF(AND(I84=0,K84=0),\"\",\"/\")","v":""},0,2.5,{"$f":"IF(AND(L84=0,N84=0),\"\",\"/\")","v":"/"},0,0,{"$f":"IF(AND(O84=0,Q84=0),\"\",\"/\")","v":""},0,0,{"$f":"IF(AND(R84=0,T84=0),\"\",\"/\")","v":""},0,0,{"$f":"IF(AND(U84=0,W84=0),\"\",\"/\")","v":""},0,2.5,"/",0,5.9322033898305087,{"$f":"IF(ISNA(INDEX('План ввода основ. ср-в'!F:F,MATCH(B84,'План ввода основ. ср-в'!B:B,0))),0,INDEX('План ввода основ. ср-в'!F:F,MATCH(B84,'План ввода основ. ср-в'!B:B,0)))","v":0},{"$f":"IF(AND(AB84=0,AD84=0),\"\",\"/\")","v":""},{"$f":"IF(ISNA(INDEX('План ввода основ. ср-в'!E:E,MATCH(B84,'План ввода основ. ср-в'!B:B,0))),0,INDEX('План ввода основ. ср-в'!E:E,MATCH(B84,'План ввода основ. ср-в'!B:B,0)))","v":0},{"$f":"IF(ISNA(INDEX('План ввода основ. ср-в'!H:H,MATCH(B84,'План ввода основ. ср-в'!B:B,0))),0,INDEX('План ввода основ. ср-в'!H:H,MATCH(B84,'План ввода основ. ср-в'!B:B,0)))","v":0},{"$f":"IF(AND(AE84=0,AG84=0),\"\",\"/\")","v":""},{"$f":"IF(ISNA(INDEX('План ввода основ. ср-в'!G:G,MATCH(B84,'План ввода основ. ср-в'!B:B,0))),0,INDEX('План ввода основ. ср-в'!G:G,MATCH(B84,'План ввода основ. ср-в'!B:B,0)))","v":0},{"$f":"IF(ISNA(INDEX('План ввода основ. ср-в'!J:J,MATCH(B84,'План ввода основ. ср-в'!B:B,0))),0,INDEX('План ввода основ. ср-в'!J:J,MATCH(B84,'План ввода основ. ср-в'!B:B,0)))","v":0},{"$f":"IF(AND(AH84=0,AJ84=0),\"\",\"/\")","v":""},{"$f":"IF(ISNA(INDEX('План ввода основ. ср-в'!I:I,MATCH(B84,'План ввода основ. ср-в'!B:B,0))),0,INDEX('План ввода основ. ср-в'!I:I,MATCH(B84,'План ввода основ. ср-в'!B:B,0)))","v":0},{"$f":"IF(ISNA(INDEX('План ввода основ. ср-в'!L:L,MATCH(B84,'План ввода основ. ср-в'!B:B,0))),0,INDEX('План ввода основ. ср-в'!L:L,MATCH(B84,'План ввода основ. ср-в'!B:B,0)))","v":0},{"$f":"IF(AND(AK84=0,AM84=0),\"\",\"/\")","v":""},{"$f":"IF(ISNA(INDEX('План ввода основ. ср-в'!K:K,MATCH(B84,'План ввода основ. ср-в'!B:B,0))),0,INDEX('План ввода основ. ср-в'!K:K,MATCH(B84,'План ввода основ. ср-в'!B:B,0)))","v":0},0,"/",0,{"$f":"IF(ISNA(INDEX('План ввода основ. ср-в'!N:N,MATCH(B84,'План ввода основ. ср-в'!B:B,0))),0,INDEX('План ввода основ. ср-в'!N:N,MATCH(B84,'План ввода основ. ср-в'!B:B,0)))","v":2.5},{"$f":"IF(AND(AQ84=0,AS84=0),\"\",\"/\")","v":"/"},{"$f":"IF(ISNA(INDEX('План ввода основ. ср-в'!M:M,MATCH(B84,'План ввода основ. ср-в'!B:B,0))),0,INDEX('План ввода основ. ср-в'!M:M,MATCH(B84,'План ввода основ. ср-в'!B:B,0)))","v":0},{"$f":"IF(ISNA(INDEX('План ввода основ. ср-в'!P:P,MATCH(B84,'План ввода основ. ср-в'!B:B,0))),0,INDEX('План ввода основ. ср-в'!P:P,MATCH(B84,'План ввода основ. ср-в'!B:B,0)))","v":0},{"$f":"IF(AND(AT84=0,AV84=0),\"\",\"/\")","v":""},{"$f":"IF(ISNA(INDEX('План ввода основ. ср-в'!O:O,MATCH(B84,'План ввода основ. ср-в'!B:B,0))),0,INDEX('План ввода основ. ср-в'!O:O,MATCH(B84,'План ввода основ. ср-в'!B:B,0)))","v":0},{"$f":"IF(ISNA(INDEX('План ввода основ. ср-в'!R:R,MATCH(B84,'План ввода основ. ср-в'!B:B,0))),0,INDEX('План ввода основ. ср-в'!R:R,MATCH(B84,'План ввода основ. ср-в'!B:B,0)))","v":0},{"$f":"IF(AND(AW84=0,AY84=0),\"\",\"/\")","v":""},{"$f":"IF(ISNA(INDEX('План ввода основ. ср-в'!Q:Q,MATCH(B84,'План ввода основ. ср-в'!B:B,0))),0,INDEX('План ввода основ. ср-в'!Q:Q,MATCH(B84,'План ввода основ. ср-в'!B:B,0)))","v":0},{"$f":"IF(ISNA(INDEX('План ввода основ. ср-в'!T:T,MATCH(B84,'План ввода основ. ср-в'!B:B,0))),0,INDEX('План ввода основ. ср-в'!T:T,MATCH(B84,'План ввода основ. ср-в'!B:B,0)))","v":0},{"$f":"IF(AND(AZ84=0,BB84=0),\"\",\"/\")","v":""},{"$f":"IF(ISNA(INDEX('План ввода основ. ср-в'!S:S,MATCH(B84,'План ввода основ. ср-в'!B:B,0))),0,INDEX('План ввода основ. ср-в'!S:S,MATCH(B84,'План ввода основ. ср-в'!B:B,0)))","v":0},2.5,"/",0,{"$f":"IF(ISNA(INDEX('План ввода основ. ср-в'!V:V,MATCH(B84,'План ввода основ. ср-в'!B:B,0))),0,INDEX('План ввода основ. ср-в'!V:V,MATCH(B84,'План ввода основ. ср-в'!B:B,0)))","v":0},{"$f":"IF(ISNA(INDEX('План ввода основ. ср-в'!W:W,MATCH(B84,'План ввода основ. ср-в'!B:B,0))),0,INDEX('План ввода основ. ср-в'!W:W,MATCH(B84,'План ввода основ. ср-в'!B:B,0)))","v":0},{"$f":"IF(ISNA(INDEX('План ввода основ. ср-в'!X:X,MATCH(B84,'План ввода основ. ср-в'!B:B,0))),0,INDEX('План ввода основ. ср-в'!X:X,MATCH(B84,'План ввода основ. ср-в'!B:B,0)))","v":0},{"$f":"IF(ISNA(INDEX('План ввода основ. ср-в'!Y:Y,MATCH(B84,'План ввода основ. ср-в'!B:B,0))),0,INDEX('План ввода основ. ср-в'!Y:Y,MATCH(B84,'План ввода основ. ср-в'!B:B,0)))","v":0},0,{"$f":"IF(ISNA(INDEX('План ввода основ. ср-в'!Z:Z,MATCH(B84,'План ввода основ. ср-в'!B:B,0))),0,INDEX('План ввода основ. ср-в'!Z:Z,MATCH(B84,'План ввода основ. ср-в'!B:B,0)))","v":5.9322033898305087},{"$f":"IF(ISNA(INDEX('План ввода основ. ср-в'!AA:AA,MATCH(B84,'План ввода основ. ср-в'!B:B,0))),0,INDEX('План ввода основ. ср-в'!AA:AA,MATCH(B84,'План ввода основ. ср-в'!B:B,0)))","v":0},{"$f":"IF(ISNA(INDEX('План ввода основ. ср-в'!AB:AB,MATCH(B84,'План ввода основ. ср-в'!B:B,0))),0,INDEX('План ввода основ. ср-в'!AB:AB,MATCH(B84,'План ввода основ. ср-в'!B:B,0)))","v":0},{"$f":"IF(ISNA(INDEX('План ввода основ. ср-в'!AC:AC,MATCH(B84,'План ввода основ. ср-в'!B:B,0))),0,INDEX('План ввода основ. ср-в'!AC:AC,MATCH(B84,'План ввода основ. ср-в'!B:B,0)))","v":0},5.9322033898305087]
[63,"Реконструкция ВЛ-0,4 кВ от КТП Кр 1914/250 кВА",null,null,null,null,null,null,0,"",0,1.6,"/",0,0,"",0,0,"",0,0,"",0,1.6,"/",0,3.7966101694915251,{"$f":"IF(ISNA(INDEX('План ввода основ. ср-в'!F:F,MATCH(B85,'План ввода основ. ср-в'!B:B,0))),0,INDEX('План ввода основ. ср-в'!F:F,MATCH(B85,'План ввода основ. ср-в'!B:B,0)))","v":0},"",{"$f":"IF(ISNA(INDEX('План ввода основ. ср-в'!E:E,MATCH(B85,'План ввода основ. ср-в'!B:B,0))),0,INDEX('План ввода основ. ср-в'!E:E,MATCH(B85,'План ввода основ. ср-в'!B:B,0)))","v":0},{"$f":"IF(ISNA(INDEX('План ввода основ. ср-в'!H:H,MATCH(B85,'План ввода основ. ср-в'!B:B,0))),0,INDEX('План ввода основ. ср-в'!H:H,MATCH(B85,'План ввода основ. ср-в'!B:B,0)))","v":0},"",{"$f":"IF(ISNA(INDEX('План ввода основ. ср-в'!G:G,MATCH(B85,'План ввода основ. ср-в'!B:B,0))),0,INDEX('План ввода основ. ср-в'!G:G,MATCH(B85,'План ввода основ. ср-в'!B:B,0)))","v":0},{"$f":"IF(ISNA(INDEX('План ввода основ. ср-в'!J:J,MATCH(B85,'План ввода основ. ср-в'!B:B,0))),0,INDEX('План ввода основ. ср-в'!J:J,MATCH(B85,'План ввода основ. ср-в'!B:B,0)))","v":0},"",{"$f":"IF(ISNA(INDEX('План ввода основ. ср-в'!I:I,MATCH(B85,'План ввода основ. ср-в'!B:B,0))),0,INDEX('План ввода основ. ср-в'!I:I,MATCH(B85,'План ввода основ. ср-в'!B:B,0)))","v":0},{"$f":"IF(ISNA(INDEX('План ввода основ. ср-в'!L:L,MATCH(B85,'План ввода основ. ср-в'!B:B,0))),0,INDEX('План ввода основ. ср-в'!L:L,MATCH(B85,'План ввода основ. ср-в'!B:B,0)))","v":0},"",{"$f":"IF(ISNA(INDEX('План ввода основ. ср-в'!K:K,MATCH(B85,'План ввода основ. ср-в'!B:B,0))),0,INDEX('План ввода основ. ср-в'!K:K,MATCH(B85,'План ввода основ. ср-в'!B:B,0)))","v":0},0,"/",0,{"$f":"IF(ISNA(INDEX('План ввода основ. ср-в'!N:N,MATCH(B85,'План ввода основ. ср-в'!B:B,0))),0,INDEX('План ввода основ. ср-в'!N:N,MATCH(B85,'План ввода основ. ср-в'!B:B,0)))","v":1.6},"/",{"$f":"IF(ISNA(INDEX('План ввода основ. ср-в'!M:M,MATCH(B85,'План ввода основ. ср-в'!B:B,0))),0,INDEX('План ввода основ. ср-в'!M:M,MATCH(B85,'План ввода основ. ср-в'!B:B,0)))","v":0},{"$f":"IF(ISNA(INDEX('План ввода основ. ср-в'!P:P,MATCH(B85,'План ввода основ. ср-в'!B:B,0))),0,INDEX('План ввода основ. ср-в'!P:P,MATCH(B85,'План ввода основ. ср-в'!B:B,0)))","v":0},"",{"$f":"IF(ISNA(INDEX('План ввода основ. ср-в'!O:O,MATCH(B85,'План ввода основ. ср-в'!B:B,0))),0,INDEX('План ввода основ. ср-в'!O:O,MATCH(B85,'План ввода основ. ср-в'!B:B,0)))","v":0},{"$f":"IF(ISNA(INDEX('План ввода основ. ср-в'!R:R,MATCH(B85,'План ввода основ. ср-в'!B:B,0))),0,INDEX('План ввода основ. ср-в'!R:R,MATCH(B85,'План ввода основ. ср-в'!B:B,0)))","v":0},"",{"$f":"IF(ISNA(INDEX('План ввода основ. ср-в'!Q:Q,MATCH(B85,'План ввода основ. ср-в'!B:B,0))),0,INDEX('План ввода основ. ср-в'!Q:Q,MATCH(B85,'План ввода основ. ср-в'!B:B,0)))","v":0},{"$f":"IF(ISNA(INDEX('План ввода основ. ср-в'!T:T,MATCH(B85,'План ввода основ. ср-в'!B:B,0))),0,INDEX('План ввода основ. ср-в'!T:T,MATCH(B85,'План ввода основ. ср-в'!B:B,0)))","v":0},"",{"$f":"IF(ISNA(INDEX('План ввода основ. ср-в'!S:S,MATCH(B85,'План ввода основ. ср-в'!B:B,0))),0,INDEX('План ввода основ. ср-в'!S:S,MATCH(B85,'План ввода основ. ср-в'!B:B,0)))","v":0},1.6,"/",0,{"$f":"IF(ISNA(INDEX('План ввода основ. ср-в'!V:V,MATCH(B85,'План ввода основ. ср-в'!B:B,0))),0,INDEX('План ввода основ. ср-в'!V:V,MATCH(B85,'План ввода основ. ср-в'!B:B,0)))","v":0},{"$f":"IF(ISNA(INDEX('План ввода основ. ср-в'!W:W,MATCH(B85,'План ввода основ. ср-в'!B:B,0))),0,INDEX('План ввода основ. ср-в'!W:W,MATCH(B85,'План ввода основ. ср-в'!B:B,0)))","v":0},{"$f":"IF(ISNA(INDEX('План ввода основ. ср-в'!X:X,MATCH(B85,'План ввода основ. ср-в'!B:B,0))),0,INDEX('План ввода основ. ср-в'!X:X,MATCH(B85,'План ввода основ. ср-в'!B:B,0)))","v":0},{"$f":"IF(ISNA(INDEX('План ввода основ. ср-в'!Y:Y,MATCH(B85,'План ввода основ. ср-в'!B:B,0))),0,INDEX('План ввода основ. ср-в'!Y:Y,MATCH(B85,'План ввода основ. ср-в'!B:B,0)))","v":0},0,{"$f":"IF(ISNA(INDEX('План ввода основ. ср-в'!Z:Z,MATCH(B85,'План ввода основ. ср-в'!B:B,0))),0,INDEX('План ввода основ. ср-в'!Z:Z,MATCH(B85,'План ввода основ. ср-в'!B:B,0)))","v":3.7966101694915251},{"$f":"IF(ISNA(INDEX('План ввода основ. ср-в'!AA:AA,MATCH(B85,'План ввода основ. ср-в'!B:B,0))),0,INDEX('План ввода основ. ср-в'!AA:AA,MATCH(B85,'План ввода основ. ср-в'!B:B,0)))","v":0},{"$f":"IF(ISNA(INDEX('План ввода основ. ср-в'!AB:AB,MATCH(B85,'План ввода основ. ср-в'!B:B,0))),0,INDEX('План ввода основ. ср-в'!AB:AB,MATCH(B85,'План ввода основ. ср-в'!B:B,0)))","v":0},{"$f":"IF(ISNA(INDEX('План ввода основ. ср-в'!AC:AC,MATCH(B85,'План ввода основ. ср-в'!B:B,0))),0,INDEX('План ввода основ. ср-в'!AC:AC,MATCH(B85,'План ввода основ. ср-в'!B:B,0)))","v":0},3.7966101694915251]
[64,"Реконструкция ВЛ-0,4 кВ от КТП Кр 1909/400 кВА",null,null,null,null,null,null,0,"",0,1.6,"/",0,0,"",0,0,"",0,0,"",0,1.6,"/",0,3.7966101694915251,{"$f":"IF(ISNA(INDEX('План ввода основ. ср-в'!F:F,MATCH(B86,'План ввода основ. ср-в'!B:B,0))),0,INDEX('План ввода основ. ср-в'!F:F,MATCH(B86,'План ввода основ. ср-в'!B:B,0)))","v":0},"",{"$f":"IF(ISNA(INDEX('План ввода основ. ср-в'!E:E,MATCH(B86,'План ввода основ. ср-в'!B:B,0))),0,INDEX('План ввода основ. ср-в'!E:E,MATCH(B86,'План ввода основ. ср-в'!B:B,0)))","v":0},{"$f":"IF(ISNA(INDEX('План ввода основ. ср-в'!H:H,MATCH(B86,'План ввода основ. ср-в'!B:B,0))),0,INDEX('План ввода основ. ср-в'!H:H,MATCH(B86,'План ввода основ. ср-в'!B:B,0)))","v":0},"",{"$f":"IF(ISNA(INDEX('План ввода основ. ср-в'!G:G,MATCH(B86,'План ввода основ. ср-в'!B:B,0))),0,INDEX('План ввода основ. ср-в'!G:G,MATCH(B86,'План ввода основ. ср-в'!B:B,0)))","v":0},{"$f":"IF(ISNA(INDEX('План ввода основ. ср-в'!J:J,MATCH(B86,'План ввода основ. ср-в'!B:B,0))),0,INDEX('План ввода основ. ср-в'!J:J,MATCH(B86,'План ввода основ. ср-в'!B:B,0)))","v":0},"",{"$f":"IF(ISNA(INDEX('План ввода основ. ср-в'!I:I,MATCH(B86,'План ввода основ. ср-в'!B:B,0))),0,INDEX('План ввода основ. ср-в'!I:I,MATCH(B86,'План ввода основ. ср-в'!B:B,0)))","v":0},{"$f":"IF(ISNA(INDEX('План ввода основ. ср-в'!L:L,MATCH(B86,'План ввода основ. ср-в'!B:B,0))),0,INDEX('План ввода основ. ср-в'!L:L,MATCH(B86,'План ввода основ. ср-в'!B:B,0)))","v":0},"",{"$f":"IF(ISNA(INDEX('План ввода основ. ср-в'!K:K,MATCH(B86,'План ввода основ. ср-в'!B:B,0))),0,INDEX('План ввода основ. ср-в'!K:K,MATCH(B86,'План ввода основ. ср-в'!B:B,0)))","v":0},0,"/",0,{"$f":"IF(ISNA(INDEX('План ввода основ. ср-в'!N:N,MATCH(B86,'План ввода основ. ср-в'!B:B,0))),0,INDEX('План ввода основ. ср-в'!N:N,MATCH(B86,'План ввода основ. ср-в'!B:B,0)))","v":1.6},"/",{"$f":"IF(ISNA(INDEX('План ввода основ. ср-в'!M:M,MATCH(B86,'План ввода основ. ср-в'!B:B,0))),0,INDEX('План ввода основ. ср-в'!M:M,MATCH(B86,'План ввода основ. ср-в'!B:B,0)))","v":0},{"$f":"IF(ISNA(INDEX('План ввода основ. ср-в'!P:P,MATCH(B86,'План ввода основ. ср-в'!B:B,0))),0,INDEX('План ввода основ. ср-в'!P:P,MATCH(B86,'План ввода основ. ср-в'!B:B,0)))","v":0},"",{"$f":"IF(ISNA(INDEX('План ввода основ. ср-в'!O:O,MATCH(B86,'План ввода основ. ср-в'!B:B,0))),0,INDEX('План ввода основ. ср-в'!O:O,MATCH(B86,'План ввода основ. ср-в'!B:B,0)))","v":0},{"$f":"IF(ISNA(INDEX('План ввода основ. ср-в'!R:R,MATCH(B86,'План ввода основ. ср-в'!B:B,0))),0,INDEX('План ввода основ. ср-в'!R:R,MATCH(B86,'План ввода основ. ср-в'!B:B,0)))","v":0},"",{"$f":"IF(ISNA(INDEX('План ввода основ. ср-в'!Q:Q,MATCH(B86,'План ввода основ. ср-в'!B:B,0))),0,INDEX('План ввода основ. ср-в'!Q:Q,MATCH(B86,'План ввода основ. ср-в'!B:B,0)))","v":0},{"$f":"IF(ISNA(INDEX('План ввода основ. ср-в'!T:T,MATCH(B86,'План ввода основ. ср-в'!B:B,0))),0,INDEX('План ввода основ. ср-в'!T:T,MATCH(B86,'План ввода основ. ср-в'!B:B,0)))","v":0},"",{"$f":"IF(ISNA(INDEX('План ввода основ. ср-в'!S:S,MATCH(B86,'План ввода основ. ср-в'!B:B,0))),0,INDEX('План ввода основ. ср-в'!S:S,MATCH(B86,'План ввода основ. ср-в'!B:B,0)))","v":0},1.6,"/",0,{"$f":"IF(ISNA(INDEX('План ввода основ. ср-в'!V:V,MATCH(B86,'План ввода основ. ср-в'!B:B,0))),0,INDEX('План ввода основ. ср-в'!V:V,MATCH(B86,'План ввода основ. ср-в'!B:B,0)))","v":0},{"$f":"IF(ISNA(INDEX('План ввода основ. ср-в'!W:W,MATCH(B86,'План ввода основ. ср-в'!B:B,0))),0,INDEX('План ввода основ. ср-в'!W:W,MATCH(B86,'План ввода основ. ср-в'!B:B,0)))","v":0},{"$f":"IF(ISNA(INDEX('План ввода основ. ср-в'!X:X,MATCH(B86,'План ввода основ. ср-в'!B:B,0))),0,INDEX('План ввода основ. ср-в'!X:X,MATCH(B86,'План ввода основ. ср-в'!B:B,0)))","v":0},{"$f":"IF(ISNA(INDEX('План ввода основ. ср-в'!Y:Y,MATCH(B86,'План ввода основ. ср-в'!B:B,0))),0,INDEX('План ввода основ. ср-в'!Y:Y,MATCH(B86,'План ввода основ. ср-в'!B:B,0)))","v":0},0,{"$f":"IF(ISNA(INDEX('План ввода основ. ср-в'!Z:Z,MATCH(B86,'План ввода основ. ср-в'!B:B,0))),0,INDEX('План ввода основ. ср-в'!Z:Z,MATCH(B86,'План ввода основ. ср-в'!B:B,0)))","v":3.7966101694915251},{"$f":"IF(ISNA(INDEX('План ввода основ. ср-в'!AA:AA,MATCH(B86,'План ввода основ. ср-в'!B:B,0))),0,INDEX('План ввода основ. ср-в'!AA:AA,MATCH(B86,'План ввода основ. ср-в'!B:B,0)))","v":0},{"$f":"IF(ISNA(INDEX('План ввода основ. ср-в'!AB:AB,MATCH(B86,'План ввода основ. ср-в'!B:B,0))),0,INDEX('План ввода основ. ср-в'!AB:AB,MATCH(B86,'План ввода основ. ср-в'!B:B,0)))","v":0},{"$f":"IF(ISNA(INDEX('План ввода основ. ср-в'!AC:AC,MATCH(B86,'План ввода основ. ср-в'!B:B,0))),0,INDEX('План ввода основ. ср-в'!AC:AC,MATCH(B86,'План ввода основ. ср-в'!B:B,0)))","v":0},3.7966101694915251]
[65,"Реконструкция ВЛ-0,4 кВ от КТП Сид 305/250 кВА",null,null,null,null,null,null,0,{"$f":"IF(AND(I87=0,K87=0),\"\",\"/\")","v":""},0,0,{"$f":"IF(AND(L87=0,N87=0),\"\",\"/\")","v":""},0,3.4,{"$f":"IF(AND(O87=0,Q87=0),\"\",\"/\")","v":"/"},0,0,{"$f":"IF(AND(R87=0,T87=0),\"\",\"/\")","v":""},0,0,{"$f":"IF(AND(U87=0,W87=0),\"\",\"/\")","v":""},0,3.4,"/",0,8.0677966101694913,{"$f":"IF(ISNA(INDEX('План ввода основ. ср-в'!F:F,MATCH(B87,'План ввода основ. ср-в'!B:B,0))),0,INDEX('План ввода основ. ср-в'!F:F,MATCH(B87,'План ввода основ. ср-в'!B:B,0)))","v":0},{"$f":"IF(AND(AB87=0,AD87=0),\"\",\"/\")","v":""},{"$f":"IF(ISNA(INDEX('План ввода основ. ср-в'!E:E,MATCH(B87,'План ввода основ. ср-в'!B:B,0))),0,INDEX('План ввода основ. ср-в'!E:E,MATCH(B87,'План ввода основ. ср-в'!B:B,0)))","v":0},{"$f":"IF(ISNA(INDEX('План ввода основ. ср-в'!H:H,MATCH(B87,'План ввода основ. ср-в'!B:B,0))),0,INDEX('План ввода основ. ср-в'!H:H,MATCH(B87,'План ввода основ. ср-в'!B:B,0)))","v":0},{"$f":"IF(AND(AE87=0,AG87=0),\"\",\"/\")","v":""},{"$f":"IF(ISNA(INDEX('План ввода основ. ср-в'!G:G,MATCH(B87,'План ввода основ. ср-в'!B:B,0))),0,INDEX('План ввода основ. ср-в'!G:G,MATCH(B87,'План ввода основ. ср-в'!B:B,0)))","v":0},{"$f":"IF(ISNA(INDEX('План ввода основ. ср-в'!J:J,MATCH(B87,'План ввода основ. ср-в'!B:B,0))),0,INDEX('План ввода основ. ср-в'!J:J,MATCH(B87,'План ввода основ. ср-в'!B:B,0)))","v":0},{"$f":"IF(AND(AH87=0,AJ87=0),\"\",\"/\")","v":""},{"$f":"IF(ISNA(INDEX('План ввода основ. ср-в'!I:I,MATCH(B87,'План ввода основ. ср-в'!B:B,0))),0,INDEX('План ввода основ. ср-в'!I:I,MATCH(B87,'План ввода основ. ср-в'!B:B,0)))","v":0},{"$f":"IF(ISNA(INDEX('План ввода основ. ср-в'!L:L,MATCH(B87,'План ввода основ. ср-в'!B:B,0))),0,INDEX('План ввода основ. ср-в'!L:L,MATCH(B87,'План ввода основ. ср-в'!B:B,0)))","v":0},{"$f":"IF(AND(AK87=0,AM87=0),\"\",\"/\")","v":""},{"$f":"IF(ISNA(INDEX('План ввода основ. ср-в'!K:K,MATCH(B87,'План ввода основ. ср-в'!B:B,0))),0,INDEX('План ввода основ. ср-в'!K:K,MATCH(B87,'План ввода основ. ср-в'!B:B,0)))","v":0},0,"/",0,{"$f":"IF(ISNA(INDEX('План ввода основ. ср-в'!N:N,MATCH(B87,'План ввода основ. ср-в'!B:B,0))),0,INDEX('План ввода основ. ср-в'!N:N,MATCH(B87,'План ввода основ. ср-в'!B:B,0)))","v":0},{"$f":"IF(AND(AQ87=0,AS87=0),\"\",\"/\")","v":""},{"$f":"IF(ISNA(INDEX('План ввода основ. ср-в'!M:M,MATCH(B87,'План ввода основ. ср-в'!B:B,0))),0,INDEX('План ввода основ. ср-в'!M:M,MATCH(B87,'План ввода основ. ср-в'!B:B,0)))","v":0},{"$f":"IF(ISNA(INDEX('План ввода основ. ср-в'!P:P,MATCH(B87,'План ввода основ. ср-в'!B:B,0))),0,INDEX('План ввода основ. ср-в'!P:P,MATCH(B87,'План ввода основ. ср-в'!B:B,0)))","v":3.4},{"$f":"IF(AND(AT87=0,AV87=0),\"\",\"/\")","v":"/"},{"$f":"IF(ISNA(INDEX('План ввода основ. ср-в'!O:O,MATCH(B87,'План ввода основ. ср-в'!B:B,0))),0,INDEX('План ввода основ. ср-в'!O:O,MATCH(B87,'План ввода основ. ср-в'!B:B,0)))","v":0},{"$f":"IF(ISNA(INDEX('План ввода основ. ср-в'!R:R,MATCH(B87,'План ввода основ. ср-в'!B:B,0))),0,INDEX('План ввода основ. ср-в'!R:R,MATCH(B87,'План ввода основ. ср-в'!B:B,0)))","v":0},{"$f":"IF(AND(AW87=0,AY87=0),\"\",\"/\")","v":""},{"$f":"IF(ISNA(INDEX('План ввода основ. ср-в'!Q:Q,MATCH(B87,'План ввода основ. ср-в'!B:B,0))),0,INDEX('План ввода основ. ср-в'!Q:Q,MATCH(B87,'План ввода основ. ср-в'!B:B,0)))","v":0},{"$f":"IF(ISNA(INDEX('План ввода основ. ср-в'!T:T,MATCH(B87,'План ввода основ. ср-в'!B:B,0))),0,INDEX('План ввода основ. ср-в'!T:T,MATCH(B87,'План ввода основ. ср-в'!B:B,0)))","v":0},{"$f":"IF(AND(AZ87=0,BB87=0),\"\",\"/\")","v":""},{"$f":"IF(ISNA(INDEX('План ввода основ. ср-в'!S:S,MATCH(B87,'План ввода основ. ср-в'!B:B,0))),0,INDEX('План ввода основ. ср-в'!S:S,MATCH(B87,'План ввода основ. ср-в'!B:B,0)))","v":0},3.4,"/",0,{"$f":"IF(ISNA(INDEX('План ввода основ. ср-в'!V:V,MATCH(B87,'План ввода основ. ср-в'!B:B,0))),0,INDEX('План ввода основ. ср-в'!V:V,MATCH(B87,'План ввода основ. ср-в'!B:B,0)))","v":0},{"$f":"IF(ISNA(INDEX('План ввода основ. ср-в'!W:W,MATCH(B87,'План ввода основ. ср-в'!B:B,0))),0,INDEX('План ввода основ. ср-в'!W:W,MATCH(B87,'План ввода основ. ср-в'!B:B,0)))","v":0},{"$f":"IF(ISNA(INDEX('План ввода основ. ср-в'!X:X,MATCH(B87,'План ввода основ. ср-в'!B:B,0))),0,INDEX('План ввода основ. ср-в'!X:X,MATCH(B87,'План ввода основ. ср-в'!B:B,0)))","v":0},{"$f":"IF(ISNA(INDEX('План ввода основ. ср-в'!Y:Y,MATCH(B87,'План ввода основ. ср-в'!B:B,0))),0,INDEX('План ввода основ. ср-в'!Y:Y,MATCH(B87,'План ввода основ. ср-в'!B:B,0)))","v":0},0,{"$f":"IF(ISNA(INDEX('План ввода основ. ср-в'!Z:Z,MATCH(B87,'План ввода основ. ср-в'!B:B,0))),0,INDEX('План ввода основ. ср-в'!Z:Z,MATCH(B87,'План ввода основ. ср-в'!B:B,0)))","v":0},{"$f":"IF(ISNA(INDEX('План ввода основ. ср-в'!AA:AA,MATCH(B87,'План ввода основ. ср-в'!B:B,0))),0,INDEX('План ввода основ. ср-в'!AA:AA,MATCH(B87,'План ввода основ. ср-в'!B:B,0)))","v":8.0677966101694913},{"$f":"IF(ISNA(INDEX('План ввода основ. ср-в'!AB:AB,MATCH(B87,'План ввода основ. ср-в'!B:B,0))),0,INDEX('План ввода основ. ср-в'!AB:AB,MATCH(B87,'План ввода основ. ср-в'!B:B,0)))","v":0},{"$f":"IF(ISNA(INDEX('План ввода основ. ср-в'!AC:AC,MATCH(B87,'План ввода основ. ср-в'!B:B,0))),0,INDEX('План ввода основ. ср-в'!AC:AC,MATCH(B87,'План ввода основ. ср-в'!B:B,0)))","v":0},8.0677966101694913]
[66,"Реконструкция ВЛ-0,4 кВ от КТП Сид 316/160 кВА с заменой КТП ",null,null,null,null,null,null,0,"",0,0,"",0,1.5,"/",0.16,0,"",0,0,"",0,{"$f":"SUM(I88+L88+O88+R88+U88)","v":1.5},"/",0.16,4.5762711864406773,{"$f":"IF(ISNA(INDEX('План ввода основ. ср-в'!F:F,MATCH(B88,'План ввода основ. ср-в'!B:B,0))),0,INDEX('План ввода основ. ср-в'!F:F,MATCH(B88,'План ввода основ. ср-в'!B:B,0)))","v":0},"",{"$f":"IF(ISNA(INDEX('План ввода основ. ср-в'!E:E,MATCH(B88,'План ввода основ. ср-в'!B:B,0))),0,INDEX('План ввода основ. ср-в'!E:E,MATCH(B88,'План ввода основ. ср-в'!B:B,0)))","v":0},{"$f":"IF(ISNA(INDEX('План ввода основ. ср-в'!H:H,MATCH(B88,'План ввода основ. ср-в'!B:B,0))),0,INDEX('План ввода основ. ср-в'!H:H,MATCH(B88,'План ввода основ. ср-в'!B:B,0)))","v":0},"",{"$f":"IF(ISNA(INDEX('План ввода основ. ср-в'!G:G,MATCH(B88,'План ввода основ. ср-в'!B:B,0))),0,INDEX('План ввода основ. ср-в'!G:G,MATCH(B88,'План ввода основ. ср-в'!B:B,0)))","v":0},{"$f":"IF(ISNA(INDEX('План ввода основ. ср-в'!J:J,MATCH(B88,'План ввода основ. ср-в'!B:B,0))),0,INDEX('План ввода основ. ср-в'!J:J,MATCH(B88,'План ввода основ. ср-в'!B:B,0)))","v":0},"",{"$f":"IF(ISNA(INDEX('План ввода основ. ср-в'!I:I,MATCH(B88,'План ввода основ. ср-в'!B:B,0))),0,INDEX('План ввода основ. ср-в'!I:I,MATCH(B88,'План ввода основ. ср-в'!B:B,0)))","v":0},{"$f":"IF(ISNA(INDEX('План ввода основ. ср-в'!L:L,MATCH(B88,'План ввода основ. ср-в'!B:B,0))),0,INDEX('План ввода основ. ср-в'!L:L,MATCH(B88,'План ввода основ. ср-в'!B:B,0)))","v":0},"",{"$f":"IF(ISNA(INDEX('План ввода основ. ср-в'!K:K,MATCH(B88,'План ввода основ. ср-в'!B:B,0))),0,INDEX('План ввода основ. ср-в'!K:K,MATCH(B88,'План ввода основ. ср-в'!B:B,0)))","v":0},{"$f":"AB88+AE88+AH88+AK88","v":0},"/",{"$f":"AD88+AG88+AJ88+AM88","v":0},{"$f":"IF(ISNA(INDEX('План ввода основ. ср-в'!N:N,MATCH(B88,'План ввода основ. ср-в'!B:B,0))),0,INDEX('План ввода основ. ср-в'!N:N,MATCH(B88,'План ввода основ. ср-в'!B:B,0)))","v":0},"",{"$f":"IF(ISNA(INDEX('План ввода основ. ср-в'!M:M,MATCH(B88,'План ввода основ. ср-в'!B:B,0))),0,INDEX('План ввода основ. ср-в'!M:M,MATCH(B88,'План ввода основ. ср-в'!B:B,0)))","v":0},{"$f":"IF(ISNA(INDEX('План ввода основ. ср-в'!P:P,MATCH(B88,'План ввода основ. ср-в'!B:B,0))),0,INDEX('План ввода основ. ср-в'!P:P,MATCH(B88,'План ввода основ. ср-в'!B:B,0)))","v":1.5},"/",{"$f":"IF(ISNA(INDEX('План ввода основ. ср-в'!O:O,MATCH(B88,'План ввода основ. ср-в'!B:B,0))),0,INDEX('План ввода основ. ср-в'!O:O,MATCH(B88,'План ввода основ. ср-в'!B:B,0)))","v":0.16},{"$f":"IF(ISNA(INDEX('План ввода основ. ср-в'!R:R,MATCH(B88,'План ввода основ. ср-в'!B:B,0))),0,INDEX('План ввода основ. ср-в'!R:R,MATCH(B88,'План ввода основ. ср-в'!B:B,0)))","v":0},"",{"$f":"IF(ISNA(INDEX('План ввода основ. ср-в'!Q:Q,MATCH(B88,'План ввода основ. ср-в'!B:B,0))),0,INDEX('План ввода основ. ср-в'!Q:Q,MATCH(B88,'План ввода основ. ср-в'!B:B,0)))","v":0},{"$f":"IF(ISNA(INDEX('План ввода основ. ср-в'!T:T,MATCH(B88,'План ввода основ. ср-в'!B:B,0))),0,INDEX('План ввода основ. ср-в'!T:T,MATCH(B88,'План ввода основ. ср-в'!B:B,0)))","v":0},"",{"$f":"IF(ISNA(INDEX('План ввода основ. ср-в'!S:S,MATCH(B88,'План ввода основ. ср-в'!B:B,0))),0,INDEX('План ввода основ. ср-в'!S:S,MATCH(B88,'План ввода основ. ср-в'!B:B,0)))","v":0},1.5,"/",{"$f":"AP88+AS88+AV88+AY88+BB88","v":0.16},{"$f":"IF(ISNA(INDEX('План ввода основ. ср-в'!V:V,MATCH(B88,'План ввода основ. ср-в'!B:B,0))),0,INDEX('План ввода основ. ср-в'!V:V,MATCH(B88,'План ввода основ. ср-в'!B:B,0)))","v":0},{"$f":"IF(ISNA(INDEX('План ввода основ. ср-в'!W:W,MATCH(B88,'План ввода основ. ср-в'!B:B,0))),0,INDEX('План ввода основ. ср-в'!W:W,MATCH(B88,'План ввода основ. ср-в'!B:B,0)))","v":0},{"$f":"IF(ISNA(INDEX('План ввода основ. ср-в'!X:X,MATCH(B88,'План ввода основ. ср-в'!B:B,0))),0,INDEX('План ввода основ. ср-в'!X:X,MATCH(B88,'План ввода основ. ср-в'!B:B,0)))","v":0},{"$f":"IF(ISNA(INDEX('План ввода основ. ср-в'!Y:Y,MATCH(B88,'План ввода основ. ср-в'!B:B,0))),0,INDEX('План ввода основ. ср-в'!Y:Y,MATCH(B88,'План ввода основ. ср-в'!B:B,0)))","v":0},{"$f":"SUM(BF88:BI88)","v":0},{"$f":"IF(ISNA(INDEX('План ввода основ. ср-в'!Z:Z,MATCH(B88,'План ввода основ. ср-в'!B:B,0))),0,INDEX('План ввода основ. ср-в'!Z:Z,MATCH(B88,'План ввода основ. ср-в'!B:B,0)))","v":0},{"$f":"IF(ISNA(INDEX('План ввода основ. ср-в'!AA:AA,MATCH(B88,'План ввода основ. ср-в'!B:B,0))),0,INDEX('План ввода основ. ср-в'!AA:AA,MATCH(B88,'План ввода основ. ср-в'!B:B,0)))","v":4.5762711864406773},{"$f":"IF(ISNA(INDEX('План ввода основ. ср-в'!AB:AB,MATCH(B88,'План ввода основ. ср-в'!B:B,0))),0,INDEX('План ввода основ. ср-в'!AB:AB,MATCH(B88,'План ввода основ. ср-в'!B:B,0)))","v":0},{"$f":"IF(ISNA(INDEX('План ввода основ. ср-в'!AC:AC,MATCH(B88,'План ввода основ. ср-в'!B:B,0))),0,INDEX('План ввода основ. ср-в'!AC:AC,MATCH(B88,'План ввода основ. ср-в'!B:B,0)))","v":0},{"$f":"SUM(BJ88:BN88)","v":4.5762711864406773}]
[67,"Реконструкция ВЛ-0,4 кВ от ЗТП Ку 801/250 кВА",null,null,null,null,null,null,0,"",0,0,"",0,2,"/",0,0,"",0,0,"",0,2,"/",{"$f":"SUM(K89+N89+Q89+T89+W89)","v":0},4.7457627118644066,{"$f":"IF(ISNA(INDEX('План ввода основ. ср-в'!F:F,MATCH(B89,'План ввода основ. ср-в'!B:B,0))),0,INDEX('План ввода основ. ср-в'!F:F,MATCH(B89,'План ввода основ. ср-в'!B:B,0)))","v":0},"",{"$f":"IF(ISNA(INDEX('План ввода основ. ср-в'!E:E,MATCH(B89,'План ввода основ. ср-в'!B:B,0))),0,INDEX('План ввода основ. ср-в'!E:E,MATCH(B89,'План ввода основ. ср-в'!B:B,0)))","v":0},{"$f":"IF(ISNA(INDEX('План ввода основ. ср-в'!H:H,MATCH(B89,'План ввода основ. ср-в'!B:B,0))),0,INDEX('План ввода основ. ср-в'!H:H,MATCH(B89,'План ввода основ. ср-в'!B:B,0)))","v":0},"",{"$f":"IF(ISNA(INDEX('План ввода основ. ср-в'!G:G,MATCH(B89,'План ввода основ. ср-в'!B:B,0))),0,INDEX('План ввода основ. ср-в'!G:G,MATCH(B89,'План ввода основ. ср-в'!B:B,0)))","v":0},{"$f":"IF(ISNA(INDEX('План ввода основ. ср-в'!J:J,MATCH(B89,'План ввода основ. ср-в'!B:B,0))),0,INDEX('План ввода основ. ср-в'!J:J,MATCH(B89,'План ввода основ. ср-в'!B:B,0)))","v":0},"",{"$f":"IF(ISNA(INDEX('План ввода основ. ср-в'!I:I,MATCH(B89,'План ввода основ. ср-в'!B:B,0))),0,INDEX('План ввода основ. ср-в'!I:I,MATCH(B89,'План ввода основ. ср-в'!B:B,0)))","v":0},{"$f":"IF(ISNA(INDEX('План ввода основ. ср-в'!L:L,MATCH(B89,'План ввода основ. ср-в'!B:B,0))),0,INDEX('План ввода основ. ср-в'!L:L,MATCH(B89,'План ввода основ. ср-в'!B:B,0)))","v":0},"",{"$f":"IF(ISNA(INDEX('План ввода основ. ср-в'!K:K,MATCH(B89,'План ввода основ. ср-в'!B:B,0))),0,INDEX('План ввода основ. ср-в'!K:K,MATCH(B89,'План ввода основ. ср-в'!B:B,0)))","v":0},0,"/",0,{"$f":"IF(ISNA(INDEX('План ввода основ. ср-в'!N:N,MATCH(B89,'План ввода основ. ср-в'!B:B,0))),0,INDEX('План ввода основ. ср-в'!N:N,MATCH(B89,'План ввода основ. ср-в'!B:B,0)))","v":0},"",{"$f":"IF(ISNA(INDEX('План ввода основ. ср-в'!M:M,MATCH(B89,'План ввода основ. ср-в'!B:B,0))),0,INDEX('План ввода основ. ср-в'!M:M,MATCH(B89,'План ввода основ. ср-в'!B:B,0)))","v":0},{"$f":"IF(ISNA(INDEX('План ввода основ. ср-в'!P:P,MATCH(B89,'План ввода основ. ср-в'!B:B,0))),0,INDEX('План ввода основ. ср-в'!P:P,MATCH(B89,'План ввода основ. ср-в'!B:B,0)))","v":2},"/",{"$f":"IF(ISNA(INDEX('План ввода основ. ср-в'!O:O,MATCH(B89,'План ввода основ. ср-в'!B:B,0))),0,INDEX('План ввода основ. ср-в'!O:O,MATCH(B89,'План ввода основ. ср-в'!B:B,0)))","v":0},{"$f":"IF(ISNA(INDEX('План ввода основ. ср-в'!R:R,MATCH(B89,'План ввода основ. ср-в'!B:B,0))),0,INDEX('План ввода основ. ср-в'!R:R,MATCH(B89,'План ввода основ. ср-в'!B:B,0)))","v":0},"",{"$f":"IF(ISNA(INDEX('План ввода основ. ср-в'!Q:Q,MATCH(B89,'План ввода основ. ср-в'!B:B,0))),0,INDEX('План ввода основ. ср-в'!Q:Q,MATCH(B89,'План ввода основ. ср-в'!B:B,0)))","v":0},{"$f":"IF(ISNA(INDEX('План ввода основ. ср-в'!T:T,MATCH(B89,'План ввода основ. ср-в'!B:B,0))),0,INDEX('План ввода основ. ср-в'!T:T,MATCH(B89,'План ввода основ. ср-в'!B:B,0)))","v":0},"",{"$f":"IF(ISNA(INDEX('План ввода основ. ср-в'!S:S,MATCH(B89,'План ввода основ. ср-в'!B:B,0))),0,INDEX('План ввода основ. ср-в'!S:S,MATCH(B89,'План ввода основ. ср-в'!B:B,0)))","v":0},2,"/",0,{"$f":"IF(ISNA(INDEX('План ввода основ. ср-в'!V:V,MATCH(B89,'План ввода основ. ср-в'!B:B,0))),0,INDEX('План ввода основ. ср-в'!V:V,MATCH(B89,'План ввода основ. ср-в'!B:B,0)))","v":0},{"$f":"IF(ISNA(INDEX('План ввода основ. ср-в'!W:W,MATCH(B89,'План ввода основ. ср-в'!B:B,0))),0,INDEX('План ввода основ. ср-в'!W:W,MATCH(B89,'План ввода основ. ср-в'!B:B,0)))","v":0},{"$f":"IF(ISNA(INDEX('План ввода основ. ср-в'!X:X,MATCH(B89,'План ввода основ. ср-в'!B:B,0))),0,INDEX('План ввода основ. ср-в'!X:X,MATCH(B89,'План ввода основ. ср-в'!B:B,0)))","v":0},{"$f":"IF(ISNA(INDEX('План ввода основ. ср-в'!Y:Y,MATCH(B89,'План ввода основ. ср-в'!B:B,0))),0,INDEX('План ввода основ. ср-в'!Y:Y,MATCH(B89,'План ввода основ. ср-в'!B:B,0)))","v":0},0,{"$f":"IF(ISNA(INDEX('План ввода основ. ср-в'!Z:Z,MATCH(B89,'План ввода основ. ср-в'!B:B,0))),0,INDEX('План ввода основ. ср-в'!Z:Z,MATCH(B89,'План ввода основ. ср-в'!B:B,0)))","v":0},{"$f":"IF(ISNA(INDEX('План ввода основ. ср-в'!AA:AA,MATCH(B89,'План ввода основ. ср-в'!B:B,0))),0,INDEX('План ввода основ. ср-в'!AA:AA,MATCH(B89,'План ввода основ. ср-в'!B:B,0)))","v":4.7457627118644066},{"$f":"IF(ISNA(INDEX('План ввода основ. ср-в'!AB:AB,MATCH(B89,'План ввода основ. ср-в'!B:B,0))),0,INDEX('План ввода основ. ср-в'!AB:AB,MATCH(B89,'План ввода основ. ср-в'!B:B,0)))","v":0},{"$f":"IF(ISNA(INDEX('План ввода основ. ср-в'!AC:AC,MATCH(B89,'План ввода основ. ср-в'!B:B,0))),0,INDEX('План ввода основ. ср-в'!AC:AC,MATCH(B89,'План ввода основ. ср-в'!B:B,0)))","v":0},4.7457627118644066]
[68,"Реконструкция ВЛ-0,4 кВ от ЗТП Ку 802/250 кВА с заменой трансформатора",null,null,null,null,null,null,0,{"$f":"IF(AND(I90=0,K90=0),\"\",\"/\")","v":""},0,0,{"$f":"IF(AND(L90=0,N90=0),\"\",\"/\")","v":""},0,1,{"$f":"IF(AND(O90=0,Q90=0),\"\",\"/\")","v":"/"},0.25,0,{"$f":"IF(AND(R90=0,T90=0),\"\",\"/\")","v":""},0,0,{"$f":"IF(AND(U90=0,W90=0),\"\",\"/\")","v":""},0,1,"/",0.25,3.3898305084745766,{"$f":"IF(ISNA(INDEX('План ввода основ. ср-в'!F:F,MATCH(B90,'План ввода основ. ср-в'!B:B,0))),0,INDEX('План ввода основ. ср-в'!F:F,MATCH(B90,'План ввода основ. ср-в'!B:B,0)))","v":0},{"$f":"IF(AND(AB90=0,AD90=0),\"\",\"/\")","v":""},{"$f":"IF(ISNA(INDEX('План ввода основ. ср-в'!E:E,MATCH(B90,'План ввода основ. ср-в'!B:B,0))),0,INDEX('План ввода основ. ср-в'!E:E,MATCH(B90,'План ввода основ. ср-в'!B:B,0)))","v":0},{"$f":"IF(ISNA(INDEX('План ввода основ. ср-в'!H:H,MATCH(B90,'План ввода основ. ср-в'!B:B,0))),0,INDEX('План ввода основ. ср-в'!H:H,MATCH(B90,'План ввода основ. ср-в'!B:B,0)))","v":0},{"$f":"IF(AND(AE90=0,AG90=0),\"\",\"/\")","v":""},{"$f":"IF(ISNA(INDEX('План ввода основ. ср-в'!G:G,MATCH(B90,'План ввода основ. ср-в'!B:B,0))),0,INDEX('План ввода основ. ср-в'!G:G,MATCH(B90,'План ввода основ. ср-в'!B:B,0)))","v":0},{"$f":"IF(ISNA(INDEX('План ввода основ. ср-в'!J:J,MATCH(B90,'План ввода основ. ср-в'!B:B,0))),0,INDEX('План ввода основ. ср-в'!J:J,MATCH(B90,'План ввода основ. ср-в'!B:B,0)))","v":0},{"$f":"IF(AND(AH90=0,AJ90=0),\"\",\"/\")","v":""},{"$f":"IF(ISNA(INDEX('План ввода основ. ср-в'!I:I,MATCH(B90,'План ввода основ. ср-в'!B:B,0))),0,INDEX('План ввода основ. ср-в'!I:I,MATCH(B90,'План ввода основ. ср-в'!B:B,0)))","v":0},{"$f":"IF(ISNA(INDEX('План ввода основ. ср-в'!L:L,MATCH(B90,'План ввода основ. ср-в'!B:B,0))),0,INDEX('План ввода основ. ср-в'!L:L,MATCH(B90,'План ввода основ. ср-в'!B:B,0)))","v":0},{"$f":"IF(AND(AK90=0,AM90=0),\"\",\"/\")","v":""},{"$f":"IF(ISNA(INDEX('План ввода основ. ср-в'!K:K,MATCH(B90,'План ввода основ. ср-в'!B:B,0))),0,INDEX('План ввода основ. ср-в'!K:K,MATCH(B90,'План ввода основ. ср-в'!B:B,0)))","v":0},0,"/",0,{"$f":"IF(ISNA(INDEX('План ввода основ. ср-в'!N:N,MATCH(B90,'План ввода основ. ср-в'!B:B,0))),0,INDEX('План ввода основ. ср-в'!N:N,MATCH(B90,'План ввода основ. ср-в'!B:B,0)))","v":0},{"$f":"IF(AND(AQ90=0,AS90=0),\"\",\"/\")","v":""},{"$f":"IF(ISNA(INDEX('План ввода основ. ср-в'!M:M,MATCH(B90,'План ввода основ. ср-в'!B:B,0))),0,INDEX('План ввода основ. ср-в'!M:M,MATCH(B90,'План ввода основ. ср-в'!B:B,0)))","v":0},{"$f":"IF(ISNA(INDEX('План ввода основ. ср-в'!P:P,MATCH(B90,'План ввода основ. ср-в'!B:B,0))),0,INDEX('План ввода основ. ср-в'!P:P,MATCH(B90,'План ввода основ. ср-в'!B:B,0)))","v":1},{"$f":"IF(AND(AT90=0,AV90=0),\"\",\"/\")","v":"/"},{"$f":"IF(ISNA(INDEX('План ввода основ. ср-в'!O:O,MATCH(B90,'План ввода основ. ср-в'!B:B,0))),0,INDEX('План ввода основ. ср-в'!O:O,MATCH(B90,'План ввода основ. ср-в'!B:B,0)))","v":0.25},{"$f":"IF(ISNA(INDEX('План ввода основ. ср-в'!R:R,MATCH(B90,'План ввода основ. ср-в'!B:B,0))),0,INDEX('План ввода основ. ср-в'!R:R,MATCH(B90,'План ввода основ. ср-в'!B:B,0)))","v":0},{"$f":"IF(AND(AW90=0,AY90=0),\"\",\"/\")","v":""},{"$f":"IF(ISNA(INDEX('План ввода основ. ср-в'!Q:Q,MATCH(B90,'План ввода основ. ср-в'!B:B,0))),0,INDEX('План ввода основ. ср-в'!Q:Q,MATCH(B90,'План ввода основ. ср-в'!B:B,0)))","v":0},{"$f":"IF(ISNA(INDEX('План ввода основ. ср-в'!T:T,MATCH(B90,'План ввода основ. ср-в'!B:B,0))),0,INDEX('План ввода основ. ср-в'!T:T,MATCH(B90,'План ввода основ. ср-в'!B:B,0)))","v":0},{"$f":"IF(AND(AZ90=0,BB90=0),\"\",\"/\")","v":""},{"$f":"IF(ISNA(INDEX('План ввода основ. ср-в'!S:S,MATCH(B90,'План ввода основ. ср-в'!B:B,0))),0,INDEX('План ввода основ. ср-в'!S:S,MATCH(B90,'План ввода основ. ср-в'!B:B,0)))","v":0},1,"/",0.25,{"$f":"IF(ISNA(INDEX('План ввода основ. ср-в'!V:V,MATCH(B90,'План ввода основ. ср-в'!B:B,0))),0,INDEX('План ввода основ. ср-в'!V:V,MATCH(B90,'План ввода основ. ср-в'!B:B,0)))","v":0},{"$f":"IF(ISNA(INDEX('План ввода основ. ср-в'!W:W,MATCH(B90,'План ввода основ. ср-в'!B:B,0))),0,INDEX('План ввода основ. ср-в'!W:W,MATCH(B90,'План ввода основ. ср-в'!B:B,0)))","v":0},{"$f":"IF(ISNA(INDEX('План ввода основ. ср-в'!X:X,MATCH(B90,'План ввода основ. ср-в'!B:B,0))),0,INDEX('План ввода основ. ср-в'!X:X,MATCH(B90,'План ввода основ. ср-в'!B:B,0)))","v":0},{"$f":"IF(ISNA(INDEX('План ввода основ. ср-в'!Y:Y,MATCH(B90,'План ввода основ. ср-в'!B:B,0))),0,INDEX('План ввода основ. ср-в'!Y:Y,MATCH(B90,'План ввода основ. ср-в'!B:B,0)))","v":0},0,{"$f":"IF(ISNA(INDEX('План ввода основ. ср-в'!Z:Z,MATCH(B90,'План ввода основ. ср-в'!B:B,0))),0,INDEX('План ввода основ. ср-в'!Z:Z,MATCH(B90,'План ввода основ. ср-в'!B:B,0)))","v":0},{"$f":"IF(ISNA(INDEX('План ввода основ. ср-в'!AA:AA,MATCH(B90,'План ввода основ. ср-в'!B:B,0))),0,INDEX('План ввода основ. ср-в'!AA:AA,MATCH(B90,'План ввода основ. ср-в'!B:B,0)))","v":3.3898305084745766},{"$f":"IF(ISNA(INDEX('План ввода основ. ср-в'!AB:AB,MATCH(B90,'План ввода основ. ср-в'!B:B,0))),0,INDEX('План ввода основ. ср-в'!AB:AB,MATCH(B90,'План ввода основ. ср-в'!B:B,0)))","v":0},{"$f":"IF(ISNA(INDEX('План ввода основ. ср-в'!AC:AC,MATCH(B90,'План ввода основ. ср-в'!B:B,0))),0,INDEX('План ввода основ. ср-в'!AC:AC,MATCH(B90,'План ввода основ. ср-в'!B:B,0)))","v":0},3.3898305084745766]
[69,"Реконструкция ВЛ-0,4 кВ от ЗТП Ку 803/250 кВА",null,null,null,null,null,null,0,"",0,0,"",0,1.2,"/",0,0,"",0,0,"",0,1.2,"/",0,2.847457627118644,{"$f":"IF(ISNA(INDEX('План ввода основ. ср-в'!F:F,MATCH(B91,'План ввода основ. ср-в'!B:B,0))),0,INDEX('План ввода основ. ср-в'!F:F,MATCH(B91,'План ввода основ. ср-в'!B:B,0)))","v":0},"",{"$f":"IF(ISNA(INDEX('План ввода основ. ср-в'!E:E,MATCH(B91,'План ввода основ. ср-в'!B:B,0))),0,INDEX('План ввода основ. ср-в'!E:E,MATCH(B91,'План ввода основ. ср-в'!B:B,0)))","v":0},{"$f":"IF(ISNA(INDEX('План ввода основ. ср-в'!H:H,MATCH(B91,'План ввода основ. ср-в'!B:B,0))),0,INDEX('План ввода основ. ср-в'!H:H,MATCH(B91,'План ввода основ. ср-в'!B:B,0)))","v":0},"",{"$f":"IF(ISNA(INDEX('План ввода основ. ср-в'!G:G,MATCH(B91,'План ввода основ. ср-в'!B:B,0))),0,INDEX('План ввода основ. ср-в'!G:G,MATCH(B91,'План ввода основ. ср-в'!B:B,0)))","v":0},{"$f":"IF(ISNA(INDEX('План ввода основ. ср-в'!J:J,MATCH(B91,'План ввода основ. ср-в'!B:B,0))),0,INDEX('План ввода основ. ср-в'!J:J,MATCH(B91,'План ввода основ. ср-в'!B:B,0)))","v":0},"",{"$f":"IF(ISNA(INDEX('План ввода основ. ср-в'!I:I,MATCH(B91,'План ввода основ. ср-в'!B:B,0))),0,INDEX('План ввода основ. ср-в'!I:I,MATCH(B91,'План ввода основ. ср-в'!B:B,0)))","v":0},{"$f":"IF(ISNA(INDEX('План ввода основ. ср-в'!L:L,MATCH(B91,'План ввода основ. ср-в'!B:B,0))),0,INDEX('План ввода основ. ср-в'!L:L,MATCH(B91,'План ввода основ. ср-в'!B:B,0)))","v":0},"",{"$f":"IF(ISNA(INDEX('План ввода основ. ср-в'!K:K,MATCH(B91,'План ввода основ. ср-в'!B:B,0))),0,INDEX('План ввода основ. ср-в'!K:K,MATCH(B91,'План ввода основ. ср-в'!B:B,0)))","v":0},0,"/",0,{"$f":"IF(ISNA(INDEX('План ввода основ. ср-в'!N:N,MATCH(B91,'План ввода основ. ср-в'!B:B,0))),0,INDEX('План ввода основ. ср-в'!N:N,MATCH(B91,'План ввода основ. ср-в'!B:B,0)))","v":0},"",{"$f":"IF(ISNA(INDEX('План ввода основ. ср-в'!M:M,MATCH(B91,'План ввода основ. ср-в'!B:B,0))),0,INDEX('План ввода основ. ср-в'!M:M,MATCH(B91,'План ввода основ. ср-в'!B:B,0)))","v":0},{"$f":"IF(ISNA(INDEX('План ввода основ. ср-в'!P:P,MATCH(B91,'План ввода основ. ср-в'!B:B,0))),0,INDEX('План ввода основ. ср-в'!P:P,MATCH(B91,'План ввода основ. ср-в'!B:B,0)))","v":1.2},"/",{"$f":"IF(ISNA(INDEX('План ввода основ. ср-в'!O:O,MATCH(B91,'План ввода основ. ср-в'!B:B,0))),0,INDEX('План ввода основ. ср-в'!O:O,MATCH(B91,'План ввода основ. ср-в'!B:B,0)))","v":0},{"$f":"IF(ISNA(INDEX('План ввода основ. ср-в'!R:R,MATCH(B91,'План ввода основ. ср-в'!B:B,0))),0,INDEX('План ввода основ. ср-в'!R:R,MATCH(B91,'План ввода основ. ср-в'!B:B,0)))","v":0},"",{"$f":"IF(ISNA(INDEX('План ввода основ. ср-в'!Q:Q,MATCH(B91,'План ввода основ. ср-в'!B:B,0))),0,INDEX('План ввода основ. ср-в'!Q:Q,MATCH(B91,'План ввода основ. ср-в'!B:B,0)))","v":0},{"$f":"IF(ISNA(INDEX('План ввода основ. ср-в'!T:T,MATCH(B91,'План ввода основ. ср-в'!B:B,0))),0,INDEX('План ввода основ. ср-в'!T:T,MATCH(B91,'План ввода основ. ср-в'!B:B,0)))","v":0},"",{"$f":"IF(ISNA(INDEX('План ввода основ. ср-в'!S:S,MATCH(B91,'План ввода основ. ср-в'!B:B,0))),0,INDEX('План ввода основ. ср-в'!S:S,MATCH(B91,'План ввода основ. ср-в'!B:B,0)))","v":0},1.2,"/",0,{"$f":"IF(ISNA(INDEX('План ввода основ. ср-в'!V:V,MATCH(B91,'План ввода основ. ср-в'!B:B,0))),0,INDEX('План ввода основ. ср-в'!V:V,MATCH(B91,'План ввода основ. ср-в'!B:B,0)))","v":0},{"$f":"IF(ISNA(INDEX('План ввода основ. ср-в'!W:W,MATCH(B91,'План ввода основ. ср-в'!B:B,0))),0,INDEX('План ввода основ. ср-в'!W:W,MATCH(B91,'План ввода основ. ср-в'!B:B,0)))","v":0},{"$f":"IF(ISNA(INDEX('План ввода основ. ср-в'!X:X,MATCH(B91,'План ввода основ. ср-в'!B:B,0))),0,INDEX('План ввода основ. ср-в'!X:X,MATCH(B91,'План ввода основ. ср-в'!B:B,0)))","v":0},{"$f":"IF(ISNA(INDEX('План ввода основ. ср-в'!Y:Y,MATCH(B91,'План ввода основ. ср-в'!B:B,0))),0,INDEX('План ввода основ. ср-в'!Y:Y,MATCH(B91,'План ввода основ. ср-в'!B:B,0)))","v":0},0,{"$f":"IF(ISNA(INDEX('План ввода основ. ср-в'!Z:Z,MATCH(B91,'План ввода основ. ср-в'!B:B,0))),0,INDEX('План ввода основ. ср-в'!Z:Z,MATCH(B91,'План ввода основ. ср-в'!B:B,0)))","v":0},{"$f":"IF(ISNA(INDEX('План ввода основ. ср-в'!AA:AA,MATCH(B91,'План ввода основ. ср-в'!B:B,0))),0,INDEX('План ввода основ. ср-в'!AA:AA,MATCH(B91,'План ввода основ. ср-в'!B:B,0)))","v":2.847457627118644},{"$f":"IF(ISNA(INDEX('План ввода основ. ср-в'!AB:AB,MATCH(B91,'План ввода основ. ср-в'!B:B,0))),0,INDEX('План ввода основ. ср-в'!AB:AB,MATCH(B91,'План ввода основ. ср-в'!B:B,0)))","v":0},{"$f":"IF(ISNA(INDEX('План ввода основ. ср-в'!AC:AC,MATCH(B91,'План ввода основ. ср-в'!B:B,0))),0,INDEX('План ввода основ. ср-в'!AC:AC,MATCH(B91,'План ввода основ. ср-в'!B:B,0)))","v":0},2.847457627118644]
[70,"Реконструкция ВЛ-0,4 кВ от КТП Ку 703/250 кВА с заменой КТП",null,null,null,null,null,null,0,"",0,0,"",0,1.2,"/",0.25,0,"",0,0,"",0,1.2,"/",0.25,3.8644067796610169,{"$f":"IF(ISNA(INDEX('План ввода основ. ср-в'!F:F,MATCH(B92,'План ввода основ. ср-в'!B:B,0))),0,INDEX('План ввода основ. ср-в'!F:F,MATCH(B92,'План ввода основ. ср-в'!B:B,0)))","v":0},"",{"$f":"IF(ISNA(INDEX('План ввода основ. ср-в'!E:E,MATCH(B92,'План ввода основ. ср-в'!B:B,0))),0,INDEX('План ввода основ. ср-в'!E:E,MATCH(B92,'План ввода основ. ср-в'!B:B,0)))","v":0},{"$f":"IF(ISNA(INDEX('План ввода основ. ср-в'!H:H,MATCH(B92,'План ввода основ. ср-в'!B:B,0))),0,INDEX('План ввода основ. ср-в'!H:H,MATCH(B92,'План ввода основ. ср-в'!B:B,0)))","v":0},"",{"$f":"IF(ISNA(INDEX('План ввода основ. ср-в'!G:G,MATCH(B92,'План ввода основ. ср-в'!B:B,0))),0,INDEX('План ввода основ. ср-в'!G:G,MATCH(B92,'План ввода основ. ср-в'!B:B,0)))","v":0},{"$f":"IF(ISNA(INDEX('План ввода основ. ср-в'!J:J,MATCH(B92,'План ввода основ. ср-в'!B:B,0))),0,INDEX('План ввода основ. ср-в'!J:J,MATCH(B92,'План ввода основ. ср-в'!B:B,0)))","v":0},"",{"$f":"IF(ISNA(INDEX('План ввода основ. ср-в'!I:I,MATCH(B92,'План ввода основ. ср-в'!B:B,0))),0,INDEX('План ввода основ. ср-в'!I:I,MATCH(B92,'План ввода основ. ср-в'!B:B,0)))","v":0},{"$f":"IF(ISNA(INDEX('План ввода основ. ср-в'!L:L,MATCH(B92,'План ввода основ. ср-в'!B:B,0))),0,INDEX('План ввода основ. ср-в'!L:L,MATCH(B92,'План ввода основ. ср-в'!B:B,0)))","v":0},"",{"$f":"IF(ISNA(INDEX('План ввода основ. ср-в'!K:K,MATCH(B92,'План ввода основ. ср-в'!B:B,0))),0,INDEX('План ввода основ. ср-в'!K:K,MATCH(B92,'План ввода основ. ср-в'!B:B,0)))","v":0},0,"/",0,{"$f":"IF(ISNA(INDEX('План ввода основ. ср-в'!N:N,MATCH(B92,'План ввода основ. ср-в'!B:B,0))),0,INDEX('План ввода основ. ср-в'!N:N,MATCH(B92,'План ввода основ. ср-в'!B:B,0)))","v":0},"",{"$f":"IF(ISNA(INDEX('План ввода основ. ср-в'!M:M,MATCH(B92,'План ввода основ. ср-в'!B:B,0))),0,INDEX('План ввода основ. ср-в'!M:M,MATCH(B92,'План ввода основ. ср-в'!B:B,0)))","v":0},{"$f":"IF(ISNA(INDEX('План ввода основ. ср-в'!P:P,MATCH(B92,'План ввода основ. ср-в'!B:B,0))),0,INDEX('План ввода основ. ср-в'!P:P,MATCH(B92,'План ввода основ. ср-в'!B:B,0)))","v":1.2},"/",{"$f":"IF(ISNA(INDEX('План ввода основ. ср-в'!O:O,MATCH(B92,'План ввода основ. ср-в'!B:B,0))),0,INDEX('План ввода основ. ср-в'!O:O,MATCH(B92,'План ввода основ. ср-в'!B:B,0)))","v":0.25},{"$f":"IF(ISNA(INDEX('План ввода основ. ср-в'!R:R,MATCH(B92,'План ввода основ. ср-в'!B:B,0))),0,INDEX('План ввода основ. ср-в'!R:R,MATCH(B92,'План ввода основ. ср-в'!B:B,0)))","v":0},"",{"$f":"IF(ISNA(INDEX('План ввода основ. ср-в'!Q:Q,MATCH(B92,'План ввода основ. ср-в'!B:B,0))),0,INDEX('План ввода основ. ср-в'!Q:Q,MATCH(B92,'План ввода основ. ср-в'!B:B,0)))","v":0},{"$f":"IF(ISNA(INDEX('План ввода основ. ср-в'!T:T,MATCH(B92,'План ввода основ. ср-в'!B:B,0))),0,INDEX('План ввода основ. ср-в'!T:T,MATCH(B92,'План ввода основ. ср-в'!B:B,0)))","v":0},"",{"$f":"IF(ISNA(INDEX('План ввода основ. ср-в'!S:S,MATCH(B92,'План ввода основ. ср-в'!B:B,0))),0,INDEX('План ввода основ. ср-в'!S:S,MATCH(B92,'План ввода основ. ср-в'!B:B,0)))","v":0},1.2,"/",0.25,{"$f":"IF(ISNA(INDEX('План ввода основ. ср-в'!V:V,MATCH(B92,'План ввода основ. ср-в'!B:B,0))),0,INDEX('План ввода основ. ср-в'!V:V,MATCH(B92,'План ввода основ. ср-в'!B:B,0)))","v":0},{"$f":"IF(ISNA(INDEX('План ввода основ. ср-в'!W:W,MATCH(B92,'План ввода основ. ср-в'!B:B,0))),0,INDEX('План ввода основ. ср-в'!W:W,MATCH(B92,'План ввода основ. ср-в'!B:B,0)))","v":0},{"$f":"IF(ISNA(INDEX('План ввода основ. ср-в'!X:X,MATCH(B92,'План ввода основ. ср-в'!B:B,0))),0,INDEX('План ввода основ. ср-в'!X:X,MATCH(B92,'План ввода основ. ср-в'!B:B,0)))","v":0},{"$f":"IF(ISNA(INDEX('План ввода основ. ср-в'!Y:Y,MATCH(B92,'План ввода основ. ср-в'!B:B,0))),0,INDEX('План ввода основ. ср-в'!Y:Y,MATCH(B92,'План ввода основ. ср-в'!B:B,0)))","v":0},0,{"$f":"IF(ISNA(INDEX('План ввода основ. ср-в'!Z:Z,MATCH(B92,'План ввода основ. ср-в'!B:B,0))),0,INDEX('План ввода основ. ср-в'!Z:Z,MATCH(B92,'План ввода основ. ср-в'!B:B,0)))","v":0},{"$f":"IF(ISNA(INDEX('План ввода основ. ср-в'!AA:AA,MATCH(B92,'План ввода основ. ср-в'!B:B,0))),0,INDEX('План ввода основ. ср-в'!AA:AA,MATCH(B92,'План ввода основ. ср-в'!B:B,0)))","v":3.8644067796610169},{"$f":"IF(ISNA(INDEX('План ввода основ. ср-в'!AB:AB,MATCH(B92,'План ввода основ. ср-в'!B:B,0))),0,INDEX('План ввода основ. ср-в'!AB:AB,MATCH(B92,'План ввода основ. ср-в'!B:B,0)))","v":0},{"$f":"IF(ISNA(INDEX('План ввода основ. ср-в'!AC:AC,MATCH(B92,'План ввода основ. ср-в'!B:B,0))),0,INDEX('План ввода основ. ср-в'!AC:AC,MATCH(B92,'План ввода основ. ср-в'!B:B,0)))","v":0},3.8644067796610169]
[71,"Реконструкция ВЛ-0,4 кВ от КТП Ч 112/400 кВА с заменой КТП ",null,null,null,null,null,null,0,{"$f":"IF(AND(I93=0,K93=0),\"\",\"/\")","v":""},0,0,{"$f":"IF(AND(L93=0,N93=0),\"\",\"/\")","v":""},0,0,{"$f":"IF(AND(O93=0,Q93=0),\"\",\"/\")","v":""},0,3.6,{"$f":"IF(AND(R93=0,T93=0),\"\",\"/\")","v":"/"},0.4,0,{"$f":"IF(AND(U93=0,W93=0),\"\",\"/\")","v":""},0,3.6,"/",0.4,9.5593220338983045,{"$f":"IF(ISNA(INDEX('План ввода основ. ср-в'!F:F,MATCH(B93,'План ввода основ. ср-в'!B:B,0))),0,INDEX('План ввода основ. ср-в'!F:F,MATCH(B93,'План ввода основ. ср-в'!B:B,0)))","v":0},{"$f":"IF(AND(AB93=0,AD93=0),\"\",\"/\")","v":""},{"$f":"IF(ISNA(INDEX('План ввода основ. ср-в'!E:E,MATCH(B93,'План ввода основ. ср-в'!B:B,0))),0,INDEX('План ввода основ. ср-в'!E:E,MATCH(B93,'План ввода основ. ср-в'!B:B,0)))","v":0},{"$f":"IF(ISNA(INDEX('План ввода основ. ср-в'!H:H,MATCH(B93,'План ввода основ. ср-в'!B:B,0))),0,INDEX('План ввода основ. ср-в'!H:H,MATCH(B93,'План ввода основ. ср-в'!B:B,0)))","v":0},{"$f":"IF(AND(AE93=0,AG93=0),\"\",\"/\")","v":""},{"$f":"IF(ISNA(INDEX('План ввода основ. ср-в'!G:G,MATCH(B93,'План ввода основ. ср-в'!B:B,0))),0,INDEX('План ввода основ. ср-в'!G:G,MATCH(B93,'План ввода основ. ср-в'!B:B,0)))","v":0},{"$f":"IF(ISNA(INDEX('План ввода основ. ср-в'!J:J,MATCH(B93,'План ввода основ. ср-в'!B:B,0))),0,INDEX('План ввода основ. ср-в'!J:J,MATCH(B93,'План ввода основ. ср-в'!B:B,0)))","v":0},{"$f":"IF(AND(AH93=0,AJ93=0),\"\",\"/\")","v":""},{"$f":"IF(ISNA(INDEX('План ввода основ. ср-в'!I:I,MATCH(B93,'План ввода основ. ср-в'!B:B,0))),0,INDEX('План ввода основ. ср-в'!I:I,MATCH(B93,'План ввода основ. ср-в'!B:B,0)))","v":0},{"$f":"IF(ISNA(INDEX('План ввода основ. ср-в'!L:L,MATCH(B93,'План ввода основ. ср-в'!B:B,0))),0,INDEX('План ввода основ. ср-в'!L:L,MATCH(B93,'План ввода основ. ср-в'!B:B,0)))","v":0},{"$f":"IF(AND(AK93=0,AM93=0),\"\",\"/\")","v":""},{"$f":"IF(ISNA(INDEX('План ввода основ. ср-в'!K:K,MATCH(B93,'План ввода основ. ср-в'!B:B,0))),0,INDEX('План ввода основ. ср-в'!K:K,MATCH(B93,'План ввода основ. ср-в'!B:B,0)))","v":0},0,"/",0,{"$f":"IF(ISNA(INDEX('План ввода основ. ср-в'!N:N,MATCH(B93,'План ввода основ. ср-в'!B:B,0))),0,INDEX('План ввода основ. ср-в'!N:N,MATCH(B93,'План ввода основ. ср-в'!B:B,0)))","v":0},{"$f":"IF(AND(AQ93=0,AS93=0),\"\",\"/\")","v":""},{"$f":"IF(ISNA(INDEX('План ввода основ. ср-в'!M:M,MATCH(B93,'План ввода основ. ср-в'!B:B,0))),0,INDEX('План ввода основ. ср-в'!M:M,MATCH(B93,'План ввода основ. ср-в'!B:B,0)))","v":0},{"$f":"IF(ISNA(INDEX('План ввода основ. ср-в'!P:P,MATCH(B93,'План ввода основ. ср-в'!B:B,0))),0,INDEX('План ввода основ. ср-в'!P:P,MATCH(B93,'План ввода основ. ср-в'!B:B,0)))","v":0},{"$f":"IF(AND(AT93=0,AV93=0),\"\",\"/\")","v":""},{"$f":"IF(ISNA(INDEX('План ввода основ. ср-в'!O:O,MATCH(B93,'План ввода основ. ср-в'!B:B,0))),0,INDEX('План ввода основ. ср-в'!O:O,MATCH(B93,'План ввода основ. ср-в'!B:B,0)))","v":0},{"$f":"IF(ISNA(INDEX('План ввода основ. ср-в'!R:R,MATCH(B93,'План ввода основ. ср-в'!B:B,0))),0,INDEX('План ввода основ. ср-в'!R:R,MATCH(B93,'План ввода основ. ср-в'!B:B,0)))","v":3.6},{"$f":"IF(AND(AW93=0,AY93=0),\"\",\"/\")","v":"/"},{"$f":"IF(ISNA(INDEX('План ввода основ. ср-в'!Q:Q,MATCH(B93,'План ввода основ. ср-в'!B:B,0))),0,INDEX('План ввода основ. ср-в'!Q:Q,MATCH(B93,'План ввода основ. ср-в'!B:B,0)))","v":0.4},{"$f":"IF(ISNA(INDEX('План ввода основ. ср-в'!T:T,MATCH(B93,'План ввода основ. ср-в'!B:B,0))),0,INDEX('План ввода основ. ср-в'!T:T,MATCH(B93,'План ввода основ. ср-в'!B:B,0)))","v":0},{"$f":"IF(AND(AZ93=0,BB93=0),\"\",\"/\")","v":""},{"$f":"IF(ISNA(INDEX('План ввода основ. ср-в'!S:S,MATCH(B93,'План ввода основ. ср-в'!B:B,0))),0,INDEX('План ввода основ. ср-в'!S:S,MATCH(B93,'План ввода основ. ср-в'!B:B,0)))","v":0},3.6,"/",0.4,{"$f":"IF(ISNA(INDEX('План ввода основ. ср-в'!V:V,MATCH(B93,'План ввода основ. ср-в'!B:B,0))),0,INDEX('План ввода основ. ср-в'!V:V,MATCH(B93,'План ввода основ. ср-в'!B:B,0)))","v":0},{"$f":"IF(ISNA(INDEX('План ввода основ. ср-в'!W:W,MATCH(B93,'План ввода основ. ср-в'!B:B,0))),0,INDEX('План ввода основ. ср-в'!W:W,MATCH(B93,'План ввода основ. ср-в'!B:B,0)))","v":0},{"$f":"IF(ISNA(INDEX('План ввода основ. ср-в'!X:X,MATCH(B93,'План ввода основ. ср-в'!B:B,0))),0,INDEX('План ввода основ. ср-в'!X:X,MATCH(B93,'План ввода основ. ср-в'!B:B,0)))","v":0},{"$f":"IF(ISNA(INDEX('План ввода основ. ср-в'!Y:Y,MATCH(B93,'План ввода основ. ср-в'!B:B,0))),0,INDEX('План ввода основ. ср-в'!Y:Y,MATCH(B93,'План ввода основ. ср-в'!B:B,0)))","v":0},0,{"$f":"IF(ISNA(INDEX('План ввода основ. ср-в'!Z:Z,MATCH(B93,'План ввода основ. ср-в'!B:B,0))),0,INDEX('План ввода основ. ср-в'!Z:Z,MATCH(B93,'План ввода основ. ср-в'!B:B,0)))","v":0},{"$f":"IF(ISNA(INDEX('План ввода основ. ср-в'!AA:AA,MATCH(B93,'План ввода основ. ср-в'!B:B,0))),0,INDEX('План ввода основ. ср-в'!AA:AA,MATCH(B93,'План ввода основ. ср-в'!B:B,0)))","v":0},{"$f":"IF(ISNA(INDEX('План ввода основ. ср-в'!AB:AB,MATCH(B93,'План ввода основ. ср-в'!B:B,0))),0,INDEX('План ввода основ. ср-в'!AB:AB,MATCH(B93,'План ввода основ. ср-в'!B:B,0)))","v":9.5593220338983045},{"$f":"IF(ISNA(INDEX('План ввода основ. ср-в'!AC:AC,MATCH(B93,'План ввода основ. ср-в'!B:B,0))),0,INDEX('План ввода основ. ср-в'!AC:AC,MATCH(B93,'План ввода основ. ср-в'!B:B,0)))","v":0},9.5593220338983045]
[72,"Реконструкция ВЛ-0,4 кВ от КТП Ч 1701/160 кВА",null,null,null,null,null,null,0,"",0,0,"",0,0,"",0,2,"/",0,0,"",0,2,"/",0,4.7457627118644066,{"$f":"IF(ISNA(INDEX('План ввода основ. ср-в'!F:F,MATCH(B94,'План ввода основ. ср-в'!B:B,0))),0,INDEX('План ввода основ. ср-в'!F:F,MATCH(B94,'План ввода основ. ср-в'!B:B,0)))","v":0},"",{"$f":"IF(ISNA(INDEX('План ввода основ. ср-в'!E:E,MATCH(B94,'План ввода основ. ср-в'!B:B,0))),0,INDEX('План ввода основ. ср-в'!E:E,MATCH(B94,'План ввода основ. ср-в'!B:B,0)))","v":0},{"$f":"IF(ISNA(INDEX('План ввода основ. ср-в'!H:H,MATCH(B94,'План ввода основ. ср-в'!B:B,0))),0,INDEX('План ввода основ. ср-в'!H:H,MATCH(B94,'План ввода основ. ср-в'!B:B,0)))","v":0},"",{"$f":"IF(ISNA(INDEX('План ввода основ. ср-в'!G:G,MATCH(B94,'План ввода основ. ср-в'!B:B,0))),0,INDEX('План ввода основ. ср-в'!G:G,MATCH(B94,'План ввода основ. ср-в'!B:B,0)))","v":0},{"$f":"IF(ISNA(INDEX('План ввода основ. ср-в'!J:J,MATCH(B94,'План ввода основ. ср-в'!B:B,0))),0,INDEX('План ввода основ. ср-в'!J:J,MATCH(B94,'План ввода основ. ср-в'!B:B,0)))","v":0},"",{"$f":"IF(ISNA(INDEX('План ввода основ. ср-в'!I:I,MATCH(B94,'План ввода основ. ср-в'!B:B,0))),0,INDEX('План ввода основ. ср-в'!I:I,MATCH(B94,'План ввода основ. ср-в'!B:B,0)))","v":0},{"$f":"IF(ISNA(INDEX('План ввода основ. ср-в'!L:L,MATCH(B94,'План ввода основ. ср-в'!B:B,0))),0,INDEX('План ввода основ. ср-в'!L:L,MATCH(B94,'План ввода основ. ср-в'!B:B,0)))","v":0},"",{"$f":"IF(ISNA(INDEX('План ввода основ. ср-в'!K:K,MATCH(B94,'План ввода основ. ср-в'!B:B,0))),0,INDEX('План ввода основ. ср-в'!K:K,MATCH(B94,'План ввода основ. ср-в'!B:B,0)))","v":0},0,"/",0,{"$f":"IF(ISNA(INDEX('План ввода основ. ср-в'!N:N,MATCH(B94,'План ввода основ. ср-в'!B:B,0))),0,INDEX('План ввода основ. ср-в'!N:N,MATCH(B94,'План ввода основ. ср-в'!B:B,0)))","v":0},"",{"$f":"IF(ISNA(INDEX('План ввода основ. ср-в'!M:M,MATCH(B94,'План ввода основ. ср-в'!B:B,0))),0,INDEX('План ввода основ. ср-в'!M:M,MATCH(B94,'План ввода основ. ср-в'!B:B,0)))","v":0},{"$f":"IF(ISNA(INDEX('План ввода основ. ср-в'!P:P,MATCH(B94,'План ввода основ. ср-в'!B:B,0))),0,INDEX('План ввода основ. ср-в'!P:P,MATCH(B94,'План ввода основ. ср-в'!B:B,0)))","v":0},"",{"$f":"IF(ISNA(INDEX('План ввода основ. ср-в'!O:O,MATCH(B94,'План ввода основ. ср-в'!B:B,0))),0,INDEX('План ввода основ. ср-в'!O:O,MATCH(B94,'План ввода основ. ср-в'!B:B,0)))","v":0},{"$f":"IF(ISNA(INDEX('План ввода основ. ср-в'!R:R,MATCH(B94,'План ввода основ. ср-в'!B:B,0))),0,INDEX('План ввода основ. ср-в'!R:R,MATCH(B94,'План ввода основ. ср-в'!B:B,0)))","v":2},"/",{"$f":"IF(ISNA(INDEX('План ввода основ. ср-в'!Q:Q,MATCH(B94,'План ввода основ. ср-в'!B:B,0))),0,INDEX('План ввода основ. ср-в'!Q:Q,MATCH(B94,'План ввода основ. ср-в'!B:B,0)))","v":0},{"$f":"IF(ISNA(INDEX('План ввода основ. ср-в'!T:T,MATCH(B94,'План ввода основ. ср-в'!B:B,0))),0,INDEX('План ввода основ. ср-в'!T:T,MATCH(B94,'План ввода основ. ср-в'!B:B,0)))","v":0},"",{"$f":"IF(ISNA(INDEX('План ввода основ. ср-в'!S:S,MATCH(B94,'План ввода основ. ср-в'!B:B,0))),0,INDEX('План ввода основ. ср-в'!S:S,MATCH(B94,'План ввода основ. ср-в'!B:B,0)))","v":0},2,"/",0,{"$f":"IF(ISNA(INDEX('План ввода основ. ср-в'!V:V,MATCH(B94,'План ввода основ. ср-в'!B:B,0))),0,INDEX('План ввода основ. ср-в'!V:V,MATCH(B94,'План ввода основ. ср-в'!B:B,0)))","v":0},{"$f":"IF(ISNA(INDEX('План ввода основ. ср-в'!W:W,MATCH(B94,'План ввода основ. ср-в'!B:B,0))),0,INDEX('План ввода основ. ср-в'!W:W,MATCH(B94,'План ввода основ. ср-в'!B:B,0)))","v":0},{"$f":"IF(ISNA(INDEX('План ввода основ. ср-в'!X:X,MATCH(B94,'План ввода основ. ср-в'!B:B,0))),0,INDEX('План ввода основ. ср-в'!X:X,MATCH(B94,'План ввода основ. ср-в'!B:B,0)))","v":0},{"$f":"IF(ISNA(INDEX('План ввода основ. ср-в'!Y:Y,MATCH(B94,'План ввода основ. ср-в'!B:B,0))),0,INDEX('План ввода основ. ср-в'!Y:Y,MATCH(B94,'План ввода основ. ср-в'!B:B,0)))","v":0},0,{"$f":"IF(ISNA(INDEX('План ввода основ. ср-в'!Z:Z,MATCH(B94,'План ввода основ. ср-в'!B:B,0))),0,INDEX('План ввода основ. ср-в'!Z:Z,MATCH(B94,'План ввода основ. ср-в'!B:B,0)))","v":0},{"$f":"IF(ISNA(INDEX('План ввода основ. ср-в'!AA:AA,MATCH(B94,'План ввода основ. ср-в'!B:B,0))),0,INDEX('План ввода основ. ср-в'!AA:AA,MATCH(B94,'План ввода основ. ср-в'!B:B,0)))","v":0},{"$f":"IF(ISNA(INDEX('План ввода основ. ср-в'!AB:AB,MATCH(B94,'План ввода основ. ср-в'!B:B,0))),0,INDEX('План ввода основ. ср-в'!AB:AB,MATCH(B94,'План ввода основ. ср-в'!B:B,0)))","v":4.7457627118644066},{"$f":"IF(ISNA(INDEX('План ввода основ. ср-в'!AC:AC,MATCH(B94,'План ввода основ. ср-в'!B:B,0))),0,INDEX('План ввода основ. ср-в'!AC:AC,MATCH(B94,'План ввода основ. ср-в'!B:B,0)))","v":0},4.7457627118644066]
[73,"Реконструкция ВЛ-0,4 кВ от КТП Ч 303/400 кВА",null,null,null,null,null,null,0,"",0,0,"",0,0,"",0,2.4,"/",0,0,"",0,2.4,"/",0,{"$f":"BO95","v":5.6949152542372881},{"$f":"IF(ISNA(INDEX('План ввода основ. ср-в'!F:F,MATCH(B95,'План ввода основ. ср-в'!B:B,0))),0,INDEX('План ввода основ. ср-в'!F:F,MATCH(B95,'План ввода основ. ср-в'!B:B,0)))","v":0},"",{"$f":"IF(ISNA(INDEX('План ввода основ. ср-в'!E:E,MATCH(B95,'План ввода основ. ср-в'!B:B,0))),0,INDEX('План ввода основ. ср-в'!E:E,MATCH(B95,'План ввода основ. ср-в'!B:B,0)))","v":0},{"$f":"IF(ISNA(INDEX('План ввода основ. ср-в'!H:H,MATCH(B95,'План ввода основ. ср-в'!B:B,0))),0,INDEX('План ввода основ. ср-в'!H:H,MATCH(B95,'План ввода основ. ср-в'!B:B,0)))","v":0},"",{"$f":"IF(ISNA(INDEX('План ввода основ. ср-в'!G:G,MATCH(B95,'План ввода основ. ср-в'!B:B,0))),0,INDEX('План ввода основ. ср-в'!G:G,MATCH(B95,'План ввода основ. ср-в'!B:B,0)))","v":0},{"$f":"IF(ISNA(INDEX('План ввода основ. ср-в'!J:J,MATCH(B95,'План ввода основ. ср-в'!B:B,0))),0,INDEX('План ввода основ. ср-в'!J:J,MATCH(B95,'План ввода основ. ср-в'!B:B,0)))","v":0},"",{"$f":"IF(ISNA(INDEX('План ввода основ. ср-в'!I:I,MATCH(B95,'План ввода основ. ср-в'!B:B,0))),0,INDEX('План ввода основ. ср-в'!I:I,MATCH(B95,'План ввода основ. ср-в'!B:B,0)))","v":0},{"$f":"IF(ISNA(INDEX('План ввода основ. ср-в'!L:L,MATCH(B95,'План ввода основ. ср-в'!B:B,0))),0,INDEX('План ввода основ. ср-в'!L:L,MATCH(B95,'План ввода основ. ср-в'!B:B,0)))","v":0},"",{"$f":"IF(ISNA(INDEX('План ввода основ. ср-в'!K:K,MATCH(B95,'План ввода основ. ср-в'!B:B,0))),0,INDEX('План ввода основ. ср-в'!K:K,MATCH(B95,'План ввода основ. ср-в'!B:B,0)))","v":0},0,"/",0,{"$f":"IF(ISNA(INDEX('План ввода основ. ср-в'!N:N,MATCH(B95,'План ввода основ. ср-в'!B:B,0))),0,INDEX('План ввода основ. ср-в'!N:N,MATCH(B95,'План ввода основ. ср-в'!B:B,0)))","v":0},"",{"$f":"IF(ISNA(INDEX('План ввода основ. ср-в'!M:M,MATCH(B95,'План ввода основ. ср-в'!B:B,0))),0,INDEX('План ввода основ. ср-в'!M:M,MATCH(B95,'План ввода основ. ср-в'!B:B,0)))","v":0},{"$f":"IF(ISNA(INDEX('План ввода основ. ср-в'!P:P,MATCH(B95,'План ввода основ. ср-в'!B:B,0))),0,INDEX('План ввода основ. ср-в'!P:P,MATCH(B95,'План ввода основ. ср-в'!B:B,0)))","v":0},"",{"$f":"IF(ISNA(INDEX('План ввода основ. ср-в'!O:O,MATCH(B95,'План ввода основ. ср-в'!B:B,0))),0,INDEX('План ввода основ. ср-в'!O:O,MATCH(B95,'План ввода основ. ср-в'!B:B,0)))","v":0},{"$f":"IF(ISNA(INDEX('План ввода основ. ср-в'!R:R,MATCH(B95,'План ввода основ. ср-в'!B:B,0))),0,INDEX('План ввода основ. ср-в'!R:R,MATCH(B95,'План ввода основ. ср-в'!B:B,0)))","v":2.4},"/",{"$f":"IF(ISNA(INDEX('План ввода основ. ср-в'!Q:Q,MATCH(B95,'План ввода основ. ср-в'!B:B,0))),0,INDEX('План ввода основ. ср-в'!Q:Q,MATCH(B95,'План ввода основ. ср-в'!B:B,0)))","v":0},{"$f":"IF(ISNA(INDEX('План ввода основ. ср-в'!T:T,MATCH(B95,'План ввода основ. ср-в'!B:B,0))),0,INDEX('План ввода основ. ср-в'!T:T,MATCH(B95,'План ввода основ. ср-в'!B:B,0)))","v":0},"",{"$f":"IF(ISNA(INDEX('План ввода основ. ср-в'!S:S,MATCH(B95,'План ввода основ. ср-в'!B:B,0))),0,INDEX('План ввода основ. ср-в'!S:S,MATCH(B95,'План ввода основ. ср-в'!B:B,0)))","v":0},{"$f":"AN95+AQ95+AT95+AW95+AZ95","v":2.4},"/",0,{"$f":"IF(ISNA(INDEX('План ввода основ. ср-в'!V:V,MATCH(B95,'План ввода основ. ср-в'!B:B,0))),0,INDEX('План ввода основ. ср-в'!V:V,MATCH(B95,'План ввода основ. ср-в'!B:B,0)))","v":0},{"$f":"IF(ISNA(INDEX('План ввода основ. ср-в'!W:W,MATCH(B95,'План ввода основ. ср-в'!B:B,0))),0,INDEX('План ввода основ. ср-в'!W:W,MATCH(B95,'План ввода основ. ср-в'!B:B,0)))","v":0},{"$f":"IF(ISNA(INDEX('План ввода основ. ср-в'!X:X,MATCH(B95,'План ввода основ. ср-в'!B:B,0))),0,INDEX('План ввода основ. ср-в'!X:X,MATCH(B95,'План ввода основ. ср-в'!B:B,0)))","v":0},{"$f":"IF(ISNA(INDEX('План ввода основ. ср-в'!Y:Y,MATCH(B95,'План ввода основ. ср-в'!B:B,0))),0,INDEX('План ввода основ. ср-в'!Y:Y,MATCH(B95,'План ввода основ. ср-в'!B:B,0)))","v":0},0,{"$f":"IF(ISNA(INDEX('План ввода основ. ср-в'!Z:Z,MATCH(B95,'План ввода основ. ср-в'!B:B,0))),0,INDEX('План ввода основ. ср-в'!Z:Z,MATCH(B95,'План ввода основ. ср-в'!B:B,0)))","v":0},{"$f":"IF(ISNA(INDEX('План ввода основ. ср-в'!AA:AA,MATCH(B95,'План ввода основ. ср-в'!B:B,0))),0,INDEX('План ввода основ. ср-в'!AA:AA,MATCH(B95,'План ввода основ. ср-в'!B:B,0)))","v":0},{"$f":"IF(ISNA(INDEX('План ввода основ. ср-в'!AB:AB,MATCH(B95,'План ввода основ. ср-в'!B:B,0))),0,INDEX('План ввода основ. ср-в'!AB:AB,MATCH(B95,'План ввода основ. ср-в'!B:B,0)))","v":5.6949152542372881},{"$f":"IF(ISNA(INDEX('План ввода основ. ср-в'!AC:AC,MATCH(B95,'План ввода основ. ср-в'!B:B,0))),0,INDEX('План ввода основ. ср-в'!AC:AC,MATCH(B95,'План ввода основ. ср-в'!B:B,0)))","v":0},5.6949152542372881]
[74,"Реконструкция ВЛ-0,4 кВ от ЗТП Ку 1601/160 кВА с заменой трансформатора на 250 кВА",null,null,null,null,null,null,0,{"$f":"IF(AND(I96=0,K96=0),\"\",\"/\")","v":""},0,0,{"$f":"IF(AND(L96=0,N96=0),\"\",\"/\")","v":""},0,0,{"$f":"IF(AND(O96=0,Q96=0),\"\",\"/\")","v":""},0,0,{"$f":"IF(AND(R96=0,T96=0),\"\",\"/\")","v":""},0,1,{"$f":"IF(AND(U96=0,W96=0),\"\",\"/\")","v":"/"},0.16,1,"/",0.16,3.3898305084745766,{"$f":"IF(ISNA(INDEX('План ввода основ. ср-в'!F:F,MATCH(B96,'План ввода основ. ср-в'!B:B,0))),0,INDEX('План ввода основ. ср-в'!F:F,MATCH(B96,'План ввода основ. ср-в'!B:B,0)))","v":0},{"$f":"IF(AND(AB96=0,AD96=0),\"\",\"/\")","v":""},{"$f":"IF(ISNA(INDEX('План ввода основ. ср-в'!E:E,MATCH(B96,'План ввода основ. ср-в'!B:B,0))),0,INDEX('План ввода основ. ср-в'!E:E,MATCH(B96,'План ввода основ. ср-в'!B:B,0)))","v":0},{"$f":"IF(ISNA(INDEX('План ввода основ. ср-в'!H:H,MATCH(B96,'План ввода основ. ср-в'!B:B,0))),0,INDEX('План ввода основ. ср-в'!H:H,MATCH(B96,'План ввода основ. ср-в'!B:B,0)))","v":0},{"$f":"IF(AND(AE96=0,AG96=0),\"\",\"/\")","v":""},{"$f":"IF(ISNA(INDEX('План ввода основ. ср-в'!G:G,MATCH(B96,'План ввода основ. ср-в'!B:B,0))),0,INDEX('План ввода основ. ср-в'!G:G,MATCH(B96,'План ввода основ. ср-в'!B:B,0)))","v":0},{"$f":"IF(ISNA(INDEX('План ввода основ. ср-в'!J:J,MATCH(B96,'План ввода основ. ср-в'!B:B,0))),0,INDEX('План ввода основ. ср-в'!J:J,MATCH(B96,'План ввода основ. ср-в'!B:B,0)))","v":0},{"$f":"IF(AND(AH96=0,AJ96=0),\"\",\"/\")","v":""},{"$f":"IF(ISNA(INDEX('План ввода основ. ср-в'!I:I,MATCH(B96,'План ввода основ. ср-в'!B:B,0))),0,INDEX('План ввода основ. ср-в'!I:I,MATCH(B96,'План ввода основ. ср-в'!B:B,0)))","v":0},{"$f":"IF(ISNA(INDEX('План ввода основ. ср-в'!L:L,MATCH(B96,'План ввода основ. ср-в'!B:B,0))),0,INDEX('План ввода основ. ср-в'!L:L,MATCH(B96,'План ввода основ. ср-в'!B:B,0)))","v":0},{"$f":"IF(AND(AK96=0,AM96=0),\"\",\"/\")","v":""},{"$f":"IF(ISNA(INDEX('План ввода основ. ср-в'!K:K,MATCH(B96,'План ввода основ. ср-в'!B:B,0))),0,INDEX('План ввода основ. ср-в'!K:K,MATCH(B96,'План ввода основ. ср-в'!B:B,0)))","v":0},0,"/",0,{"$f":"IF(ISNA(INDEX('План ввода основ. ср-в'!N:N,MATCH(B96,'План ввода основ. ср-в'!B:B,0))),0,INDEX('План ввода основ. ср-в'!N:N,MATCH(B96,'План ввода основ. ср-в'!B:B,0)))","v":0},{"$f":"IF(AND(AQ96=0,AS96=0),\"\",\"/\")","v":""},{"$f":"IF(ISNA(INDEX('План ввода основ. ср-в'!M:M,MATCH(B96,'План ввода основ. ср-в'!B:B,0))),0,INDEX('План ввода основ. ср-в'!M:M,MATCH(B96,'План ввода основ. ср-в'!B:B,0)))","v":0},{"$f":"IF(ISNA(INDEX('План ввода основ. ср-в'!P:P,MATCH(B96,'План ввода основ. ср-в'!B:B,0))),0,INDEX('План ввода основ. ср-в'!P:P,MATCH(B96,'План ввода основ. ср-в'!B:B,0)))","v":0},{"$f":"IF(AND(AT96=0,AV96=0),\"\",\"/\")","v":""},{"$f":"IF(ISNA(INDEX('План ввода основ. ср-в'!O:O,MATCH(B96,'План ввода основ. ср-в'!B:B,0))),0,INDEX('План ввода основ. ср-в'!O:O,MATCH(B96,'План ввода основ. ср-в'!B:B,0)))","v":0},{"$f":"IF(ISNA(INDEX('План ввода основ. ср-в'!R:R,MATCH(B96,'План ввода основ. ср-в'!B:B,0))),0,INDEX('План ввода основ. ср-в'!R:R,MATCH(B96,'План ввода основ. ср-в'!B:B,0)))","v":0},{"$f":"IF(AND(AW96=0,AY96=0),\"\",\"/\")","v":""},{"$f":"IF(ISNA(INDEX('План ввода основ. ср-в'!Q:Q,MATCH(B96,'План ввода основ. ср-в'!B:B,0))),0,INDEX('План ввода основ. ср-в'!Q:Q,MATCH(B96,'План ввода основ. ср-в'!B:B,0)))","v":0},{"$f":"IF(ISNA(INDEX('План ввода основ. ср-в'!T:T,MATCH(B96,'План ввода основ. ср-в'!B:B,0))),0,INDEX('План ввода основ. ср-в'!T:T,MATCH(B96,'План ввода основ. ср-в'!B:B,0)))","v":1},{"$f":"IF(AND(AZ96=0,BB96=0),\"\",\"/\")","v":"/"},{"$f":"IF(ISNA(INDEX('План ввода основ. ср-в'!S:S,MATCH(B96,'План ввода основ. ср-в'!B:B,0))),0,INDEX('План ввода основ. ср-в'!S:S,MATCH(B96,'План ввода основ. ср-в'!B:B,0)))","v":0.25},1,"/",0.25,{"$f":"IF(ISNA(INDEX('План ввода основ. ср-в'!V:V,MATCH(B96,'План ввода основ. ср-в'!B:B,0))),0,INDEX('План ввода основ. ср-в'!V:V,MATCH(B96,'План ввода основ. ср-в'!B:B,0)))","v":0},{"$f":"IF(ISNA(INDEX('План ввода основ. ср-в'!W:W,MATCH(B96,'План ввода основ. ср-в'!B:B,0))),0,INDEX('План ввода основ. ср-в'!W:W,MATCH(B96,'План ввода основ. ср-в'!B:B,0)))","v":0},{"$f":"IF(ISNA(INDEX('План ввода основ. ср-в'!X:X,MATCH(B96,'План ввода основ. ср-в'!B:B,0))),0,INDEX('План ввода основ. ср-в'!X:X,MATCH(B96,'План ввода основ. ср-в'!B:B,0)))","v":0},{"$f":"IF(ISNA(INDEX('План ввода основ. ср-в'!Y:Y,MATCH(B96,'План ввода основ. ср-в'!B:B,0))),0,INDEX('План ввода основ. ср-в'!Y:Y,MATCH(B96,'План ввода основ. ср-в'!B:B,0)))","v":0},0,{"$f":"IF(ISNA(INDEX('План ввода основ. ср-в'!Z:Z,MATCH(B96,'План ввода основ. ср-в'!B:B,0))),0,INDEX('План ввода основ. ср-в'!Z:Z,MATCH(B96,'План ввода основ. ср-в'!B:B,0)))","v":0},{"$f":"IF(ISNA(INDEX('План ввода основ. ср-в'!AA:AA,MATCH(B96,'План ввода основ. ср-в'!B:B,0))),0,INDEX('План ввода основ. ср-в'!AA:AA,MATCH(B96,'План ввода основ. ср-в'!B:B,0)))","v":0},{"$f":"IF(ISNA(INDEX('План ввода основ. ср-в'!AB:AB,MATCH(B96,'План ввода основ. ср-в'!B:B,0))),0,INDEX('План ввода основ. ср-в'!AB:AB,MATCH(B96,'План ввода основ. ср-в'!B:B,0)))","v":0},{"$f":"IF(ISNA(INDEX('План ввода основ. ср-в'!AC:AC,MATCH(B96,'План ввода основ. ср-в'!B:B,0))),0,INDEX('План ввода основ. ср-в'!AC:AC,MATCH(B96,'План ввода основ. ср-в'!B:B,0)))","v":3.3898305084745766},3.3898305084745766]
[75,"Реконструкция КЛ-0,4 кВ от ЗТП Ку 1602/2х250  кВА",null,null,null,null,null,null,0,"",0,0,"",0,0,"",0,0,"",0,0.6,"/",0,0.6,"/",0,2.0338983050847457,{"$f":"IF(ISNA(INDEX('План ввода основ. ср-в'!F:F,MATCH(B97,'План ввода основ. ср-в'!B:B,0))),0,INDEX('План ввода основ. ср-в'!F:F,MATCH(B97,'План ввода основ. ср-в'!B:B,0)))","v":0},"",{"$f":"IF(ISNA(INDEX('План ввода основ. ср-в'!E:E,MATCH(B97,'План ввода основ. ср-в'!B:B,0))),0,INDEX('План ввода основ. ср-в'!E:E,MATCH(B97,'План ввода основ. ср-в'!B:B,0)))","v":0},{"$f":"IF(ISNA(INDEX('План ввода основ. ср-в'!H:H,MATCH(B97,'План ввода основ. ср-в'!B:B,0))),0,INDEX('План ввода основ. ср-в'!H:H,MATCH(B97,'План ввода основ. ср-в'!B:B,0)))","v":0},"",{"$f":"IF(ISNA(INDEX('План ввода основ. ср-в'!G:G,MATCH(B97,'План ввода основ. ср-в'!B:B,0))),0,INDEX('План ввода основ. ср-в'!G:G,MATCH(B97,'План ввода основ. ср-в'!B:B,0)))","v":0},{"$f":"IF(ISNA(INDEX('План ввода основ. ср-в'!J:J,MATCH(B97,'План ввода основ. ср-в'!B:B,0))),0,INDEX('План ввода основ. ср-в'!J:J,MATCH(B97,'План ввода основ. ср-в'!B:B,0)))","v":0},"",{"$f":"IF(ISNA(INDEX('План ввода основ. ср-в'!I:I,MATCH(B97,'План ввода основ. ср-в'!B:B,0))),0,INDEX('План ввода основ. ср-в'!I:I,MATCH(B97,'План ввода основ. ср-в'!B:B,0)))","v":0},{"$f":"IF(ISNA(INDEX('План ввода основ. ср-в'!L:L,MATCH(B97,'План ввода основ. ср-в'!B:B,0))),0,INDEX('План ввода основ. ср-в'!L:L,MATCH(B97,'План ввода основ. ср-в'!B:B,0)))","v":0},"",{"$f":"IF(ISNA(INDEX('План ввода основ. ср-в'!K:K,MATCH(B97,'План ввода основ. ср-в'!B:B,0))),0,INDEX('План ввода основ. ср-в'!K:K,MATCH(B97,'План ввода основ. ср-в'!B:B,0)))","v":0},0,"/",0,{"$f":"IF(ISNA(INDEX('План ввода основ. ср-в'!N:N,MATCH(B97,'План ввода основ. ср-в'!B:B,0))),0,INDEX('План ввода основ. ср-в'!N:N,MATCH(B97,'План ввода основ. ср-в'!B:B,0)))","v":0},"",{"$f":"IF(ISNA(INDEX('План ввода основ. ср-в'!M:M,MATCH(B97,'План ввода основ. ср-в'!B:B,0))),0,INDEX('План ввода основ. ср-в'!M:M,MATCH(B97,'План ввода основ. ср-в'!B:B,0)))","v":0},{"$f":"IF(ISNA(INDEX('План ввода основ. ср-в'!P:P,MATCH(B97,'План ввода основ. ср-в'!B:B,0))),0,INDEX('План ввода основ. ср-в'!P:P,MATCH(B97,'План ввода основ. ср-в'!B:B,0)))","v":0},"",{"$f":"IF(ISNA(INDEX('План ввода основ. ср-в'!O:O,MATCH(B97,'План ввода основ. ср-в'!B:B,0))),0,INDEX('План ввода основ. ср-в'!O:O,MATCH(B97,'План ввода основ. ср-в'!B:B,0)))","v":0},{"$f":"IF(ISNA(INDEX('План ввода основ. ср-в'!R:R,MATCH(B97,'План ввода основ. ср-в'!B:B,0))),0,INDEX('План ввода основ. ср-в'!R:R,MATCH(B97,'План ввода основ. ср-в'!B:B,0)))","v":0},"",{"$f":"IF(ISNA(INDEX('План ввода основ. ср-в'!Q:Q,MATCH(B97,'План ввода основ. ср-в'!B:B,0))),0,INDEX('План ввода основ. ср-в'!Q:Q,MATCH(B97,'План ввода основ. ср-в'!B:B,0)))","v":0},{"$f":"IF(ISNA(INDEX('План ввода основ. ср-в'!T:T,MATCH(B97,'План ввода основ. ср-в'!B:B,0))),0,INDEX('План ввода основ. ср-в'!T:T,MATCH(B97,'План ввода основ. ср-в'!B:B,0)))","v":0.6},"/",{"$f":"IF(ISNA(INDEX('План ввода основ. ср-в'!S:S,MATCH(B97,'План ввода основ. ср-в'!B:B,0))),0,INDEX('План ввода основ. ср-в'!S:S,MATCH(B97,'План ввода основ. ср-в'!B:B,0)))","v":0},0.6,"/",0,{"$f":"IF(ISNA(INDEX('План ввода основ. ср-в'!V:V,MATCH(B97,'План ввода основ. ср-в'!B:B,0))),0,INDEX('План ввода основ. ср-в'!V:V,MATCH(B97,'План ввода основ. ср-в'!B:B,0)))","v":0},{"$f":"IF(ISNA(INDEX('План ввода основ. ср-в'!W:W,MATCH(B97,'План ввода основ. ср-в'!B:B,0))),0,INDEX('План ввода основ. ср-в'!W:W,MATCH(B97,'План ввода основ. ср-в'!B:B,0)))","v":0},{"$f":"IF(ISNA(INDEX('План ввода основ. ср-в'!X:X,MATCH(B97,'План ввода основ. ср-в'!B:B,0))),0,INDEX('План ввода основ. ср-в'!X:X,MATCH(B97,'План ввода основ. ср-в'!B:B,0)))","v":0},{"$f":"IF(ISNA(INDEX('План ввода основ. ср-в'!Y:Y,MATCH(B97,'План ввода основ. ср-в'!B:B,0))),0,INDEX('План ввода основ. ср-в'!Y:Y,MATCH(B97,'План ввода основ. ср-в'!B:B,0)))","v":0},0,{"$f":"IF(ISNA(INDEX('План ввода основ. ср-в'!Z:Z,MATCH(B97,'План ввода основ. ср-в'!B:B,0))),0,INDEX('План ввода основ. ср-в'!Z:Z,MATCH(B97,'План ввода основ. ср-в'!B:B,0)))","v":0},{"$f":"IF(ISNA(INDEX('План ввода основ. ср-в'!AA:AA,MATCH(B97,'План ввода основ. ср-в'!B:B,0))),0,INDEX('План ввода основ. ср-в'!AA:AA,MATCH(B97,'План ввода основ. ср-в'!B:B,0)))","v":0},{"$f":"IF(ISNA(INDEX('План ввода основ. ср-в'!AB:AB,MATCH(B97,'План ввода основ. ср-в'!B:B,0))),0,INDEX('План ввода основ. ср-в'!AB:AB,MATCH(B97,'План ввода основ. ср-в'!B:B,0)))","v":0},{"$f":"IF(ISNA(INDEX('План ввода основ. ср-в'!AC:AC,MATCH(B97,'План ввода основ. ср-в'!B:B,0))),0,INDEX('План ввода основ. ср-в'!AC:AC,MATCH(B97,'План ввода основ. ср-в'!B:B,0)))","v":2.0338983050847457},2.0338983050847457]
[76,"Реконструкция ВКЛ-0,4 кВ от ЗТП Ку 1603/630  кВА",null,null,null,null,null,null,0,"",0,0,"",0,0,"",0,0,"",0,2.6,"/",0,2.6,"/",0,6.7796610169491531,{"$f":"IF(ISNA(INDEX('План ввода основ. ср-в'!F:F,MATCH(B98,'План ввода основ. ср-в'!B:B,0))),0,INDEX('План ввода основ. ср-в'!F:F,MATCH(B98,'План ввода основ. ср-в'!B:B,0)))","v":0},"",{"$f":"IF(ISNA(INDEX('План ввода основ. ср-в'!E:E,MATCH(B98,'План ввода основ. ср-в'!B:B,0))),0,INDEX('План ввода основ. ср-в'!E:E,MATCH(B98,'План ввода основ. ср-в'!B:B,0)))","v":0},{"$f":"IF(ISNA(INDEX('План ввода основ. ср-в'!H:H,MATCH(B98,'План ввода основ. ср-в'!B:B,0))),0,INDEX('План ввода основ. ср-в'!H:H,MATCH(B98,'План ввода основ. ср-в'!B:B,0)))","v":0},"",{"$f":"IF(ISNA(INDEX('План ввода основ. ср-в'!G:G,MATCH(B98,'План ввода основ. ср-в'!B:B,0))),0,INDEX('План ввода основ. ср-в'!G:G,MATCH(B98,'План ввода основ. ср-в'!B:B,0)))","v":0},{"$f":"IF(ISNA(INDEX('План ввода основ. ср-в'!J:J,MATCH(B98,'План ввода основ. ср-в'!B:B,0))),0,INDEX('План ввода основ. ср-в'!J:J,MATCH(B98,'План ввода основ. ср-в'!B:B,0)))","v":0},"",{"$f":"IF(ISNA(INDEX('План ввода основ. ср-в'!I:I,MATCH(B98,'План ввода основ. ср-в'!B:B,0))),0,INDEX('План ввода основ. ср-в'!I:I,MATCH(B98,'План ввода основ. ср-в'!B:B,0)))","v":0},{"$f":"IF(ISNA(INDEX('План ввода основ. ср-в'!L:L,MATCH(B98,'План ввода основ. ср-в'!B:B,0))),0,INDEX('План ввода основ. ср-в'!L:L,MATCH(B98,'План ввода основ. ср-в'!B:B,0)))","v":0},"",{"$f":"IF(ISNA(INDEX('План ввода основ. ср-в'!K:K,MATCH(B98,'План ввода основ. ср-в'!B:B,0))),0,INDEX('План ввода основ. ср-в'!K:K,MATCH(B98,'План ввода основ. ср-в'!B:B,0)))","v":0},0,"/",0,{"$f":"IF(ISNA(INDEX('План ввода основ. ср-в'!N:N,MATCH(B98,'План ввода основ. ср-в'!B:B,0))),0,INDEX('План ввода основ. ср-в'!N:N,MATCH(B98,'План ввода основ. ср-в'!B:B,0)))","v":0},"",{"$f":"IF(ISNA(INDEX('План ввода основ. ср-в'!M:M,MATCH(B98,'План ввода основ. ср-в'!B:B,0))),0,INDEX('План ввода основ. ср-в'!M:M,MATCH(B98,'План ввода основ. ср-в'!B:B,0)))","v":0},{"$f":"IF(ISNA(INDEX('План ввода основ. ср-в'!P:P,MATCH(B98,'План ввода основ. ср-в'!B:B,0))),0,INDEX('План ввода основ. ср-в'!P:P,MATCH(B98,'План ввода основ. ср-в'!B:B,0)))","v":0},"",{"$f":"IF(ISNA(INDEX('План ввода основ. ср-в'!O:O,MATCH(B98,'План ввода основ. ср-в'!B:B,0))),0,INDEX('План ввода основ. ср-в'!O:O,MATCH(B98,'План ввода основ. ср-в'!B:B,0)))","v":0},{"$f":"IF(ISNA(INDEX('План ввода основ. ср-в'!R:R,MATCH(B98,'План ввода основ. ср-в'!B:B,0))),0,INDEX('План ввода основ. ср-в'!R:R,MATCH(B98,'План ввода основ. ср-в'!B:B,0)))","v":0},"",{"$f":"IF(ISNA(INDEX('План ввода основ. ср-в'!Q:Q,MATCH(B98,'План ввода основ. ср-в'!B:B,0))),0,INDEX('План ввода основ. ср-в'!Q:Q,MATCH(B98,'План ввода основ. ср-в'!B:B,0)))","v":0},{"$f":"IF(ISNA(INDEX('План ввода основ. ср-в'!T:T,MATCH(B98,'План ввода основ. ср-в'!B:B,0))),0,INDEX('План ввода основ. ср-в'!T:T,MATCH(B98,'План ввода основ. ср-в'!B:B,0)))","v":2.6},"/",{"$f":"IF(ISNA(INDEX('План ввода основ. ср-в'!S:S,MATCH(B98,'План ввода основ. ср-в'!B:B,0))),0,INDEX('План ввода основ. ср-в'!S:S,MATCH(B98,'План ввода основ. ср-в'!B:B,0)))","v":0},2.6,"/",0,{"$f":"IF(ISNA(INDEX('План ввода основ. ср-в'!V:V,MATCH(B98,'План ввода основ. ср-в'!B:B,0))),0,INDEX('План ввода основ. ср-в'!V:V,MATCH(B98,'План ввода основ. ср-в'!B:B,0)))","v":0},{"$f":"IF(ISNA(INDEX('План ввода основ. ср-в'!W:W,MATCH(B98,'План ввода основ. ср-в'!B:B,0))),0,INDEX('План ввода основ. ср-в'!W:W,MATCH(B98,'План ввода основ. ср-в'!B:B,0)))","v":0},{"$f":"IF(ISNA(INDEX('План ввода основ. ср-в'!X:X,MATCH(B98,'План ввода основ. ср-в'!B:B,0))),0,INDEX('План ввода основ. ср-в'!X:X,MATCH(B98,'План ввода основ. ср-в'!B:B,0)))","v":0},{"$f":"IF(ISNA(INDEX('План ввода основ. ср-в'!Y:Y,MATCH(B98,'План ввода основ. ср-в'!B:B,0))),0,INDEX('План ввода основ. ср-в'!Y:Y,MATCH(B98,'План ввода основ. ср-в'!B:B,0)))","v":0},0,{"$f":"IF(ISNA(INDEX('План ввода основ. ср-в'!Z:Z,MATCH(B98,'План ввода основ. ср-в'!B:B,0))),0,INDEX('План ввода основ. ср-в'!Z:Z,MATCH(B98,'План ввода основ. ср-в'!B:B,0)))","v":0},{"$f":"IF(ISNA(INDEX('План ввода основ. ср-в'!AA:AA,MATCH(B98,'План ввода основ. ср-в'!B:B,0))),0,INDEX('План ввода основ. ср-в'!AA:AA,MATCH(B98,'План ввода основ. ср-в'!B:B,0)))","v":0},{"$f":"IF(ISNA(INDEX('План ввода основ. ср-в'!AB:AB,MATCH(B98,'План ввода основ. ср-в'!B:B,0))),0,INDEX('План ввода основ. ср-в'!AB:AB,MATCH(B98,'План ввода основ. ср-в'!B:B,0)))","v":0},{"$f":"IF(ISNA(INDEX('План ввода основ. ср-в'!AC:AC,MATCH(B98,'План ввода основ. ср-в'!B:B,0))),0,INDEX('План ввода основ. ср-в'!AC:AC,MATCH(B98,'План ввода основ. ср-в'!B:B,0)))","v":6.7796610169491531},6.7796610169491531]
[77,"Кинельский район",null,null,null,null,null,null,0,{"$f":"IF(AND(I99=0,K99=0),\"\",\"/\")","v":""},0,0,{"$f":"IF(AND(L99=0,N99=0),\"\",\"/\")","v":""},0,0,{"$f":"IF(AND(O99=0,Q99=0),\"\",\"/\")","v":""},0,0,{"$f":"IF(AND(R99=0,T99=0),\"\",\"/\")","v":""},0,0,{"$f":"IF(AND(U99=0,W99=0),\"\",\"/\")","v":""},0,0,"/",0,0,{"$f":"IF(ISNA(INDEX('План ввода основ. ср-в'!F:F,MATCH(B99,'План ввода основ. ср-в'!B:B,0))),0,INDEX('План ввода основ. ср-в'!F:F,MATCH(B99,'План ввода основ. ср-в'!B:B,0)))","v":0},{"$f":"IF(AND(AB99=0,AD99=0),\"\",\"/\")","v":""},{"$f":"IF(ISNA(INDEX('План ввода основ. ср-в'!E:E,MATCH(B99,'План ввода основ. ср-в'!B:B,0))),0,INDEX('План ввода основ. ср-в'!E:E,MATCH(B99,'План ввода основ. ср-в'!B:B,0)))","v":0},{"$f":"IF(ISNA(INDEX('План ввода основ. ср-в'!H:H,MATCH(B99,'План ввода основ. ср-в'!B:B,0))),0,INDEX('План ввода основ. ср-в'!H:H,MATCH(B99,'План ввода основ. ср-в'!B:B,0)))","v":0},{"$f":"IF(AND(AE99=0,AG99=0),\"\",\"/\")","v":""},{"$f":"IF(ISNA(INDEX('План ввода основ. ср-в'!G:G,MATCH(B99,'План ввода основ. ср-в'!B:B,0))),0,INDEX('План ввода основ. ср-в'!G:G,MATCH(B99,'План ввода основ. ср-в'!B:B,0)))","v":0},{"$f":"IF(ISNA(INDEX('План ввода основ. ср-в'!J:J,MATCH(B99,'План ввода основ. ср-в'!B:B,0))),0,INDEX('План ввода основ. ср-в'!J:J,MATCH(B99,'План ввода основ. ср-в'!B:B,0)))","v":0},{"$f":"IF(AND(AH99=0,AJ99=0),\"\",\"/\")","v":""},{"$f":"IF(ISNA(INDEX('План ввода основ. ср-в'!I:I,MATCH(B99,'План ввода основ. ср-в'!B:B,0))),0,INDEX('План ввода основ. ср-в'!I:I,MATCH(B99,'План ввода основ. ср-в'!B:B,0)))","v":0},{"$f":"IF(ISNA(INDEX('План ввода основ. ср-в'!L:L,MATCH(B99,'План ввода основ. ср-в'!B:B,0))),0,INDEX('План ввода основ. ср-в'!L:L,MATCH(B99,'План ввода основ. ср-в'!B:B,0)))","v":0},{"$f":"IF(AND(AK99=0,AM99=0),\"\",\"/\")","v":""},{"$f":"IF(ISNA(INDEX('План ввода основ. ср-в'!K:K,MATCH(B99,'План ввода основ. ср-в'!B:B,0))),0,INDEX('План ввода основ. ср-в'!K:K,MATCH(B99,'План ввода основ. ср-в'!B:B,0)))","v":0},0,"/",0,{"$f":"IF(ISNA(INDEX('План ввода основ. ср-в'!N:N,MATCH(B99,'План ввода основ. ср-в'!B:B,0))),0,INDEX('План ввода основ. ср-в'!N:N,MATCH(B99,'План ввода основ. ср-в'!B:B,0)))","v":0},{"$f":"IF(AND(AQ99=0,AS99=0),\"\",\"/\")","v":""},{"$f":"IF(ISNA(INDEX('План ввода основ. ср-в'!M:M,MATCH(B99,'План ввода основ. ср-в'!B:B,0))),0,INDEX('План ввода основ. ср-в'!M:M,MATCH(B99,'План ввода основ. ср-в'!B:B,0)))","v":0},{"$f":"IF(ISNA(INDEX('План ввода основ. ср-в'!P:P,MATCH(B99,'План ввода основ. ср-в'!B:B,0))),0,INDEX('План ввода основ. ср-в'!P:P,MATCH(B99,'План ввода основ. ср-в'!B:B,0)))","v":0},{"$f":"IF(AND(AT99=0,AV99=0),\"\",\"/\")","v":""},{"$f":"IF(ISNA(INDEX('План ввода основ. ср-в'!O:O,MATCH(B99,'План ввода основ. ср-в'!B:B,0))),0,INDEX('План ввода основ. ср-в'!O:O,MATCH(B99,'План ввода основ. ср-в'!B:B,0)))","v":0},{"$f":"IF(ISNA(INDEX('План ввода основ. ср-в'!R:R,MATCH(B99,'План ввода основ. ср-в'!B:B,0))),0,INDEX('План ввода основ. ср-в'!R:R,MATCH(B99,'План ввода основ. ср-в'!B:B,0)))","v":0},{"$f":"IF(AND(AW99=0,AY99=0),\"\",\"/\")","v":""},{"$f":"IF(ISNA(INDEX('План ввода основ. ср-в'!Q:Q,MATCH(B99,'План ввода основ. ср-в'!B:B,0))),0,INDEX('План ввода основ. ср-в'!Q:Q,MATCH(B99,'План ввода основ. ср-в'!B:B,0)))","v":0},{"$f":"IF(ISNA(INDEX('План ввода основ. ср-в'!T:T,MATCH(B99,'План ввода основ. ср-в'!B:B,0))),0,INDEX('План ввода основ. ср-в'!T:T,MATCH(B99,'План ввода основ. ср-в'!B:B,0)))","v":0},{"$f":"IF(AND(AZ99=0,BB99=0),\"\",\"/\")","v":""},{"$f":"IF(ISNA(INDEX('План ввода основ. ср-в'!S:S,MATCH(B99,'План ввода основ. ср-в'!B:B,0))),0,INDEX('План ввода основ. ср-в'!S:S,MATCH(B99,'План ввода основ. ср-в'!B:B,0)))","v":0},0,"/",0,{"$f":"IF(ISNA(INDEX('План ввода основ. ср-в'!V:V,MATCH(B99,'План ввода основ. ср-в'!B:B,0))),0,INDEX('План ввода основ. ср-в'!V:V,MATCH(B99,'План ввода основ. ср-в'!B:B,0)))","v":0},{"$f":"IF(ISNA(INDEX('План ввода основ. ср-в'!W:W,MATCH(B99,'План ввода основ. ср-в'!B:B,0))),0,INDEX('План ввода основ. ср-в'!W:W,MATCH(B99,'План ввода основ. ср-в'!B:B,0)))","v":0},{"$f":"IF(ISNA(INDEX('План ввода основ. ср-в'!X:X,MATCH(B99,'План ввода основ. ср-в'!B:B,0))),0,INDEX('План ввода основ. ср-в'!X:X,MATCH(B99,'План ввода основ. ср-в'!B:B,0)))","v":0},{"$f":"IF(ISNA(INDEX('План ввода основ. ср-в'!Y:Y,MATCH(B99,'План ввода основ. ср-в'!B:B,0))),0,INDEX('План ввода основ. ср-в'!Y:Y,MATCH(B99,'План ввода основ. ср-в'!B:B,0)))","v":0},0,{"$f":"IF(ISNA(INDEX('План ввода основ. ср-в'!Z:Z,MATCH(B99,'План ввода основ. ср-в'!B:B,0))),0,INDEX('План ввода основ. ср-в'!Z:Z,MATCH(B99,'План ввода основ. ср-в'!B:B,0)))","v":0},{"$f":"IF(ISNA(INDEX('План ввода основ. ср-в'!AA:AA,MATCH(B99,'План ввода основ. ср-в'!B:B,0))),0,INDEX('План ввода основ. ср-в'!AA:AA,MATCH(B99,'План ввода основ. ср-в'!B:B,0)))","v":0},{"$f":"IF(ISNA(INDEX('План ввода основ. ср-в'!AB:AB,MATCH(B99,'План ввода основ. ср-в'!B:B,0))),0,INDEX('План ввода основ. ср-в'!AB:AB,MATCH(B99,'План ввода основ. ср-в'!B:B,0)))","v":0},{"$f":"IF(ISNA(INDEX('План ввода основ. ср-в'!AC:AC,MATCH(B99,'План ввода основ. ср-в'!B:B,0))),0,INDEX('План ввода основ. ср-в'!AC:AC,MATCH(B99,'План ввода основ. ср-в'!B:B,0)))","v":0},0]
[78,"Реконструкция ВЛ-0,4кВ от ТП-6 ",null,null,null,null,null,null,1.87,"/",0,0,"",0,0,"",0,0,"",0,0,"",0,1.87,"/",0,5.0711864406779661,{"$f":"IF(ISNA(INDEX('План ввода основ. ср-в'!F:F,MATCH(B100,'План ввода основ. ср-в'!B:B,0))),0,INDEX('План ввода основ. ср-в'!F:F,MATCH(B100,'План ввода основ. ср-в'!B:B,0)))","v":0},"",{"$f":"IF(ISNA(INDEX('План ввода основ. ср-в'!E:E,MATCH(B100,'План ввода основ. ср-в'!B:B,0))),0,INDEX('План ввода основ. ср-в'!E:E,MATCH(B100,'План ввода основ. ср-в'!B:B,0)))","v":0},{"$f":"IF(ISNA(INDEX('План ввода основ. ср-в'!H:H,MATCH(B100,'План ввода основ. ср-в'!B:B,0))),0,INDEX('План ввода основ. ср-в'!H:H,MATCH(B100,'План ввода основ. ср-в'!B:B,0)))","v":0},"",{"$f":"IF(ISNA(INDEX('План ввода основ. ср-в'!G:G,MATCH(B100,'План ввода основ. ср-в'!B:B,0))),0,INDEX('План ввода основ. ср-в'!G:G,MATCH(B100,'План ввода основ. ср-в'!B:B,0)))","v":0},{"$f":"IF(ISNA(INDEX('План ввода основ. ср-в'!J:J,MATCH(B100,'План ввода основ. ср-в'!B:B,0))),0,INDEX('План ввода основ. ср-в'!J:J,MATCH(B100,'План ввода основ. ср-в'!B:B,0)))","v":0},"",{"$f":"IF(ISNA(INDEX('План ввода основ. ср-в'!I:I,MATCH(B100,'План ввода основ. ср-в'!B:B,0))),0,INDEX('План ввода основ. ср-в'!I:I,MATCH(B100,'План ввода основ. ср-в'!B:B,0)))","v":0},{"$f":"IF(ISNA(INDEX('План ввода основ. ср-в'!L:L,MATCH(B100,'План ввода основ. ср-в'!B:B,0))),0,INDEX('План ввода основ. ср-в'!L:L,MATCH(B100,'План ввода основ. ср-в'!B:B,0)))","v":1.87},"/",{"$f":"IF(ISNA(INDEX('План ввода основ. ср-в'!K:K,MATCH(B100,'План ввода основ. ср-в'!B:B,0))),0,INDEX('План ввода основ. ср-в'!K:K,MATCH(B100,'План ввода основ. ср-в'!B:B,0)))","v":0},1.87,"/",0,{"$f":"IF(ISNA(INDEX('План ввода основ. ср-в'!N:N,MATCH(B100,'План ввода основ. ср-в'!B:B,0))),0,INDEX('План ввода основ. ср-в'!N:N,MATCH(B100,'План ввода основ. ср-в'!B:B,0)))","v":0},"",{"$f":"IF(ISNA(INDEX('План ввода основ. ср-в'!M:M,MATCH(B100,'План ввода основ. ср-в'!B:B,0))),0,INDEX('План ввода основ. ср-в'!M:M,MATCH(B100,'План ввода основ. ср-в'!B:B,0)))","v":0},{"$f":"IF(ISNA(INDEX('План ввода основ. ср-в'!P:P,MATCH(B100,'План ввода основ. ср-в'!B:B,0))),0,INDEX('План ввода основ. ср-в'!P:P,MATCH(B100,'План ввода основ. ср-в'!B:B,0)))","v":0},"",{"$f":"IF(ISNA(INDEX('План ввода основ. ср-в'!O:O,MATCH(B100,'План ввода основ. ср-в'!B:B,0))),0,INDEX('План ввода основ. ср-в'!O:O,MATCH(B100,'План ввода основ. ср-в'!B:B,0)))","v":0},{"$f":"IF(ISNA(INDEX('План ввода основ. ср-в'!R:R,MATCH(B100,'План ввода основ. ср-в'!B:B,0))),0,INDEX('План ввода основ. ср-в'!R:R,MATCH(B100,'План ввода основ. ср-в'!B:B,0)))","v":0},"",{"$f":"IF(ISNA(INDEX('План ввода основ. ср-в'!Q:Q,MATCH(B100,'План ввода основ. ср-в'!B:B,0))),0,INDEX('План ввода основ. ср-в'!Q:Q,MATCH(B100,'План ввода основ. ср-в'!B:B,0)))","v":0},{"$f":"IF(ISNA(INDEX('План ввода основ. ср-в'!T:T,MATCH(B100,'План ввода основ. ср-в'!B:B,0))),0,INDEX('План ввода основ. ср-в'!T:T,MATCH(B100,'План ввода основ. ср-в'!B:B,0)))","v":0},"",{"$f":"IF(ISNA(INDEX('План ввода основ. ср-в'!S:S,MATCH(B100,'План ввода основ. ср-в'!B:B,0))),0,INDEX('План ввода основ. ср-в'!S:S,MATCH(B100,'План ввода основ. ср-в'!B:B,0)))","v":0},1.87,"/",0,{"$f":"IF(ISNA(INDEX('План ввода основ. ср-в'!V:V,MATCH(B100,'План ввода основ. ср-в'!B:B,0))),0,INDEX('План ввода основ. ср-в'!V:V,MATCH(B100,'План ввода основ. ср-в'!B:B,0)))","v":0},{"$f":"IF(ISNA(INDEX('План ввода основ. ср-в'!W:W,MATCH(B100,'План ввода основ. ср-в'!B:B,0))),0,INDEX('План ввода основ. ср-в'!W:W,MATCH(B100,'План ввода основ. ср-в'!B:B,0)))","v":0.76067796610169491},{"$f":"IF(ISNA(INDEX('План ввода основ. ср-в'!X:X,MATCH(B100,'План ввода основ. ср-в'!B:B,0))),0,INDEX('План ввода основ. ср-в'!X:X,MATCH(B100,'План ввода основ. ср-в'!B:B,0)))","v":1.7749152542372879},{"$f":"IF(ISNA(INDEX('План ввода основ. ср-в'!Y:Y,MATCH(B100,'План ввода основ. ср-в'!B:B,0))),0,INDEX('План ввода основ. ср-в'!Y:Y,MATCH(B100,'План ввода основ. ср-в'!B:B,0)))","v":2.535593220338983},5.0711864406779661,{"$f":"IF(ISNA(INDEX('План ввода основ. ср-в'!Z:Z,MATCH(B100,'План ввода основ. ср-в'!B:B,0))),0,INDEX('План ввода основ. ср-в'!Z:Z,MATCH(B100,'План ввода основ. ср-в'!B:B,0)))","v":0},{"$f":"IF(ISNA(INDEX('План ввода основ. ср-в'!AA:AA,MATCH(B100,'План ввода основ. ср-в'!B:B,0))),0,INDEX('План ввода основ. ср-в'!AA:AA,MATCH(B100,'План ввода основ. ср-в'!B:B,0)))","v":0},{"$f":"IF(ISNA(INDEX('План ввода основ. ср-в'!AB:AB,MATCH(B100,'План ввода основ. ср-в'!B:B,0))),0,INDEX('План ввода основ. ср-в'!AB:AB,MATCH(B100,'План ввода основ. ср-в'!B:B,0)))","v":0},{"$f":"IF(ISNA(INDEX('План ввода основ. ср-в'!AC:AC,MATCH(B100,'План ввода основ. ср-в'!B:B,0))),0,INDEX('План ввода основ. ср-в'!AC:AC,MATCH(B100,'План ввода основ. ср-в'!B:B,0)))","v":0},5.0711864406779661]
[79,"Реконструкция ВЛ-0,4 кВ от КТП Алк 54/250 кВА с заменой  КТП на 400 кВА",null,null,null,null,null,null,1.8,"/",0.25,0,"",0,0,"",0,0,"",0,0,"",0,1.8,"/",0.25,6.2372881355932197,{"$f":"IF(ISNA(INDEX('План ввода основ. ср-в'!F:F,MATCH(B101,'План ввода основ. ср-в'!B:B,0))),0,INDEX('План ввода основ. ср-в'!F:F,MATCH(B101,'План ввода основ. ср-в'!B:B,0)))","v":0},"",{"$f":"IF(ISNA(INDEX('План ввода основ. ср-в'!E:E,MATCH(B101,'План ввода основ. ср-в'!B:B,0))),0,INDEX('План ввода основ. ср-в'!E:E,MATCH(B101,'План ввода основ. ср-в'!B:B,0)))","v":0},{"$f":"IF(ISNA(INDEX('План ввода основ. ср-в'!H:H,MATCH(B101,'План ввода основ. ср-в'!B:B,0))),0,INDEX('План ввода основ. ср-в'!H:H,MATCH(B101,'План ввода основ. ср-в'!B:B,0)))","v":0},"",{"$f":"IF(ISNA(INDEX('План ввода основ. ср-в'!G:G,MATCH(B101,'План ввода основ. ср-в'!B:B,0))),0,INDEX('План ввода основ. ср-в'!G:G,MATCH(B101,'План ввода основ. ср-в'!B:B,0)))","v":0},{"$f":"IF(ISNA(INDEX('План ввода основ. ср-в'!J:J,MATCH(B101,'План ввода основ. ср-в'!B:B,0))),0,INDEX('План ввода основ. ср-в'!J:J,MATCH(B101,'План ввода основ. ср-в'!B:B,0)))","v":0},"",{"$f":"IF(ISNA(INDEX('План ввода основ. ср-в'!I:I,MATCH(B101,'План ввода основ. ср-в'!B:B,0))),0,INDEX('План ввода основ. ср-в'!I:I,MATCH(B101,'План ввода основ. ср-в'!B:B,0)))","v":0},{"$f":"IF(ISNA(INDEX('План ввода основ. ср-в'!L:L,MATCH(B101,'План ввода основ. ср-в'!B:B,0))),0,INDEX('План ввода основ. ср-в'!L:L,MATCH(B101,'План ввода основ. ср-в'!B:B,0)))","v":1.8},"/",{"$f":"IF(ISNA(INDEX('План ввода основ. ср-в'!K:K,MATCH(B101,'План ввода основ. ср-в'!B:B,0))),0,INDEX('План ввода основ. ср-в'!K:K,MATCH(B101,'План ввода основ. ср-в'!B:B,0)))","v":0.4},1.8,"/",0.4,{"$f":"IF(ISNA(INDEX('План ввода основ. ср-в'!N:N,MATCH(B101,'План ввода основ. ср-в'!B:B,0))),0,INDEX('План ввода основ. ср-в'!N:N,MATCH(B101,'План ввода основ. ср-в'!B:B,0)))","v":0},"",{"$f":"IF(ISNA(INDEX('План ввода основ. ср-в'!M:M,MATCH(B101,'План ввода основ. ср-в'!B:B,0))),0,INDEX('План ввода основ. ср-в'!M:M,MATCH(B101,'План ввода основ. ср-в'!B:B,0)))","v":0},{"$f":"IF(ISNA(INDEX('План ввода основ. ср-в'!P:P,MATCH(B101,'План ввода основ. ср-в'!B:B,0))),0,INDEX('План ввода основ. ср-в'!P:P,MATCH(B101,'План ввода основ. ср-в'!B:B,0)))","v":0},"",{"$f":"IF(ISNA(INDEX('План ввода основ. ср-в'!O:O,MATCH(B101,'План ввода основ. ср-в'!B:B,0))),0,INDEX('План ввода основ. ср-в'!O:O,MATCH(B101,'План ввода основ. ср-в'!B:B,0)))","v":0},{"$f":"IF(ISNA(INDEX('План ввода основ. ср-в'!R:R,MATCH(B101,'План ввода основ. ср-в'!B:B,0))),0,INDEX('План ввода основ. ср-в'!R:R,MATCH(B101,'План ввода основ. ср-в'!B:B,0)))","v":0},"",{"$f":"IF(ISNA(INDEX('План ввода основ. ср-в'!Q:Q,MATCH(B101,'План ввода основ. ср-в'!B:B,0))),0,INDEX('План ввода основ. ср-в'!Q:Q,MATCH(B101,'План ввода основ. ср-в'!B:B,0)))","v":0},{"$f":"IF(ISNA(INDEX('План ввода основ. ср-в'!T:T,MATCH(B101,'План ввода основ. ср-в'!B:B,0))),0,INDEX('План ввода основ. ср-в'!T:T,MATCH(B101,'План ввода основ. ср-в'!B:B,0)))","v":0},"",{"$f":"IF(ISNA(INDEX('План ввода основ. ср-в'!S:S,MATCH(B101,'План ввода основ. ср-в'!B:B,0))),0,INDEX('План ввода основ. ср-в'!S:S,MATCH(B101,'План ввода основ. ср-в'!B:B,0)))","v":0},1.8,"/",0.4,{"$f":"IF(ISNA(INDEX('План ввода основ. ср-в'!V:V,MATCH(B101,'План ввода основ. ср-в'!B:B,0))),0,INDEX('План ввода основ. ср-в'!V:V,MATCH(B101,'План ввода основ. ср-в'!B:B,0)))","v":0},{"$f":"IF(ISNA(INDEX('План ввода основ. ср-в'!W:W,MATCH(B101,'План ввода основ. ср-в'!B:B,0))),0,INDEX('План ввода основ. ср-в'!W:W,MATCH(B101,'План ввода основ. ср-в'!B:B,0)))","v":0.93559322033898307},{"$f":"IF(ISNA(INDEX('План ввода основ. ср-в'!X:X,MATCH(B101,'План ввода основ. ср-в'!B:B,0))),0,INDEX('План ввода основ. ср-в'!X:X,MATCH(B101,'План ввода основ. ср-в'!B:B,0)))","v":2.1830508474576269},{"$f":"IF(ISNA(INDEX('План ввода основ. ср-в'!Y:Y,MATCH(B101,'План ввода основ. ср-в'!B:B,0))),0,INDEX('План ввода основ. ср-в'!Y:Y,MATCH(B101,'План ввода основ. ср-в'!B:B,0)))","v":3.1186440677966103},6.2372881355932197,{"$f":"IF(ISNA(INDEX('План ввода основ. ср-в'!Z:Z,MATCH(B101,'План ввода основ. ср-в'!B:B,0))),0,INDEX('План ввода основ. ср-в'!Z:Z,MATCH(B101,'План ввода основ. ср-в'!B:B,0)))","v":0},{"$f":"IF(ISNA(INDEX('План ввода основ. ср-в'!AA:AA,MATCH(B101,'План ввода основ. ср-в'!B:B,0))),0,INDEX('План ввода основ. ср-в'!AA:AA,MATCH(B101,'План ввода основ. ср-в'!B:B,0)))","v":0},{"$f":"IF(ISNA(INDEX('План ввода основ. ср-в'!AB:AB,MATCH(B101,'План ввода основ. ср-в'!B:B,0))),0,INDEX('План ввода основ. ср-в'!AB:AB,MATCH(B101,'План ввода основ. ср-в'!B:B,0)))","v":0},{"$f":"IF(ISNA(INDEX('План ввода основ. ср-в'!AC:AC,MATCH(B101,'План ввода основ. ср-в'!B:B,0))),0,INDEX('План ввода основ. ср-в'!AC:AC,MATCH(B101,'План ввода основ. ср-в'!B:B,0)))","v":0},6.2372881355932197]
[80,"Реконструкция электроснабжения г.о.Кинель",null,null,null,null,null,null,27.5,null,0,0,null,0,null,null,null,0,null,0,0,null,0,27.5,null,0,74.576271186440678,{"$f":"IF(ISNA(INDEX('План ввода основ. ср-в'!F:F,MATCH(B102,'План ввода основ. ср-в'!B:B,0))),0,INDEX('План ввода основ. ср-в'!F:F,MATCH(B102,'План ввода основ. ср-в'!B:B,0)))","v":0},null,{"$f":"IF(ISNA(INDEX('План ввода основ. ср-в'!E:E,MATCH(B102,'План ввода основ. ср-в'!B:B,0))),0,INDEX('План ввода основ. ср-в'!E:E,MATCH(B102,'План ввода основ. ср-в'!B:B,0)))","v":0},{"$f":"IF(ISNA(INDEX('План ввода основ. ср-в'!H:H,MATCH(B102,'План ввода основ. ср-в'!B:B,0))),0,INDEX('План ввода основ. ср-в'!H:H,MATCH(B102,'План ввода основ. ср-в'!B:B,0)))","v":0},null,{"$f":"IF(ISNA(INDEX('План ввода основ. ср-в'!G:G,MATCH(B102,'План ввода основ. ср-в'!B:B,0))),0,INDEX('План ввода основ. ср-в'!G:G,MATCH(B102,'План ввода основ. ср-в'!B:B,0)))","v":0},{"$f":"IF(ISNA(INDEX('План ввода основ. ср-в'!J:J,MATCH(B102,'План ввода основ. ср-в'!B:B,0))),0,INDEX('План ввода основ. ср-в'!J:J,MATCH(B102,'План ввода основ. ср-в'!B:B,0)))","v":0},null,{"$f":"IF(ISNA(INDEX('План ввода основ. ср-в'!I:I,MATCH(B102,'План ввода основ. ср-в'!B:B,0))),0,INDEX('План ввода основ. ср-в'!I:I,MATCH(B102,'План ввода основ. ср-в'!B:B,0)))","v":0},{"$f":"IF(ISNA(INDEX('План ввода основ. ср-в'!L:L,MATCH(B102,'План ввода основ. ср-в'!B:B,0))),0,INDEX('План ввода основ. ср-в'!L:L,MATCH(B102,'План ввода основ. ср-в'!B:B,0)))","v":27.5},null,{"$f":"IF(ISNA(INDEX('План ввода основ. ср-в'!K:K,MATCH(B102,'План ввода основ. ср-в'!B:B,0))),0,INDEX('План ввода основ. ср-в'!K:K,MATCH(B102,'План ввода основ. ср-в'!B:B,0)))","v":0},27.5,null,0,{"$f":"IF(ISNA(INDEX('План ввода основ. ср-в'!N:N,MATCH(B102,'План ввода основ. ср-в'!B:B,0))),0,INDEX('План ввода основ. ср-в'!N:N,MATCH(B102,'План ввода основ. ср-в'!B:B,0)))","v":0},null,{"$f":"IF(ISNA(INDEX('План ввода основ. ср-в'!M:M,MATCH(B102,'План ввода основ. ср-в'!B:B,0))),0,INDEX('План ввода основ. ср-в'!M:M,MATCH(B102,'План ввода основ. ср-в'!B:B,0)))","v":0},{"$f":"IF(ISNA(INDEX('План ввода основ. ср-в'!P:P,MATCH(B102,'План ввода основ. ср-в'!B:B,0))),0,INDEX('План ввода основ. ср-в'!P:P,MATCH(B102,'План ввода основ. ср-в'!B:B,0)))","v":0},null,{"$f":"IF(ISNA(INDEX('План ввода основ. ср-в'!O:O,MATCH(B102,'План ввода основ. ср-в'!B:B,0))),0,INDEX('План ввода основ. ср-в'!O:O,MATCH(B102,'План ввода основ. ср-в'!B:B,0)))","v":0},{"$f":"IF(ISNA(INDEX('План ввода основ. ср-в'!R:R,MATCH(B102,'План ввода основ. ср-в'!B:B,0))),0,INDEX('План ввода основ. ср-в'!R:R,MATCH(B102,'План ввода основ. ср-в'!B:B,0)))","v":0},null,{"$f":"IF(ISNA(INDEX('План ввода основ. ср-в'!Q:Q,MATCH(B102,'План ввода основ. ср-в'!B:B,0))),0,INDEX('План ввода основ. ср-в'!Q:Q,MATCH(B102,'План ввода основ. ср-в'!B:B,0)))","v":0},{"$f":"IF(ISNA(INDEX('План ввода основ. ср-в'!T:T,MATCH(B102,'План ввода основ. ср-в'!B:B,0))),0,INDEX('План ввода основ. ср-в'!T:T,MATCH(B102,'План ввода основ. ср-в'!B:B,0)))","v":0},null,{"$f":"IF(ISNA(INDEX('План ввода основ. ср-в'!S:S,MATCH(B102,'План ввода основ. ср-в'!B:B,0))),0,INDEX('План ввода основ. ср-в'!S:S,MATCH(B102,'План ввода основ. ср-в'!B:B,0)))","v":0},27.5,null,0,null,{"$f":"IF(ISNA(INDEX('План ввода основ. ср-в'!W:W,MATCH(B102,'План ввода основ. ср-в'!B:B,0))),0,INDEX('План ввода основ. ср-в'!W:W,MATCH(B102,'План ввода основ. ср-в'!B:B,0)))","v":11.186440677966102},{"$f":"IF(ISNA(INDEX('План ввода основ. ср-в'!X:X,MATCH(B102,'План ввода основ. ср-в'!B:B,0))),0,INDEX('План ввода основ. ср-в'!X:X,MATCH(B102,'План ввода основ. ср-в'!B:B,0)))","v":26.101694915254235},{"$f":"IF(ISNA(INDEX('План ввода основ. ср-в'!Y:Y,MATCH(B102,'План ввода основ. ср-в'!B:B,0))),0,INDEX('План ввода основ. ср-в'!Y:Y,MATCH(B102,'План ввода основ. ср-в'!B:B,0)))","v":37.288135593220339},74.576271186440678,{"$f":"IF(ISNA(INDEX('План ввода основ. ср-в'!Z:Z,MATCH(B102,'План ввода основ. ср-в'!B:B,0))),0,INDEX('План ввода основ. ср-в'!Z:Z,MATCH(B102,'План ввода основ. ср-в'!B:B,0)))","v":0},{"$f":"IF(ISNA(INDEX('План ввода основ. ср-в'!AA:AA,MATCH(B102,'План ввода основ. ср-в'!B:B,0))),0,INDEX('План ввода основ. ср-в'!AA:AA,MATCH(B102,'План ввода основ. ср-в'!B:B,0)))","v":0},{"$f":"IF(ISNA(INDEX('План ввода основ. ср-в'!AB:AB,MATCH(B102,'План ввода основ. ср-в'!B:B,0))),0,INDEX('План ввода основ. ср-в'!AB:AB,MATCH(B102,'План ввода основ. ср-в'!B:B,0)))","v":0},{"$f":"IF(ISNA(INDEX('План ввода основ. ср-в'!AC:AC,MATCH(B102,'План ввода основ. ср-в'!B:B,0))),0,INDEX('План ввода основ. ср-в'!AC:AC,MATCH(B102,'План ввода основ. ср-в'!B:B,0)))","v":0},74.576271186440678]
[81,"Реконструкция ВЛ-0,4 кВ от КТП Алк 30/160 кВА с заменой  КТП на 250 кВА",null,null,null,null,null,null,1.45,{"$f":"IF(AND(I103=0,K103=0),\"\",\"/\")","v":"/"},0.16,0,{"$f":"IF(AND(L103=0,N103=0),\"\",\"/\")","v":""},0,0,{"$f":"IF(AND(O103=0,Q103=0),\"\",\"/\")","v":""},0,0,{"$f":"IF(AND(R103=0,T103=0),\"\",\"/\")","v":""},0,0,{"$f":"IF(AND(U103=0,W103=0),\"\",\"/\")","v":""},0,1.45,"/",0.16,5.0338983050847466,{"$f":"IF(ISNA(INDEX('План ввода основ. ср-в'!F:F,MATCH(B103,'План ввода основ. ср-в'!B:B,0))),0,INDEX('План ввода основ. ср-в'!F:F,MATCH(B103,'План ввода основ. ср-в'!B:B,0)))","v":0},{"$f":"IF(AND(AB103=0,AD103=0),\"\",\"/\")","v":""},{"$f":"IF(ISNA(INDEX('План ввода основ. ср-в'!E:E,MATCH(B103,'План ввода основ. ср-в'!B:B,0))),0,INDEX('План ввода основ. ср-в'!E:E,MATCH(B103,'План ввода основ. ср-в'!B:B,0)))","v":0},{"$f":"IF(ISNA(INDEX('План ввода основ. ср-в'!H:H,MATCH(B103,'План ввода основ. ср-в'!B:B,0))),0,INDEX('План ввода основ. ср-в'!H:H,MATCH(B103,'План ввода основ. ср-в'!B:B,0)))","v":0},{"$f":"IF(AND(AE103=0,AG103=0),\"\",\"/\")","v":""},{"$f":"IF(ISNA(INDEX('План ввода основ. ср-в'!G:G,MATCH(B103,'План ввода основ. ср-в'!B:B,0))),0,INDEX('План ввода основ. ср-в'!G:G,MATCH(B103,'План ввода основ. ср-в'!B:B,0)))","v":0},{"$f":"IF(ISNA(INDEX('План ввода основ. ср-в'!J:J,MATCH(B103,'План ввода основ. ср-в'!B:B,0))),0,INDEX('План ввода основ. ср-в'!J:J,MATCH(B103,'План ввода основ. ср-в'!B:B,0)))","v":0},{"$f":"IF(AND(AH103=0,AJ103=0),\"\",\"/\")","v":""},{"$f":"IF(ISNA(INDEX('План ввода основ. ср-в'!I:I,MATCH(B103,'План ввода основ. ср-в'!B:B,0))),0,INDEX('План ввода основ. ср-в'!I:I,MATCH(B103,'План ввода основ. ср-в'!B:B,0)))","v":0},{"$f":"IF(ISNA(INDEX('План ввода основ. ср-в'!L:L,MATCH(B103,'План ввода основ. ср-в'!B:B,0))),0,INDEX('План ввода основ. ср-в'!L:L,MATCH(B103,'План ввода основ. ср-в'!B:B,0)))","v":1.45},{"$f":"IF(AND(AK103=0,AM103=0),\"\",\"/\")","v":"/"},{"$f":"IF(ISNA(INDEX('План ввода основ. ср-в'!K:K,MATCH(B103,'План ввода основ. ср-в'!B:B,0))),0,INDEX('План ввода основ. ср-в'!K:K,MATCH(B103,'План ввода основ. ср-в'!B:B,0)))","v":0.4},1.45,"/",0.4,{"$f":"IF(ISNA(INDEX('План ввода основ. ср-в'!N:N,MATCH(B103,'План ввода основ. ср-в'!B:B,0))),0,INDEX('План ввода основ. ср-в'!N:N,MATCH(B103,'План ввода основ. ср-в'!B:B,0)))","v":0},{"$f":"IF(AND(AQ103=0,AS103=0),\"\",\"/\")","v":""},{"$f":"IF(ISNA(INDEX('План ввода основ. ср-в'!M:M,MATCH(B103,'План ввода основ. ср-в'!B:B,0))),0,INDEX('План ввода основ. ср-в'!M:M,MATCH(B103,'План ввода основ. ср-в'!B:B,0)))","v":0},{"$f":"IF(ISNA(INDEX('План ввода основ. ср-в'!P:P,MATCH(B103,'План ввода основ. ср-в'!B:B,0))),0,INDEX('План ввода основ. ср-в'!P:P,MATCH(B103,'План ввода основ. ср-в'!B:B,0)))","v":0},{"$f":"IF(AND(AT103=0,AV103=0),\"\",\"/\")","v":""},{"$f":"IF(ISNA(INDEX('План ввода основ. ср-в'!O:O,MATCH(B103,'План ввода основ. ср-в'!B:B,0))),0,INDEX('План ввода основ. ср-в'!O:O,MATCH(B103,'План ввода основ. ср-в'!B:B,0)))","v":0},{"$f":"IF(ISNA(INDEX('План ввода основ. ср-в'!R:R,MATCH(B103,'План ввода основ. ср-в'!B:B,0))),0,INDEX('План ввода основ. ср-в'!R:R,MATCH(B103,'План ввода основ. ср-в'!B:B,0)))","v":0},{"$f":"IF(AND(AW103=0,AY103=0),\"\",\"/\")","v":""},{"$f":"IF(ISNA(INDEX('План ввода основ. ср-в'!Q:Q,MATCH(B103,'План ввода основ. ср-в'!B:B,0))),0,INDEX('План ввода основ. ср-в'!Q:Q,MATCH(B103,'План ввода основ. ср-в'!B:B,0)))","v":0},{"$f":"IF(ISNA(INDEX('План ввода основ. ср-в'!T:T,MATCH(B103,'План ввода основ. ср-в'!B:B,0))),0,INDEX('План ввода основ. ср-в'!T:T,MATCH(B103,'План ввода основ. ср-в'!B:B,0)))","v":0},{"$f":"IF(AND(AZ103=0,BB103=0),\"\",\"/\")","v":""},{"$f":"IF(ISNA(INDEX('План ввода основ. ср-в'!S:S,MATCH(B103,'План ввода основ. ср-в'!B:B,0))),0,INDEX('План ввода основ. ср-в'!S:S,MATCH(B103,'План ввода основ. ср-в'!B:B,0)))","v":0},1.45,"/",0.4,{"$f":"IF(ISNA(INDEX('План ввода основ. ср-в'!V:V,MATCH(B103,'План ввода основ. ср-в'!B:B,0))),0,INDEX('План ввода основ. ср-в'!V:V,MATCH(B103,'План ввода основ. ср-в'!B:B,0)))","v":0},{"$f":"IF(ISNA(INDEX('План ввода основ. ср-в'!W:W,MATCH(B103,'План ввода основ. ср-в'!B:B,0))),0,INDEX('План ввода основ. ср-в'!W:W,MATCH(B103,'План ввода основ. ср-в'!B:B,0)))","v":0.75508474576271201},{"$f":"IF(ISNA(INDEX('План ввода основ. ср-в'!X:X,MATCH(B103,'План ввода основ. ср-в'!B:B,0))),0,INDEX('План ввода основ. ср-в'!X:X,MATCH(B103,'План ввода основ. ср-в'!B:B,0)))","v":1.7618644067796612},{"$f":"IF(ISNA(INDEX('План ввода основ. ср-в'!Y:Y,MATCH(B103,'План ввода основ. ср-в'!B:B,0))),0,INDEX('План ввода основ. ср-в'!Y:Y,MATCH(B103,'План ввода основ. ср-в'!B:B,0)))","v":2.5169491525423733},5.0338983050847466,{"$f":"IF(ISNA(INDEX('План ввода основ. ср-в'!Z:Z,MATCH(B103,'План ввода основ. ср-в'!B:B,0))),0,INDEX('План ввода основ. ср-в'!Z:Z,MATCH(B103,'План ввода основ. ср-в'!B:B,0)))","v":0},{"$f":"IF(ISNA(INDEX('План ввода основ. ср-в'!AA:AA,MATCH(B103,'План ввода основ. ср-в'!B:B,0))),0,INDEX('План ввода основ. ср-в'!AA:AA,MATCH(B103,'План ввода основ. ср-в'!B:B,0)))","v":0},{"$f":"IF(ISNA(INDEX('План ввода основ. ср-в'!AB:AB,MATCH(B103,'План ввода основ. ср-в'!B:B,0))),0,INDEX('План ввода основ. ср-в'!AB:AB,MATCH(B103,'План ввода основ. ср-в'!B:B,0)))","v":0},{"$f":"IF(ISNA(INDEX('План ввода основ. ср-в'!AC:AC,MATCH(B103,'План ввода основ. ср-в'!B:B,0))),0,INDEX('План ввода основ. ср-в'!AC:AC,MATCH(B103,'План ввода основ. ср-в'!B:B,0)))","v":0},5.0338983050847466]
[82,"Реконструкция ВЛ-0,4кВ от КТП Шев 208/250 кВА",null,null,null,null,null,null,2.2200000000000002,"/",0,0,"",0,0,"",0,0,"",0,0,"",0,2.2200000000000002,"/",0,6.0203389830508476,{"$f":"IF(ISNA(INDEX('План ввода основ. ср-в'!F:F,MATCH(B104,'План ввода основ. ср-в'!B:B,0))),0,INDEX('План ввода основ. ср-в'!F:F,MATCH(B104,'План ввода основ. ср-в'!B:B,0)))","v":0},"",{"$f":"IF(ISNA(INDEX('План ввода основ. ср-в'!E:E,MATCH(B104,'План ввода основ. ср-в'!B:B,0))),0,INDEX('План ввода основ. ср-в'!E:E,MATCH(B104,'План ввода основ. ср-в'!B:B,0)))","v":0},{"$f":"IF(ISNA(INDEX('План ввода основ. ср-в'!H:H,MATCH(B104,'План ввода основ. ср-в'!B:B,0))),0,INDEX('План ввода основ. ср-в'!H:H,MATCH(B104,'План ввода основ. ср-в'!B:B,0)))","v":0},"",{"$f":"IF(ISNA(INDEX('План ввода основ. ср-в'!G:G,MATCH(B104,'План ввода основ. ср-в'!B:B,0))),0,INDEX('План ввода основ. ср-в'!G:G,MATCH(B104,'План ввода основ. ср-в'!B:B,0)))","v":0},{"$f":"IF(ISNA(INDEX('План ввода основ. ср-в'!J:J,MATCH(B104,'План ввода основ. ср-в'!B:B,0))),0,INDEX('План ввода основ. ср-в'!J:J,MATCH(B104,'План ввода основ. ср-в'!B:B,0)))","v":0},"",{"$f":"IF(ISNA(INDEX('План ввода основ. ср-в'!I:I,MATCH(B104,'План ввода основ. ср-в'!B:B,0))),0,INDEX('План ввода основ. ср-в'!I:I,MATCH(B104,'План ввода основ. ср-в'!B:B,0)))","v":0},{"$f":"IF(ISNA(INDEX('План ввода основ. ср-в'!L:L,MATCH(B104,'План ввода основ. ср-в'!B:B,0))),0,INDEX('План ввода основ. ср-в'!L:L,MATCH(B104,'План ввода основ. ср-в'!B:B,0)))","v":2.2200000000000002},"/",{"$f":"IF(ISNA(INDEX('План ввода основ. ср-в'!K:K,MATCH(B104,'План ввода основ. ср-в'!B:B,0))),0,INDEX('План ввода основ. ср-в'!K:K,MATCH(B104,'План ввода основ. ср-в'!B:B,0)))","v":0},2.2200000000000002,"/",0,{"$f":"IF(ISNA(INDEX('План ввода основ. ср-в'!N:N,MATCH(B104,'План ввода основ. ср-в'!B:B,0))),0,INDEX('План ввода основ. ср-в'!N:N,MATCH(B104,'План ввода основ. ср-в'!B:B,0)))","v":0},"",{"$f":"IF(ISNA(INDEX('План ввода основ. ср-в'!M:M,MATCH(B104,'План ввода основ. ср-в'!B:B,0))),0,INDEX('План ввода основ. ср-в'!M:M,MATCH(B104,'План ввода основ. ср-в'!B:B,0)))","v":0},{"$f":"IF(ISNA(INDEX('План ввода основ. ср-в'!P:P,MATCH(B104,'План ввода основ. ср-в'!B:B,0))),0,INDEX('План ввода основ. ср-в'!P:P,MATCH(B104,'План ввода основ. ср-в'!B:B,0)))","v":0},"",{"$f":"IF(ISNA(INDEX('План ввода основ. ср-в'!O:O,MATCH(B104,'План ввода основ. ср-в'!B:B,0))),0,INDEX('План ввода основ. ср-в'!O:O,MATCH(B104,'План ввода основ. ср-в'!B:B,0)))","v":0},{"$f":"IF(ISNA(INDEX('План ввода основ. ср-в'!R:R,MATCH(B104,'План ввода основ. ср-в'!B:B,0))),0,INDEX('План ввода основ. ср-в'!R:R,MATCH(B104,'План ввода основ. ср-в'!B:B,0)))","v":0},"",{"$f":"IF(ISNA(INDEX('План ввода основ. ср-в'!Q:Q,MATCH(B104,'План ввода основ. ср-в'!B:B,0))),0,INDEX('План ввода основ. ср-в'!Q:Q,MATCH(B104,'План ввода основ. ср-в'!B:B,0)))","v":0},{"$f":"IF(ISNA(INDEX('План ввода основ. ср-в'!T:T,MATCH(B104,'План ввода основ. ср-в'!B:B,0))),0,INDEX('План ввода основ. ср-в'!T:T,MATCH(B104,'План ввода основ. ср-в'!B:B,0)))","v":0},"",{"$f":"IF(ISNA(INDEX('План ввода основ. ср-в'!S:S,MATCH(B104,'План ввода основ. ср-в'!B:B,0))),0,INDEX('План ввода основ. ср-в'!S:S,MATCH(B104,'План ввода основ. ср-в'!B:B,0)))","v":0},2.2200000000000002,"/",0,{"$f":"IF(ISNA(INDEX('План ввода основ. ср-в'!V:V,MATCH(B104,'План ввода основ. ср-в'!B:B,0))),0,INDEX('План ввода основ. ср-в'!V:V,MATCH(B104,'План ввода основ. ср-в'!B:B,0)))","v":0},{"$f":"IF(ISNA(INDEX('План ввода основ. ср-в'!W:W,MATCH(B104,'План ввода основ. ср-в'!B:B,0))),0,INDEX('План ввода основ. ср-в'!W:W,MATCH(B104,'План ввода основ. ср-в'!B:B,0)))","v":0.90305084745762709},{"$f":"IF(ISNA(INDEX('План ввода основ. ср-в'!X:X,MATCH(B104,'План ввода основ. ср-в'!B:B,0))),0,INDEX('План ввода основ. ср-в'!X:X,MATCH(B104,'План ввода основ. ср-в'!B:B,0)))","v":2.1071186440677967},{"$f":"IF(ISNA(INDEX('План ввода основ. ср-в'!Y:Y,MATCH(B104,'План ввода основ. ср-в'!B:B,0))),0,INDEX('План ввода основ. ср-в'!Y:Y,MATCH(B104,'План ввода основ. ср-в'!B:B,0)))","v":3.0101694915254238},6.0203389830508476,{"$f":"IF(ISNA(INDEX('План ввода основ. ср-в'!Z:Z,MATCH(B104,'План ввода основ. ср-в'!B:B,0))),0,INDEX('План ввода основ. ср-в'!Z:Z,MATCH(B104,'План ввода основ. ср-в'!B:B,0)))","v":0},{"$f":"IF(ISNA(INDEX('План ввода основ. ср-в'!AA:AA,MATCH(B104,'План ввода основ. ср-в'!B:B,0))),0,INDEX('План ввода основ. ср-в'!AA:AA,MATCH(B104,'План ввода основ. ср-в'!B:B,0)))","v":0},{"$f":"IF(ISNA(INDEX('План ввода основ. ср-в'!AB:AB,MATCH(B104,'План ввода основ. ср-в'!B:B,0))),0,INDEX('План ввода основ. ср-в'!AB:AB,MATCH(B104,'План ввода основ. ср-в'!B:B,0)))","v":0},{"$f":"IF(ISNA(INDEX('План ввода основ. ср-в'!AC:AC,MATCH(B104,'План ввода основ. ср-в'!B:B,0))),0,INDEX('План ввода основ. ср-в'!AC:AC,MATCH(B104,'План ввода основ. ср-в'!B:B,0)))","v":0},6.0203389830508476]
[83,"Реконструкция ВЛ-0,4кВ от МТП Кр 903/100 кВА с заменой КТП",null,null,null,null,null,null,0,{"$f":"IF(AND(I105=0,K105=0),\"\",\"/\")","v":""},0,1.25,{"$f":"IF(AND(L105=0,N105=0),\"\",\"/\")","v":"/"},0.1,0,{"$f":"IF(AND(O105=0,Q105=0),\"\",\"/\")","v":""},0,0,{"$f":"IF(AND(R105=0,T105=0),\"\",\"/\")","v":""},0,0,{"$f":"IF(AND(U105=0,W105=0),\"\",\"/\")","v":""},0,1.25,"/",0.1,3.9830508474576276,{"$f":"IF(ISNA(INDEX('План ввода основ. ср-в'!F:F,MATCH(B105,'План ввода основ. ср-в'!B:B,0))),0,INDEX('План ввода основ. ср-в'!F:F,MATCH(B105,'План ввода основ. ср-в'!B:B,0)))","v":0},{"$f":"IF(AND(AB105=0,AD105=0),\"\",\"/\")","v":""},{"$f":"IF(ISNA(INDEX('План ввода основ. ср-в'!E:E,MATCH(B105,'План ввода основ. ср-в'!B:B,0))),0,INDEX('План ввода основ. ср-в'!E:E,MATCH(B105,'План ввода основ. ср-в'!B:B,0)))","v":0},{"$f":"IF(ISNA(INDEX('План ввода основ. ср-в'!H:H,MATCH(B105,'План ввода основ. ср-в'!B:B,0))),0,INDEX('План ввода основ. ср-в'!H:H,MATCH(B105,'План ввода основ. ср-в'!B:B,0)))","v":0},{"$f":"IF(AND(AE105=0,AG105=0),\"\",\"/\")","v":""},{"$f":"IF(ISNA(INDEX('План ввода основ. ср-в'!G:G,MATCH(B105,'План ввода основ. ср-в'!B:B,0))),0,INDEX('План ввода основ. ср-в'!G:G,MATCH(B105,'План ввода основ. ср-в'!B:B,0)))","v":0},{"$f":"IF(ISNA(INDEX('План ввода основ. ср-в'!J:J,MATCH(B105,'План ввода основ. ср-в'!B:B,0))),0,INDEX('План ввода основ. ср-в'!J:J,MATCH(B105,'План ввода основ. ср-в'!B:B,0)))","v":0},{"$f":"IF(AND(AH105=0,AJ105=0),\"\",\"/\")","v":""},{"$f":"IF(ISNA(INDEX('План ввода основ. ср-в'!I:I,MATCH(B105,'План ввода основ. ср-в'!B:B,0))),0,INDEX('План ввода основ. ср-в'!I:I,MATCH(B105,'План ввода основ. ср-в'!B:B,0)))","v":0},{"$f":"IF(ISNA(INDEX('План ввода основ. ср-в'!L:L,MATCH(B105,'План ввода основ. ср-в'!B:B,0))),0,INDEX('План ввода основ. ср-в'!L:L,MATCH(B105,'План ввода основ. ср-в'!B:B,0)))","v":0},{"$f":"IF(AND(AK105=0,AM105=0),\"\",\"/\")","v":""},{"$f":"IF(ISNA(INDEX('План ввода основ. ср-в'!K:K,MATCH(B105,'План ввода основ. ср-в'!B:B,0))),0,INDEX('План ввода основ. ср-в'!K:K,MATCH(B105,'План ввода основ. ср-в'!B:B,0)))","v":0},0,"/",0,{"$f":"IF(ISNA(INDEX('План ввода основ. ср-в'!N:N,MATCH(B105,'План ввода основ. ср-в'!B:B,0))),0,INDEX('План ввода основ. ср-в'!N:N,MATCH(B105,'План ввода основ. ср-в'!B:B,0)))","v":1.25},{"$f":"IF(AND(AQ105=0,AS105=0),\"\",\"/\")","v":"/"},{"$f":"IF(ISNA(INDEX('План ввода основ. ср-в'!M:M,MATCH(B105,'План ввода основ. ср-в'!B:B,0))),0,INDEX('План ввода основ. ср-в'!M:M,MATCH(B105,'План ввода основ. ср-в'!B:B,0)))","v":0.1},{"$f":"IF(ISNA(INDEX('План ввода основ. ср-в'!P:P,MATCH(B105,'План ввода основ. ср-в'!B:B,0))),0,INDEX('План ввода основ. ср-в'!P:P,MATCH(B105,'План ввода основ. ср-в'!B:B,0)))","v":0},{"$f":"IF(AND(AT105=0,AV105=0),\"\",\"/\")","v":""},{"$f":"IF(ISNA(INDEX('План ввода основ. ср-в'!O:O,MATCH(B105,'План ввода основ. ср-в'!B:B,0))),0,INDEX('План ввода основ. ср-в'!O:O,MATCH(B105,'План ввода основ. ср-в'!B:B,0)))","v":0},{"$f":"IF(ISNA(INDEX('План ввода основ. ср-в'!R:R,MATCH(B105,'План ввода основ. ср-в'!B:B,0))),0,INDEX('План ввода основ. ср-в'!R:R,MATCH(B105,'План ввода основ. ср-в'!B:B,0)))","v":0},{"$f":"IF(AND(AW105=0,AY105=0),\"\",\"/\")","v":""},{"$f":"IF(ISNA(INDEX('План ввода основ. ср-в'!Q:Q,MATCH(B105,'План ввода основ. ср-в'!B:B,0))),0,INDEX('План ввода основ. ср-в'!Q:Q,MATCH(B105,'План ввода основ. ср-в'!B:B,0)))","v":0},{"$f":"IF(ISNA(INDEX('План ввода основ. ср-в'!T:T,MATCH(B105,'План ввода основ. ср-в'!B:B,0))),0,INDEX('План ввода основ. ср-в'!T:T,MATCH(B105,'План ввода основ. ср-в'!B:B,0)))","v":0},{"$f":"IF(AND(AZ105=0,BB105=0),\"\",\"/\")","v":""},{"$f":"IF(ISNA(INDEX('План ввода основ. ср-в'!S:S,MATCH(B105,'План ввода основ. ср-в'!B:B,0))),0,INDEX('План ввода основ. ср-в'!S:S,MATCH(B105,'План ввода основ. ср-в'!B:B,0)))","v":0},1.25,"/",0.1,{"$f":"IF(ISNA(INDEX('План ввода основ. ср-в'!V:V,MATCH(B105,'План ввода основ. ср-в'!B:B,0))),0,INDEX('План ввода основ. ср-в'!V:V,MATCH(B105,'План ввода основ. ср-в'!B:B,0)))","v":0},{"$f":"IF(ISNA(INDEX('План ввода основ. ср-в'!W:W,MATCH(B105,'План ввода основ. ср-в'!B:B,0))),0,INDEX('План ввода основ. ср-в'!W:W,MATCH(B105,'План ввода основ. ср-в'!B:B,0)))","v":0},{"$f":"IF(ISNA(INDEX('План ввода основ. ср-в'!X:X,MATCH(B105,'План ввода основ. ср-в'!B:B,0))),0,INDEX('План ввода основ. ср-в'!X:X,MATCH(B105,'План ввода основ. ср-в'!B:B,0)))","v":0},{"$f":"IF(ISNA(INDEX('План ввода основ. ср-в'!Y:Y,MATCH(B105,'План ввода основ. ср-в'!B:B,0))),0,INDEX('План ввода основ. ср-в'!Y:Y,MATCH(B105,'План ввода основ. ср-в'!B:B,0)))","v":0},0,{"$f":"IF(ISNA(INDEX('План ввода основ. ср-в'!Z:Z,MATCH(B105,'План ввода основ. ср-в'!B:B,0))),0,INDEX('План ввода основ. ср-в'!Z:Z,MATCH(B105,'План ввода основ. ср-в'!B:B,0)))","v":3.9830508474576276},{"$f":"IF(ISNA(INDEX('План ввода основ. ср-в'!AA:AA,MATCH(B105,'План ввода основ. ср-в'!B:B,0))),0,INDEX('План ввода основ. ср-в'!AA:AA,MATCH(B105,'План ввода основ. ср-в'!B:B,0)))","v":0},{"$f":"IF(ISNA(INDEX('План ввода основ. ср-в'!AB:AB,MATCH(B105,'План ввода основ. ср-в'!B:B,0))),0,INDEX('План ввода основ. ср-в'!AB:AB,MATCH(B105,'План ввода основ. ср-в'!B:B,0)))","v":0},{"$f":"IF(ISNA(INDEX('План ввода основ. ср-в'!AC:AC,MATCH(B105,'План ввода основ. ср-в'!B:B,0))),0,INDEX('План ввода основ. ср-в'!AC:AC,MATCH(B105,'План ввода основ. ср-в'!B:B,0)))","v":0},3.9830508474576276]
[84,"Реконструкция ВЛ-0,4кВ от МТП 704/250 кВА с заменой КТП",null,null,null,null,null,null,0,"",0,1,"/",0.25,0,"",0,0,"",0,0,"",0,1,"/",0.25,3.3898305084745766,{"$f":"IF(ISNA(INDEX('План ввода основ. ср-в'!F:F,MATCH(B106,'План ввода основ. ср-в'!B:B,0))),0,INDEX('План ввода основ. ср-в'!F:F,MATCH(B106,'План ввода основ. ср-в'!B:B,0)))","v":0},"",{"$f":"IF(ISNA(INDEX('План ввода основ. ср-в'!E:E,MATCH(B106,'План ввода основ. ср-в'!B:B,0))),0,INDEX('План ввода основ. ср-в'!E:E,MATCH(B106,'План ввода основ. ср-в'!B:B,0)))","v":0},{"$f":"IF(ISNA(INDEX('План ввода основ. ср-в'!H:H,MATCH(B106,'План ввода основ. ср-в'!B:B,0))),0,INDEX('План ввода основ. ср-в'!H:H,MATCH(B106,'План ввода основ. ср-в'!B:B,0)))","v":0},"",{"$f":"IF(ISNA(INDEX('План ввода основ. ср-в'!G:G,MATCH(B106,'План ввода основ. ср-в'!B:B,0))),0,INDEX('План ввода основ. ср-в'!G:G,MATCH(B106,'План ввода основ. ср-в'!B:B,0)))","v":0},{"$f":"IF(ISNA(INDEX('План ввода основ. ср-в'!J:J,MATCH(B106,'План ввода основ. ср-в'!B:B,0))),0,INDEX('План ввода основ. ср-в'!J:J,MATCH(B106,'План ввода основ. ср-в'!B:B,0)))","v":0},"",{"$f":"IF(ISNA(INDEX('План ввода основ. ср-в'!I:I,MATCH(B106,'План ввода основ. ср-в'!B:B,0))),0,INDEX('План ввода основ. ср-в'!I:I,MATCH(B106,'План ввода основ. ср-в'!B:B,0)))","v":0},{"$f":"IF(ISNA(INDEX('План ввода основ. ср-в'!L:L,MATCH(B106,'План ввода основ. ср-в'!B:B,0))),0,INDEX('План ввода основ. ср-в'!L:L,MATCH(B106,'План ввода основ. ср-в'!B:B,0)))","v":0},"",{"$f":"IF(ISNA(INDEX('План ввода основ. ср-в'!K:K,MATCH(B106,'План ввода основ. ср-в'!B:B,0))),0,INDEX('План ввода основ. ср-в'!K:K,MATCH(B106,'План ввода основ. ср-в'!B:B,0)))","v":0},0,"/",0,{"$f":"IF(ISNA(INDEX('План ввода основ. ср-в'!N:N,MATCH(B106,'План ввода основ. ср-в'!B:B,0))),0,INDEX('План ввода основ. ср-в'!N:N,MATCH(B106,'План ввода основ. ср-в'!B:B,0)))","v":1},"/",{"$f":"IF(ISNA(INDEX('План ввода основ. ср-в'!M:M,MATCH(B106,'План ввода основ. ср-в'!B:B,0))),0,INDEX('План ввода основ. ср-в'!M:M,MATCH(B106,'План ввода основ. ср-в'!B:B,0)))","v":0.25},{"$f":"IF(ISNA(INDEX('План ввода основ. ср-в'!P:P,MATCH(B106,'План ввода основ. ср-в'!B:B,0))),0,INDEX('План ввода основ. ср-в'!P:P,MATCH(B106,'План ввода основ. ср-в'!B:B,0)))","v":0},"",{"$f":"IF(ISNA(INDEX('План ввода основ. ср-в'!O:O,MATCH(B106,'План ввода основ. ср-в'!B:B,0))),0,INDEX('План ввода основ. ср-в'!O:O,MATCH(B106,'План ввода основ. ср-в'!B:B,0)))","v":0},{"$f":"IF(ISNA(INDEX('План ввода основ. ср-в'!R:R,MATCH(B106,'План ввода основ. ср-в'!B:B,0))),0,INDEX('План ввода основ. ср-в'!R:R,MATCH(B106,'План ввода основ. ср-в'!B:B,0)))","v":0},"",{"$f":"IF(ISNA(INDEX('План ввода основ. ср-в'!Q:Q,MATCH(B106,'План ввода основ. ср-в'!B:B,0))),0,INDEX('План ввода основ. ср-в'!Q:Q,MATCH(B106,'План ввода основ. ср-в'!B:B,0)))","v":0},{"$f":"IF(ISNA(INDEX('План ввода основ. ср-в'!T:T,MATCH(B106,'План ввода основ. ср-в'!B:B,0))),0,INDEX('План ввода основ. ср-в'!T:T,MATCH(B106,'План ввода основ. ср-в'!B:B,0)))","v":0},"",{"$f":"IF(ISNA(INDEX('План ввода основ. ср-в'!S:S,MATCH(B106,'План ввода основ. ср-в'!B:B,0))),0,INDEX('План ввода основ. ср-в'!S:S,MATCH(B106,'План ввода основ. ср-в'!B:B,0)))","v":0},1,"/",0.25,{"$f":"IF(ISNA(INDEX('План ввода основ. ср-в'!V:V,MATCH(B106,'План ввода основ. ср-в'!B:B,0))),0,INDEX('План ввода основ. ср-в'!V:V,MATCH(B106,'План ввода основ. ср-в'!B:B,0)))","v":0},{"$f":"IF(ISNA(INDEX('План ввода основ. ср-в'!W:W,MATCH(B106,'План ввода основ. ср-в'!B:B,0))),0,INDEX('План ввода основ. ср-в'!W:W,MATCH(B106,'План ввода основ. ср-в'!B:B,0)))","v":0},{"$f":"IF(ISNA(INDEX('План ввода основ. ср-в'!X:X,MATCH(B106,'План ввода основ. ср-в'!B:B,0))),0,INDEX('План ввода основ. ср-в'!X:X,MATCH(B106,'План ввода основ. ср-в'!B:B,0)))","v":0},{"$f":"IF(ISNA(INDEX('План ввода основ. ср-в'!Y:Y,MATCH(B106,'План ввода основ. ср-в'!B:B,0))),0,INDEX('План ввода основ. ср-в'!Y:Y,MATCH(B106,'План ввода основ. ср-в'!B:B,0)))","v":0},0,{"$f":"IF(ISNA(INDEX('План ввода основ. ср-в'!Z:Z,MATCH(B106,'План ввода основ. ср-в'!B:B,0))),0,INDEX('План ввода основ. ср-в'!Z:Z,MATCH(B106,'План ввода основ. ср-в'!B:B,0)))","v":3.3898305084745766},{"$f":"IF(ISNA(INDEX('План ввода основ. ср-в'!AA:AA,MATCH(B106,'План ввода основ. ср-в'!B:B,0))),0,INDEX('План ввода основ. ср-в'!AA:AA,MATCH(B106,'План ввода основ. ср-в'!B:B,0)))","v":0},{"$f":"IF(ISNA(INDEX('План ввода основ. ср-в'!AB:AB,MATCH(B106,'План ввода основ. ср-в'!B:B,0))),0,INDEX('План ввода основ. ср-в'!AB:AB,MATCH(B106,'План ввода основ. ср-в'!B:B,0)))","v":0},{"$f":"IF(ISNA(INDEX('План ввода основ. ср-в'!AC:AC,MATCH(B106,'План ввода основ. ср-в'!B:B,0))),0,INDEX('План ввода основ. ср-в'!AC:AC,MATCH(B106,'План ввода основ. ср-в'!B:B,0)))","v":0},3.3898305084745766]
[85,"Реконструкция ВЛ-0,4кВ от КТП 210/160 кВА",null,null,null,null,null,null,0,"",0,1.45,"/",0,0,"",0,0,"",0,0,"",0,1.45,"/",0,3.4406779661016946,{"$f":"IF(ISNA(INDEX('План ввода основ. ср-в'!F:F,MATCH(B107,'План ввода основ. ср-в'!B:B,0))),0,INDEX('План ввода основ. ср-в'!F:F,MATCH(B107,'План ввода основ. ср-в'!B:B,0)))","v":0},"",{"$f":"IF(ISNA(INDEX('План ввода основ. ср-в'!E:E,MATCH(B107,'План ввода основ. ср-в'!B:B,0))),0,INDEX('План ввода основ. ср-в'!E:E,MATCH(B107,'План ввода основ. ср-в'!B:B,0)))","v":0},{"$f":"IF(ISNA(INDEX('План ввода основ. ср-в'!H:H,MATCH(B107,'План ввода основ. ср-в'!B:B,0))),0,INDEX('План ввода основ. ср-в'!H:H,MATCH(B107,'План ввода основ. ср-в'!B:B,0)))","v":0},"",{"$f":"IF(ISNA(INDEX('План ввода основ. ср-в'!G:G,MATCH(B107,'План ввода основ. ср-в'!B:B,0))),0,INDEX('План ввода основ. ср-в'!G:G,MATCH(B107,'План ввода основ. ср-в'!B:B,0)))","v":0},{"$f":"IF(ISNA(INDEX('План ввода основ. ср-в'!J:J,MATCH(B107,'План ввода основ. ср-в'!B:B,0))),0,INDEX('План ввода основ. ср-в'!J:J,MATCH(B107,'План ввода основ. ср-в'!B:B,0)))","v":0},"",{"$f":"IF(ISNA(INDEX('План ввода основ. ср-в'!I:I,MATCH(B107,'План ввода основ. ср-в'!B:B,0))),0,INDEX('План ввода основ. ср-в'!I:I,MATCH(B107,'План ввода основ. ср-в'!B:B,0)))","v":0},{"$f":"IF(ISNA(INDEX('План ввода основ. ср-в'!L:L,MATCH(B107,'План ввода основ. ср-в'!B:B,0))),0,INDEX('План ввода основ. ср-в'!L:L,MATCH(B107,'План ввода основ. ср-в'!B:B,0)))","v":0},"",{"$f":"IF(ISNA(INDEX('План ввода основ. ср-в'!K:K,MATCH(B107,'План ввода основ. ср-в'!B:B,0))),0,INDEX('План ввода основ. ср-в'!K:K,MATCH(B107,'План ввода основ. ср-в'!B:B,0)))","v":0},0,"/",0,{"$f":"IF(ISNA(INDEX('План ввода основ. ср-в'!N:N,MATCH(B107,'План ввода основ. ср-в'!B:B,0))),0,INDEX('План ввода основ. ср-в'!N:N,MATCH(B107,'План ввода основ. ср-в'!B:B,0)))","v":1.45},"/",{"$f":"IF(ISNA(INDEX('План ввода основ. ср-в'!M:M,MATCH(B107,'План ввода основ. ср-в'!B:B,0))),0,INDEX('План ввода основ. ср-в'!M:M,MATCH(B107,'План ввода основ. ср-в'!B:B,0)))","v":0},{"$f":"IF(ISNA(INDEX('План ввода основ. ср-в'!P:P,MATCH(B107,'План ввода основ. ср-в'!B:B,0))),0,INDEX('План ввода основ. ср-в'!P:P,MATCH(B107,'План ввода основ. ср-в'!B:B,0)))","v":0},"",{"$f":"IF(ISNA(INDEX('План ввода основ. ср-в'!O:O,MATCH(B107,'План ввода основ. ср-в'!B:B,0))),0,INDEX('План ввода основ. ср-в'!O:O,MATCH(B107,'План ввода основ. ср-в'!B:B,0)))","v":0},{"$f":"IF(ISNA(INDEX('План ввода основ. ср-в'!R:R,MATCH(B107,'План ввода основ. ср-в'!B:B,0))),0,INDEX('План ввода основ. ср-в'!R:R,MATCH(B107,'План ввода основ. ср-в'!B:B,0)))","v":0},"",{"$f":"IF(ISNA(INDEX('План ввода основ. ср-в'!Q:Q,MATCH(B107,'План ввода основ. ср-в'!B:B,0))),0,INDEX('План ввода основ. ср-в'!Q:Q,MATCH(B107,'План ввода основ. ср-в'!B:B,0)))","v":0},{"$f":"IF(ISNA(INDEX('План ввода основ. ср-в'!T:T,MATCH(B107,'План ввода основ. ср-в'!B:B,0))),0,INDEX('План ввода основ. ср-в'!T:T,MATCH(B107,'План ввода основ. ср-в'!B:B,0)))","v":0},"",{"$f":"IF(ISNA(INDEX('План ввода основ. ср-в'!S:S,MATCH(B107,'План ввода основ. ср-в'!B:B,0))),0,INDEX('План ввода основ. ср-в'!S:S,MATCH(B107,'План ввода основ. ср-в'!B:B,0)))","v":0},1.45,"/",0,{"$f":"IF(ISNA(INDEX('План ввода основ. ср-в'!V:V,MATCH(B107,'План ввода основ. ср-в'!B:B,0))),0,INDEX('План ввода основ. ср-в'!V:V,MATCH(B107,'План ввода основ. ср-в'!B:B,0)))","v":0},{"$f":"IF(ISNA(INDEX('План ввода основ. ср-в'!W:W,MATCH(B107,'План ввода основ. ср-в'!B:B,0))),0,INDEX('План ввода основ. ср-в'!W:W,MATCH(B107,'План ввода основ. ср-в'!B:B,0)))","v":0},{"$f":"IF(ISNA(INDEX('План ввода основ. ср-в'!X:X,MATCH(B107,'План ввода основ. ср-в'!B:B,0))),0,INDEX('План ввода основ. ср-в'!X:X,MATCH(B107,'План ввода основ. ср-в'!B:B,0)))","v":0},{"$f":"IF(ISNA(INDEX('План ввода основ. ср-в'!Y:Y,MATCH(B107,'План ввода основ. ср-в'!B:B,0))),0,INDEX('План ввода основ. ср-в'!Y:Y,MATCH(B107,'План ввода основ. ср-в'!B:B,0)))","v":0},0,{"$f":"IF(ISNA(INDEX('План ввода основ. ср-в'!Z:Z,MATCH(B107,'План ввода основ. ср-в'!B:B,0))),0,INDEX('План ввода основ. ср-в'!Z:Z,MATCH(B107,'План ввода основ. ср-в'!B:B,0)))","v":3.4406779661016946},{"$f":"IF(ISNA(INDEX('План ввода основ. ср-в'!AA:AA,MATCH(B107,'План ввода основ. ср-в'!B:B,0))),0,INDEX('План ввода основ. ср-в'!AA:AA,MATCH(B107,'План ввода основ. ср-в'!B:B,0)))","v":0},{"$f":"IF(ISNA(INDEX('План ввода основ. ср-в'!AB:AB,MATCH(B107,'План ввода основ. ср-в'!B:B,0))),0,INDEX('План ввода основ. ср-в'!AB:AB,MATCH(B107,'План ввода основ. ср-в'!B:B,0)))","v":0},{"$f":"IF(ISNA(INDEX('План ввода основ. ср-в'!AC:AC,MATCH(B107,'План ввода основ. ср-в'!B:B,0))),0,INDEX('План ввода основ. ср-в'!AC:AC,MATCH(B107,'План ввода основ. ср-в'!B:B,0)))","v":0},3.4406779661016946]
[86,"Реконструкция ВЛ-0,4 кВ от КТП Алк 90/160 кВА с заменой КТП",null,null,null,null,null,null,0,{"$f":"IF(AND(I108=0,K108=0),\"\",\"/\")","v":""},0,0,{"$f":"IF(AND(L108=0,N108=0),\"\",\"/\")","v":""},0,1,{"$f":"IF(AND(O108=0,Q108=0),\"\",\"/\")","v":"/"},0.16,0,{"$f":"IF(AND(R108=0,T108=0),\"\",\"/\")","v":""},0,0,{"$f":"IF(AND(U108=0,W108=0),\"\",\"/\")","v":""},0,1,"/",0.16,3.3898305084745766,{"$f":"IF(ISNA(INDEX('План ввода основ. ср-в'!F:F,MATCH(B108,'План ввода основ. ср-в'!B:B,0))),0,INDEX('План ввода основ. ср-в'!F:F,MATCH(B108,'План ввода основ. ср-в'!B:B,0)))","v":0},{"$f":"IF(AND(AB108=0,AD108=0),\"\",\"/\")","v":""},{"$f":"IF(ISNA(INDEX('План ввода основ. ср-в'!E:E,MATCH(B108,'План ввода основ. ср-в'!B:B,0))),0,INDEX('План ввода основ. ср-в'!E:E,MATCH(B108,'План ввода основ. ср-в'!B:B,0)))","v":0},{"$f":"IF(ISNA(INDEX('План ввода основ. ср-в'!H:H,MATCH(B108,'План ввода основ. ср-в'!B:B,0))),0,INDEX('План ввода основ. ср-в'!H:H,MATCH(B108,'План ввода основ. ср-в'!B:B,0)))","v":0},{"$f":"IF(AND(AE108=0,AG108=0),\"\",\"/\")","v":""},{"$f":"IF(ISNA(INDEX('План ввода основ. ср-в'!G:G,MATCH(B108,'План ввода основ. ср-в'!B:B,0))),0,INDEX('План ввода основ. ср-в'!G:G,MATCH(B108,'План ввода основ. ср-в'!B:B,0)))","v":0},{"$f":"IF(ISNA(INDEX('План ввода основ. ср-в'!J:J,MATCH(B108,'План ввода основ. ср-в'!B:B,0))),0,INDEX('План ввода основ. ср-в'!J:J,MATCH(B108,'План ввода основ. ср-в'!B:B,0)))","v":0},{"$f":"IF(AND(AH108=0,AJ108=0),\"\",\"/\")","v":""},{"$f":"IF(ISNA(INDEX('План ввода основ. ср-в'!I:I,MATCH(B108,'План ввода основ. ср-в'!B:B,0))),0,INDEX('План ввода основ. ср-в'!I:I,MATCH(B108,'План ввода основ. ср-в'!B:B,0)))","v":0},{"$f":"IF(ISNA(INDEX('План ввода основ. ср-в'!L:L,MATCH(B108,'План ввода основ. ср-в'!B:B,0))),0,INDEX('План ввода основ. ср-в'!L:L,MATCH(B108,'План ввода основ. ср-в'!B:B,0)))","v":0},{"$f":"IF(AND(AK108=0,AM108=0),\"\",\"/\")","v":""},{"$f":"IF(ISNA(INDEX('План ввода основ. ср-в'!K:K,MATCH(B108,'План ввода основ. ср-в'!B:B,0))),0,INDEX('План ввода основ. ср-в'!K:K,MATCH(B108,'План ввода основ. ср-в'!B:B,0)))","v":0},0,"/",0,{"$f":"IF(ISNA(INDEX('План ввода основ. ср-в'!N:N,MATCH(B108,'План ввода основ. ср-в'!B:B,0))),0,INDEX('План ввода основ. ср-в'!N:N,MATCH(B108,'План ввода основ. ср-в'!B:B,0)))","v":0},{"$f":"IF(AND(AQ108=0,AS108=0),\"\",\"/\")","v":""},{"$f":"IF(ISNA(INDEX('План ввода основ. ср-в'!M:M,MATCH(B108,'План ввода основ. ср-в'!B:B,0))),0,INDEX('План ввода основ. ср-в'!M:M,MATCH(B108,'План ввода основ. ср-в'!B:B,0)))","v":0},{"$f":"IF(ISNA(INDEX('План ввода основ. ср-в'!P:P,MATCH(B108,'План ввода основ. ср-в'!B:B,0))),0,INDEX('План ввода основ. ср-в'!P:P,MATCH(B108,'План ввода основ. ср-в'!B:B,0)))","v":1},{"$f":"IF(AND(AT108=0,AV108=0),\"\",\"/\")","v":"/"},{"$f":"IF(ISNA(INDEX('План ввода основ. ср-в'!O:O,MATCH(B108,'План ввода основ. ср-в'!B:B,0))),0,INDEX('План ввода основ. ср-в'!O:O,MATCH(B108,'План ввода основ. ср-в'!B:B,0)))","v":0.16},{"$f":"IF(ISNA(INDEX('План ввода основ. ср-в'!R:R,MATCH(B108,'План ввода основ. ср-в'!B:B,0))),0,INDEX('План ввода основ. ср-в'!R:R,MATCH(B108,'План ввода основ. ср-в'!B:B,0)))","v":0},{"$f":"IF(AND(AW108=0,AY108=0),\"\",\"/\")","v":""},{"$f":"IF(ISNA(INDEX('План ввода основ. ср-в'!Q:Q,MATCH(B108,'План ввода основ. ср-в'!B:B,0))),0,INDEX('План ввода основ. ср-в'!Q:Q,MATCH(B108,'План ввода основ. ср-в'!B:B,0)))","v":0},{"$f":"IF(ISNA(INDEX('План ввода основ. ср-в'!T:T,MATCH(B108,'План ввода основ. ср-в'!B:B,0))),0,INDEX('План ввода основ. ср-в'!T:T,MATCH(B108,'План ввода основ. ср-в'!B:B,0)))","v":0},{"$f":"IF(AND(AZ108=0,BB108=0),\"\",\"/\")","v":""},{"$f":"IF(ISNA(INDEX('План ввода основ. ср-в'!S:S,MATCH(B108,'План ввода основ. ср-в'!B:B,0))),0,INDEX('План ввода основ. ср-в'!S:S,MATCH(B108,'План ввода основ. ср-в'!B:B,0)))","v":0},1,"/",0.16,{"$f":"IF(ISNA(INDEX('План ввода основ. ср-в'!V:V,MATCH(B108,'План ввода основ. ср-в'!B:B,0))),0,INDEX('План ввода основ. ср-в'!V:V,MATCH(B108,'План ввода основ. ср-в'!B:B,0)))","v":0},{"$f":"IF(ISNA(INDEX('План ввода основ. ср-в'!W:W,MATCH(B108,'План ввода основ. ср-в'!B:B,0))),0,INDEX('План ввода основ. ср-в'!W:W,MATCH(B108,'План ввода основ. ср-в'!B:B,0)))","v":0},{"$f":"IF(ISNA(INDEX('План ввода основ. ср-в'!X:X,MATCH(B108,'План ввода основ. ср-в'!B:B,0))),0,INDEX('План ввода основ. ср-в'!X:X,MATCH(B108,'План ввода основ. ср-в'!B:B,0)))","v":0},{"$f":"IF(ISNA(INDEX('План ввода основ. ср-в'!Y:Y,MATCH(B108,'План ввода основ. ср-в'!B:B,0))),0,INDEX('План ввода основ. ср-в'!Y:Y,MATCH(B108,'План ввода основ. ср-в'!B:B,0)))","v":0},0,{"$f":"IF(ISNA(INDEX('План ввода основ. ср-в'!Z:Z,MATCH(B108,'План ввода основ. ср-в'!B:B,0))),0,INDEX('План ввода основ. ср-в'!Z:Z,MATCH(B108,'План ввода основ. ср-в'!B:B,0)))","v":0},{"$f":"IF(ISNA(INDEX('План ввода основ. ср-в'!AA:AA,MATCH(B108,'План ввода основ. ср-в'!B:B,0))),0,INDEX('План ввода основ. ср-в'!AA:AA,MATCH(B108,'План ввода основ. ср-в'!B:B,0)))","v":3.3898305084745766},{"$f":"IF(ISNA(INDEX('План ввода основ. ср-в'!AB:AB,MATCH(B108,'План ввода основ. ср-в'!B:B,0))),0,INDEX('План ввода основ. ср-в'!AB:AB,MATCH(B108,'План ввода основ. ср-в'!B:B,0)))","v":0},{"$f":"IF(ISNA(INDEX('План ввода основ. ср-в'!AC:AC,MATCH(B108,'План ввода основ. ср-в'!B:B,0))),0,INDEX('План ввода основ. ср-в'!AC:AC,MATCH(B108,'План ввода основ. ср-в'!B:B,0)))","v":0},3.3898305084745766]
[87,"Реконструкция ВЛ-0,4 кВ от КТП Алк 91/160 кВА с заменой КТП",null,null,null,null,null,null,0,"",0,0,"",0,0.65,"/",0.16,0,"",0,0,"",0,0.65,"/",0.16,2.5593220338983049,{"$f":"IF(ISNA(INDEX('План ввода основ. ср-в'!F:F,MATCH(B109,'План ввода основ. ср-в'!B:B,0))),0,INDEX('План ввода основ. ср-в'!F:F,MATCH(B109,'План ввода основ. ср-в'!B:B,0)))","v":0},"",{"$f":"IF(ISNA(INDEX('План ввода основ. ср-в'!E:E,MATCH(B109,'План ввода основ. ср-в'!B:B,0))),0,INDEX('План ввода основ. ср-в'!E:E,MATCH(B109,'План ввода основ. ср-в'!B:B,0)))","v":0},{"$f":"IF(ISNA(INDEX('План ввода основ. ср-в'!H:H,MATCH(B109,'План ввода основ. ср-в'!B:B,0))),0,INDEX('План ввода основ. ср-в'!H:H,MATCH(B109,'План ввода основ. ср-в'!B:B,0)))","v":0},"",{"$f":"IF(ISNA(INDEX('План ввода основ. ср-в'!G:G,MATCH(B109,'План ввода основ. ср-в'!B:B,0))),0,INDEX('План ввода основ. ср-в'!G:G,MATCH(B109,'План ввода основ. ср-в'!B:B,0)))","v":0},{"$f":"IF(ISNA(INDEX('План ввода основ. ср-в'!J:J,MATCH(B109,'План ввода основ. ср-в'!B:B,0))),0,INDEX('План ввода основ. ср-в'!J:J,MATCH(B109,'План ввода основ. ср-в'!B:B,0)))","v":0},"",{"$f":"IF(ISNA(INDEX('План ввода основ. ср-в'!I:I,MATCH(B109,'План ввода основ. ср-в'!B:B,0))),0,INDEX('План ввода основ. ср-в'!I:I,MATCH(B109,'План ввода основ. ср-в'!B:B,0)))","v":0},{"$f":"IF(ISNA(INDEX('План ввода основ. ср-в'!L:L,MATCH(B109,'План ввода основ. ср-в'!B:B,0))),0,INDEX('План ввода основ. ср-в'!L:L,MATCH(B109,'План ввода основ. ср-в'!B:B,0)))","v":0},"",{"$f":"IF(ISNA(INDEX('План ввода основ. ср-в'!K:K,MATCH(B109,'План ввода основ. ср-в'!B:B,0))),0,INDEX('План ввода основ. ср-в'!K:K,MATCH(B109,'План ввода основ. ср-в'!B:B,0)))","v":0},0,"/",0,{"$f":"IF(ISNA(INDEX('План ввода основ. ср-в'!N:N,MATCH(B109,'План ввода основ. ср-в'!B:B,0))),0,INDEX('План ввода основ. ср-в'!N:N,MATCH(B109,'План ввода основ. ср-в'!B:B,0)))","v":0},"",{"$f":"IF(ISNA(INDEX('План ввода основ. ср-в'!M:M,MATCH(B109,'План ввода основ. ср-в'!B:B,0))),0,INDEX('План ввода основ. ср-в'!M:M,MATCH(B109,'План ввода основ. ср-в'!B:B,0)))","v":0},{"$f":"IF(ISNA(INDEX('План ввода основ. ср-в'!P:P,MATCH(B109,'План ввода основ. ср-в'!B:B,0))),0,INDEX('План ввода основ. ср-в'!P:P,MATCH(B109,'План ввода основ. ср-в'!B:B,0)))","v":0.65},"/",{"$f":"IF(ISNA(INDEX('План ввода основ. ср-в'!O:O,MATCH(B109,'План ввода основ. ср-в'!B:B,0))),0,INDEX('План ввода основ. ср-в'!O:O,MATCH(B109,'План ввода основ. ср-в'!B:B,0)))","v":0.16},{"$f":"IF(ISNA(INDEX('План ввода основ. ср-в'!R:R,MATCH(B109,'План ввода основ. ср-в'!B:B,0))),0,INDEX('План ввода основ. ср-в'!R:R,MATCH(B109,'План ввода основ. ср-в'!B:B,0)))","v":0},"",{"$f":"IF(ISNA(INDEX('План ввода основ. ср-в'!Q:Q,MATCH(B109,'План ввода основ. ср-в'!B:B,0))),0,INDEX('План ввода основ. ср-в'!Q:Q,MATCH(B109,'План ввода основ. ср-в'!B:B,0)))","v":0},{"$f":"IF(ISNA(INDEX('План ввода основ. ср-в'!T:T,MATCH(B109,'План ввода основ. ср-в'!B:B,0))),0,INDEX('План ввода основ. ср-в'!T:T,MATCH(B109,'План ввода основ. ср-в'!B:B,0)))","v":0},"",{"$f":"IF(ISNA(INDEX('План ввода основ. ср-в'!S:S,MATCH(B109,'План ввода основ. ср-в'!B:B,0))),0,INDEX('План ввода основ. ср-в'!S:S,MATCH(B109,'План ввода основ. ср-в'!B:B,0)))","v":0},0.65,"/",0.16,{"$f":"IF(ISNA(INDEX('План ввода основ. ср-в'!V:V,MATCH(B109,'План ввода основ. ср-в'!B:B,0))),0,INDEX('План ввода основ. ср-в'!V:V,MATCH(B109,'План ввода основ. ср-в'!B:B,0)))","v":0},{"$f":"IF(ISNA(INDEX('План ввода основ. ср-в'!W:W,MATCH(B109,'План ввода основ. ср-в'!B:B,0))),0,INDEX('План ввода основ. ср-в'!W:W,MATCH(B109,'План ввода основ. ср-в'!B:B,0)))","v":0},{"$f":"IF(ISNA(INDEX('План ввода основ. ср-в'!X:X,MATCH(B109,'План ввода основ. ср-в'!B:B,0))),0,INDEX('План ввода основ. ср-в'!X:X,MATCH(B109,'План ввода основ. ср-в'!B:B,0)))","v":0},{"$f":"IF(ISNA(INDEX('План ввода основ. ср-в'!Y:Y,MATCH(B109,'План ввода основ. ср-в'!B:B,0))),0,INDEX('План ввода основ. ср-в'!Y:Y,MATCH(B109,'План ввода основ. ср-в'!B:B,0)))","v":0},0,{"$f":"IF(ISNA(INDEX('План ввода основ. ср-в'!Z:Z,MATCH(B109,'План ввода основ. ср-в'!B:B,0))),0,INDEX('План ввода основ. ср-в'!Z:Z,MATCH(B109,'План ввода основ. ср-в'!B:B,0)))","v":0},{"$f":"IF(ISNA(INDEX('План ввода основ. ср-в'!AA:AA,MATCH(B109,'План ввода основ. ср-в'!B:B,0))),0,INDEX('План ввода основ. ср-в'!AA:AA,MATCH(B109,'План ввода основ. ср-в'!B:B,0)))","v":2.5593220338983049},{"$f":"IF(ISNA(INDEX('План ввода основ. ср-в'!AB:AB,MATCH(B109,'План ввода основ. ср-в'!B:B,0))),0,INDEX('План ввода основ. ср-в'!AB:AB,MATCH(B109,'План ввода основ. ср-в'!B:B,0)))","v":0},{"$f":"IF(ISNA(INDEX('План ввода основ. ср-в'!AC:AC,MATCH(B109,'План ввода основ. ср-в'!B:B,0))),0,INDEX('План ввода основ. ср-в'!AC:AC,MATCH(B109,'План ввода основ. ср-в'!B:B,0)))","v":0},2.5593220338983049]
[88,"Реконструкция ВЛ-0,4 кВ от ЗТП Ком 2007/400 кВА",null,null,null,null,null,null,0,"",0,0,"",0,2,"/",0,0,"",0,0,"",0,2,"/",0,4.7457627118644066,{"$f":"IF(ISNA(INDEX('План ввода основ. ср-в'!F:F,MATCH(B110,'План ввода основ. ср-в'!B:B,0))),0,INDEX('План ввода основ. ср-в'!F:F,MATCH(B110,'План ввода основ. ср-в'!B:B,0)))","v":0},"",{"$f":"IF(ISNA(INDEX('План ввода основ. ср-в'!E:E,MATCH(B110,'План ввода основ. ср-в'!B:B,0))),0,INDEX('План ввода основ. ср-в'!E:E,MATCH(B110,'План ввода основ. ср-в'!B:B,0)))","v":0},{"$f":"IF(ISNA(INDEX('План ввода основ. ср-в'!H:H,MATCH(B110,'План ввода основ. ср-в'!B:B,0))),0,INDEX('План ввода основ. ср-в'!H:H,MATCH(B110,'План ввода основ. ср-в'!B:B,0)))","v":0},"",{"$f":"IF(ISNA(INDEX('План ввода основ. ср-в'!G:G,MATCH(B110,'План ввода основ. ср-в'!B:B,0))),0,INDEX('План ввода основ. ср-в'!G:G,MATCH(B110,'План ввода основ. ср-в'!B:B,0)))","v":0},{"$f":"IF(ISNA(INDEX('План ввода основ. ср-в'!J:J,MATCH(B110,'План ввода основ. ср-в'!B:B,0))),0,INDEX('План ввода основ. ср-в'!J:J,MATCH(B110,'План ввода основ. ср-в'!B:B,0)))","v":0},"",{"$f":"IF(ISNA(INDEX('План ввода основ. ср-в'!I:I,MATCH(B110,'План ввода основ. ср-в'!B:B,0))),0,INDEX('План ввода основ. ср-в'!I:I,MATCH(B110,'План ввода основ. ср-в'!B:B,0)))","v":0},{"$f":"IF(ISNA(INDEX('План ввода основ. ср-в'!L:L,MATCH(B110,'План ввода основ. ср-в'!B:B,0))),0,INDEX('План ввода основ. ср-в'!L:L,MATCH(B110,'План ввода основ. ср-в'!B:B,0)))","v":0},"",{"$f":"IF(ISNA(INDEX('План ввода основ. ср-в'!K:K,MATCH(B110,'План ввода основ. ср-в'!B:B,0))),0,INDEX('План ввода основ. ср-в'!K:K,MATCH(B110,'План ввода основ. ср-в'!B:B,0)))","v":0},0,"/",0,{"$f":"IF(ISNA(INDEX('План ввода основ. ср-в'!N:N,MATCH(B110,'План ввода основ. ср-в'!B:B,0))),0,INDEX('План ввода основ. ср-в'!N:N,MATCH(B110,'План ввода основ. ср-в'!B:B,0)))","v":0},"",{"$f":"IF(ISNA(INDEX('План ввода основ. ср-в'!M:M,MATCH(B110,'План ввода основ. ср-в'!B:B,0))),0,INDEX('План ввода основ. ср-в'!M:M,MATCH(B110,'План ввода основ. ср-в'!B:B,0)))","v":0},{"$f":"IF(ISNA(INDEX('План ввода основ. ср-в'!P:P,MATCH(B110,'План ввода основ. ср-в'!B:B,0))),0,INDEX('План ввода основ. ср-в'!P:P,MATCH(B110,'План ввода основ. ср-в'!B:B,0)))","v":2},"/",{"$f":"IF(ISNA(INDEX('План ввода основ. ср-в'!O:O,MATCH(B110,'План ввода основ. ср-в'!B:B,0))),0,INDEX('План ввода основ. ср-в'!O:O,MATCH(B110,'План ввода основ. ср-в'!B:B,0)))","v":0},{"$f":"IF(ISNA(INDEX('План ввода основ. ср-в'!R:R,MATCH(B110,'План ввода основ. ср-в'!B:B,0))),0,INDEX('План ввода основ. ср-в'!R:R,MATCH(B110,'План ввода основ. ср-в'!B:B,0)))","v":0},"",{"$f":"IF(ISNA(INDEX('План ввода основ. ср-в'!Q:Q,MATCH(B110,'План ввода основ. ср-в'!B:B,0))),0,INDEX('План ввода основ. ср-в'!Q:Q,MATCH(B110,'План ввода основ. ср-в'!B:B,0)))","v":0},{"$f":"IF(ISNA(INDEX('План ввода основ. ср-в'!T:T,MATCH(B110,'План ввода основ. ср-в'!B:B,0))),0,INDEX('План ввода основ. ср-в'!T:T,MATCH(B110,'План ввода основ. ср-в'!B:B,0)))","v":0},"",{"$f":"IF(ISNA(INDEX('План ввода основ. ср-в'!S:S,MATCH(B110,'План ввода основ. ср-в'!B:B,0))),0,INDEX('План ввода основ. ср-в'!S:S,MATCH(B110,'План ввода основ. ср-в'!B:B,0)))","v":0},2,"/",0,{"$f":"IF(ISNA(INDEX('План ввода основ. ср-в'!V:V,MATCH(B110,'План ввода основ. ср-в'!B:B,0))),0,INDEX('План ввода основ. ср-в'!V:V,MATCH(B110,'План ввода основ. ср-в'!B:B,0)))","v":0},{"$f":"IF(ISNA(INDEX('План ввода основ. ср-в'!W:W,MATCH(B110,'План ввода основ. ср-в'!B:B,0))),0,INDEX('План ввода основ. ср-в'!W:W,MATCH(B110,'План ввода основ. ср-в'!B:B,0)))","v":0},{"$f":"IF(ISNA(INDEX('План ввода основ. ср-в'!X:X,MATCH(B110,'План ввода основ. ср-в'!B:B,0))),0,INDEX('План ввода основ. ср-в'!X:X,MATCH(B110,'План ввода основ. ср-в'!B:B,0)))","v":0},{"$f":"IF(ISNA(INDEX('План ввода основ. ср-в'!Y:Y,MATCH(B110,'План ввода основ. ср-в'!B:B,0))),0,INDEX('План ввода основ. ср-в'!Y:Y,MATCH(B110,'План ввода основ. ср-в'!B:B,0)))","v":0},0,{"$f":"IF(ISNA(INDEX('План ввода основ. ср-в'!Z:Z,MATCH(B110,'План ввода основ. ср-в'!B:B,0))),0,INDEX('План ввода основ. ср-в'!Z:Z,MATCH(B110,'План ввода основ. ср-в'!B:B,0)))","v":0},{"$f":"IF(ISNA(INDEX('План ввода основ. ср-в'!AA:AA,MATCH(B110,'План ввода основ. ср-в'!B:B,0))),0,INDEX('План ввода основ. ср-в'!AA:AA,MATCH(B110,'План ввода основ. ср-в'!B:B,0)))","v":4.7457627118644066},{"$f":"IF(ISNA(INDEX('План ввода основ. ср-в'!AB:AB,MATCH(B110,'План ввода основ. ср-в'!B:B,0))),0,INDEX('План ввода основ. ср-в'!AB:AB,MATCH(B110,'План ввода основ. ср-в'!B:B,0)))","v":0},{"$f":"IF(ISNA(INDEX('План ввода основ. ср-в'!AC:AC,MATCH(B110,'План ввода основ. ср-в'!B:B,0))),0,INDEX('План ввода основ. ср-в'!AC:AC,MATCH(B110,'План ввода основ. ср-в'!B:B,0)))","v":0},4.7457627118644066]
[89,"Реконструкция ВЛ-0,4 кВ от КТП Тур 717/160 кВА с заменой  КТП ",null,null,null,null,null,null,0,{"$f":"IF(AND(I111=0,K111=0),\"\",\"/\")","v":""},0,0,{"$f":"IF(AND(L111=0,N111=0),\"\",\"/\")","v":""},0,0,{"$f":"IF(AND(O111=0,Q111=0),\"\",\"/\")","v":""},0,0.86,{"$f":"IF(AND(R111=0,T111=0),\"\",\"/\")","v":"/"},0.16,0,{"$f":"IF(AND(U111=0,W111=0),\"\",\"/\")","v":""},0,0.86,"/",0.16,3.0576271186440676,{"$f":"IF(ISNA(INDEX('План ввода основ. ср-в'!F:F,MATCH(B111,'План ввода основ. ср-в'!B:B,0))),0,INDEX('План ввода основ. ср-в'!F:F,MATCH(B111,'План ввода основ. ср-в'!B:B,0)))","v":0},{"$f":"IF(AND(AB111=0,AD111=0),\"\",\"/\")","v":""},{"$f":"IF(ISNA(INDEX('План ввода основ. ср-в'!E:E,MATCH(B111,'План ввода основ. ср-в'!B:B,0))),0,INDEX('План ввода основ. ср-в'!E:E,MATCH(B111,'План ввода основ. ср-в'!B:B,0)))","v":0},{"$f":"IF(ISNA(INDEX('План ввода основ. ср-в'!H:H,MATCH(B111,'План ввода основ. ср-в'!B:B,0))),0,INDEX('План ввода основ. ср-в'!H:H,MATCH(B111,'План ввода основ. ср-в'!B:B,0)))","v":0},{"$f":"IF(AND(AE111=0,AG111=0),\"\",\"/\")","v":""},{"$f":"IF(ISNA(INDEX('План ввода основ. ср-в'!G:G,MATCH(B111,'План ввода основ. ср-в'!B:B,0))),0,INDEX('План ввода основ. ср-в'!G:G,MATCH(B111,'План ввода основ. ср-в'!B:B,0)))","v":0},{"$f":"IF(ISNA(INDEX('План ввода основ. ср-в'!J:J,MATCH(B111,'План ввода основ. ср-в'!B:B,0))),0,INDEX('План ввода основ. ср-в'!J:J,MATCH(B111,'План ввода основ. ср-в'!B:B,0)))","v":0},{"$f":"IF(AND(AH111=0,AJ111=0),\"\",\"/\")","v":""},{"$f":"IF(ISNA(INDEX('План ввода основ. ср-в'!I:I,MATCH(B111,'План ввода основ. ср-в'!B:B,0))),0,INDEX('План ввода основ. ср-в'!I:I,MATCH(B111,'План ввода основ. ср-в'!B:B,0)))","v":0},{"$f":"IF(ISNA(INDEX('План ввода основ. ср-в'!L:L,MATCH(B111,'План ввода основ. ср-в'!B:B,0))),0,INDEX('План ввода основ. ср-в'!L:L,MATCH(B111,'План ввода основ. ср-в'!B:B,0)))","v":0},{"$f":"IF(AND(AK111=0,AM111=0),\"\",\"/\")","v":""},{"$f":"IF(ISNA(INDEX('План ввода основ. ср-в'!K:K,MATCH(B111,'План ввода основ. ср-в'!B:B,0))),0,INDEX('План ввода основ. ср-в'!K:K,MATCH(B111,'План ввода основ. ср-в'!B:B,0)))","v":0},0,"/",0,{"$f":"IF(ISNA(INDEX('План ввода основ. ср-в'!N:N,MATCH(B111,'План ввода основ. ср-в'!B:B,0))),0,INDEX('План ввода основ. ср-в'!N:N,MATCH(B111,'План ввода основ. ср-в'!B:B,0)))","v":0},{"$f":"IF(AND(AQ111=0,AS111=0),\"\",\"/\")","v":""},{"$f":"IF(ISNA(INDEX('План ввода основ. ср-в'!M:M,MATCH(B111,'План ввода основ. ср-в'!B:B,0))),0,INDEX('План ввода основ. ср-в'!M:M,MATCH(B111,'План ввода основ. ср-в'!B:B,0)))","v":0},{"$f":"IF(ISNA(INDEX('План ввода основ. ср-в'!P:P,MATCH(B111,'План ввода основ. ср-в'!B:B,0))),0,INDEX('План ввода основ. ср-в'!P:P,MATCH(B111,'План ввода основ. ср-в'!B:B,0)))","v":0},{"$f":"IF(AND(AT111=0,AV111=0),\"\",\"/\")","v":""},{"$f":"IF(ISNA(INDEX('План ввода основ. ср-в'!O:O,MATCH(B111,'План ввода основ. ср-в'!B:B,0))),0,INDEX('План ввода основ. ср-в'!O:O,MATCH(B111,'План ввода основ. ср-в'!B:B,0)))","v":0},{"$f":"IF(ISNA(INDEX('План ввода основ. ср-в'!R:R,MATCH(B111,'План ввода основ. ср-в'!B:B,0))),0,INDEX('План ввода основ. ср-в'!R:R,MATCH(B111,'План ввода основ. ср-в'!B:B,0)))","v":0.86},{"$f":"IF(AND(AW111=0,AY111=0),\"\",\"/\")","v":"/"},{"$f":"IF(ISNA(INDEX('План ввода основ. ср-в'!Q:Q,MATCH(B111,'План ввода основ. ср-в'!B:B,0))),0,INDEX('План ввода основ. ср-в'!Q:Q,MATCH(B111,'План ввода основ. ср-в'!B:B,0)))","v":0.16},{"$f":"IF(ISNA(INDEX('План ввода основ. ср-в'!T:T,MATCH(B111,'План ввода основ. ср-в'!B:B,0))),0,INDEX('План ввода основ. ср-в'!T:T,MATCH(B111,'План ввода основ. ср-в'!B:B,0)))","v":0},{"$f":"IF(AND(AZ111=0,BB111=0),\"\",\"/\")","v":""},{"$f":"IF(ISNA(INDEX('План ввода основ. ср-в'!S:S,MATCH(B111,'План ввода основ. ср-в'!B:B,0))),0,INDEX('План ввода основ. ср-в'!S:S,MATCH(B111,'План ввода основ. ср-в'!B:B,0)))","v":0},0.86,"/",0.16,{"$f":"IF(ISNA(INDEX('План ввода основ. ср-в'!V:V,MATCH(B111,'План ввода основ. ср-в'!B:B,0))),0,INDEX('План ввода основ. ср-в'!V:V,MATCH(B111,'План ввода основ. ср-в'!B:B,0)))","v":0},{"$f":"IF(ISNA(INDEX('План ввода основ. ср-в'!W:W,MATCH(B111,'План ввода основ. ср-в'!B:B,0))),0,INDEX('План ввода основ. ср-в'!W:W,MATCH(B111,'План ввода основ. ср-в'!B:B,0)))","v":0},{"$f":"IF(ISNA(INDEX('План ввода основ. ср-в'!X:X,MATCH(B111,'План ввода основ. ср-в'!B:B,0))),0,INDEX('План ввода основ. ср-в'!X:X,MATCH(B111,'План ввода основ. ср-в'!B:B,0)))","v":0},{"$f":"IF(ISNA(INDEX('План ввода основ. ср-в'!Y:Y,MATCH(B111,'План ввода основ. ср-в'!B:B,0))),0,INDEX('План ввода основ. ср-в'!Y:Y,MATCH(B111,'План ввода основ. ср-в'!B:B,0)))","v":0},0,{"$f":"IF(ISNA(INDEX('План ввода основ. ср-в'!Z:Z,MATCH(B111,'План ввода основ. ср-в'!B:B,0))),0,INDEX('План ввода основ. ср-в'!Z:Z,MATCH(B111,'План ввода основ. ср-в'!B:B,0)))","v":0},{"$f":"IF(ISNA(INDEX('План ввода основ. ср-в'!AA:AA,MATCH(B111,'План ввода основ. ср-в'!B:B,0))),0,INDEX('План ввода основ. ср-в'!AA:AA,MATCH(B111,'План ввода основ. ср-в'!B:B,0)))","v":0},{"$f":"IF(ISNA(INDEX('План ввода основ. ср-в'!AB:AB,MATCH(B111,'План ввода основ. ср-в'!B:B,0))),0,INDEX('План ввода основ. ср-в'!AB:AB,MATCH(B111,'План ввода основ. ср-в'!B:B,0)))","v":3.0576271186440676},{"$f":"IF(ISNA(INDEX('План ввода основ. ср-в'!AC:AC,MATCH(B111,'План ввода основ. ср-в'!B:B,0))),0,INDEX('План ввода основ. ср-в'!AC:AC,MATCH(B111,'План ввода основ. ср-в'!B:B,0)))","v":0},3.0576271186440676]
[90,"Клявлинский район",null,null,null,null,null,null,0,"",0,0,"",0,0,"",0,0,"",0,0,"",0,0,"/",0,0,{"$f":"IF(ISNA(INDEX('План ввода основ. ср-в'!F:F,MATCH(B112,'План ввода основ. ср-в'!B:B,0))),0,INDEX('План ввода основ. ср-в'!F:F,MATCH(B112,'План ввода основ. ср-в'!B:B,0)))","v":0},"",{"$f":"IF(ISNA(INDEX('План ввода основ. ср-в'!E:E,MATCH(B112,'План ввода основ. ср-в'!B:B,0))),0,INDEX('План ввода основ. ср-в'!E:E,MATCH(B112,'План ввода основ. ср-в'!B:B,0)))","v":0},{"$f":"IF(ISNA(INDEX('План ввода основ. ср-в'!H:H,MATCH(B112,'План ввода основ. ср-в'!B:B,0))),0,INDEX('План ввода основ. ср-в'!H:H,MATCH(B112,'План ввода основ. ср-в'!B:B,0)))","v":0},"",{"$f":"IF(ISNA(INDEX('План ввода основ. ср-в'!G:G,MATCH(B112,'План ввода основ. ср-в'!B:B,0))),0,INDEX('План ввода основ. ср-в'!G:G,MATCH(B112,'План ввода основ. ср-в'!B:B,0)))","v":0},{"$f":"IF(ISNA(INDEX('План ввода основ. ср-в'!J:J,MATCH(B112,'План ввода основ. ср-в'!B:B,0))),0,INDEX('План ввода основ. ср-в'!J:J,MATCH(B112,'План ввода основ. ср-в'!B:B,0)))","v":0},"",{"$f":"IF(ISNA(INDEX('План ввода основ. ср-в'!I:I,MATCH(B112,'План ввода основ. ср-в'!B:B,0))),0,INDEX('План ввода основ. ср-в'!I:I,MATCH(B112,'План ввода основ. ср-в'!B:B,0)))","v":0},{"$f":"IF(ISNA(INDEX('План ввода основ. ср-в'!L:L,MATCH(B112,'План ввода основ. ср-в'!B:B,0))),0,INDEX('План ввода основ. ср-в'!L:L,MATCH(B112,'План ввода основ. ср-в'!B:B,0)))","v":0},"",{"$f":"IF(ISNA(INDEX('План ввода основ. ср-в'!K:K,MATCH(B112,'План ввода основ. ср-в'!B:B,0))),0,INDEX('План ввода основ. ср-в'!K:K,MATCH(B112,'План ввода основ. ср-в'!B:B,0)))","v":0},0,"/",0,{"$f":"IF(ISNA(INDEX('План ввода основ. ср-в'!N:N,MATCH(B112,'План ввода основ. ср-в'!B:B,0))),0,INDEX('План ввода основ. ср-в'!N:N,MATCH(B112,'План ввода основ. ср-в'!B:B,0)))","v":0},"",{"$f":"IF(ISNA(INDEX('План ввода основ. ср-в'!M:M,MATCH(B112,'План ввода основ. ср-в'!B:B,0))),0,INDEX('План ввода основ. ср-в'!M:M,MATCH(B112,'План ввода основ. ср-в'!B:B,0)))","v":0},{"$f":"IF(ISNA(INDEX('План ввода основ. ср-в'!P:P,MATCH(B112,'План ввода основ. ср-в'!B:B,0))),0,INDEX('План ввода основ. ср-в'!P:P,MATCH(B112,'План ввода основ. ср-в'!B:B,0)))","v":0},"",{"$f":"IF(ISNA(INDEX('План ввода основ. ср-в'!O:O,MATCH(B112,'План ввода основ. ср-в'!B:B,0))),0,INDEX('План ввода основ. ср-в'!O:O,MATCH(B112,'План ввода основ. ср-в'!B:B,0)))","v":0},{"$f":"IF(ISNA(INDEX('План ввода основ. ср-в'!R:R,MATCH(B112,'План ввода основ. ср-в'!B:B,0))),0,INDEX('План ввода основ. ср-в'!R:R,MATCH(B112,'План ввода основ. ср-в'!B:B,0)))","v":0},"",{"$f":"IF(ISNA(INDEX('План ввода основ. ср-в'!Q:Q,MATCH(B112,'План ввода основ. ср-в'!B:B,0))),0,INDEX('План ввода основ. ср-в'!Q:Q,MATCH(B112,'План ввода основ. ср-в'!B:B,0)))","v":0},{"$f":"IF(ISNA(INDEX('План ввода основ. ср-в'!T:T,MATCH(B112,'План ввода основ. ср-в'!B:B,0))),0,INDEX('План ввода основ. ср-в'!T:T,MATCH(B112,'План ввода основ. ср-в'!B:B,0)))","v":0},"",{"$f":"IF(ISNA(INDEX('План ввода основ. ср-в'!S:S,MATCH(B112,'План ввода основ. ср-в'!B:B,0))),0,INDEX('План ввода основ. ср-в'!S:S,MATCH(B112,'План ввода основ. ср-в'!B:B,0)))","v":0},0,"/",0,{"$f":"IF(ISNA(INDEX('План ввода основ. ср-в'!V:V,MATCH(B112,'План ввода основ. ср-в'!B:B,0))),0,INDEX('План ввода основ. ср-в'!V:V,MATCH(B112,'План ввода основ. ср-в'!B:B,0)))","v":0},{"$f":"IF(ISNA(INDEX('План ввода основ. ср-в'!W:W,MATCH(B112,'План ввода основ. ср-в'!B:B,0))),0,INDEX('План ввода основ. ср-в'!W:W,MATCH(B112,'План ввода основ. ср-в'!B:B,0)))","v":0},{"$f":"IF(ISNA(INDEX('План ввода основ. ср-в'!X:X,MATCH(B112,'План ввода основ. ср-в'!B:B,0))),0,INDEX('План ввода основ. ср-в'!X:X,MATCH(B112,'План ввода основ. ср-в'!B:B,0)))","v":0},{"$f":"IF(ISNA(INDEX('План ввода основ. ср-в'!Y:Y,MATCH(B112,'План ввода основ. ср-в'!B:B,0))),0,INDEX('План ввода основ. ср-в'!Y:Y,MATCH(B112,'План ввода основ. ср-в'!B:B,0)))","v":0},0,{"$f":"IF(ISNA(INDEX('План ввода основ. ср-в'!Z:Z,MATCH(B112,'План ввода основ. ср-в'!B:B,0))),0,INDEX('План ввода основ. ср-в'!Z:Z,MATCH(B112,'План ввода основ. ср-в'!B:B,0)))","v":0},{"$f":"IF(ISNA(INDEX('План ввода основ. ср-в'!AA:AA,MATCH(B112,'План ввода основ. ср-в'!B:B,0))),0,INDEX('План ввода основ. ср-в'!AA:AA,MATCH(B112,'План ввода основ. ср-в'!B:B,0)))","v":0},{"$f":"IF(ISNA(INDEX('План ввода основ. ср-в'!AB:AB,MATCH(B112,'План ввода основ. ср-в'!B:B,0))),0,INDEX('План ввода основ. ср-в'!AB:AB,MATCH(B112,'План ввода основ. ср-в'!B:B,0)))","v":0},{"$f":"IF(ISNA(INDEX('План ввода основ. ср-в'!AC:AC,MATCH(B112,'План ввода основ. ср-в'!B:B,0))),0,INDEX('План ввода основ. ср-в'!AC:AC,MATCH(B112,'План ввода основ. ср-в'!B:B,0)))","v":0},0]
[91,"Реконструкция элекстроснабжения ст. Клявлино",null,null,null,null,null,null,6.35,null,0.65,0,null,0,0,null,0,0,null,0,0,null,0,6.35,"/",0.65,20.779661016949156,{"$f":"IF(ISNA(INDEX('План ввода основ. ср-в'!F:F,MATCH(B113,'План ввода основ. ср-в'!B:B,0))),0,INDEX('План ввода основ. ср-в'!F:F,MATCH(B113,'План ввода основ. ср-в'!B:B,0)))","v":0},null,{"$f":"IF(ISNA(INDEX('План ввода основ. ср-в'!E:E,MATCH(B113,'План ввода основ. ср-в'!B:B,0))),0,INDEX('План ввода основ. ср-в'!E:E,MATCH(B113,'План ввода основ. ср-в'!B:B,0)))","v":0},{"$f":"IF(ISNA(INDEX('План ввода основ. ср-в'!H:H,MATCH(B113,'План ввода основ. ср-в'!B:B,0))),0,INDEX('План ввода основ. ср-в'!H:H,MATCH(B113,'План ввода основ. ср-в'!B:B,0)))","v":0},null,{"$f":"IF(ISNA(INDEX('План ввода основ. ср-в'!G:G,MATCH(B113,'План ввода основ. ср-в'!B:B,0))),0,INDEX('План ввода основ. ср-в'!G:G,MATCH(B113,'План ввода основ. ср-в'!B:B,0)))","v":0},{"$f":"IF(ISNA(INDEX('План ввода основ. ср-в'!J:J,MATCH(B113,'План ввода основ. ср-в'!B:B,0))),0,INDEX('План ввода основ. ср-в'!J:J,MATCH(B113,'План ввода основ. ср-в'!B:B,0)))","v":0},null,{"$f":"IF(ISNA(INDEX('План ввода основ. ср-в'!I:I,MATCH(B113,'План ввода основ. ср-в'!B:B,0))),0,INDEX('План ввода основ. ср-в'!I:I,MATCH(B113,'План ввода основ. ср-в'!B:B,0)))","v":0},{"$f":"IF(ISNA(INDEX('План ввода основ. ср-в'!L:L,MATCH(B113,'План ввода основ. ср-в'!B:B,0))),0,INDEX('План ввода основ. ср-в'!L:L,MATCH(B113,'План ввода основ. ср-в'!B:B,0)))","v":6.35},null,{"$f":"IF(ISNA(INDEX('План ввода основ. ср-в'!K:K,MATCH(B113,'План ввода основ. ср-в'!B:B,0))),0,INDEX('План ввода основ. ср-в'!K:K,MATCH(B113,'План ввода основ. ср-в'!B:B,0)))","v":0.9},6.35,null,0.9,{"$f":"IF(ISNA(INDEX('План ввода основ. ср-в'!N:N,MATCH(B113,'План ввода основ. ср-в'!B:B,0))),0,INDEX('План ввода основ. ср-в'!N:N,MATCH(B113,'План ввода основ. ср-в'!B:B,0)))","v":0},null,{"$f":"IF(ISNA(INDEX('План ввода основ. ср-в'!M:M,MATCH(B113,'План ввода основ. ср-в'!B:B,0))),0,INDEX('План ввода основ. ср-в'!M:M,MATCH(B113,'План ввода основ. ср-в'!B:B,0)))","v":0},{"$f":"IF(ISNA(INDEX('План ввода основ. ср-в'!P:P,MATCH(B113,'План ввода основ. ср-в'!B:B,0))),0,INDEX('План ввода основ. ср-в'!P:P,MATCH(B113,'План ввода основ. ср-в'!B:B,0)))","v":0},null,{"$f":"IF(ISNA(INDEX('План ввода основ. ср-в'!O:O,MATCH(B113,'План ввода основ. ср-в'!B:B,0))),0,INDEX('План ввода основ. ср-в'!O:O,MATCH(B113,'План ввода основ. ср-в'!B:B,0)))","v":0},{"$f":"IF(ISNA(INDEX('План ввода основ. ср-в'!R:R,MATCH(B113,'План ввода основ. ср-в'!B:B,0))),0,INDEX('План ввода основ. ср-в'!R:R,MATCH(B113,'План ввода основ. ср-в'!B:B,0)))","v":0},null,{"$f":"IF(ISNA(INDEX('План ввода основ. ср-в'!Q:Q,MATCH(B113,'План ввода основ. ср-в'!B:B,0))),0,INDEX('План ввода основ. ср-в'!Q:Q,MATCH(B113,'План ввода основ. ср-в'!B:B,0)))","v":0},{"$f":"IF(ISNA(INDEX('План ввода основ. ср-в'!T:T,MATCH(B113,'План ввода основ. ср-в'!B:B,0))),0,INDEX('План ввода основ. ср-в'!T:T,MATCH(B113,'План ввода основ. ср-в'!B:B,0)))","v":0},null,{"$f":"IF(ISNA(INDEX('План ввода основ. ср-в'!S:S,MATCH(B113,'План ввода основ. ср-в'!B:B,0))),0,INDEX('План ввода основ. ср-в'!S:S,MATCH(B113,'План ввода основ. ср-в'!B:B,0)))","v":0},6.35,null,0.9,{"$f":"IF(ISNA(INDEX('План ввода основ. ср-в'!V:V,MATCH(B113,'План ввода основ. ср-в'!B:B,0))),0,INDEX('План ввода основ. ср-в'!V:V,MATCH(B113,'План ввода основ. ср-в'!B:B,0)))","v":0},{"$f":"IF(ISNA(INDEX('План ввода основ. ср-в'!W:W,MATCH(B113,'План ввода основ. ср-в'!B:B,0))),0,INDEX('План ввода основ. ср-в'!W:W,MATCH(B113,'План ввода основ. ср-в'!B:B,0)))","v":3.1169491525423734},{"$f":"IF(ISNA(INDEX('План ввода основ. ср-в'!X:X,MATCH(B113,'План ввода основ. ср-в'!B:B,0))),0,INDEX('План ввода основ. ср-в'!X:X,MATCH(B113,'План ввода основ. ср-в'!B:B,0)))","v":7.2728813559322036},{"$f":"IF(ISNA(INDEX('План ввода основ. ср-в'!Y:Y,MATCH(B113,'План ввода основ. ср-в'!B:B,0))),0,INDEX('План ввода основ. ср-в'!Y:Y,MATCH(B113,'План ввода основ. ср-в'!B:B,0)))","v":10.389830508474578},20.779661016949156,{"$f":"IF(ISNA(INDEX('План ввода основ. ср-в'!Z:Z,MATCH(B113,'План ввода основ. ср-в'!B:B,0))),0,INDEX('План ввода основ. ср-в'!Z:Z,MATCH(B113,'План ввода основ. ср-в'!B:B,0)))","v":0},{"$f":"IF(ISNA(INDEX('План ввода основ. ср-в'!AA:AA,MATCH(B113,'План ввода основ. ср-в'!B:B,0))),0,INDEX('План ввода основ. ср-в'!AA:AA,MATCH(B113,'План ввода основ. ср-в'!B:B,0)))","v":0},{"$f":"IF(ISNA(INDEX('План ввода основ. ср-в'!AB:AB,MATCH(B113,'План ввода основ. ср-в'!B:B,0))),0,INDEX('План ввода основ. ср-в'!AB:AB,MATCH(B113,'План ввода основ. ср-в'!B:B,0)))","v":0},{"$f":"IF(ISNA(INDEX('План ввода основ. ср-в'!AC:AC,MATCH(B113,'План ввода основ. ср-в'!B:B,0))),0,INDEX('План ввода основ. ср-в'!AC:AC,MATCH(B113,'План ввода основ. ср-в'!B:B,0)))","v":0},20.779661016949156]
[92,"Реконструкция ВЛ-0,4кВ от КТП КЛВ 1207/250 кВА",null,null,null,null,null,null,1.5,null,0,0,null,0,null,null,null,0,null,0,0,null,0,1.5,null,0,4.0677966101694922,{"$f":"IF(ISNA(INDEX('План ввода основ. ср-в'!F:F,MATCH(B114,'План ввода основ. ср-в'!B:B,0))),0,INDEX('План ввода основ. ср-в'!F:F,MATCH(B114,'План ввода основ. ср-в'!B:B,0)))","v":0},null,{"$f":"IF(ISNA(INDEX('План ввода основ. ср-в'!E:E,MATCH(B114,'План ввода основ. ср-в'!B:B,0))),0,INDEX('План ввода основ. ср-в'!E:E,MATCH(B114,'План ввода основ. ср-в'!B:B,0)))","v":0},{"$f":"IF(ISNA(INDEX('План ввода основ. ср-в'!H:H,MATCH(B114,'План ввода основ. ср-в'!B:B,0))),0,INDEX('План ввода основ. ср-в'!H:H,MATCH(B114,'План ввода основ. ср-в'!B:B,0)))","v":0},null,{"$f":"IF(ISNA(INDEX('План ввода основ. ср-в'!G:G,MATCH(B114,'План ввода основ. ср-в'!B:B,0))),0,INDEX('План ввода основ. ср-в'!G:G,MATCH(B114,'План ввода основ. ср-в'!B:B,0)))","v":0},{"$f":"IF(ISNA(INDEX('План ввода основ. ср-в'!J:J,MATCH(B114,'План ввода основ. ср-в'!B:B,0))),0,INDEX('План ввода основ. ср-в'!J:J,MATCH(B114,'План ввода основ. ср-в'!B:B,0)))","v":0},null,{"$f":"IF(ISNA(INDEX('План ввода основ. ср-в'!I:I,MATCH(B114,'План ввода основ. ср-в'!B:B,0))),0,INDEX('План ввода основ. ср-в'!I:I,MATCH(B114,'План ввода основ. ср-в'!B:B,0)))","v":0},{"$f":"IF(ISNA(INDEX('План ввода основ. ср-в'!L:L,MATCH(B114,'План ввода основ. ср-в'!B:B,0))),0,INDEX('План ввода основ. ср-в'!L:L,MATCH(B114,'План ввода основ. ср-в'!B:B,0)))","v":1.5},null,{"$f":"IF(ISNA(INDEX('План ввода основ. ср-в'!K:K,MATCH(B114,'План ввода основ. ср-в'!B:B,0))),0,INDEX('План ввода основ. ср-в'!K:K,MATCH(B114,'План ввода основ. ср-в'!B:B,0)))","v":0},1.5,null,0,{"$f":"IF(ISNA(INDEX('План ввода основ. ср-в'!N:N,MATCH(B114,'План ввода основ. ср-в'!B:B,0))),0,INDEX('План ввода основ. ср-в'!N:N,MATCH(B114,'План ввода основ. ср-в'!B:B,0)))","v":0},null,{"$f":"IF(ISNA(INDEX('План ввода основ. ср-в'!M:M,MATCH(B114,'План ввода основ. ср-в'!B:B,0))),0,INDEX('План ввода основ. ср-в'!M:M,MATCH(B114,'План ввода основ. ср-в'!B:B,0)))","v":0},{"$f":"IF(ISNA(INDEX('План ввода основ. ср-в'!P:P,MATCH(B114,'План ввода основ. ср-в'!B:B,0))),0,INDEX('План ввода основ. ср-в'!P:P,MATCH(B114,'План ввода основ. ср-в'!B:B,0)))","v":0},null,{"$f":"IF(ISNA(INDEX('План ввода основ. ср-в'!O:O,MATCH(B114,'План ввода основ. ср-в'!B:B,0))),0,INDEX('План ввода основ. ср-в'!O:O,MATCH(B114,'План ввода основ. ср-в'!B:B,0)))","v":0},{"$f":"IF(ISNA(INDEX('План ввода основ. ср-в'!R:R,MATCH(B114,'План ввода основ. ср-в'!B:B,0))),0,INDEX('План ввода основ. ср-в'!R:R,MATCH(B114,'План ввода основ. ср-в'!B:B,0)))","v":0},null,{"$f":"IF(ISNA(INDEX('План ввода основ. ср-в'!Q:Q,MATCH(B114,'План ввода основ. ср-в'!B:B,0))),0,INDEX('План ввода основ. ср-в'!Q:Q,MATCH(B114,'План ввода основ. ср-в'!B:B,0)))","v":0},{"$f":"IF(ISNA(INDEX('План ввода основ. ср-в'!T:T,MATCH(B114,'План ввода основ. ср-в'!B:B,0))),0,INDEX('План ввода основ. ср-в'!T:T,MATCH(B114,'План ввода основ. ср-в'!B:B,0)))","v":0},null,{"$f":"IF(ISNA(INDEX('План ввода основ. ср-в'!S:S,MATCH(B114,'План ввода основ. ср-в'!B:B,0))),0,INDEX('План ввода основ. ср-в'!S:S,MATCH(B114,'План ввода основ. ср-в'!B:B,0)))","v":0},1.5,null,0,null,{"$f":"IF(ISNA(INDEX('План ввода основ. ср-в'!W:W,MATCH(B114,'План ввода основ. ср-в'!B:B,0))),0,INDEX('План ввода основ. ср-в'!W:W,MATCH(B114,'План ввода основ. ср-в'!B:B,0)))","v":0.61016949152542377},{"$f":"IF(ISNA(INDEX('План ввода основ. ср-в'!X:X,MATCH(B114,'План ввода основ. ср-в'!B:B,0))),0,INDEX('План ввода основ. ср-в'!X:X,MATCH(B114,'План ввода основ. ср-в'!B:B,0)))","v":1.4237288135593222},{"$f":"IF(ISNA(INDEX('План ввода основ. ср-в'!Y:Y,MATCH(B114,'План ввода основ. ср-в'!B:B,0))),0,INDEX('План ввода основ. ср-в'!Y:Y,MATCH(B114,'План ввода основ. ср-в'!B:B,0)))","v":2.0338983050847461},4.0677966101694922,{"$f":"IF(ISNA(INDEX('План ввода основ. ср-в'!Z:Z,MATCH(B114,'План ввода основ. ср-в'!B:B,0))),0,INDEX('План ввода основ. ср-в'!Z:Z,MATCH(B114,'План ввода основ. ср-в'!B:B,0)))","v":0},{"$f":"IF(ISNA(INDEX('План ввода основ. ср-в'!AA:AA,MATCH(B114,'План ввода основ. ср-в'!B:B,0))),0,INDEX('План ввода основ. ср-в'!AA:AA,MATCH(B114,'План ввода основ. ср-в'!B:B,0)))","v":0},{"$f":"IF(ISNA(INDEX('План ввода основ. ср-в'!AB:AB,MATCH(B114,'План ввода основ. ср-в'!B:B,0))),0,INDEX('План ввода основ. ср-в'!AB:AB,MATCH(B114,'План ввода основ. ср-в'!B:B,0)))","v":0},{"$f":"IF(ISNA(INDEX('План ввода основ. ср-в'!AC:AC,MATCH(B114,'План ввода основ. ср-в'!B:B,0))),0,INDEX('План ввода основ. ср-в'!AC:AC,MATCH(B114,'План ввода основ. ср-в'!B:B,0)))","v":0},4.0677966101694922]
[93,"Реконструкция ВЛ-0,4кВ от КТП 416/100 кВА с заменой КТП",null,null,null,null,null,null,2.1,null,0.1,0,null,0,null,null,null,0,null,0,0,null,0,2.1,null,0.1,6.796610169491526,{"$f":"IF(ISNA(INDEX('План ввода основ. ср-в'!F:F,MATCH(B115,'План ввода основ. ср-в'!B:B,0))),0,INDEX('План ввода основ. ср-в'!F:F,MATCH(B115,'План ввода основ. ср-в'!B:B,0)))","v":0},null,{"$f":"IF(ISNA(INDEX('План ввода основ. ср-в'!E:E,MATCH(B115,'План ввода основ. ср-в'!B:B,0))),0,INDEX('План ввода основ. ср-в'!E:E,MATCH(B115,'План ввода основ. ср-в'!B:B,0)))","v":0},{"$f":"IF(ISNA(INDEX('План ввода основ. ср-в'!H:H,MATCH(B115,'План ввода основ. ср-в'!B:B,0))),0,INDEX('План ввода основ. ср-в'!H:H,MATCH(B115,'План ввода основ. ср-в'!B:B,0)))","v":0},null,{"$f":"IF(ISNA(INDEX('План ввода основ. ср-в'!G:G,MATCH(B115,'План ввода основ. ср-в'!B:B,0))),0,INDEX('План ввода основ. ср-в'!G:G,MATCH(B115,'План ввода основ. ср-в'!B:B,0)))","v":0},{"$f":"IF(ISNA(INDEX('План ввода основ. ср-в'!J:J,MATCH(B115,'План ввода основ. ср-в'!B:B,0))),0,INDEX('План ввода основ. ср-в'!J:J,MATCH(B115,'План ввода основ. ср-в'!B:B,0)))","v":0},null,{"$f":"IF(ISNA(INDEX('План ввода основ. ср-в'!I:I,MATCH(B115,'План ввода основ. ср-в'!B:B,0))),0,INDEX('План ввода основ. ср-в'!I:I,MATCH(B115,'План ввода основ. ср-в'!B:B,0)))","v":0},{"$f":"IF(ISNA(INDEX('План ввода основ. ср-в'!L:L,MATCH(B115,'План ввода основ. ср-в'!B:B,0))),0,INDEX('План ввода основ. ср-в'!L:L,MATCH(B115,'План ввода основ. ср-в'!B:B,0)))","v":2.1},null,{"$f":"IF(ISNA(INDEX('План ввода основ. ср-в'!K:K,MATCH(B115,'План ввода основ. ср-в'!B:B,0))),0,INDEX('План ввода основ. ср-в'!K:K,MATCH(B115,'План ввода основ. ср-в'!B:B,0)))","v":0.1},2.1,null,0.1,{"$f":"IF(ISNA(INDEX('План ввода основ. ср-в'!N:N,MATCH(B115,'План ввода основ. ср-в'!B:B,0))),0,INDEX('План ввода основ. ср-в'!N:N,MATCH(B115,'План ввода основ. ср-в'!B:B,0)))","v":0},null,{"$f":"IF(ISNA(INDEX('План ввода основ. ср-в'!M:M,MATCH(B115,'План ввода основ. ср-в'!B:B,0))),0,INDEX('План ввода основ. ср-в'!M:M,MATCH(B115,'План ввода основ. ср-в'!B:B,0)))","v":0},{"$f":"IF(ISNA(INDEX('План ввода основ. ср-в'!P:P,MATCH(B115,'План ввода основ. ср-в'!B:B,0))),0,INDEX('План ввода основ. ср-в'!P:P,MATCH(B115,'План ввода основ. ср-в'!B:B,0)))","v":0},null,{"$f":"IF(ISNA(INDEX('План ввода основ. ср-в'!O:O,MATCH(B115,'План ввода основ. ср-в'!B:B,0))),0,INDEX('План ввода основ. ср-в'!O:O,MATCH(B115,'План ввода основ. ср-в'!B:B,0)))","v":0},{"$f":"IF(ISNA(INDEX('План ввода основ. ср-в'!R:R,MATCH(B115,'План ввода основ. ср-в'!B:B,0))),0,INDEX('План ввода основ. ср-в'!R:R,MATCH(B115,'План ввода основ. ср-в'!B:B,0)))","v":0},null,{"$f":"IF(ISNA(INDEX('План ввода основ. ср-в'!Q:Q,MATCH(B115,'План ввода основ. ср-в'!B:B,0))),0,INDEX('План ввода основ. ср-в'!Q:Q,MATCH(B115,'План ввода основ. ср-в'!B:B,0)))","v":0},{"$f":"IF(ISNA(INDEX('План ввода основ. ср-в'!T:T,MATCH(B115,'План ввода основ. ср-в'!B:B,0))),0,INDEX('План ввода основ. ср-в'!T:T,MATCH(B115,'План ввода основ. ср-в'!B:B,0)))","v":0},null,{"$f":"IF(ISNA(INDEX('План ввода основ. ср-в'!S:S,MATCH(B115,'План ввода основ. ср-в'!B:B,0))),0,INDEX('План ввода основ. ср-в'!S:S,MATCH(B115,'План ввода основ. ср-в'!B:B,0)))","v":0},2.1,null,0.1,null,{"$f":"IF(ISNA(INDEX('План ввода основ. ср-в'!W:W,MATCH(B115,'План ввода основ. ср-в'!B:B,0))),0,INDEX('План ввода основ. ср-в'!W:W,MATCH(B115,'План ввода основ. ср-в'!B:B,0)))","v":1.0194915254237289},{"$f":"IF(ISNA(INDEX('План ввода основ. ср-в'!X:X,MATCH(B115,'План ввода основ. ср-в'!B:B,0))),0,INDEX('План ввода основ. ср-в'!X:X,MATCH(B115,'План ввода основ. ср-в'!B:B,0)))","v":2.3788135593220341},{"$f":"IF(ISNA(INDEX('План ввода основ. ср-в'!Y:Y,MATCH(B115,'План ввода основ. ср-в'!B:B,0))),0,INDEX('План ввода основ. ср-в'!Y:Y,MATCH(B115,'План ввода основ. ср-в'!B:B,0)))","v":3.3983050847457634},6.796610169491526,{"$f":"IF(ISNA(INDEX('План ввода основ. ср-в'!Z:Z,MATCH(B115,'План ввода основ. ср-в'!B:B,0))),0,INDEX('План ввода основ. ср-в'!Z:Z,MATCH(B115,'План ввода основ. ср-в'!B:B,0)))","v":0},{"$f":"IF(ISNA(INDEX('План ввода основ. ср-в'!AA:AA,MATCH(B115,'План ввода основ. ср-в'!B:B,0))),0,INDEX('План ввода основ. ср-в'!AA:AA,MATCH(B115,'План ввода основ. ср-в'!B:B,0)))","v":0},{"$f":"IF(ISNA(INDEX('План ввода основ. ср-в'!AB:AB,MATCH(B115,'План ввода основ. ср-в'!B:B,0))),0,INDEX('План ввода основ. ср-в'!AB:AB,MATCH(B115,'План ввода основ. ср-в'!B:B,0)))","v":0},{"$f":"IF(ISNA(INDEX('План ввода основ. ср-в'!AC:AC,MATCH(B115,'План ввода основ. ср-в'!B:B,0))),0,INDEX('План ввода основ. ср-в'!AC:AC,MATCH(B115,'План ввода основ. ср-в'!B:B,0)))","v":0},6.796610169491526]
[94,"Реконструкция ВЛ-0,4кВ от КТП КЛВ 421/160 кВА с заменой КТП",null,null,null,null,null,null,0,"",0,3.1,"/",0.16,0,"",0,0,"",0,0,"",0,3.1,"/",0.16,8.3728813559322024,{"$f":"IF(ISNA(INDEX('План ввода основ. ср-в'!F:F,MATCH(B116,'План ввода основ. ср-в'!B:B,0))),0,INDEX('План ввода основ. ср-в'!F:F,MATCH(B116,'План ввода основ. ср-в'!B:B,0)))","v":0},"",{"$f":"IF(ISNA(INDEX('План ввода основ. ср-в'!E:E,MATCH(B116,'План ввода основ. ср-в'!B:B,0))),0,INDEX('План ввода основ. ср-в'!E:E,MATCH(B116,'План ввода основ. ср-в'!B:B,0)))","v":0},{"$f":"IF(ISNA(INDEX('План ввода основ. ср-в'!H:H,MATCH(B116,'План ввода основ. ср-в'!B:B,0))),0,INDEX('План ввода основ. ср-в'!H:H,MATCH(B116,'План ввода основ. ср-в'!B:B,0)))","v":0},"",{"$f":"IF(ISNA(INDEX('План ввода основ. ср-в'!G:G,MATCH(B116,'План ввода основ. ср-в'!B:B,0))),0,INDEX('План ввода основ. ср-в'!G:G,MATCH(B116,'План ввода основ. ср-в'!B:B,0)))","v":0},{"$f":"IF(ISNA(INDEX('План ввода основ. ср-в'!J:J,MATCH(B116,'План ввода основ. ср-в'!B:B,0))),0,INDEX('План ввода основ. ср-в'!J:J,MATCH(B116,'План ввода основ. ср-в'!B:B,0)))","v":0},"",{"$f":"IF(ISNA(INDEX('План ввода основ. ср-в'!I:I,MATCH(B116,'План ввода основ. ср-в'!B:B,0))),0,INDEX('План ввода основ. ср-в'!I:I,MATCH(B116,'План ввода основ. ср-в'!B:B,0)))","v":0},{"$f":"IF(ISNA(INDEX('План ввода основ. ср-в'!L:L,MATCH(B116,'План ввода основ. ср-в'!B:B,0))),0,INDEX('План ввода основ. ср-в'!L:L,MATCH(B116,'План ввода основ. ср-в'!B:B,0)))","v":0},"",{"$f":"IF(ISNA(INDEX('План ввода основ. ср-в'!K:K,MATCH(B116,'План ввода основ. ср-в'!B:B,0))),0,INDEX('План ввода основ. ср-в'!K:K,MATCH(B116,'План ввода основ. ср-в'!B:B,0)))","v":0},0,"/",0,{"$f":"IF(ISNA(INDEX('План ввода основ. ср-в'!N:N,MATCH(B116,'План ввода основ. ср-в'!B:B,0))),0,INDEX('План ввода основ. ср-в'!N:N,MATCH(B116,'План ввода основ. ср-в'!B:B,0)))","v":3.1},"/",{"$f":"IF(ISNA(INDEX('План ввода основ. ср-в'!M:M,MATCH(B116,'План ввода основ. ср-в'!B:B,0))),0,INDEX('План ввода основ. ср-в'!M:M,MATCH(B116,'План ввода основ. ср-в'!B:B,0)))","v":0.16},{"$f":"IF(ISNA(INDEX('План ввода основ. ср-в'!P:P,MATCH(B116,'План ввода основ. ср-в'!B:B,0))),0,INDEX('План ввода основ. ср-в'!P:P,MATCH(B116,'План ввода основ. ср-в'!B:B,0)))","v":0},"",{"$f":"IF(ISNA(INDEX('План ввода основ. ср-в'!O:O,MATCH(B116,'План ввода основ. ср-в'!B:B,0))),0,INDEX('План ввода основ. ср-в'!O:O,MATCH(B116,'План ввода основ. ср-в'!B:B,0)))","v":0},{"$f":"IF(ISNA(INDEX('План ввода основ. ср-в'!R:R,MATCH(B116,'План ввода основ. ср-в'!B:B,0))),0,INDEX('План ввода основ. ср-в'!R:R,MATCH(B116,'План ввода основ. ср-в'!B:B,0)))","v":0},"",{"$f":"IF(ISNA(INDEX('План ввода основ. ср-в'!Q:Q,MATCH(B116,'План ввода основ. ср-в'!B:B,0))),0,INDEX('План ввода основ. ср-в'!Q:Q,MATCH(B116,'План ввода основ. ср-в'!B:B,0)))","v":0},{"$f":"IF(ISNA(INDEX('План ввода основ. ср-в'!T:T,MATCH(B116,'План ввода основ. ср-в'!B:B,0))),0,INDEX('План ввода основ. ср-в'!T:T,MATCH(B116,'План ввода основ. ср-в'!B:B,0)))","v":0},"",{"$f":"IF(ISNA(INDEX('План ввода основ. ср-в'!S:S,MATCH(B116,'План ввода основ. ср-в'!B:B,0))),0,INDEX('План ввода основ. ср-в'!S:S,MATCH(B116,'План ввода основ. ср-в'!B:B,0)))","v":0},3.1,"/",0.16,{"$f":"IF(ISNA(INDEX('План ввода основ. ср-в'!V:V,MATCH(B116,'План ввода основ. ср-в'!B:B,0))),0,INDEX('План ввода основ. ср-в'!V:V,MATCH(B116,'План ввода основ. ср-в'!B:B,0)))","v":0},{"$f":"IF(ISNA(INDEX('План ввода основ. ср-в'!W:W,MATCH(B116,'План ввода основ. ср-в'!B:B,0))),0,INDEX('План ввода основ. ср-в'!W:W,MATCH(B116,'План ввода основ. ср-в'!B:B,0)))","v":0},{"$f":"IF(ISNA(INDEX('План ввода основ. ср-в'!X:X,MATCH(B116,'План ввода основ. ср-в'!B:B,0))),0,INDEX('План ввода основ. ср-в'!X:X,MATCH(B116,'План ввода основ. ср-в'!B:B,0)))","v":0},{"$f":"IF(ISNA(INDEX('План ввода основ. ср-в'!Y:Y,MATCH(B116,'План ввода основ. ср-в'!B:B,0))),0,INDEX('План ввода основ. ср-в'!Y:Y,MATCH(B116,'План ввода основ. ср-в'!B:B,0)))","v":0},0,{"$f":"IF(ISNA(INDEX('План ввода основ. ср-в'!Z:Z,MATCH(B116,'План ввода основ. ср-в'!B:B,0))),0,INDEX('План ввода основ. ср-в'!Z:Z,MATCH(B116,'План ввода основ. ср-в'!B:B,0)))","v":8.3728813559322024},{"$f":"IF(ISNA(INDEX('План ввода основ. ср-в'!AA:AA,MATCH(B116,'План ввода основ. ср-в'!B:B,0))),0,INDEX('План ввода основ. ср-в'!AA:AA,MATCH(B116,'План ввода основ. ср-в'!B:B,0)))","v":0},{"$f":"IF(ISNA(INDEX('План ввода основ. ср-в'!AB:AB,MATCH(B116,'План ввода основ. ср-в'!B:B,0))),0,INDEX('План ввода основ. ср-в'!AB:AB,MATCH(B116,'План ввода основ. ср-в'!B:B,0)))","v":0},{"$f":"IF(ISNA(INDEX('План ввода основ. ср-в'!AC:AC,MATCH(B116,'План ввода основ. ср-в'!B:B,0))),0,INDEX('План ввода основ. ср-в'!AC:AC,MATCH(B116,'План ввода основ. ср-в'!B:B,0)))","v":0},8.3728813559322024]
[95,"Реконструкция ВЛ-0,4кВ от КТП КЛВ 1404/160 кВА с заменой КТП",null,null,null,null,null,null,0,"",0,3.1,"/",0.16,0,"",0,0,"",0,0,"",0,3.1,"/",0.16,8.3728813559322024,{"$f":"IF(ISNA(INDEX('План ввода основ. ср-в'!F:F,MATCH(B117,'План ввода основ. ср-в'!B:B,0))),0,INDEX('План ввода основ. ср-в'!F:F,MATCH(B117,'План ввода основ. ср-в'!B:B,0)))","v":0},"",{"$f":"IF(ISNA(INDEX('План ввода основ. ср-в'!E:E,MATCH(B117,'План ввода основ. ср-в'!B:B,0))),0,INDEX('План ввода основ. ср-в'!E:E,MATCH(B117,'План ввода основ. ср-в'!B:B,0)))","v":0},{"$f":"IF(ISNA(INDEX('План ввода основ. ср-в'!H:H,MATCH(B117,'План ввода основ. ср-в'!B:B,0))),0,INDEX('План ввода основ. ср-в'!H:H,MATCH(B117,'План ввода основ. ср-в'!B:B,0)))","v":0},"",{"$f":"IF(ISNA(INDEX('План ввода основ. ср-в'!G:G,MATCH(B117,'План ввода основ. ср-в'!B:B,0))),0,INDEX('План ввода основ. ср-в'!G:G,MATCH(B117,'План ввода основ. ср-в'!B:B,0)))","v":0},{"$f":"IF(ISNA(INDEX('План ввода основ. ср-в'!J:J,MATCH(B117,'План ввода основ. ср-в'!B:B,0))),0,INDEX('План ввода основ. ср-в'!J:J,MATCH(B117,'План ввода основ. ср-в'!B:B,0)))","v":0},"",{"$f":"IF(ISNA(INDEX('План ввода основ. ср-в'!I:I,MATCH(B117,'План ввода основ. ср-в'!B:B,0))),0,INDEX('План ввода основ. ср-в'!I:I,MATCH(B117,'План ввода основ. ср-в'!B:B,0)))","v":0},{"$f":"IF(ISNA(INDEX('План ввода основ. ср-в'!L:L,MATCH(B117,'План ввода основ. ср-в'!B:B,0))),0,INDEX('План ввода основ. ср-в'!L:L,MATCH(B117,'План ввода основ. ср-в'!B:B,0)))","v":0},"",{"$f":"IF(ISNA(INDEX('План ввода основ. ср-в'!K:K,MATCH(B117,'План ввода основ. ср-в'!B:B,0))),0,INDEX('План ввода основ. ср-в'!K:K,MATCH(B117,'План ввода основ. ср-в'!B:B,0)))","v":0},0,"/",0,{"$f":"IF(ISNA(INDEX('План ввода основ. ср-в'!N:N,MATCH(B117,'План ввода основ. ср-в'!B:B,0))),0,INDEX('План ввода основ. ср-в'!N:N,MATCH(B117,'План ввода основ. ср-в'!B:B,0)))","v":3.1},"/",{"$f":"IF(ISNA(INDEX('План ввода основ. ср-в'!M:M,MATCH(B117,'План ввода основ. ср-в'!B:B,0))),0,INDEX('План ввода основ. ср-в'!M:M,MATCH(B117,'План ввода основ. ср-в'!B:B,0)))","v":0.16},{"$f":"IF(ISNA(INDEX('План ввода основ. ср-в'!P:P,MATCH(B117,'План ввода основ. ср-в'!B:B,0))),0,INDEX('План ввода основ. ср-в'!P:P,MATCH(B117,'План ввода основ. ср-в'!B:B,0)))","v":0},"",{"$f":"IF(ISNA(INDEX('План ввода основ. ср-в'!O:O,MATCH(B117,'План ввода основ. ср-в'!B:B,0))),0,INDEX('План ввода основ. ср-в'!O:O,MATCH(B117,'План ввода основ. ср-в'!B:B,0)))","v":0},{"$f":"IF(ISNA(INDEX('План ввода основ. ср-в'!R:R,MATCH(B117,'План ввода основ. ср-в'!B:B,0))),0,INDEX('План ввода основ. ср-в'!R:R,MATCH(B117,'План ввода основ. ср-в'!B:B,0)))","v":0},"",{"$f":"IF(ISNA(INDEX('План ввода основ. ср-в'!Q:Q,MATCH(B117,'План ввода основ. ср-в'!B:B,0))),0,INDEX('План ввода основ. ср-в'!Q:Q,MATCH(B117,'План ввода основ. ср-в'!B:B,0)))","v":0},{"$f":"IF(ISNA(INDEX('План ввода основ. ср-в'!T:T,MATCH(B117,'План ввода основ. ср-в'!B:B,0))),0,INDEX('План ввода основ. ср-в'!T:T,MATCH(B117,'План ввода основ. ср-в'!B:B,0)))","v":0},"",{"$f":"IF(ISNA(INDEX('План ввода основ. ср-в'!S:S,MATCH(B117,'План ввода основ. ср-в'!B:B,0))),0,INDEX('План ввода основ. ср-в'!S:S,MATCH(B117,'План ввода основ. ср-в'!B:B,0)))","v":0},3.1,"/",0.16,{"$f":"IF(ISNA(INDEX('План ввода основ. ср-в'!V:V,MATCH(B117,'План ввода основ. ср-в'!B:B,0))),0,INDEX('План ввода основ. ср-в'!V:V,MATCH(B117,'План ввода основ. ср-в'!B:B,0)))","v":0},{"$f":"IF(ISNA(INDEX('План ввода основ. ср-в'!W:W,MATCH(B117,'План ввода основ. ср-в'!B:B,0))),0,INDEX('План ввода основ. ср-в'!W:W,MATCH(B117,'План ввода основ. ср-в'!B:B,0)))","v":0},{"$f":"IF(ISNA(INDEX('План ввода основ. ср-в'!X:X,MATCH(B117,'План ввода основ. ср-в'!B:B,0))),0,INDEX('План ввода основ. ср-в'!X:X,MATCH(B117,'План ввода основ. ср-в'!B:B,0)))","v":0},{"$f":"IF(ISNA(INDEX('План ввода основ. ср-в'!Y:Y,MATCH(B117,'План ввода основ. ср-в'!B:B,0))),0,INDEX('План ввода основ. ср-в'!Y:Y,MATCH(B117,'План ввода основ. ср-в'!B:B,0)))","v":0},0,{"$f":"IF(ISNA(INDEX('План ввода основ. ср-в'!Z:Z,MATCH(B117,'План ввода основ. ср-в'!B:B,0))),0,INDEX('План ввода основ. ср-в'!Z:Z,MATCH(B117,'План ввода основ. ср-в'!B:B,0)))","v":8.3728813559322024},{"$f":"IF(ISNA(INDEX('План ввода основ. ср-в'!AA:AA,MATCH(B117,'План ввода основ. ср-в'!B:B,0))),0,INDEX('План ввода основ. ср-в'!AA:AA,MATCH(B117,'План ввода основ. ср-в'!B:B,0)))","v":0},{"$f":"IF(ISNA(INDEX('План ввода основ. ср-в'!AB:AB,MATCH(B117,'План ввода основ. ср-в'!B:B,0))),0,INDEX('План ввода основ. ср-в'!AB:AB,MATCH(B117,'План ввода основ. ср-в'!B:B,0)))","v":0},{"$f":"IF(ISNA(INDEX('План ввода основ. ср-в'!AC:AC,MATCH(B117,'План ввода основ. ср-в'!B:B,0))),0,INDEX('План ввода основ. ср-в'!AC:AC,MATCH(B117,'План ввода основ. ср-в'!B:B,0)))","v":0},8.3728813559322024]
[96,"Реконструкция ВЛ-0,4кВ от КТП КЛВ 1412/100 кВА",null,null,null,null,null,null,0,{"$f":"IF(AND(I118=0,K118=0),\"\",\"/\")","v":""},0,1.78,{"$f":"IF(AND(L118=0,N118=0),\"\",\"/\")","v":"/"},0,0,{"$f":"IF(AND(O118=0,Q118=0),\"\",\"/\")","v":""},0,0,{"$f":"IF(AND(R118=0,T118=0),\"\",\"/\")","v":""},0,0,{"$f":"IF(AND(U118=0,W118=0),\"\",\"/\")","v":""},0,1.78,"/",0,4.2237288135593225,{"$f":"IF(ISNA(INDEX('План ввода основ. ср-в'!F:F,MATCH(B118,'План ввода основ. ср-в'!B:B,0))),0,INDEX('План ввода основ. ср-в'!F:F,MATCH(B118,'План ввода основ. ср-в'!B:B,0)))","v":0},{"$f":"IF(AND(AB118=0,AD118=0),\"\",\"/\")","v":""},{"$f":"IF(ISNA(INDEX('План ввода основ. ср-в'!E:E,MATCH(B118,'План ввода основ. ср-в'!B:B,0))),0,INDEX('План ввода основ. ср-в'!E:E,MATCH(B118,'План ввода основ. ср-в'!B:B,0)))","v":0},{"$f":"IF(ISNA(INDEX('План ввода основ. ср-в'!H:H,MATCH(B118,'План ввода основ. ср-в'!B:B,0))),0,INDEX('План ввода основ. ср-в'!H:H,MATCH(B118,'План ввода основ. ср-в'!B:B,0)))","v":0},{"$f":"IF(AND(AE118=0,AG118=0),\"\",\"/\")","v":""},{"$f":"IF(ISNA(INDEX('План ввода основ. ср-в'!G:G,MATCH(B118,'План ввода основ. ср-в'!B:B,0))),0,INDEX('План ввода основ. ср-в'!G:G,MATCH(B118,'План ввода основ. ср-в'!B:B,0)))","v":0},{"$f":"IF(ISNA(INDEX('План ввода основ. ср-в'!J:J,MATCH(B118,'План ввода основ. ср-в'!B:B,0))),0,INDEX('План ввода основ. ср-в'!J:J,MATCH(B118,'План ввода основ. ср-в'!B:B,0)))","v":0},{"$f":"IF(AND(AH118=0,AJ118=0),\"\",\"/\")","v":""},{"$f":"IF(ISNA(INDEX('План ввода основ. ср-в'!I:I,MATCH(B118,'План ввода основ. ср-в'!B:B,0))),0,INDEX('План ввода основ. ср-в'!I:I,MATCH(B118,'План ввода основ. ср-в'!B:B,0)))","v":0},{"$f":"IF(ISNA(INDEX('План ввода основ. ср-в'!L:L,MATCH(B118,'План ввода основ. ср-в'!B:B,0))),0,INDEX('План ввода основ. ср-в'!L:L,MATCH(B118,'План ввода основ. ср-в'!B:B,0)))","v":0},{"$f":"IF(AND(AK118=0,AM118=0),\"\",\"/\")","v":""},{"$f":"IF(ISNA(INDEX('План ввода основ. ср-в'!K:K,MATCH(B118,'План ввода основ. ср-в'!B:B,0))),0,INDEX('План ввода основ. ср-в'!K:K,MATCH(B118,'План ввода основ. ср-в'!B:B,0)))","v":0},0,"/",0,{"$f":"IF(ISNA(INDEX('План ввода основ. ср-в'!N:N,MATCH(B118,'План ввода основ. ср-в'!B:B,0))),0,INDEX('План ввода основ. ср-в'!N:N,MATCH(B118,'План ввода основ. ср-в'!B:B,0)))","v":1.78},{"$f":"IF(AND(AQ118=0,AS118=0),\"\",\"/\")","v":"/"},{"$f":"IF(ISNA(INDEX('План ввода основ. ср-в'!M:M,MATCH(B118,'План ввода основ. ср-в'!B:B,0))),0,INDEX('План ввода основ. ср-в'!M:M,MATCH(B118,'План ввода основ. ср-в'!B:B,0)))","v":0},{"$f":"IF(ISNA(INDEX('План ввода основ. ср-в'!P:P,MATCH(B118,'План ввода основ. ср-в'!B:B,0))),0,INDEX('План ввода основ. ср-в'!P:P,MATCH(B118,'План ввода основ. ср-в'!B:B,0)))","v":0},{"$f":"IF(AND(AT118=0,AV118=0),\"\",\"/\")","v":""},{"$f":"IF(ISNA(INDEX('План ввода основ. ср-в'!O:O,MATCH(B118,'План ввода основ. ср-в'!B:B,0))),0,INDEX('План ввода основ. ср-в'!O:O,MATCH(B118,'План ввода основ. ср-в'!B:B,0)))","v":0},{"$f":"IF(ISNA(INDEX('План ввода основ. ср-в'!R:R,MATCH(B118,'План ввода основ. ср-в'!B:B,0))),0,INDEX('План ввода основ. ср-в'!R:R,MATCH(B118,'План ввода основ. ср-в'!B:B,0)))","v":0},{"$f":"IF(AND(AW118=0,AY118=0),\"\",\"/\")","v":""},{"$f":"IF(ISNA(INDEX('План ввода основ. ср-в'!Q:Q,MATCH(B118,'План ввода основ. ср-в'!B:B,0))),0,INDEX('План ввода основ. ср-в'!Q:Q,MATCH(B118,'План ввода основ. ср-в'!B:B,0)))","v":0},{"$f":"IF(ISNA(INDEX('План ввода основ. ср-в'!T:T,MATCH(B118,'План ввода основ. ср-в'!B:B,0))),0,INDEX('План ввода основ. ср-в'!T:T,MATCH(B118,'План ввода основ. ср-в'!B:B,0)))","v":0},{"$f":"IF(AND(AZ118=0,BB118=0),\"\",\"/\")","v":""},{"$f":"IF(ISNA(INDEX('План ввода основ. ср-в'!S:S,MATCH(B118,'План ввода основ. ср-в'!B:B,0))),0,INDEX('План ввода основ. ср-в'!S:S,MATCH(B118,'План ввода основ. ср-в'!B:B,0)))","v":0},1.78,"/",0,{"$f":"IF(ISNA(INDEX('План ввода основ. ср-в'!V:V,MATCH(B118,'План ввода основ. ср-в'!B:B,0))),0,INDEX('План ввода основ. ср-в'!V:V,MATCH(B118,'План ввода основ. ср-в'!B:B,0)))","v":0},{"$f":"IF(ISNA(INDEX('План ввода основ. ср-в'!W:W,MATCH(B118,'План ввода основ. ср-в'!B:B,0))),0,INDEX('План ввода основ. ср-в'!W:W,MATCH(B118,'План ввода основ. ср-в'!B:B,0)))","v":0},{"$f":"IF(ISNA(INDEX('План ввода основ. ср-в'!X:X,MATCH(B118,'План ввода основ. ср-в'!B:B,0))),0,INDEX('План ввода основ. ср-в'!X:X,MATCH(B118,'План ввода основ. ср-в'!B:B,0)))","v":0},{"$f":"IF(ISNA(INDEX('План ввода основ. ср-в'!Y:Y,MATCH(B118,'План ввода основ. ср-в'!B:B,0))),0,INDEX('План ввода основ. ср-в'!Y:Y,MATCH(B118,'План ввода основ. ср-в'!B:B,0)))","v":0},0,{"$f":"IF(ISNA(INDEX('План ввода основ. ср-в'!Z:Z,MATCH(B118,'План ввода основ. ср-в'!B:B,0))),0,INDEX('План ввода основ. ср-в'!Z:Z,MATCH(B118,'План ввода основ. ср-в'!B:B,0)))","v":4.2237288135593225},{"$f":"IF(ISNA(INDEX('План ввода основ. ср-в'!AA:AA,MATCH(B118,'План ввода основ. ср-в'!B:B,0))),0,INDEX('План ввода основ. ср-в'!AA:AA,MATCH(B118,'План ввода основ. ср-в'!B:B,0)))","v":0},{"$f":"IF(ISNA(INDEX('План ввода основ. ср-в'!AB:AB,MATCH(B118,'План ввода основ. ср-в'!B:B,0))),0,INDEX('План ввода основ. ср-в'!AB:AB,MATCH(B118,'План ввода основ. ср-в'!B:B,0)))","v":0},{"$f":"IF(ISNA(INDEX('План ввода основ. ср-в'!AC:AC,MATCH(B118,'План ввода основ. ср-в'!B:B,0))),0,INDEX('План ввода основ. ср-в'!AC:AC,MATCH(B118,'План ввода основ. ср-в'!B:B,0)))","v":0},4.2237288135593225]
[97,"Реконструкция ВЛ-0,4кВ от КТП КЛВ 1411/160 кВА",null,null,null,null,null,null,0,"",0,2.1,"/",0,0,"",0,0,"",0,0,"",0,2.1,"/",0,4.9830508474576272,{"$f":"IF(ISNA(INDEX('План ввода основ. ср-в'!F:F,MATCH(B119,'План ввода основ. ср-в'!B:B,0))),0,INDEX('План ввода основ. ср-в'!F:F,MATCH(B119,'План ввода основ. ср-в'!B:B,0)))","v":0},"",{"$f":"IF(ISNA(INDEX('План ввода основ. ср-в'!E:E,MATCH(B119,'План ввода основ. ср-в'!B:B,0))),0,INDEX('План ввода основ. ср-в'!E:E,MATCH(B119,'План ввода основ. ср-в'!B:B,0)))","v":0},{"$f":"IF(ISNA(INDEX('План ввода основ. ср-в'!H:H,MATCH(B119,'План ввода основ. ср-в'!B:B,0))),0,INDEX('План ввода основ. ср-в'!H:H,MATCH(B119,'План ввода основ. ср-в'!B:B,0)))","v":0},"",{"$f":"IF(ISNA(INDEX('План ввода основ. ср-в'!G:G,MATCH(B119,'План ввода основ. ср-в'!B:B,0))),0,INDEX('План ввода основ. ср-в'!G:G,MATCH(B119,'План ввода основ. ср-в'!B:B,0)))","v":0},{"$f":"IF(ISNA(INDEX('План ввода основ. ср-в'!J:J,MATCH(B119,'План ввода основ. ср-в'!B:B,0))),0,INDEX('План ввода основ. ср-в'!J:J,MATCH(B119,'План ввода основ. ср-в'!B:B,0)))","v":0},"",{"$f":"IF(ISNA(INDEX('План ввода основ. ср-в'!I:I,MATCH(B119,'План ввода основ. ср-в'!B:B,0))),0,INDEX('План ввода основ. ср-в'!I:I,MATCH(B119,'План ввода основ. ср-в'!B:B,0)))","v":0},{"$f":"IF(ISNA(INDEX('План ввода основ. ср-в'!L:L,MATCH(B119,'План ввода основ. ср-в'!B:B,0))),0,INDEX('План ввода основ. ср-в'!L:L,MATCH(B119,'План ввода основ. ср-в'!B:B,0)))","v":0},"",{"$f":"IF(ISNA(INDEX('План ввода основ. ср-в'!K:K,MATCH(B119,'План ввода основ. ср-в'!B:B,0))),0,INDEX('План ввода основ. ср-в'!K:K,MATCH(B119,'План ввода основ. ср-в'!B:B,0)))","v":0},0,"/",0,{"$f":"IF(ISNA(INDEX('План ввода основ. ср-в'!N:N,MATCH(B119,'План ввода основ. ср-в'!B:B,0))),0,INDEX('План ввода основ. ср-в'!N:N,MATCH(B119,'План ввода основ. ср-в'!B:B,0)))","v":2.1},"/",{"$f":"IF(ISNA(INDEX('План ввода основ. ср-в'!M:M,MATCH(B119,'План ввода основ. ср-в'!B:B,0))),0,INDEX('План ввода основ. ср-в'!M:M,MATCH(B119,'План ввода основ. ср-в'!B:B,0)))","v":0},{"$f":"IF(ISNA(INDEX('План ввода основ. ср-в'!P:P,MATCH(B119,'План ввода основ. ср-в'!B:B,0))),0,INDEX('План ввода основ. ср-в'!P:P,MATCH(B119,'План ввода основ. ср-в'!B:B,0)))","v":0},"",{"$f":"IF(ISNA(INDEX('План ввода основ. ср-в'!O:O,MATCH(B119,'План ввода основ. ср-в'!B:B,0))),0,INDEX('План ввода основ. ср-в'!O:O,MATCH(B119,'План ввода основ. ср-в'!B:B,0)))","v":0},{"$f":"IF(ISNA(INDEX('План ввода основ. ср-в'!R:R,MATCH(B119,'План ввода основ. ср-в'!B:B,0))),0,INDEX('План ввода основ. ср-в'!R:R,MATCH(B119,'План ввода основ. ср-в'!B:B,0)))","v":0},"",{"$f":"IF(ISNA(INDEX('План ввода основ. ср-в'!Q:Q,MATCH(B119,'План ввода основ. ср-в'!B:B,0))),0,INDEX('План ввода основ. ср-в'!Q:Q,MATCH(B119,'План ввода основ. ср-в'!B:B,0)))","v":0},{"$f":"IF(ISNA(INDEX('План ввода основ. ср-в'!T:T,MATCH(B119,'План ввода основ. ср-в'!B:B,0))),0,INDEX('План ввода основ. ср-в'!T:T,MATCH(B119,'План ввода основ. ср-в'!B:B,0)))","v":0},"",{"$f":"IF(ISNA(INDEX('План ввода основ. ср-в'!S:S,MATCH(B119,'План ввода основ. ср-в'!B:B,0))),0,INDEX('План ввода основ. ср-в'!S:S,MATCH(B119,'План ввода основ. ср-в'!B:B,0)))","v":0},2.1,"/",0,{"$f":"IF(ISNA(INDEX('План ввода основ. ср-в'!V:V,MATCH(B119,'План ввода основ. ср-в'!B:B,0))),0,INDEX('План ввода основ. ср-в'!V:V,MATCH(B119,'План ввода основ. ср-в'!B:B,0)))","v":0},{"$f":"IF(ISNA(INDEX('План ввода основ. ср-в'!W:W,MATCH(B119,'План ввода основ. ср-в'!B:B,0))),0,INDEX('План ввода основ. ср-в'!W:W,MATCH(B119,'План ввода основ. ср-в'!B:B,0)))","v":0},{"$f":"IF(ISNA(INDEX('План ввода основ. ср-в'!X:X,MATCH(B119,'План ввода основ. ср-в'!B:B,0))),0,INDEX('План ввода основ. ср-в'!X:X,MATCH(B119,'План ввода основ. ср-в'!B:B,0)))","v":0},{"$f":"IF(ISNA(INDEX('План ввода основ. ср-в'!Y:Y,MATCH(B119,'План ввода основ. ср-в'!B:B,0))),0,INDEX('План ввода основ. ср-в'!Y:Y,MATCH(B119,'План ввода основ. ср-в'!B:B,0)))","v":0},0,{"$f":"IF(ISNA(INDEX('План ввода основ. ср-в'!Z:Z,MATCH(B119,'План ввода основ. ср-в'!B:B,0))),0,INDEX('План ввода основ. ср-в'!Z:Z,MATCH(B119,'План ввода основ. ср-в'!B:B,0)))","v":4.9830508474576272},{"$f":"IF(ISNA(INDEX('План ввода основ. ср-в'!AA:AA,MATCH(B119,'План ввода основ. ср-в'!B:B,0))),0,INDEX('План ввода основ. ср-в'!AA:AA,MATCH(B119,'План ввода основ. ср-в'!B:B,0)))","v":0},{"$f":"IF(ISNA(INDEX('План ввода основ. ср-в'!AB:AB,MATCH(B119,'План ввода основ. ср-в'!B:B,0))),0,INDEX('План ввода основ. ср-в'!AB:AB,MATCH(B119,'План ввода основ. ср-в'!B:B,0)))","v":0},{"$f":"IF(ISNA(INDEX('План ввода основ. ср-в'!AC:AC,MATCH(B119,'План ввода основ. ср-в'!B:B,0))),0,INDEX('План ввода основ. ср-в'!AC:AC,MATCH(B119,'План ввода основ. ср-в'!B:B,0)))","v":0},4.9830508474576272]
[98,"Реконструкция ВЛ-0,4кВ от КТП ЕЛЗ 401/100 кВА",null,null,null,null,null,null,0,"",0,0.5,"/",0,0,"",0,0,"",0,0,"",0,0.5,"/",0,1.1864406779661016,{"$f":"IF(ISNA(INDEX('План ввода основ. ср-в'!F:F,MATCH(B120,'План ввода основ. ср-в'!B:B,0))),0,INDEX('План ввода основ. ср-в'!F:F,MATCH(B120,'План ввода основ. ср-в'!B:B,0)))","v":0},"",{"$f":"IF(ISNA(INDEX('План ввода основ. ср-в'!E:E,MATCH(B120,'План ввода основ. ср-в'!B:B,0))),0,INDEX('План ввода основ. ср-в'!E:E,MATCH(B120,'План ввода основ. ср-в'!B:B,0)))","v":0},{"$f":"IF(ISNA(INDEX('План ввода основ. ср-в'!H:H,MATCH(B120,'План ввода основ. ср-в'!B:B,0))),0,INDEX('План ввода основ. ср-в'!H:H,MATCH(B120,'План ввода основ. ср-в'!B:B,0)))","v":0},"",{"$f":"IF(ISNA(INDEX('План ввода основ. ср-в'!G:G,MATCH(B120,'План ввода основ. ср-в'!B:B,0))),0,INDEX('План ввода основ. ср-в'!G:G,MATCH(B120,'План ввода основ. ср-в'!B:B,0)))","v":0},{"$f":"IF(ISNA(INDEX('План ввода основ. ср-в'!J:J,MATCH(B120,'План ввода основ. ср-в'!B:B,0))),0,INDEX('План ввода основ. ср-в'!J:J,MATCH(B120,'План ввода основ. ср-в'!B:B,0)))","v":0},"",{"$f":"IF(ISNA(INDEX('План ввода основ. ср-в'!I:I,MATCH(B120,'План ввода основ. ср-в'!B:B,0))),0,INDEX('План ввода основ. ср-в'!I:I,MATCH(B120,'План ввода основ. ср-в'!B:B,0)))","v":0},{"$f":"IF(ISNA(INDEX('План ввода основ. ср-в'!L:L,MATCH(B120,'План ввода основ. ср-в'!B:B,0))),0,INDEX('План ввода основ. ср-в'!L:L,MATCH(B120,'План ввода основ. ср-в'!B:B,0)))","v":0},"",{"$f":"IF(ISNA(INDEX('План ввода основ. ср-в'!K:K,MATCH(B120,'План ввода основ. ср-в'!B:B,0))),0,INDEX('План ввода основ. ср-в'!K:K,MATCH(B120,'План ввода основ. ср-в'!B:B,0)))","v":0},0,"/",0,{"$f":"IF(ISNA(INDEX('План ввода основ. ср-в'!N:N,MATCH(B120,'План ввода основ. ср-в'!B:B,0))),0,INDEX('План ввода основ. ср-в'!N:N,MATCH(B120,'План ввода основ. ср-в'!B:B,0)))","v":0.5},"/",{"$f":"IF(ISNA(INDEX('План ввода основ. ср-в'!M:M,MATCH(B120,'План ввода основ. ср-в'!B:B,0))),0,INDEX('План ввода основ. ср-в'!M:M,MATCH(B120,'План ввода основ. ср-в'!B:B,0)))","v":0},{"$f":"IF(ISNA(INDEX('План ввода основ. ср-в'!P:P,MATCH(B120,'План ввода основ. ср-в'!B:B,0))),0,INDEX('План ввода основ. ср-в'!P:P,MATCH(B120,'План ввода основ. ср-в'!B:B,0)))","v":0},"",{"$f":"IF(ISNA(INDEX('План ввода основ. ср-в'!O:O,MATCH(B120,'План ввода основ. ср-в'!B:B,0))),0,INDEX('План ввода основ. ср-в'!O:O,MATCH(B120,'План ввода основ. ср-в'!B:B,0)))","v":0},{"$f":"IF(ISNA(INDEX('План ввода основ. ср-в'!R:R,MATCH(B120,'План ввода основ. ср-в'!B:B,0))),0,INDEX('План ввода основ. ср-в'!R:R,MATCH(B120,'План ввода основ. ср-в'!B:B,0)))","v":0},"",{"$f":"IF(ISNA(INDEX('План ввода основ. ср-в'!Q:Q,MATCH(B120,'План ввода основ. ср-в'!B:B,0))),0,INDEX('План ввода основ. ср-в'!Q:Q,MATCH(B120,'План ввода основ. ср-в'!B:B,0)))","v":0},{"$f":"IF(ISNA(INDEX('План ввода основ. ср-в'!T:T,MATCH(B120,'План ввода основ. ср-в'!B:B,0))),0,INDEX('План ввода основ. ср-в'!T:T,MATCH(B120,'План ввода основ. ср-в'!B:B,0)))","v":0},"",{"$f":"IF(ISNA(INDEX('План ввода основ. ср-в'!S:S,MATCH(B120,'План ввода основ. ср-в'!B:B,0))),0,INDEX('План ввода основ. ср-в'!S:S,MATCH(B120,'План ввода основ. ср-в'!B:B,0)))","v":0},0.5,"/",0,{"$f":"IF(ISNA(INDEX('План ввода основ. ср-в'!V:V,MATCH(B120,'План ввода основ. ср-в'!B:B,0))),0,INDEX('План ввода основ. ср-в'!V:V,MATCH(B120,'План ввода основ. ср-в'!B:B,0)))","v":0},{"$f":"IF(ISNA(INDEX('План ввода основ. ср-в'!W:W,MATCH(B120,'План ввода основ. ср-в'!B:B,0))),0,INDEX('План ввода основ. ср-в'!W:W,MATCH(B120,'План ввода основ. ср-в'!B:B,0)))","v":0},{"$f":"IF(ISNA(INDEX('План ввода основ. ср-в'!X:X,MATCH(B120,'План ввода основ. ср-в'!B:B,0))),0,INDEX('План ввода основ. ср-в'!X:X,MATCH(B120,'План ввода основ. ср-в'!B:B,0)))","v":0},{"$f":"IF(ISNA(INDEX('План ввода основ. ср-в'!Y:Y,MATCH(B120,'План ввода основ. ср-в'!B:B,0))),0,INDEX('План ввода основ. ср-в'!Y:Y,MATCH(B120,'План ввода основ. ср-в'!B:B,0)))","v":0},0,{"$f":"IF(ISNA(INDEX('План ввода основ. ср-в'!Z:Z,MATCH(B120,'План ввода основ. ср-в'!B:B,0))),0,INDEX('План ввода основ. ср-в'!Z:Z,MATCH(B120,'План ввода основ. ср-в'!B:B,0)))","v":1.1864406779661016},{"$f":"IF(ISNA(INDEX('План ввода основ. ср-в'!AA:AA,MATCH(B120,'План ввода основ. ср-в'!B:B,0))),0,INDEX('План ввода основ. ср-в'!AA:AA,MATCH(B120,'План ввода основ. ср-в'!B:B,0)))","v":0},{"$f":"IF(ISNA(INDEX('План ввода основ. ср-в'!AB:AB,MATCH(B120,'План ввода основ. ср-в'!B:B,0))),0,INDEX('План ввода основ. ср-в'!AB:AB,MATCH(B120,'План ввода основ. ср-в'!B:B,0)))","v":0},{"$f":"IF(ISNA(INDEX('План ввода основ. ср-в'!AC:AC,MATCH(B120,'План ввода основ. ср-в'!B:B,0))),0,INDEX('План ввода основ. ср-в'!AC:AC,MATCH(B120,'План ввода основ. ср-в'!B:B,0)))","v":0},1.1864406779661016]
[99,"Реконструкция ВЛ-0,4кВ от КТП КЛВ1407/250 кВА с заменой КТП",null,null,null,null,null,null,0,{"$f":"IF(AND(I121=0,K121=0),\"\",\"/\")","v":""},0,0,{"$f":"IF(AND(L121=0,N121=0),\"\",\"/\")","v":""},0,1.07,{"$f":"IF(AND(O121=0,Q121=0),\"\",\"/\")","v":"/"},0.25,0,{"$f":"IF(AND(R121=0,T121=0),\"\",\"/\")","v":""},0,0,{"$f":"IF(AND(U121=0,W121=0),\"\",\"/\")","v":""},0,1.07,"/",0.25,3.5559322033898306,{"$f":"IF(ISNA(INDEX('План ввода основ. ср-в'!F:F,MATCH(B121,'План ввода основ. ср-в'!B:B,0))),0,INDEX('План ввода основ. ср-в'!F:F,MATCH(B121,'План ввода основ. ср-в'!B:B,0)))","v":0},{"$f":"IF(AND(AB121=0,AD121=0),\"\",\"/\")","v":""},{"$f":"IF(ISNA(INDEX('План ввода основ. ср-в'!E:E,MATCH(B121,'План ввода основ. ср-в'!B:B,0))),0,INDEX('План ввода основ. ср-в'!E:E,MATCH(B121,'План ввода основ. ср-в'!B:B,0)))","v":0},{"$f":"IF(ISNA(INDEX('План ввода основ. ср-в'!H:H,MATCH(B121,'План ввода основ. ср-в'!B:B,0))),0,INDEX('План ввода основ. ср-в'!H:H,MATCH(B121,'План ввода основ. ср-в'!B:B,0)))","v":0},{"$f":"IF(AND(AE121=0,AG121=0),\"\",\"/\")","v":""},{"$f":"IF(ISNA(INDEX('План ввода основ. ср-в'!G:G,MATCH(B121,'План ввода основ. ср-в'!B:B,0))),0,INDEX('План ввода основ. ср-в'!G:G,MATCH(B121,'План ввода основ. ср-в'!B:B,0)))","v":0},{"$f":"IF(ISNA(INDEX('План ввода основ. ср-в'!J:J,MATCH(B121,'План ввода основ. ср-в'!B:B,0))),0,INDEX('План ввода основ. ср-в'!J:J,MATCH(B121,'План ввода основ. ср-в'!B:B,0)))","v":0},{"$f":"IF(AND(AH121=0,AJ121=0),\"\",\"/\")","v":""},{"$f":"IF(ISNA(INDEX('План ввода основ. ср-в'!I:I,MATCH(B121,'План ввода основ. ср-в'!B:B,0))),0,INDEX('План ввода основ. ср-в'!I:I,MATCH(B121,'План ввода основ. ср-в'!B:B,0)))","v":0},{"$f":"IF(ISNA(INDEX('План ввода основ. ср-в'!L:L,MATCH(B121,'План ввода основ. ср-в'!B:B,0))),0,INDEX('План ввода основ. ср-в'!L:L,MATCH(B121,'План ввода основ. ср-в'!B:B,0)))","v":0},{"$f":"IF(AND(AK121=0,AM121=0),\"\",\"/\")","v":""},{"$f":"IF(ISNA(INDEX('План ввода основ. ср-в'!K:K,MATCH(B121,'План ввода основ. ср-в'!B:B,0))),0,INDEX('План ввода основ. ср-в'!K:K,MATCH(B121,'План ввода основ. ср-в'!B:B,0)))","v":0},0,"/",0,{"$f":"IF(ISNA(INDEX('План ввода основ. ср-в'!N:N,MATCH(B121,'План ввода основ. ср-в'!B:B,0))),0,INDEX('План ввода основ. ср-в'!N:N,MATCH(B121,'План ввода основ. ср-в'!B:B,0)))","v":0},{"$f":"IF(AND(AQ121=0,AS121=0),\"\",\"/\")","v":""},{"$f":"IF(ISNA(INDEX('План ввода основ. ср-в'!M:M,MATCH(B121,'План ввода основ. ср-в'!B:B,0))),0,INDEX('План ввода основ. ср-в'!M:M,MATCH(B121,'План ввода основ. ср-в'!B:B,0)))","v":0},{"$f":"IF(ISNA(INDEX('План ввода основ. ср-в'!P:P,MATCH(B121,'План ввода основ. ср-в'!B:B,0))),0,INDEX('План ввода основ. ср-в'!P:P,MATCH(B121,'План ввода основ. ср-в'!B:B,0)))","v":1.07},{"$f":"IF(AND(AT121=0,AV121=0),\"\",\"/\")","v":"/"},{"$f":"IF(ISNA(INDEX('План ввода основ. ср-в'!O:O,MATCH(B121,'План ввода основ. ср-в'!B:B,0))),0,INDEX('План ввода основ. ср-в'!O:O,MATCH(B121,'План ввода основ. ср-в'!B:B,0)))","v":0.25},{"$f":"IF(ISNA(INDEX('План ввода основ. ср-в'!R:R,MATCH(B121,'План ввода основ. ср-в'!B:B,0))),0,INDEX('План ввода основ. ср-в'!R:R,MATCH(B121,'План ввода основ. ср-в'!B:B,0)))","v":0},{"$f":"IF(AND(AW121=0,AY121=0),\"\",\"/\")","v":""},{"$f":"IF(ISNA(INDEX('План ввода основ. ср-в'!Q:Q,MATCH(B121,'План ввода основ. ср-в'!B:B,0))),0,INDEX('План ввода основ. ср-в'!Q:Q,MATCH(B121,'План ввода основ. ср-в'!B:B,0)))","v":0},{"$f":"IF(ISNA(INDEX('План ввода основ. ср-в'!T:T,MATCH(B121,'План ввода основ. ср-в'!B:B,0))),0,INDEX('План ввода основ. ср-в'!T:T,MATCH(B121,'План ввода основ. ср-в'!B:B,0)))","v":0},{"$f":"IF(AND(AZ121=0,BB121=0),\"\",\"/\")","v":""},{"$f":"IF(ISNA(INDEX('План ввода основ. ср-в'!S:S,MATCH(B121,'План ввода основ. ср-в'!B:B,0))),0,INDEX('План ввода основ. ср-в'!S:S,MATCH(B121,'План ввода основ. ср-в'!B:B,0)))","v":0},1.07,"/",0.25,{"$f":"IF(ISNA(INDEX('План ввода основ. ср-в'!V:V,MATCH(B121,'План ввода основ. ср-в'!B:B,0))),0,INDEX('План ввода основ. ср-в'!V:V,MATCH(B121,'План ввода основ. ср-в'!B:B,0)))","v":0},{"$f":"IF(ISNA(INDEX('План ввода основ. ср-в'!W:W,MATCH(B121,'План ввода основ. ср-в'!B:B,0))),0,INDEX('План ввода основ. ср-в'!W:W,MATCH(B121,'План ввода основ. ср-в'!B:B,0)))","v":0},{"$f":"IF(ISNA(INDEX('План ввода основ. ср-в'!X:X,MATCH(B121,'План ввода основ. ср-в'!B:B,0))),0,INDEX('План ввода основ. ср-в'!X:X,MATCH(B121,'План ввода основ. ср-в'!B:B,0)))","v":0},{"$f":"IF(ISNA(INDEX('План ввода основ. ср-в'!Y:Y,MATCH(B121,'План ввода основ. ср-в'!B:B,0))),0,INDEX('План ввода основ. ср-в'!Y:Y,MATCH(B121,'План ввода основ. ср-в'!B:B,0)))","v":0},0,{"$f":"IF(ISNA(INDEX('План ввода основ. ср-в'!Z:Z,MATCH(B121,'План ввода основ. ср-в'!B:B,0))),0,INDEX('План ввода основ. ср-в'!Z:Z,MATCH(B121,'План ввода основ. ср-в'!B:B,0)))","v":0},{"$f":"IF(ISNA(INDEX('План ввода основ. ср-в'!AA:AA,MATCH(B121,'План ввода основ. ср-в'!B:B,0))),0,INDEX('План ввода основ. ср-в'!AA:AA,MATCH(B121,'План ввода основ. ср-в'!B:B,0)))","v":3.5559322033898306},{"$f":"IF(ISNA(INDEX('План ввода основ. ср-в'!AB:AB,MATCH(B121,'План ввода основ. ср-в'!B:B,0))),0,INDEX('План ввода основ. ср-в'!AB:AB,MATCH(B121,'План ввода основ. ср-в'!B:B,0)))","v":0},{"$f":"IF(ISNA(INDEX('План ввода основ. ср-в'!AC:AC,MATCH(B121,'План ввода основ. ср-в'!B:B,0))),0,INDEX('План ввода основ. ср-в'!AC:AC,MATCH(B121,'План ввода основ. ср-в'!B:B,0)))","v":0},3.5559322033898306]
[100,"Реконструкция ВЛ-0,4кВ от КТП КЛВ422/160 кВА с заменой КТП",null,null,null,null,null,null,0,"",0,0,"",0,1.6,"/",0.16,0,"",0,0,"",0,1.6,"/",0.16,4.8135593220338979,{"$f":"IF(ISNA(INDEX('План ввода основ. ср-в'!F:F,MATCH(B122,'План ввода основ. ср-в'!B:B,0))),0,INDEX('План ввода основ. ср-в'!F:F,MATCH(B122,'План ввода основ. ср-в'!B:B,0)))","v":0},"",{"$f":"IF(ISNA(INDEX('План ввода основ. ср-в'!E:E,MATCH(B122,'План ввода основ. ср-в'!B:B,0))),0,INDEX('План ввода основ. ср-в'!E:E,MATCH(B122,'План ввода основ. ср-в'!B:B,0)))","v":0},{"$f":"IF(ISNA(INDEX('План ввода основ. ср-в'!H:H,MATCH(B122,'План ввода основ. ср-в'!B:B,0))),0,INDEX('План ввода основ. ср-в'!H:H,MATCH(B122,'План ввода основ. ср-в'!B:B,0)))","v":0},"",{"$f":"IF(ISNA(INDEX('План ввода основ. ср-в'!G:G,MATCH(B122,'План ввода основ. ср-в'!B:B,0))),0,INDEX('План ввода основ. ср-в'!G:G,MATCH(B122,'План ввода основ. ср-в'!B:B,0)))","v":0},{"$f":"IF(ISNA(INDEX('План ввода основ. ср-в'!J:J,MATCH(B122,'План ввода основ. ср-в'!B:B,0))),0,INDEX('План ввода основ. ср-в'!J:J,MATCH(B122,'План ввода основ. ср-в'!B:B,0)))","v":0},"",{"$f":"IF(ISNA(INDEX('План ввода основ. ср-в'!I:I,MATCH(B122,'План ввода основ. ср-в'!B:B,0))),0,INDEX('План ввода основ. ср-в'!I:I,MATCH(B122,'План ввода основ. ср-в'!B:B,0)))","v":0},{"$f":"IF(ISNA(INDEX('План ввода основ. ср-в'!L:L,MATCH(B122,'План ввода основ. ср-в'!B:B,0))),0,INDEX('План ввода основ. ср-в'!L:L,MATCH(B122,'План ввода основ. ср-в'!B:B,0)))","v":0},"",{"$f":"IF(ISNA(INDEX('План ввода основ. ср-в'!K:K,MATCH(B122,'План ввода основ. ср-в'!B:B,0))),0,INDEX('План ввода основ. ср-в'!K:K,MATCH(B122,'План ввода основ. ср-в'!B:B,0)))","v":0},0,"/",0,{"$f":"IF(ISNA(INDEX('План ввода основ. ср-в'!N:N,MATCH(B122,'План ввода основ. ср-в'!B:B,0))),0,INDEX('План ввода основ. ср-в'!N:N,MATCH(B122,'План ввода основ. ср-в'!B:B,0)))","v":0},"",{"$f":"IF(ISNA(INDEX('План ввода основ. ср-в'!M:M,MATCH(B122,'План ввода основ. ср-в'!B:B,0))),0,INDEX('План ввода основ. ср-в'!M:M,MATCH(B122,'План ввода основ. ср-в'!B:B,0)))","v":0},{"$f":"IF(ISNA(INDEX('План ввода основ. ср-в'!P:P,MATCH(B122,'План ввода основ. ср-в'!B:B,0))),0,INDEX('План ввода основ. ср-в'!P:P,MATCH(B122,'План ввода основ. ср-в'!B:B,0)))","v":1.6},"/",{"$f":"IF(ISNA(INDEX('План ввода основ. ср-в'!O:O,MATCH(B122,'План ввода основ. ср-в'!B:B,0))),0,INDEX('План ввода основ. ср-в'!O:O,MATCH(B122,'План ввода основ. ср-в'!B:B,0)))","v":0.16},{"$f":"IF(ISNA(INDEX('План ввода основ. ср-в'!R:R,MATCH(B122,'План ввода основ. ср-в'!B:B,0))),0,INDEX('План ввода основ. ср-в'!R:R,MATCH(B122,'План ввода основ. ср-в'!B:B,0)))","v":0},"",{"$f":"IF(ISNA(INDEX('План ввода основ. ср-в'!Q:Q,MATCH(B122,'План ввода основ. ср-в'!B:B,0))),0,INDEX('План ввода основ. ср-в'!Q:Q,MATCH(B122,'План ввода основ. ср-в'!B:B,0)))","v":0},{"$f":"IF(ISNA(INDEX('План ввода основ. ср-в'!T:T,MATCH(B122,'План ввода основ. ср-в'!B:B,0))),0,INDEX('План ввода основ. ср-в'!T:T,MATCH(B122,'План ввода основ. ср-в'!B:B,0)))","v":0},"",{"$f":"IF(ISNA(INDEX('План ввода основ. ср-в'!S:S,MATCH(B122,'План ввода основ. ср-в'!B:B,0))),0,INDEX('План ввода основ. ср-в'!S:S,MATCH(B122,'План ввода основ. ср-в'!B:B,0)))","v":0},1.6,"/",0.16,{"$f":"IF(ISNA(INDEX('План ввода основ. ср-в'!V:V,MATCH(B122,'План ввода основ. ср-в'!B:B,0))),0,INDEX('План ввода основ. ср-в'!V:V,MATCH(B122,'План ввода основ. ср-в'!B:B,0)))","v":0},{"$f":"IF(ISNA(INDEX('План ввода основ. ср-в'!W:W,MATCH(B122,'План ввода основ. ср-в'!B:B,0))),0,INDEX('План ввода основ. ср-в'!W:W,MATCH(B122,'План ввода основ. ср-в'!B:B,0)))","v":0},{"$f":"IF(ISNA(INDEX('План ввода основ. ср-в'!X:X,MATCH(B122,'План ввода основ. ср-в'!B:B,0))),0,INDEX('План ввода основ. ср-в'!X:X,MATCH(B122,'План ввода основ. ср-в'!B:B,0)))","v":0},{"$f":"IF(ISNA(INDEX('План ввода основ. ср-в'!Y:Y,MATCH(B122,'План ввода основ. ср-в'!B:B,0))),0,INDEX('План ввода основ. ср-в'!Y:Y,MATCH(B122,'План ввода основ. ср-в'!B:B,0)))","v":0},0,{"$f":"IF(ISNA(INDEX('План ввода основ. ср-в'!Z:Z,MATCH(B122,'План ввода основ. ср-в'!B:B,0))),0,INDEX('План ввода основ. ср-в'!Z:Z,MATCH(B122,'План ввода основ. ср-в'!B:B,0)))","v":0},{"$f":"IF(ISNA(INDEX('План ввода основ. ср-в'!AA:AA,MATCH(B122,'План ввода основ. ср-в'!B:B,0))),0,INDEX('План ввода основ. ср-в'!AA:AA,MATCH(B122,'План ввода основ. ср-в'!B:B,0)))","v":4.8135593220338979},{"$f":"IF(ISNA(INDEX('План ввода основ. ср-в'!AB:AB,MATCH(B122,'План ввода основ. ср-в'!B:B,0))),0,INDEX('План ввода основ. ср-в'!AB:AB,MATCH(B122,'План ввода основ. ср-в'!B:B,0)))","v":0},{"$f":"IF(ISNA(INDEX('План ввода основ. ср-в'!AC:AC,MATCH(B122,'План ввода основ. ср-в'!B:B,0))),0,INDEX('План ввода основ. ср-в'!AC:AC,MATCH(B122,'План ввода основ. ср-в'!B:B,0)))","v":0},4.8135593220338979]
[101,"Реконструкция ВЛ-0,4кВ от КТП КЛВ1408/160 кВА с заменой КТП",null,null,null,null,null,null,0,"",0,0,"",0,2.2999999999999998,"/",0.16,0,"",0,0,"",0,2.2999999999999998,"/",0.16,6.4745762711864412,{"$f":"IF(ISNA(INDEX('План ввода основ. ср-в'!F:F,MATCH(B123,'План ввода основ. ср-в'!B:B,0))),0,INDEX('План ввода основ. ср-в'!F:F,MATCH(B123,'План ввода основ. ср-в'!B:B,0)))","v":0},"",{"$f":"IF(ISNA(INDEX('План ввода основ. ср-в'!E:E,MATCH(B123,'План ввода основ. ср-в'!B:B,0))),0,INDEX('План ввода основ. ср-в'!E:E,MATCH(B123,'План ввода основ. ср-в'!B:B,0)))","v":0},{"$f":"IF(ISNA(INDEX('План ввода основ. ср-в'!H:H,MATCH(B123,'План ввода основ. ср-в'!B:B,0))),0,INDEX('План ввода основ. ср-в'!H:H,MATCH(B123,'План ввода основ. ср-в'!B:B,0)))","v":0},"",{"$f":"IF(ISNA(INDEX('План ввода основ. ср-в'!G:G,MATCH(B123,'План ввода основ. ср-в'!B:B,0))),0,INDEX('План ввода основ. ср-в'!G:G,MATCH(B123,'План ввода основ. ср-в'!B:B,0)))","v":0},{"$f":"IF(ISNA(INDEX('План ввода основ. ср-в'!J:J,MATCH(B123,'План ввода основ. ср-в'!B:B,0))),0,INDEX('План ввода основ. ср-в'!J:J,MATCH(B123,'План ввода основ. ср-в'!B:B,0)))","v":0},"",{"$f":"IF(ISNA(INDEX('План ввода основ. ср-в'!I:I,MATCH(B123,'План ввода основ. ср-в'!B:B,0))),0,INDEX('План ввода основ. ср-в'!I:I,MATCH(B123,'План ввода основ. ср-в'!B:B,0)))","v":0},{"$f":"IF(ISNA(INDEX('План ввода основ. ср-в'!L:L,MATCH(B123,'План ввода основ. ср-в'!B:B,0))),0,INDEX('План ввода основ. ср-в'!L:L,MATCH(B123,'План ввода основ. ср-в'!B:B,0)))","v":0},"",{"$f":"IF(ISNA(INDEX('План ввода основ. ср-в'!K:K,MATCH(B123,'План ввода основ. ср-в'!B:B,0))),0,INDEX('План ввода основ. ср-в'!K:K,MATCH(B123,'План ввода основ. ср-в'!B:B,0)))","v":0},0,"/",0,{"$f":"IF(ISNA(INDEX('План ввода основ. ср-в'!N:N,MATCH(B123,'План ввода основ. ср-в'!B:B,0))),0,INDEX('План ввода основ. ср-в'!N:N,MATCH(B123,'План ввода основ. ср-в'!B:B,0)))","v":0},"",{"$f":"IF(ISNA(INDEX('План ввода основ. ср-в'!M:M,MATCH(B123,'План ввода основ. ср-в'!B:B,0))),0,INDEX('План ввода основ. ср-в'!M:M,MATCH(B123,'План ввода основ. ср-в'!B:B,0)))","v":0},{"$f":"IF(ISNA(INDEX('План ввода основ. ср-в'!P:P,MATCH(B123,'План ввода основ. ср-в'!B:B,0))),0,INDEX('План ввода основ. ср-в'!P:P,MATCH(B123,'План ввода основ. ср-в'!B:B,0)))","v":2.2999999999999998},"/",{"$f":"IF(ISNA(INDEX('План ввода основ. ср-в'!O:O,MATCH(B123,'План ввода основ. ср-в'!B:B,0))),0,INDEX('План ввода основ. ср-в'!O:O,MATCH(B123,'План ввода основ. ср-в'!B:B,0)))","v":0.16},{"$f":"IF(ISNA(INDEX('План ввода основ. ср-в'!R:R,MATCH(B123,'План ввода основ. ср-в'!B:B,0))),0,INDEX('План ввода основ. ср-в'!R:R,MATCH(B123,'План ввода основ. ср-в'!B:B,0)))","v":0},"",{"$f":"IF(ISNA(INDEX('План ввода основ. ср-в'!Q:Q,MATCH(B123,'План ввода основ. ср-в'!B:B,0))),0,INDEX('План ввода основ. ср-в'!Q:Q,MATCH(B123,'План ввода основ. ср-в'!B:B,0)))","v":0},{"$f":"IF(ISNA(INDEX('План ввода основ. ср-в'!T:T,MATCH(B123,'План ввода основ. ср-в'!B:B,0))),0,INDEX('План ввода основ. ср-в'!T:T,MATCH(B123,'План ввода основ. ср-в'!B:B,0)))","v":0},"",{"$f":"IF(ISNA(INDEX('План ввода основ. ср-в'!S:S,MATCH(B123,'План ввода основ. ср-в'!B:B,0))),0,INDEX('План ввода основ. ср-в'!S:S,MATCH(B123,'План ввода основ. ср-в'!B:B,0)))","v":0},2.2999999999999998,"/",0.16,{"$f":"IF(ISNA(INDEX('План ввода основ. ср-в'!V:V,MATCH(B123,'План ввода основ. ср-в'!B:B,0))),0,INDEX('План ввода основ. ср-в'!V:V,MATCH(B123,'План ввода основ. ср-в'!B:B,0)))","v":0},{"$f":"IF(ISNA(INDEX('План ввода основ. ср-в'!W:W,MATCH(B123,'План ввода основ. ср-в'!B:B,0))),0,INDEX('План ввода основ. ср-в'!W:W,MATCH(B123,'План ввода основ. ср-в'!B:B,0)))","v":0},{"$f":"IF(ISNA(INDEX('План ввода основ. ср-в'!X:X,MATCH(B123,'План ввода основ. ср-в'!B:B,0))),0,INDEX('План ввода основ. ср-в'!X:X,MATCH(B123,'План ввода основ. ср-в'!B:B,0)))","v":0},{"$f":"IF(ISNA(INDEX('План ввода основ. ср-в'!Y:Y,MATCH(B123,'План ввода основ. ср-в'!B:B,0))),0,INDEX('План ввода основ. ср-в'!Y:Y,MATCH(B123,'План ввода основ. ср-в'!B:B,0)))","v":0},0,{"$f":"IF(ISNA(INDEX('План ввода основ. ср-в'!Z:Z,MATCH(B123,'План ввода основ. ср-в'!B:B,0))),0,INDEX('План ввода основ. ср-в'!Z:Z,MATCH(B123,'План ввода основ. ср-в'!B:B,0)))","v":0},{"$f":"IF(ISNA(INDEX('План ввода основ. ср-в'!AA:AA,MATCH(B123,'План ввода основ. ср-в'!B:B,0))),0,INDEX('План ввода основ. ср-в'!AA:AA,MATCH(B123,'План ввода основ. ср-в'!B:B,0)))","v":6.4745762711864412},{"$f":"IF(ISNA(INDEX('План ввода основ. ср-в'!AB:AB,MATCH(B123,'План ввода основ. ср-в'!B:B,0))),0,INDEX('План ввода основ. ср-в'!AB:AB,MATCH(B123,'План ввода основ. ср-в'!B:B,0)))","v":0},{"$f":"IF(ISNA(INDEX('План ввода основ. ср-в'!AC:AC,MATCH(B123,'План ввода основ. ср-в'!B:B,0))),0,INDEX('План ввода основ. ср-в'!AC:AC,MATCH(B123,'План ввода основ. ср-в'!B:B,0)))","v":0},6.4745762711864412]
[102,"Реконструкция ВЛ-0,4кВ от КТП КЛВ1017/400 кВА с заменой КТП",null,null,null,null,null,null,0,{"$f":"IF(AND(I124=0,K124=0),\"\",\"/\")","v":""},0,0,{"$f":"IF(AND(L124=0,N124=0),\"\",\"/\")","v":""},0,1.1000000000000001,{"$f":"IF(AND(O124=0,Q124=0),\"\",\"/\")","v":"/"},0.4,0,{"$f":"IF(AND(R124=0,T124=0),\"\",\"/\")","v":""},0,0,{"$f":"IF(AND(U124=0,W124=0),\"\",\"/\")","v":""},0,1.1000000000000001,"/",0.4,3.6271186440677972,{"$f":"IF(ISNA(INDEX('План ввода основ. ср-в'!F:F,MATCH(B124,'План ввода основ. ср-в'!B:B,0))),0,INDEX('План ввода основ. ср-в'!F:F,MATCH(B124,'План ввода основ. ср-в'!B:B,0)))","v":0},{"$f":"IF(AND(AB124=0,AD124=0),\"\",\"/\")","v":""},{"$f":"IF(ISNA(INDEX('План ввода основ. ср-в'!E:E,MATCH(B124,'План ввода основ. ср-в'!B:B,0))),0,INDEX('План ввода основ. ср-в'!E:E,MATCH(B124,'План ввода основ. ср-в'!B:B,0)))","v":0},{"$f":"IF(ISNA(INDEX('План ввода основ. ср-в'!H:H,MATCH(B124,'План ввода основ. ср-в'!B:B,0))),0,INDEX('План ввода основ. ср-в'!H:H,MATCH(B124,'План ввода основ. ср-в'!B:B,0)))","v":0},{"$f":"IF(AND(AE124=0,AG124=0),\"\",\"/\")","v":""},{"$f":"IF(ISNA(INDEX('План ввода основ. ср-в'!G:G,MATCH(B124,'План ввода основ. ср-в'!B:B,0))),0,INDEX('План ввода основ. ср-в'!G:G,MATCH(B124,'План ввода основ. ср-в'!B:B,0)))","v":0},{"$f":"IF(ISNA(INDEX('План ввода основ. ср-в'!J:J,MATCH(B124,'План ввода основ. ср-в'!B:B,0))),0,INDEX('План ввода основ. ср-в'!J:J,MATCH(B124,'План ввода основ. ср-в'!B:B,0)))","v":0},{"$f":"IF(AND(AH124=0,AJ124=0),\"\",\"/\")","v":""},{"$f":"IF(ISNA(INDEX('План ввода основ. ср-в'!I:I,MATCH(B124,'План ввода основ. ср-в'!B:B,0))),0,INDEX('План ввода основ. ср-в'!I:I,MATCH(B124,'План ввода основ. ср-в'!B:B,0)))","v":0},{"$f":"IF(ISNA(INDEX('План ввода основ. ср-в'!L:L,MATCH(B124,'План ввода основ. ср-в'!B:B,0))),0,INDEX('План ввода основ. ср-в'!L:L,MATCH(B124,'План ввода основ. ср-в'!B:B,0)))","v":0},{"$f":"IF(AND(AK124=0,AM124=0),\"\",\"/\")","v":""},{"$f":"IF(ISNA(INDEX('План ввода основ. ср-в'!K:K,MATCH(B124,'План ввода основ. ср-в'!B:B,0))),0,INDEX('План ввода основ. ср-в'!K:K,MATCH(B124,'План ввода основ. ср-в'!B:B,0)))","v":0},0,"/",0,{"$f":"IF(ISNA(INDEX('План ввода основ. ср-в'!N:N,MATCH(B124,'План ввода основ. ср-в'!B:B,0))),0,INDEX('План ввода основ. ср-в'!N:N,MATCH(B124,'План ввода основ. ср-в'!B:B,0)))","v":0},{"$f":"IF(AND(AQ124=0,AS124=0),\"\",\"/\")","v":""},{"$f":"IF(ISNA(INDEX('План ввода основ. ср-в'!M:M,MATCH(B124,'План ввода основ. ср-в'!B:B,0))),0,INDEX('План ввода основ. ср-в'!M:M,MATCH(B124,'План ввода основ. ср-в'!B:B,0)))","v":0},{"$f":"IF(ISNA(INDEX('План ввода основ. ср-в'!P:P,MATCH(B124,'План ввода основ. ср-в'!B:B,0))),0,INDEX('План ввода основ. ср-в'!P:P,MATCH(B124,'План ввода основ. ср-в'!B:B,0)))","v":1.1000000000000001},{"$f":"IF(AND(AT124=0,AV124=0),\"\",\"/\")","v":"/"},{"$f":"IF(ISNA(INDEX('План ввода основ. ср-в'!O:O,MATCH(B124,'План ввода основ. ср-в'!B:B,0))),0,INDEX('План ввода основ. ср-в'!O:O,MATCH(B124,'План ввода основ. ср-в'!B:B,0)))","v":0.4},{"$f":"IF(ISNA(INDEX('План ввода основ. ср-в'!R:R,MATCH(B124,'План ввода основ. ср-в'!B:B,0))),0,INDEX('План ввода основ. ср-в'!R:R,MATCH(B124,'План ввода основ. ср-в'!B:B,0)))","v":0},{"$f":"IF(AND(AW124=0,AY124=0),\"\",\"/\")","v":""},{"$f":"IF(ISNA(INDEX('План ввода основ. ср-в'!Q:Q,MATCH(B124,'План ввода основ. ср-в'!B:B,0))),0,INDEX('План ввода основ. ср-в'!Q:Q,MATCH(B124,'План ввода основ. ср-в'!B:B,0)))","v":0},{"$f":"IF(ISNA(INDEX('План ввода основ. ср-в'!T:T,MATCH(B124,'План ввода основ. ср-в'!B:B,0))),0,INDEX('План ввода основ. ср-в'!T:T,MATCH(B124,'План ввода основ. ср-в'!B:B,0)))","v":0},{"$f":"IF(AND(AZ124=0,BB124=0),\"\",\"/\")","v":""},{"$f":"IF(ISNA(INDEX('План ввода основ. ср-в'!S:S,MATCH(B124,'План ввода основ. ср-в'!B:B,0))),0,INDEX('План ввода основ. ср-в'!S:S,MATCH(B124,'План ввода основ. ср-в'!B:B,0)))","v":0},1.1000000000000001,"/",0.4,{"$f":"IF(ISNA(INDEX('План ввода основ. ср-в'!V:V,MATCH(B124,'План ввода основ. ср-в'!B:B,0))),0,INDEX('План ввода основ. ср-в'!V:V,MATCH(B124,'План ввода основ. ср-в'!B:B,0)))","v":0},{"$f":"IF(ISNA(INDEX('План ввода основ. ср-в'!W:W,MATCH(B124,'План ввода основ. ср-в'!B:B,0))),0,INDEX('План ввода основ. ср-в'!W:W,MATCH(B124,'План ввода основ. ср-в'!B:B,0)))","v":0},{"$f":"IF(ISNA(INDEX('План ввода основ. ср-в'!X:X,MATCH(B124,'План ввода основ. ср-в'!B:B,0))),0,INDEX('План ввода основ. ср-в'!X:X,MATCH(B124,'План ввода основ. ср-в'!B:B,0)))","v":0},{"$f":"IF(ISNA(INDEX('План ввода основ. ср-в'!Y:Y,MATCH(B124,'План ввода основ. ср-в'!B:B,0))),0,INDEX('План ввода основ. ср-в'!Y:Y,MATCH(B124,'План ввода основ. ср-в'!B:B,0)))","v":0},0,{"$f":"IF(ISNA(INDEX('План ввода основ. ср-в'!Z:Z,MATCH(B124,'План ввода основ. ср-в'!B:B,0))),0,INDEX('План ввода основ. ср-в'!Z:Z,MATCH(B124,'План ввода основ. ср-в'!B:B,0)))","v":0},{"$f":"IF(ISNA(INDEX('План ввода основ. ср-в'!AA:AA,MATCH(B124,'План ввода основ. ср-в'!B:B,0))),0,INDEX('План ввода основ. ср-в'!AA:AA,MATCH(B124,'План ввода основ. ср-в'!B:B,0)))","v":3.6271186440677972},{"$f":"IF(ISNA(INDEX('План ввода основ. ср-в'!AB:AB,MATCH(B124,'План ввода основ. ср-в'!B:B,0))),0,INDEX('План ввода основ. ср-в'!AB:AB,MATCH(B124,'План ввода основ. ср-в'!B:B,0)))","v":0},{"$f":"IF(ISNA(INDEX('План ввода основ. ср-в'!AC:AC,MATCH(B124,'План ввода основ. ср-в'!B:B,0))),0,INDEX('План ввода основ. ср-в'!AC:AC,MATCH(B124,'План ввода основ. ср-в'!B:B,0)))","v":0},3.6271186440677972]
[103,"Реконструкция ВЛ-0,4кВ от КТП КЛВ1027/160 кВА с заменой КТП",null,null,null,null,null,null,0,"",0,0,"",0,0.81,"/",0.16,0,"",0,0,"",0,0.81,"/",0.16,2.9389830508474577,{"$f":"IF(ISNA(INDEX('План ввода основ. ср-в'!F:F,MATCH(B125,'План ввода основ. ср-в'!B:B,0))),0,INDEX('План ввода основ. ср-в'!F:F,MATCH(B125,'План ввода основ. ср-в'!B:B,0)))","v":0},"",{"$f":"IF(ISNA(INDEX('План ввода основ. ср-в'!E:E,MATCH(B125,'План ввода основ. ср-в'!B:B,0))),0,INDEX('План ввода основ. ср-в'!E:E,MATCH(B125,'План ввода основ. ср-в'!B:B,0)))","v":0},{"$f":"IF(ISNA(INDEX('План ввода основ. ср-в'!H:H,MATCH(B125,'План ввода основ. ср-в'!B:B,0))),0,INDEX('План ввода основ. ср-в'!H:H,MATCH(B125,'План ввода основ. ср-в'!B:B,0)))","v":0},"",{"$f":"IF(ISNA(INDEX('План ввода основ. ср-в'!G:G,MATCH(B125,'План ввода основ. ср-в'!B:B,0))),0,INDEX('План ввода основ. ср-в'!G:G,MATCH(B125,'План ввода основ. ср-в'!B:B,0)))","v":0},{"$f":"IF(ISNA(INDEX('План ввода основ. ср-в'!J:J,MATCH(B125,'План ввода основ. ср-в'!B:B,0))),0,INDEX('План ввода основ. ср-в'!J:J,MATCH(B125,'План ввода основ. ср-в'!B:B,0)))","v":0},"",{"$f":"IF(ISNA(INDEX('План ввода основ. ср-в'!I:I,MATCH(B125,'План ввода основ. ср-в'!B:B,0))),0,INDEX('План ввода основ. ср-в'!I:I,MATCH(B125,'План ввода основ. ср-в'!B:B,0)))","v":0},{"$f":"IF(ISNA(INDEX('План ввода основ. ср-в'!L:L,MATCH(B125,'План ввода основ. ср-в'!B:B,0))),0,INDEX('План ввода основ. ср-в'!L:L,MATCH(B125,'План ввода основ. ср-в'!B:B,0)))","v":0},"",{"$f":"IF(ISNA(INDEX('План ввода основ. ср-в'!K:K,MATCH(B125,'План ввода основ. ср-в'!B:B,0))),0,INDEX('План ввода основ. ср-в'!K:K,MATCH(B125,'План ввода основ. ср-в'!B:B,0)))","v":0},0,"/",0,{"$f":"IF(ISNA(INDEX('План ввода основ. ср-в'!N:N,MATCH(B125,'План ввода основ. ср-в'!B:B,0))),0,INDEX('План ввода основ. ср-в'!N:N,MATCH(B125,'План ввода основ. ср-в'!B:B,0)))","v":0},"",{"$f":"IF(ISNA(INDEX('План ввода основ. ср-в'!M:M,MATCH(B125,'План ввода основ. ср-в'!B:B,0))),0,INDEX('План ввода основ. ср-в'!M:M,MATCH(B125,'План ввода основ. ср-в'!B:B,0)))","v":0},{"$f":"IF(ISNA(INDEX('План ввода основ. ср-в'!P:P,MATCH(B125,'План ввода основ. ср-в'!B:B,0))),0,INDEX('План ввода основ. ср-в'!P:P,MATCH(B125,'План ввода основ. ср-в'!B:B,0)))","v":0.81},"/",{"$f":"IF(ISNA(INDEX('План ввода основ. ср-в'!O:O,MATCH(B125,'План ввода основ. ср-в'!B:B,0))),0,INDEX('План ввода основ. ср-в'!O:O,MATCH(B125,'План ввода основ. ср-в'!B:B,0)))","v":0.16},{"$f":"IF(ISNA(INDEX('План ввода основ. ср-в'!R:R,MATCH(B125,'План ввода основ. ср-в'!B:B,0))),0,INDEX('План ввода основ. ср-в'!R:R,MATCH(B125,'План ввода основ. ср-в'!B:B,0)))","v":0},"",{"$f":"IF(ISNA(INDEX('План ввода основ. ср-в'!Q:Q,MATCH(B125,'План ввода основ. ср-в'!B:B,0))),0,INDEX('План ввода основ. ср-в'!Q:Q,MATCH(B125,'План ввода основ. ср-в'!B:B,0)))","v":0},{"$f":"IF(ISNA(INDEX('План ввода основ. ср-в'!T:T,MATCH(B125,'План ввода основ. ср-в'!B:B,0))),0,INDEX('План ввода основ. ср-в'!T:T,MATCH(B125,'План ввода основ. ср-в'!B:B,0)))","v":0},"",{"$f":"IF(ISNA(INDEX('План ввода основ. ср-в'!S:S,MATCH(B125,'План ввода основ. ср-в'!B:B,0))),0,INDEX('План ввода основ. ср-в'!S:S,MATCH(B125,'План ввода основ. ср-в'!B:B,0)))","v":0},0.81,"/",0.16,{"$f":"IF(ISNA(INDEX('План ввода основ. ср-в'!V:V,MATCH(B125,'План ввода основ. ср-в'!B:B,0))),0,INDEX('План ввода основ. ср-в'!V:V,MATCH(B125,'План ввода основ. ср-в'!B:B,0)))","v":0},{"$f":"IF(ISNA(INDEX('План ввода основ. ср-в'!W:W,MATCH(B125,'План ввода основ. ср-в'!B:B,0))),0,INDEX('План ввода основ. ср-в'!W:W,MATCH(B125,'План ввода основ. ср-в'!B:B,0)))","v":0},{"$f":"IF(ISNA(INDEX('План ввода основ. ср-в'!X:X,MATCH(B125,'План ввода основ. ср-в'!B:B,0))),0,INDEX('План ввода основ. ср-в'!X:X,MATCH(B125,'План ввода основ. ср-в'!B:B,0)))","v":0},{"$f":"IF(ISNA(INDEX('План ввода основ. ср-в'!Y:Y,MATCH(B125,'План ввода основ. ср-в'!B:B,0))),0,INDEX('План ввода основ. ср-в'!Y:Y,MATCH(B125,'План ввода основ. ср-в'!B:B,0)))","v":0},0,{"$f":"IF(ISNA(INDEX('План ввода основ. ср-в'!Z:Z,MATCH(B125,'План ввода основ. ср-в'!B:B,0))),0,INDEX('План ввода основ. ср-в'!Z:Z,MATCH(B125,'План ввода основ. ср-в'!B:B,0)))","v":0},{"$f":"IF(ISNA(INDEX('План ввода основ. ср-в'!AA:AA,MATCH(B125,'План ввода основ. ср-в'!B:B,0))),0,INDEX('План ввода основ. ср-в'!AA:AA,MATCH(B125,'План ввода основ. ср-в'!B:B,0)))","v":2.9389830508474577},{"$f":"IF(ISNA(INDEX('План ввода основ. ср-в'!AB:AB,MATCH(B125,'План ввода основ. ср-в'!B:B,0))),0,INDEX('План ввода основ. ср-в'!AB:AB,MATCH(B125,'План ввода основ. ср-в'!B:B,0)))","v":0},{"$f":"IF(ISNA(INDEX('План ввода основ. ср-в'!AC:AC,MATCH(B125,'План ввода основ. ср-в'!B:B,0))),0,INDEX('План ввода основ. ср-в'!AC:AC,MATCH(B125,'План ввода основ. ср-в'!B:B,0)))","v":0},2.9389830508474577]
[104,"Реконструкция ВЛ-0,4кВ от КТП ЧКЛ 703/100 кВА с заменой КТП",null,null,null,null,null,null,0,"",0,0,"",0,0,"",0,4.8,"/",0.1,0,"",0,4.8,"/",0.1,12.406779661016948,{"$f":"IF(ISNA(INDEX('План ввода основ. ср-в'!F:F,MATCH(B126,'План ввода основ. ср-в'!B:B,0))),0,INDEX('План ввода основ. ср-в'!F:F,MATCH(B126,'План ввода основ. ср-в'!B:B,0)))","v":0},"",{"$f":"IF(ISNA(INDEX('План ввода основ. ср-в'!E:E,MATCH(B126,'План ввода основ. ср-в'!B:B,0))),0,INDEX('План ввода основ. ср-в'!E:E,MATCH(B126,'План ввода основ. ср-в'!B:B,0)))","v":0},{"$f":"IF(ISNA(INDEX('План ввода основ. ср-в'!H:H,MATCH(B126,'План ввода основ. ср-в'!B:B,0))),0,INDEX('План ввода основ. ср-в'!H:H,MATCH(B126,'План ввода основ. ср-в'!B:B,0)))","v":0},"",{"$f":"IF(ISNA(INDEX('План ввода основ. ср-в'!G:G,MATCH(B126,'План ввода основ. ср-в'!B:B,0))),0,INDEX('План ввода основ. ср-в'!G:G,MATCH(B126,'План ввода основ. ср-в'!B:B,0)))","v":0},{"$f":"IF(ISNA(INDEX('План ввода основ. ср-в'!J:J,MATCH(B126,'План ввода основ. ср-в'!B:B,0))),0,INDEX('План ввода основ. ср-в'!J:J,MATCH(B126,'План ввода основ. ср-в'!B:B,0)))","v":0},"",{"$f":"IF(ISNA(INDEX('План ввода основ. ср-в'!I:I,MATCH(B126,'План ввода основ. ср-в'!B:B,0))),0,INDEX('План ввода основ. ср-в'!I:I,MATCH(B126,'План ввода основ. ср-в'!B:B,0)))","v":0},{"$f":"IF(ISNA(INDEX('План ввода основ. ср-в'!L:L,MATCH(B126,'План ввода основ. ср-в'!B:B,0))),0,INDEX('План ввода основ. ср-в'!L:L,MATCH(B126,'План ввода основ. ср-в'!B:B,0)))","v":0},"",{"$f":"IF(ISNA(INDEX('План ввода основ. ср-в'!K:K,MATCH(B126,'План ввода основ. ср-в'!B:B,0))),0,INDEX('План ввода основ. ср-в'!K:K,MATCH(B126,'План ввода основ. ср-в'!B:B,0)))","v":0},0,"/",0,{"$f":"IF(ISNA(INDEX('План ввода основ. ср-в'!N:N,MATCH(B126,'План ввода основ. ср-в'!B:B,0))),0,INDEX('План ввода основ. ср-в'!N:N,MATCH(B126,'План ввода основ. ср-в'!B:B,0)))","v":0},"",{"$f":"IF(ISNA(INDEX('План ввода основ. ср-в'!M:M,MATCH(B126,'План ввода основ. ср-в'!B:B,0))),0,INDEX('План ввода основ. ср-в'!M:M,MATCH(B126,'План ввода основ. ср-в'!B:B,0)))","v":0},{"$f":"IF(ISNA(INDEX('План ввода основ. ср-в'!P:P,MATCH(B126,'План ввода основ. ср-в'!B:B,0))),0,INDEX('План ввода основ. ср-в'!P:P,MATCH(B126,'План ввода основ. ср-в'!B:B,0)))","v":0},"",{"$f":"IF(ISNA(INDEX('План ввода основ. ср-в'!O:O,MATCH(B126,'План ввода основ. ср-в'!B:B,0))),0,INDEX('План ввода основ. ср-в'!O:O,MATCH(B126,'План ввода основ. ср-в'!B:B,0)))","v":0},{"$f":"IF(ISNA(INDEX('План ввода основ. ср-в'!R:R,MATCH(B126,'План ввода основ. ср-в'!B:B,0))),0,INDEX('План ввода основ. ср-в'!R:R,MATCH(B126,'План ввода основ. ср-в'!B:B,0)))","v":4.8},"/",{"$f":"IF(ISNA(INDEX('План ввода основ. ср-в'!Q:Q,MATCH(B126,'План ввода основ. ср-в'!B:B,0))),0,INDEX('План ввода основ. ср-в'!Q:Q,MATCH(B126,'План ввода основ. ср-в'!B:B,0)))","v":0.1},{"$f":"IF(ISNA(INDEX('План ввода основ. ср-в'!T:T,MATCH(B126,'План ввода основ. ср-в'!B:B,0))),0,INDEX('План ввода основ. ср-в'!T:T,MATCH(B126,'План ввода основ. ср-в'!B:B,0)))","v":0},"",{"$f":"IF(ISNA(INDEX('План ввода основ. ср-в'!S:S,MATCH(B126,'План ввода основ. ср-в'!B:B,0))),0,INDEX('План ввода основ. ср-в'!S:S,MATCH(B126,'План ввода основ. ср-в'!B:B,0)))","v":0},4.8,"/",0.1,{"$f":"IF(ISNA(INDEX('План ввода основ. ср-в'!V:V,MATCH(B126,'План ввода основ. ср-в'!B:B,0))),0,INDEX('План ввода основ. ср-в'!V:V,MATCH(B126,'План ввода основ. ср-в'!B:B,0)))","v":0},{"$f":"IF(ISNA(INDEX('План ввода основ. ср-в'!W:W,MATCH(B126,'План ввода основ. ср-в'!B:B,0))),0,INDEX('План ввода основ. ср-в'!W:W,MATCH(B126,'План ввода основ. ср-в'!B:B,0)))","v":0},{"$f":"IF(ISNA(INDEX('План ввода основ. ср-в'!X:X,MATCH(B126,'План ввода основ. ср-в'!B:B,0))),0,INDEX('План ввода основ. ср-в'!X:X,MATCH(B126,'План ввода основ. ср-в'!B:B,0)))","v":0},{"$f":"IF(ISNA(INDEX('План ввода основ. ср-в'!Y:Y,MATCH(B126,'План ввода основ. ср-в'!B:B,0))),0,INDEX('План ввода основ. ср-в'!Y:Y,MATCH(B126,'План ввода основ. ср-в'!B:B,0)))","v":0},0,{"$f":"IF(ISNA(INDEX('План ввода основ. ср-в'!Z:Z,MATCH(B126,'План ввода основ. ср-в'!B:B,0))),0,INDEX('План ввода основ. ср-в'!Z:Z,MATCH(B126,'План ввода основ. ср-в'!B:B,0)))","v":0},{"$f":"IF(ISNA(INDEX('План ввода основ. ср-в'!AA:AA,MATCH(B126,'План ввода основ. ср-в'!B:B,0))),0,INDEX('План ввода основ. ср-в'!AA:AA,MATCH(B126,'План ввода основ. ср-в'!B:B,0)))","v":0},{"$f":"IF(ISNA(INDEX('План ввода основ. ср-в'!AB:AB,MATCH(B126,'План ввода основ. ср-в'!B:B,0))),0,INDEX('План ввода основ. ср-в'!AB:AB,MATCH(B126,'План ввода основ. ср-в'!B:B,0)))","v":12.406779661016948},{"$f":"IF(ISNA(INDEX('План ввода основ. ср-в'!AC:AC,MATCH(B126,'План ввода основ. ср-в'!B:B,0))),0,INDEX('План ввода основ. ср-в'!AC:AC,MATCH(B126,'План ввода основ. ср-в'!B:B,0)))","v":0},12.406779661016948]
[105,"Реконструкция ВЛ-0,4кВ от КТП ЧКЛ 705/160 кВА с заменой КТП",null,null,null,null,null,null,0,{"$f":"IF(AND(I127=0,K127=0),\"\",\"/\")","v":""},0,0,{"$f":"IF(AND(L127=0,N127=0),\"\",\"/\")","v":""},0,0,{"$f":"IF(AND(O127=0,Q127=0),\"\",\"/\")","v":""},0,0.65,{"$f":"IF(AND(R127=0,T127=0),\"\",\"/\")","v":"/"},0.16,0,{"$f":"IF(AND(U127=0,W127=0),\"\",\"/\")","v":""},0,0.65,"/",0.16,2.5593220338983049,{"$f":"IF(ISNA(INDEX('План ввода основ. ср-в'!F:F,MATCH(B127,'План ввода основ. ср-в'!B:B,0))),0,INDEX('План ввода основ. ср-в'!F:F,MATCH(B127,'План ввода основ. ср-в'!B:B,0)))","v":0},{"$f":"IF(AND(AB127=0,AD127=0),\"\",\"/\")","v":""},{"$f":"IF(ISNA(INDEX('План ввода основ. ср-в'!E:E,MATCH(B127,'План ввода основ. ср-в'!B:B,0))),0,INDEX('План ввода основ. ср-в'!E:E,MATCH(B127,'План ввода основ. ср-в'!B:B,0)))","v":0},{"$f":"IF(ISNA(INDEX('План ввода основ. ср-в'!H:H,MATCH(B127,'План ввода основ. ср-в'!B:B,0))),0,INDEX('План ввода основ. ср-в'!H:H,MATCH(B127,'План ввода основ. ср-в'!B:B,0)))","v":0},{"$f":"IF(AND(AE127=0,AG127=0),\"\",\"/\")","v":""},{"$f":"IF(ISNA(INDEX('План ввода основ. ср-в'!G:G,MATCH(B127,'План ввода основ. ср-в'!B:B,0))),0,INDEX('План ввода основ. ср-в'!G:G,MATCH(B127,'План ввода основ. ср-в'!B:B,0)))","v":0},{"$f":"IF(ISNA(INDEX('План ввода основ. ср-в'!J:J,MATCH(B127,'План ввода основ. ср-в'!B:B,0))),0,INDEX('План ввода основ. ср-в'!J:J,MATCH(B127,'План ввода основ. ср-в'!B:B,0)))","v":0},{"$f":"IF(AND(AH127=0,AJ127=0),\"\",\"/\")","v":""},{"$f":"IF(ISNA(INDEX('План ввода основ. ср-в'!I:I,MATCH(B127,'План ввода основ. ср-в'!B:B,0))),0,INDEX('План ввода основ. ср-в'!I:I,MATCH(B127,'План ввода основ. ср-в'!B:B,0)))","v":0},{"$f":"IF(ISNA(INDEX('План ввода основ. ср-в'!L:L,MATCH(B127,'План ввода основ. ср-в'!B:B,0))),0,INDEX('План ввода основ. ср-в'!L:L,MATCH(B127,'План ввода основ. ср-в'!B:B,0)))","v":0},{"$f":"IF(AND(AK127=0,AM127=0),\"\",\"/\")","v":""},{"$f":"IF(ISNA(INDEX('План ввода основ. ср-в'!K:K,MATCH(B127,'План ввода основ. ср-в'!B:B,0))),0,INDEX('План ввода основ. ср-в'!K:K,MATCH(B127,'План ввода основ. ср-в'!B:B,0)))","v":0},0,"/",0,{"$f":"IF(ISNA(INDEX('План ввода основ. ср-в'!N:N,MATCH(B127,'План ввода основ. ср-в'!B:B,0))),0,INDEX('План ввода основ. ср-в'!N:N,MATCH(B127,'План ввода основ. ср-в'!B:B,0)))","v":0},{"$f":"IF(AND(AQ127=0,AS127=0),\"\",\"/\")","v":""},{"$f":"IF(ISNA(INDEX('План ввода основ. ср-в'!M:M,MATCH(B127,'План ввода основ. ср-в'!B:B,0))),0,INDEX('План ввода основ. ср-в'!M:M,MATCH(B127,'План ввода основ. ср-в'!B:B,0)))","v":0},{"$f":"IF(ISNA(INDEX('План ввода основ. ср-в'!P:P,MATCH(B127,'План ввода основ. ср-в'!B:B,0))),0,INDEX('План ввода основ. ср-в'!P:P,MATCH(B127,'План ввода основ. ср-в'!B:B,0)))","v":0},{"$f":"IF(AND(AT127=0,AV127=0),\"\",\"/\")","v":""},{"$f":"IF(ISNA(INDEX('План ввода основ. ср-в'!O:O,MATCH(B127,'План ввода основ. ср-в'!B:B,0))),0,INDEX('План ввода основ. ср-в'!O:O,MATCH(B127,'План ввода основ. ср-в'!B:B,0)))","v":0},{"$f":"IF(ISNA(INDEX('План ввода основ. ср-в'!R:R,MATCH(B127,'План ввода основ. ср-в'!B:B,0))),0,INDEX('План ввода основ. ср-в'!R:R,MATCH(B127,'План ввода основ. ср-в'!B:B,0)))","v":0.65},{"$f":"IF(AND(AW127=0,AY127=0),\"\",\"/\")","v":"/"},{"$f":"IF(ISNA(INDEX('План ввода основ. ср-в'!Q:Q,MATCH(B127,'План ввода основ. ср-в'!B:B,0))),0,INDEX('План ввода основ. ср-в'!Q:Q,MATCH(B127,'План ввода основ. ср-в'!B:B,0)))","v":0.16},{"$f":"IF(ISNA(INDEX('План ввода основ. ср-в'!T:T,MATCH(B127,'План ввода основ. ср-в'!B:B,0))),0,INDEX('План ввода основ. ср-в'!T:T,MATCH(B127,'План ввода основ. ср-в'!B:B,0)))","v":0},{"$f":"IF(AND(AZ127=0,BB127=0),\"\",\"/\")","v":""},{"$f":"IF(ISNA(INDEX('План ввода основ. ср-в'!S:S,MATCH(B127,'План ввода основ. ср-в'!B:B,0))),0,INDEX('План ввода основ. ср-в'!S:S,MATCH(B127,'План ввода основ. ср-в'!B:B,0)))","v":0},0.65,"/",0.16,{"$f":"IF(ISNA(INDEX('План ввода основ. ср-в'!V:V,MATCH(B127,'План ввода основ. ср-в'!B:B,0))),0,INDEX('План ввода основ. ср-в'!V:V,MATCH(B127,'План ввода основ. ср-в'!B:B,0)))","v":0},{"$f":"IF(ISNA(INDEX('План ввода основ. ср-в'!W:W,MATCH(B127,'План ввода основ. ср-в'!B:B,0))),0,INDEX('План ввода основ. ср-в'!W:W,MATCH(B127,'План ввода основ. ср-в'!B:B,0)))","v":0},{"$f":"IF(ISNA(INDEX('План ввода основ. ср-в'!X:X,MATCH(B127,'План ввода основ. ср-в'!B:B,0))),0,INDEX('План ввода основ. ср-в'!X:X,MATCH(B127,'План ввода основ. ср-в'!B:B,0)))","v":0},{"$f":"IF(ISNA(INDEX('План ввода основ. ср-в'!Y:Y,MATCH(B127,'План ввода основ. ср-в'!B:B,0))),0,INDEX('План ввода основ. ср-в'!Y:Y,MATCH(B127,'План ввода основ. ср-в'!B:B,0)))","v":0},0,{"$f":"IF(ISNA(INDEX('План ввода основ. ср-в'!Z:Z,MATCH(B127,'План ввода основ. ср-в'!B:B,0))),0,INDEX('План ввода основ. ср-в'!Z:Z,MATCH(B127,'План ввода основ. ср-в'!B:B,0)))","v":0},{"$f":"IF(ISNA(INDEX('План ввода основ. ср-в'!AA:AA,MATCH(B127,'План ввода основ. ср-в'!B:B,0))),0,INDEX('План ввода основ. ср-в'!AA:AA,MATCH(B127,'План ввода основ. ср-в'!B:B,0)))","v":0},{"$f":"IF(ISNA(INDEX('План ввода основ. ср-в'!AB:AB,MATCH(B127,'План ввода основ. ср-в'!B:B,0))),0,INDEX('План ввода основ. ср-в'!AB:AB,MATCH(B127,'План ввода основ. ср-в'!B:B,0)))","v":2.5593220338983049},{"$f":"IF(ISNA(INDEX('План ввода основ. ср-в'!AC:AC,MATCH(B127,'План ввода основ. ср-в'!B:B,0))),0,INDEX('План ввода основ. ср-в'!AC:AC,MATCH(B127,'План ввода основ. ср-в'!B:B,0)))","v":0},2.5593220338983049]
[106,"Реконструкция ВЛ-0,4кВ от КТП ЧКЛ 707/160 кВА с заменой КТП",null,null,null,null,null,null,0,"",0,0,"",0,0,"",0,0,"",0,0.98,"/",0.16,0.98,"/",0.16,3.3423728813559324,{"$f":"IF(ISNA(INDEX('План ввода основ. ср-в'!F:F,MATCH(B128,'План ввода основ. ср-в'!B:B,0))),0,INDEX('План ввода основ. ср-в'!F:F,MATCH(B128,'План ввода основ. ср-в'!B:B,0)))","v":0},"",{"$f":"IF(ISNA(INDEX('План ввода основ. ср-в'!E:E,MATCH(B128,'План ввода основ. ср-в'!B:B,0))),0,INDEX('План ввода основ. ср-в'!E:E,MATCH(B128,'План ввода основ. ср-в'!B:B,0)))","v":0},{"$f":"IF(ISNA(INDEX('План ввода основ. ср-в'!H:H,MATCH(B128,'План ввода основ. ср-в'!B:B,0))),0,INDEX('План ввода основ. ср-в'!H:H,MATCH(B128,'План ввода основ. ср-в'!B:B,0)))","v":0},"",{"$f":"IF(ISNA(INDEX('План ввода основ. ср-в'!G:G,MATCH(B128,'План ввода основ. ср-в'!B:B,0))),0,INDEX('План ввода основ. ср-в'!G:G,MATCH(B128,'План ввода основ. ср-в'!B:B,0)))","v":0},{"$f":"IF(ISNA(INDEX('План ввода основ. ср-в'!J:J,MATCH(B128,'План ввода основ. ср-в'!B:B,0))),0,INDEX('План ввода основ. ср-в'!J:J,MATCH(B128,'План ввода основ. ср-в'!B:B,0)))","v":0},"",{"$f":"IF(ISNA(INDEX('План ввода основ. ср-в'!I:I,MATCH(B128,'План ввода основ. ср-в'!B:B,0))),0,INDEX('План ввода основ. ср-в'!I:I,MATCH(B128,'План ввода основ. ср-в'!B:B,0)))","v":0},{"$f":"IF(ISNA(INDEX('План ввода основ. ср-в'!L:L,MATCH(B128,'План ввода основ. ср-в'!B:B,0))),0,INDEX('План ввода основ. ср-в'!L:L,MATCH(B128,'План ввода основ. ср-в'!B:B,0)))","v":0},"",{"$f":"IF(ISNA(INDEX('План ввода основ. ср-в'!K:K,MATCH(B128,'План ввода основ. ср-в'!B:B,0))),0,INDEX('План ввода основ. ср-в'!K:K,MATCH(B128,'План ввода основ. ср-в'!B:B,0)))","v":0},0,"/",0,{"$f":"IF(ISNA(INDEX('План ввода основ. ср-в'!N:N,MATCH(B128,'План ввода основ. ср-в'!B:B,0))),0,INDEX('План ввода основ. ср-в'!N:N,MATCH(B128,'План ввода основ. ср-в'!B:B,0)))","v":0},"",{"$f":"IF(ISNA(INDEX('План ввода основ. ср-в'!M:M,MATCH(B128,'План ввода основ. ср-в'!B:B,0))),0,INDEX('План ввода основ. ср-в'!M:M,MATCH(B128,'План ввода основ. ср-в'!B:B,0)))","v":0},{"$f":"IF(ISNA(INDEX('План ввода основ. ср-в'!P:P,MATCH(B128,'План ввода основ. ср-в'!B:B,0))),0,INDEX('План ввода основ. ср-в'!P:P,MATCH(B128,'План ввода основ. ср-в'!B:B,0)))","v":0},"",{"$f":"IF(ISNA(INDEX('План ввода основ. ср-в'!O:O,MATCH(B128,'План ввода основ. ср-в'!B:B,0))),0,INDEX('План ввода основ. ср-в'!O:O,MATCH(B128,'План ввода основ. ср-в'!B:B,0)))","v":0},{"$f":"IF(ISNA(INDEX('План ввода основ. ср-в'!R:R,MATCH(B128,'План ввода основ. ср-в'!B:B,0))),0,INDEX('План ввода основ. ср-в'!R:R,MATCH(B128,'План ввода основ. ср-в'!B:B,0)))","v":0},"",{"$f":"IF(ISNA(INDEX('План ввода основ. ср-в'!Q:Q,MATCH(B128,'План ввода основ. ср-в'!B:B,0))),0,INDEX('План ввода основ. ср-в'!Q:Q,MATCH(B128,'План ввода основ. ср-в'!B:B,0)))","v":0},{"$f":"IF(ISNA(INDEX('План ввода основ. ср-в'!T:T,MATCH(B128,'План ввода основ. ср-в'!B:B,0))),0,INDEX('План ввода основ. ср-в'!T:T,MATCH(B128,'План ввода основ. ср-в'!B:B,0)))","v":0.98},"/",{"$f":"IF(ISNA(INDEX('План ввода основ. ср-в'!S:S,MATCH(B128,'План ввода основ. ср-в'!B:B,0))),0,INDEX('План ввода основ. ср-в'!S:S,MATCH(B128,'План ввода основ. ср-в'!B:B,0)))","v":0.16},0.98,"/",0.16,{"$f":"IF(ISNA(INDEX('План ввода основ. ср-в'!V:V,MATCH(B128,'План ввода основ. ср-в'!B:B,0))),0,INDEX('План ввода основ. ср-в'!V:V,MATCH(B128,'План ввода основ. ср-в'!B:B,0)))","v":0},{"$f":"IF(ISNA(INDEX('План ввода основ. ср-в'!W:W,MATCH(B128,'План ввода основ. ср-в'!B:B,0))),0,INDEX('План ввода основ. ср-в'!W:W,MATCH(B128,'План ввода основ. ср-в'!B:B,0)))","v":0},{"$f":"IF(ISNA(INDEX('План ввода основ. ср-в'!X:X,MATCH(B128,'План ввода основ. ср-в'!B:B,0))),0,INDEX('План ввода основ. ср-в'!X:X,MATCH(B128,'План ввода основ. ср-в'!B:B,0)))","v":0},{"$f":"IF(ISNA(INDEX('План ввода основ. ср-в'!Y:Y,MATCH(B128,'План ввода основ. ср-в'!B:B,0))),0,INDEX('План ввода основ. ср-в'!Y:Y,MATCH(B128,'План ввода основ. ср-в'!B:B,0)))","v":0},0,{"$f":"IF(ISNA(INDEX('План ввода основ. ср-в'!Z:Z,MATCH(B128,'План ввода основ. ср-в'!B:B,0))),0,INDEX('План ввода основ. ср-в'!Z:Z,MATCH(B128,'План ввода основ. ср-в'!B:B,0)))","v":0},{"$f":"IF(ISNA(INDEX('План ввода основ. ср-в'!AA:AA,MATCH(B128,'План ввода основ. ср-в'!B:B,0))),0,INDEX('План ввода основ. ср-в'!AA:AA,MATCH(B128,'План ввода основ. ср-в'!B:B,0)))","v":0},{"$f":"IF(ISNA(INDEX('План ввода основ. ср-в'!AB:AB,MATCH(B128,'План ввода основ. ср-в'!B:B,0))),0,INDEX('План ввода основ. ср-в'!AB:AB,MATCH(B128,'План ввода основ. ср-в'!B:B,0)))","v":0},{"$f":"IF(ISNA(INDEX('План ввода основ. ср-в'!AC:AC,MATCH(B128,'План ввода основ. ср-в'!B:B,0))),0,INDEX('План ввода основ. ср-в'!AC:AC,MATCH(B128,'План ввода основ. ср-в'!B:B,0)))","v":3.3423728813559324},3.3423728813559324]
[107,"Реконструкция ВЛ-0,4кВ от КТП ЧКЛ 708/100 кВА с заменой КТП",null,null,null,null,null,null,0,"",0,0,"",0,0,"",0,0,"",0,3.03,"/",0.1,3.03,"/",0.1,8.206779661016947,{"$f":"IF(ISNA(INDEX('План ввода основ. ср-в'!F:F,MATCH(B129,'План ввода основ. ср-в'!B:B,0))),0,INDEX('План ввода основ. ср-в'!F:F,MATCH(B129,'План ввода основ. ср-в'!B:B,0)))","v":0},"",{"$f":"IF(ISNA(INDEX('План ввода основ. ср-в'!E:E,MATCH(B129,'План ввода основ. ср-в'!B:B,0))),0,INDEX('План ввода основ. ср-в'!E:E,MATCH(B129,'План ввода основ. ср-в'!B:B,0)))","v":0},{"$f":"IF(ISNA(INDEX('План ввода основ. ср-в'!H:H,MATCH(B129,'План ввода основ. ср-в'!B:B,0))),0,INDEX('План ввода основ. ср-в'!H:H,MATCH(B129,'План ввода основ. ср-в'!B:B,0)))","v":0},"",{"$f":"IF(ISNA(INDEX('План ввода основ. ср-в'!G:G,MATCH(B129,'План ввода основ. ср-в'!B:B,0))),0,INDEX('План ввода основ. ср-в'!G:G,MATCH(B129,'План ввода основ. ср-в'!B:B,0)))","v":0},{"$f":"IF(ISNA(INDEX('План ввода основ. ср-в'!J:J,MATCH(B129,'План ввода основ. ср-в'!B:B,0))),0,INDEX('План ввода основ. ср-в'!J:J,MATCH(B129,'План ввода основ. ср-в'!B:B,0)))","v":0},"",{"$f":"IF(ISNA(INDEX('План ввода основ. ср-в'!I:I,MATCH(B129,'План ввода основ. ср-в'!B:B,0))),0,INDEX('План ввода основ. ср-в'!I:I,MATCH(B129,'План ввода основ. ср-в'!B:B,0)))","v":0},{"$f":"IF(ISNA(INDEX('План ввода основ. ср-в'!L:L,MATCH(B129,'План ввода основ. ср-в'!B:B,0))),0,INDEX('План ввода основ. ср-в'!L:L,MATCH(B129,'План ввода основ. ср-в'!B:B,0)))","v":0},"",{"$f":"IF(ISNA(INDEX('План ввода основ. ср-в'!K:K,MATCH(B129,'План ввода основ. ср-в'!B:B,0))),0,INDEX('План ввода основ. ср-в'!K:K,MATCH(B129,'План ввода основ. ср-в'!B:B,0)))","v":0},0,"/",0,{"$f":"IF(ISNA(INDEX('План ввода основ. ср-в'!N:N,MATCH(B129,'План ввода основ. ср-в'!B:B,0))),0,INDEX('План ввода основ. ср-в'!N:N,MATCH(B129,'План ввода основ. ср-в'!B:B,0)))","v":0},"",{"$f":"IF(ISNA(INDEX('План ввода основ. ср-в'!M:M,MATCH(B129,'План ввода основ. ср-в'!B:B,0))),0,INDEX('План ввода основ. ср-в'!M:M,MATCH(B129,'План ввода основ. ср-в'!B:B,0)))","v":0},{"$f":"IF(ISNA(INDEX('План ввода основ. ср-в'!P:P,MATCH(B129,'План ввода основ. ср-в'!B:B,0))),0,INDEX('План ввода основ. ср-в'!P:P,MATCH(B129,'План ввода основ. ср-в'!B:B,0)))","v":0},"",{"$f":"IF(ISNA(INDEX('План ввода основ. ср-в'!O:O,MATCH(B129,'План ввода основ. ср-в'!B:B,0))),0,INDEX('План ввода основ. ср-в'!O:O,MATCH(B129,'План ввода основ. ср-в'!B:B,0)))","v":0},{"$f":"IF(ISNA(INDEX('План ввода основ. ср-в'!R:R,MATCH(B129,'План ввода основ. ср-в'!B:B,0))),0,INDEX('План ввода основ. ср-в'!R:R,MATCH(B129,'План ввода основ. ср-в'!B:B,0)))","v":0},"",{"$f":"IF(ISNA(INDEX('План ввода основ. ср-в'!Q:Q,MATCH(B129,'План ввода основ. ср-в'!B:B,0))),0,INDEX('План ввода основ. ср-в'!Q:Q,MATCH(B129,'План ввода основ. ср-в'!B:B,0)))","v":0},{"$f":"IF(ISNA(INDEX('План ввода основ. ср-в'!T:T,MATCH(B129,'План ввода основ. ср-в'!B:B,0))),0,INDEX('План ввода основ. ср-в'!T:T,MATCH(B129,'План ввода основ. ср-в'!B:B,0)))","v":3.03},"/",{"$f":"IF(ISNA(INDEX('План ввода основ. ср-в'!S:S,MATCH(B129,'План ввода основ. ср-в'!B:B,0))),0,INDEX('План ввода основ. ср-в'!S:S,MATCH(B129,'План ввода основ. ср-в'!B:B,0)))","v":0.1},3.03,"/",0.1,{"$f":"IF(ISNA(INDEX('План ввода основ. ср-в'!V:V,MATCH(B129,'План ввода основ. ср-в'!B:B,0))),0,INDEX('План ввода основ. ср-в'!V:V,MATCH(B129,'План ввода основ. ср-в'!B:B,0)))","v":0},{"$f":"IF(ISNA(INDEX('План ввода основ. ср-в'!W:W,MATCH(B129,'План ввода основ. ср-в'!B:B,0))),0,INDEX('План ввода основ. ср-в'!W:W,MATCH(B129,'План ввода основ. ср-в'!B:B,0)))","v":0},{"$f":"IF(ISNA(INDEX('План ввода основ. ср-в'!X:X,MATCH(B129,'План ввода основ. ср-в'!B:B,0))),0,INDEX('План ввода основ. ср-в'!X:X,MATCH(B129,'План ввода основ. ср-в'!B:B,0)))","v":0},{"$f":"IF(ISNA(INDEX('План ввода основ. ср-в'!Y:Y,MATCH(B129,'План ввода основ. ср-в'!B:B,0))),0,INDEX('План ввода основ. ср-в'!Y:Y,MATCH(B129,'План ввода основ. ср-в'!B:B,0)))","v":0},0,{"$f":"IF(ISNA(INDEX('План ввода основ. ср-в'!Z:Z,MATCH(B129,'План ввода основ. ср-в'!B:B,0))),0,INDEX('План ввода основ. ср-в'!Z:Z,MATCH(B129,'План ввода основ. ср-в'!B:B,0)))","v":0},{"$f":"IF(ISNA(INDEX('План ввода основ. ср-в'!AA:AA,MATCH(B129,'План ввода основ. ср-в'!B:B,0))),0,INDEX('План ввода основ. ср-в'!AA:AA,MATCH(B129,'План ввода основ. ср-в'!B:B,0)))","v":0},{"$f":"IF(ISNA(INDEX('План ввода основ. ср-в'!AB:AB,MATCH(B129,'План ввода основ. ср-в'!B:B,0))),0,INDEX('План ввода основ. ср-в'!AB:AB,MATCH(B129,'План ввода основ. ср-в'!B:B,0)))","v":0},{"$f":"IF(ISNA(INDEX('План ввода основ. ср-в'!AC:AC,MATCH(B129,'План ввода основ. ср-в'!B:B,0))),0,INDEX('План ввода основ. ср-в'!AC:AC,MATCH(B129,'План ввода основ. ср-в'!B:B,0)))","v":8.206779661016947},8.206779661016947]
[108,"Реконструкция ВЛ-0,4кВ от КТП КЛВ 818/160 кВА с заменой КТП",null,null,null,null,null,null,0,{"$f":"IF(AND(I130=0,K130=0),\"\",\"/\")","v":""},0,0,{"$f":"IF(AND(L130=0,N130=0),\"\",\"/\")","v":""},0,0,{"$f":"IF(AND(O130=0,Q130=0),\"\",\"/\")","v":""},0,0,{"$f":"IF(AND(R130=0,T130=0),\"\",\"/\")","v":""},0,1.52,{"$f":"IF(AND(U130=0,W130=0),\"\",\"/\")","v":"/"},0.16,1.52,"/",0.16,4.623728813559322,{"$f":"IF(ISNA(INDEX('План ввода основ. ср-в'!F:F,MATCH(B130,'План ввода основ. ср-в'!B:B,0))),0,INDEX('План ввода основ. ср-в'!F:F,MATCH(B130,'План ввода основ. ср-в'!B:B,0)))","v":0},{"$f":"IF(AND(AB130=0,AD130=0),\"\",\"/\")","v":""},{"$f":"IF(ISNA(INDEX('План ввода основ. ср-в'!E:E,MATCH(B130,'План ввода основ. ср-в'!B:B,0))),0,INDEX('План ввода основ. ср-в'!E:E,MATCH(B130,'План ввода основ. ср-в'!B:B,0)))","v":0},{"$f":"IF(ISNA(INDEX('План ввода основ. ср-в'!H:H,MATCH(B130,'План ввода основ. ср-в'!B:B,0))),0,INDEX('План ввода основ. ср-в'!H:H,MATCH(B130,'План ввода основ. ср-в'!B:B,0)))","v":0},{"$f":"IF(AND(AE130=0,AG130=0),\"\",\"/\")","v":""},{"$f":"IF(ISNA(INDEX('План ввода основ. ср-в'!G:G,MATCH(B130,'План ввода основ. ср-в'!B:B,0))),0,INDEX('План ввода основ. ср-в'!G:G,MATCH(B130,'План ввода основ. ср-в'!B:B,0)))","v":0},{"$f":"IF(ISNA(INDEX('План ввода основ. ср-в'!J:J,MATCH(B130,'План ввода основ. ср-в'!B:B,0))),0,INDEX('План ввода основ. ср-в'!J:J,MATCH(B130,'План ввода основ. ср-в'!B:B,0)))","v":0},{"$f":"IF(AND(AH130=0,AJ130=0),\"\",\"/\")","v":""},{"$f":"IF(ISNA(INDEX('План ввода основ. ср-в'!I:I,MATCH(B130,'План ввода основ. ср-в'!B:B,0))),0,INDEX('План ввода основ. ср-в'!I:I,MATCH(B130,'План ввода основ. ср-в'!B:B,0)))","v":0},{"$f":"IF(ISNA(INDEX('План ввода основ. ср-в'!L:L,MATCH(B130,'План ввода основ. ср-в'!B:B,0))),0,INDEX('План ввода основ. ср-в'!L:L,MATCH(B130,'План ввода основ. ср-в'!B:B,0)))","v":0},{"$f":"IF(AND(AK130=0,AM130=0),\"\",\"/\")","v":""},{"$f":"IF(ISNA(INDEX('План ввода основ. ср-в'!K:K,MATCH(B130,'План ввода основ. ср-в'!B:B,0))),0,INDEX('План ввода основ. ср-в'!K:K,MATCH(B130,'План ввода основ. ср-в'!B:B,0)))","v":0},0,"/",0,{"$f":"IF(ISNA(INDEX('План ввода основ. ср-в'!N:N,MATCH(B130,'План ввода основ. ср-в'!B:B,0))),0,INDEX('План ввода основ. ср-в'!N:N,MATCH(B130,'План ввода основ. ср-в'!B:B,0)))","v":0},{"$f":"IF(AND(AQ130=0,AS130=0),\"\",\"/\")","v":""},{"$f":"IF(ISNA(INDEX('План ввода основ. ср-в'!M:M,MATCH(B130,'План ввода основ. ср-в'!B:B,0))),0,INDEX('План ввода основ. ср-в'!M:M,MATCH(B130,'План ввода основ. ср-в'!B:B,0)))","v":0},{"$f":"IF(ISNA(INDEX('План ввода основ. ср-в'!P:P,MATCH(B130,'План ввода основ. ср-в'!B:B,0))),0,INDEX('План ввода основ. ср-в'!P:P,MATCH(B130,'План ввода основ. ср-в'!B:B,0)))","v":0},{"$f":"IF(AND(AT130=0,AV130=0),\"\",\"/\")","v":""},{"$f":"IF(ISNA(INDEX('План ввода основ. ср-в'!O:O,MATCH(B130,'План ввода основ. ср-в'!B:B,0))),0,INDEX('План ввода основ. ср-в'!O:O,MATCH(B130,'План ввода основ. ср-в'!B:B,0)))","v":0},{"$f":"IF(ISNA(INDEX('План ввода основ. ср-в'!R:R,MATCH(B130,'План ввода основ. ср-в'!B:B,0))),0,INDEX('План ввода основ. ср-в'!R:R,MATCH(B130,'План ввода основ. ср-в'!B:B,0)))","v":0},{"$f":"IF(AND(AW130=0,AY130=0),\"\",\"/\")","v":""},{"$f":"IF(ISNA(INDEX('План ввода основ. ср-в'!Q:Q,MATCH(B130,'План ввода основ. ср-в'!B:B,0))),0,INDEX('План ввода основ. ср-в'!Q:Q,MATCH(B130,'План ввода основ. ср-в'!B:B,0)))","v":0},{"$f":"IF(ISNA(INDEX('План ввода основ. ср-в'!T:T,MATCH(B130,'План ввода основ. ср-в'!B:B,0))),0,INDEX('План ввода основ. ср-в'!T:T,MATCH(B130,'План ввода основ. ср-в'!B:B,0)))","v":1.52},{"$f":"IF(AND(AZ130=0,BB130=0),\"\",\"/\")","v":"/"},{"$f":"IF(ISNA(INDEX('План ввода основ. ср-в'!S:S,MATCH(B130,'План ввода основ. ср-в'!B:B,0))),0,INDEX('План ввода основ. ср-в'!S:S,MATCH(B130,'План ввода основ. ср-в'!B:B,0)))","v":0.16},1.52,"/",0.16,{"$f":"IF(ISNA(INDEX('План ввода основ. ср-в'!V:V,MATCH(B130,'План ввода основ. ср-в'!B:B,0))),0,INDEX('План ввода основ. ср-в'!V:V,MATCH(B130,'План ввода основ. ср-в'!B:B,0)))","v":0},{"$f":"IF(ISNA(INDEX('План ввода основ. ср-в'!W:W,MATCH(B130,'План ввода основ. ср-в'!B:B,0))),0,INDEX('План ввода основ. ср-в'!W:W,MATCH(B130,'План ввода основ. ср-в'!B:B,0)))","v":0},{"$f":"IF(ISNA(INDEX('План ввода основ. ср-в'!X:X,MATCH(B130,'План ввода основ. ср-в'!B:B,0))),0,INDEX('План ввода основ. ср-в'!X:X,MATCH(B130,'План ввода основ. ср-в'!B:B,0)))","v":0},{"$f":"IF(ISNA(INDEX('План ввода основ. ср-в'!Y:Y,MATCH(B130,'План ввода основ. ср-в'!B:B,0))),0,INDEX('План ввода основ. ср-в'!Y:Y,MATCH(B130,'План ввода основ. ср-в'!B:B,0)))","v":0},0,{"$f":"IF(ISNA(INDEX('План ввода основ. ср-в'!Z:Z,MATCH(B130,'План ввода основ. ср-в'!B:B,0))),0,INDEX('План ввода основ. ср-в'!Z:Z,MATCH(B130,'План ввода основ. ср-в'!B:B,0)))","v":0},{"$f":"IF(ISNA(INDEX('План ввода основ. ср-в'!AA:AA,MATCH(B130,'План ввода основ. ср-в'!B:B,0))),0,INDEX('План ввода основ. ср-в'!AA:AA,MATCH(B130,'План ввода основ. ср-в'!B:B,0)))","v":0},{"$f":"IF(ISNA(INDEX('План ввода основ. ср-в'!AB:AB,MATCH(B130,'План ввода основ. ср-в'!B:B,0))),0,INDEX('План ввода основ. ср-в'!AB:AB,MATCH(B130,'План ввода основ. ср-в'!B:B,0)))","v":0},{"$f":"IF(ISNA(INDEX('План ввода основ. ср-в'!AC:AC,MATCH(B130,'План ввода основ. ср-в'!B:B,0))),0,INDEX('План ввода основ. ср-в'!AC:AC,MATCH(B130,'План ввода основ. ср-в'!B:B,0)))","v":4.623728813559322},4.623728813559322]
[109,"Кошкинский район",null,null,null,null,null,null,0,"",0,0,"",0,0,"",0,0,"",0,0,"",0,0,"/",0,0,{"$f":"IF(ISNA(INDEX('План ввода основ. ср-в'!F:F,MATCH(B131,'План ввода основ. ср-в'!B:B,0))),0,INDEX('План ввода основ. ср-в'!F:F,MATCH(B131,'План ввода основ. ср-в'!B:B,0)))","v":0},"",{"$f":"IF(ISNA(INDEX('План ввода основ. ср-в'!E:E,MATCH(B131,'План ввода основ. ср-в'!B:B,0))),0,INDEX('План ввода основ. ср-в'!E:E,MATCH(B131,'План ввода основ. ср-в'!B:B,0)))","v":0},{"$f":"IF(ISNA(INDEX('План ввода основ. ср-в'!H:H,MATCH(B131,'План ввода основ. ср-в'!B:B,0))),0,INDEX('План ввода основ. ср-в'!H:H,MATCH(B131,'План ввода основ. ср-в'!B:B,0)))","v":0},"",{"$f":"IF(ISNA(INDEX('План ввода основ. ср-в'!G:G,MATCH(B131,'План ввода основ. ср-в'!B:B,0))),0,INDEX('План ввода основ. ср-в'!G:G,MATCH(B131,'План ввода основ. ср-в'!B:B,0)))","v":0},{"$f":"IF(ISNA(INDEX('План ввода основ. ср-в'!J:J,MATCH(B131,'План ввода основ. ср-в'!B:B,0))),0,INDEX('План ввода основ. ср-в'!J:J,MATCH(B131,'План ввода основ. ср-в'!B:B,0)))","v":0},"",{"$f":"IF(ISNA(INDEX('План ввода основ. ср-в'!I:I,MATCH(B131,'План ввода основ. ср-в'!B:B,0))),0,INDEX('План ввода основ. ср-в'!I:I,MATCH(B131,'План ввода основ. ср-в'!B:B,0)))","v":0},{"$f":"IF(ISNA(INDEX('План ввода основ. ср-в'!L:L,MATCH(B131,'План ввода основ. ср-в'!B:B,0))),0,INDEX('План ввода основ. ср-в'!L:L,MATCH(B131,'План ввода основ. ср-в'!B:B,0)))","v":0},"",{"$f":"IF(ISNA(INDEX('План ввода основ. ср-в'!K:K,MATCH(B131,'План ввода основ. ср-в'!B:B,0))),0,INDEX('План ввода основ. ср-в'!K:K,MATCH(B131,'План ввода основ. ср-в'!B:B,0)))","v":0},0,"/",0,{"$f":"IF(ISNA(INDEX('План ввода основ. ср-в'!N:N,MATCH(B131,'План ввода основ. ср-в'!B:B,0))),0,INDEX('План ввода основ. ср-в'!N:N,MATCH(B131,'План ввода основ. ср-в'!B:B,0)))","v":0},"",{"$f":"IF(ISNA(INDEX('План ввода основ. ср-в'!M:M,MATCH(B131,'План ввода основ. ср-в'!B:B,0))),0,INDEX('План ввода основ. ср-в'!M:M,MATCH(B131,'План ввода основ. ср-в'!B:B,0)))","v":0},{"$f":"IF(ISNA(INDEX('План ввода основ. ср-в'!P:P,MATCH(B131,'План ввода основ. ср-в'!B:B,0))),0,INDEX('План ввода основ. ср-в'!P:P,MATCH(B131,'План ввода основ. ср-в'!B:B,0)))","v":0},"",{"$f":"IF(ISNA(INDEX('План ввода основ. ср-в'!O:O,MATCH(B131,'План ввода основ. ср-в'!B:B,0))),0,INDEX('План ввода основ. ср-в'!O:O,MATCH(B131,'План ввода основ. ср-в'!B:B,0)))","v":0},{"$f":"IF(ISNA(INDEX('План ввода основ. ср-в'!R:R,MATCH(B131,'План ввода основ. ср-в'!B:B,0))),0,INDEX('План ввода основ. ср-в'!R:R,MATCH(B131,'План ввода основ. ср-в'!B:B,0)))","v":0},"",{"$f":"IF(ISNA(INDEX('План ввода основ. ср-в'!Q:Q,MATCH(B131,'План ввода основ. ср-в'!B:B,0))),0,INDEX('План ввода основ. ср-в'!Q:Q,MATCH(B131,'План ввода основ. ср-в'!B:B,0)))","v":0},{"$f":"IF(ISNA(INDEX('План ввода основ. ср-в'!T:T,MATCH(B131,'План ввода основ. ср-в'!B:B,0))),0,INDEX('План ввода основ. ср-в'!T:T,MATCH(B131,'План ввода основ. ср-в'!B:B,0)))","v":0},"",{"$f":"IF(ISNA(INDEX('План ввода основ. ср-в'!S:S,MATCH(B131,'План ввода основ. ср-в'!B:B,0))),0,INDEX('План ввода основ. ср-в'!S:S,MATCH(B131,'План ввода основ. ср-в'!B:B,0)))","v":0},0,"/",0,{"$f":"IF(ISNA(INDEX('План ввода основ. ср-в'!V:V,MATCH(B131,'План ввода основ. ср-в'!B:B,0))),0,INDEX('План ввода основ. ср-в'!V:V,MATCH(B131,'План ввода основ. ср-в'!B:B,0)))","v":0},{"$f":"IF(ISNA(INDEX('План ввода основ. ср-в'!W:W,MATCH(B131,'План ввода основ. ср-в'!B:B,0))),0,INDEX('План ввода основ. ср-в'!W:W,MATCH(B131,'План ввода основ. ср-в'!B:B,0)))","v":0},{"$f":"IF(ISNA(INDEX('План ввода основ. ср-в'!X:X,MATCH(B131,'План ввода основ. ср-в'!B:B,0))),0,INDEX('План ввода основ. ср-в'!X:X,MATCH(B131,'План ввода основ. ср-в'!B:B,0)))","v":0},{"$f":"IF(ISNA(INDEX('План ввода основ. ср-в'!Y:Y,MATCH(B131,'План ввода основ. ср-в'!B:B,0))),0,INDEX('План ввода основ. ср-в'!Y:Y,MATCH(B131,'План ввода основ. ср-в'!B:B,0)))","v":0},0,{"$f":"IF(ISNA(INDEX('План ввода основ. ср-в'!Z:Z,MATCH(B131,'План ввода основ. ср-в'!B:B,0))),0,INDEX('План ввода основ. ср-в'!Z:Z,MATCH(B131,'План ввода основ. ср-в'!B:B,0)))","v":0},{"$f":"IF(ISNA(INDEX('План ввода основ. ср-в'!AA:AA,MATCH(B131,'План ввода основ. ср-в'!B:B,0))),0,INDEX('План ввода основ. ср-в'!AA:AA,MATCH(B131,'План ввода основ. ср-в'!B:B,0)))","v":0},{"$f":"IF(ISNA(INDEX('План ввода основ. ср-в'!AB:AB,MATCH(B131,'План ввода основ. ср-в'!B:B,0))),0,INDEX('План ввода основ. ср-в'!AB:AB,MATCH(B131,'План ввода основ. ср-в'!B:B,0)))","v":0},{"$f":"IF(ISNA(INDEX('План ввода основ. ср-в'!AC:AC,MATCH(B131,'План ввода основ. ср-в'!B:B,0))),0,INDEX('План ввода основ. ср-в'!AC:AC,MATCH(B131,'План ввода основ. ср-в'!B:B,0)))","v":0},0]
[110,"Реконструкция ВЛ-10 кВ КШК-11 ",null,null,null,null,null,null,3.47,"/",0,0,"",0,0,"",0,0,"",0,0,"",0,3.47,"/",0,9.4101694915254228,{"$f":"IF(ISNA(INDEX('План ввода основ. ср-в'!F:F,MATCH(B132,'План ввода основ. ср-в'!B:B,0))),0,INDEX('План ввода основ. ср-в'!F:F,MATCH(B132,'План ввода основ. ср-в'!B:B,0)))","v":0},"",{"$f":"IF(ISNA(INDEX('План ввода основ. ср-в'!E:E,MATCH(B132,'План ввода основ. ср-в'!B:B,0))),0,INDEX('План ввода основ. ср-в'!E:E,MATCH(B132,'План ввода основ. ср-в'!B:B,0)))","v":0},{"$f":"IF(ISNA(INDEX('План ввода основ. ср-в'!H:H,MATCH(B132,'План ввода основ. ср-в'!B:B,0))),0,INDEX('План ввода основ. ср-в'!H:H,MATCH(B132,'План ввода основ. ср-в'!B:B,0)))","v":0},"",{"$f":"IF(ISNA(INDEX('План ввода основ. ср-в'!G:G,MATCH(B132,'План ввода основ. ср-в'!B:B,0))),0,INDEX('План ввода основ. ср-в'!G:G,MATCH(B132,'План ввода основ. ср-в'!B:B,0)))","v":0},{"$f":"IF(ISNA(INDEX('План ввода основ. ср-в'!J:J,MATCH(B132,'План ввода основ. ср-в'!B:B,0))),0,INDEX('План ввода основ. ср-в'!J:J,MATCH(B132,'План ввода основ. ср-в'!B:B,0)))","v":0},"",{"$f":"IF(ISNA(INDEX('План ввода основ. ср-в'!I:I,MATCH(B132,'План ввода основ. ср-в'!B:B,0))),0,INDEX('План ввода основ. ср-в'!I:I,MATCH(B132,'План ввода основ. ср-в'!B:B,0)))","v":0},{"$f":"IF(ISNA(INDEX('План ввода основ. ср-в'!L:L,MATCH(B132,'План ввода основ. ср-в'!B:B,0))),0,INDEX('План ввода основ. ср-в'!L:L,MATCH(B132,'План ввода основ. ср-в'!B:B,0)))","v":3.47},"/",{"$f":"IF(ISNA(INDEX('План ввода основ. ср-в'!K:K,MATCH(B132,'План ввода основ. ср-в'!B:B,0))),0,INDEX('План ввода основ. ср-в'!K:K,MATCH(B132,'План ввода основ. ср-в'!B:B,0)))","v":0},3.47,"/",0,{"$f":"IF(ISNA(INDEX('План ввода основ. ср-в'!N:N,MATCH(B132,'План ввода основ. ср-в'!B:B,0))),0,INDEX('План ввода основ. ср-в'!N:N,MATCH(B132,'План ввода основ. ср-в'!B:B,0)))","v":0},"",{"$f":"IF(ISNA(INDEX('План ввода основ. ср-в'!M:M,MATCH(B132,'План ввода основ. ср-в'!B:B,0))),0,INDEX('План ввода основ. ср-в'!M:M,MATCH(B132,'План ввода основ. ср-в'!B:B,0)))","v":0},{"$f":"IF(ISNA(INDEX('План ввода основ. ср-в'!P:P,MATCH(B132,'План ввода основ. ср-в'!B:B,0))),0,INDEX('План ввода основ. ср-в'!P:P,MATCH(B132,'План ввода основ. ср-в'!B:B,0)))","v":0},"",{"$f":"IF(ISNA(INDEX('План ввода основ. ср-в'!O:O,MATCH(B132,'План ввода основ. ср-в'!B:B,0))),0,INDEX('План ввода основ. ср-в'!O:O,MATCH(B132,'План ввода основ. ср-в'!B:B,0)))","v":0},{"$f":"IF(ISNA(INDEX('План ввода основ. ср-в'!R:R,MATCH(B132,'План ввода основ. ср-в'!B:B,0))),0,INDEX('План ввода основ. ср-в'!R:R,MATCH(B132,'План ввода основ. ср-в'!B:B,0)))","v":0},"",{"$f":"IF(ISNA(INDEX('План ввода основ. ср-в'!Q:Q,MATCH(B132,'План ввода основ. ср-в'!B:B,0))),0,INDEX('План ввода основ. ср-в'!Q:Q,MATCH(B132,'План ввода основ. ср-в'!B:B,0)))","v":0},{"$f":"IF(ISNA(INDEX('План ввода основ. ср-в'!T:T,MATCH(B132,'План ввода основ. ср-в'!B:B,0))),0,INDEX('План ввода основ. ср-в'!T:T,MATCH(B132,'План ввода основ. ср-в'!B:B,0)))","v":0},"",{"$f":"IF(ISNA(INDEX('План ввода основ. ср-в'!S:S,MATCH(B132,'План ввода основ. ср-в'!B:B,0))),0,INDEX('План ввода основ. ср-в'!S:S,MATCH(B132,'План ввода основ. ср-в'!B:B,0)))","v":0},3.47,"/",0,{"$f":"IF(ISNA(INDEX('План ввода основ. ср-в'!V:V,MATCH(B132,'План ввода основ. ср-в'!B:B,0))),0,INDEX('План ввода основ. ср-в'!V:V,MATCH(B132,'План ввода основ. ср-в'!B:B,0)))","v":0},{"$f":"IF(ISNA(INDEX('План ввода основ. ср-в'!W:W,MATCH(B132,'План ввода основ. ср-в'!B:B,0))),0,INDEX('План ввода основ. ср-в'!W:W,MATCH(B132,'План ввода основ. ср-в'!B:B,0)))","v":1.4115254237288133},{"$f":"IF(ISNA(INDEX('План ввода основ. ср-в'!X:X,MATCH(B132,'План ввода основ. ср-в'!B:B,0))),0,INDEX('План ввода основ. ср-в'!X:X,MATCH(B132,'План ввода основ. ср-в'!B:B,0)))","v":3.2935593220338979},{"$f":"IF(ISNA(INDEX('План ввода основ. ср-в'!Y:Y,MATCH(B132,'План ввода основ. ср-в'!B:B,0))),0,INDEX('План ввода основ. ср-в'!Y:Y,MATCH(B132,'План ввода основ. ср-в'!B:B,0)))","v":4.7050847457627114},9.4101694915254228,{"$f":"IF(ISNA(INDEX('План ввода основ. ср-в'!Z:Z,MATCH(B132,'План ввода основ. ср-в'!B:B,0))),0,INDEX('План ввода основ. ср-в'!Z:Z,MATCH(B132,'План ввода основ. ср-в'!B:B,0)))","v":0},{"$f":"IF(ISNA(INDEX('План ввода основ. ср-в'!AA:AA,MATCH(B132,'План ввода основ. ср-в'!B:B,0))),0,INDEX('План ввода основ. ср-в'!AA:AA,MATCH(B132,'План ввода основ. ср-в'!B:B,0)))","v":0},{"$f":"IF(ISNA(INDEX('План ввода основ. ср-в'!AB:AB,MATCH(B132,'План ввода основ. ср-в'!B:B,0))),0,INDEX('План ввода основ. ср-в'!AB:AB,MATCH(B132,'План ввода основ. ср-в'!B:B,0)))","v":0},{"$f":"IF(ISNA(INDEX('План ввода основ. ср-в'!AC:AC,MATCH(B132,'План ввода основ. ср-в'!B:B,0))),0,INDEX('План ввода основ. ср-в'!AC:AC,MATCH(B132,'План ввода основ. ср-в'!B:B,0)))","v":0},9.4101694915254228]
[111,"Реконструкция ВЛ-0,4 кВ от КТП КШК 1109/400 кВА с заменой  КТП ",null,null,null,null,null,null,2.2400000000000002,null,0.4,0,null,0,null,null,null,0,null,0,0,null,0,2.2400000000000002,null,0.4,7.4305084745762722,{"$f":"IF(ISNA(INDEX('План ввода основ. ср-в'!F:F,MATCH(B133,'План ввода основ. ср-в'!B:B,0))),0,INDEX('План ввода основ. ср-в'!F:F,MATCH(B133,'План ввода основ. ср-в'!B:B,0)))","v":0},null,{"$f":"IF(ISNA(INDEX('План ввода основ. ср-в'!E:E,MATCH(B133,'План ввода основ. ср-в'!B:B,0))),0,INDEX('План ввода основ. ср-в'!E:E,MATCH(B133,'План ввода основ. ср-в'!B:B,0)))","v":0},{"$f":"IF(ISNA(INDEX('План ввода основ. ср-в'!H:H,MATCH(B133,'План ввода основ. ср-в'!B:B,0))),0,INDEX('План ввода основ. ср-в'!H:H,MATCH(B133,'План ввода основ. ср-в'!B:B,0)))","v":0},null,{"$f":"IF(ISNA(INDEX('План ввода основ. ср-в'!G:G,MATCH(B133,'План ввода основ. ср-в'!B:B,0))),0,INDEX('План ввода основ. ср-в'!G:G,MATCH(B133,'План ввода основ. ср-в'!B:B,0)))","v":0},{"$f":"IF(ISNA(INDEX('План ввода основ. ср-в'!J:J,MATCH(B133,'План ввода основ. ср-в'!B:B,0))),0,INDEX('План ввода основ. ср-в'!J:J,MATCH(B133,'План ввода основ. ср-в'!B:B,0)))","v":0},null,{"$f":"IF(ISNA(INDEX('План ввода основ. ср-в'!I:I,MATCH(B133,'План ввода основ. ср-в'!B:B,0))),0,INDEX('План ввода основ. ср-в'!I:I,MATCH(B133,'План ввода основ. ср-в'!B:B,0)))","v":0},{"$f":"IF(ISNA(INDEX('План ввода основ. ср-в'!L:L,MATCH(B133,'План ввода основ. ср-в'!B:B,0))),0,INDEX('План ввода основ. ср-в'!L:L,MATCH(B133,'План ввода основ. ср-в'!B:B,0)))","v":2.2400000000000002},null,{"$f":"IF(ISNA(INDEX('План ввода основ. ср-в'!K:K,MATCH(B133,'План ввода основ. ср-в'!B:B,0))),0,INDEX('План ввода основ. ср-в'!K:K,MATCH(B133,'План ввода основ. ср-в'!B:B,0)))","v":0.4},2.2400000000000002,null,0.4,{"$f":"IF(ISNA(INDEX('План ввода основ. ср-в'!N:N,MATCH(B133,'План ввода основ. ср-в'!B:B,0))),0,INDEX('План ввода основ. ср-в'!N:N,MATCH(B133,'План ввода основ. ср-в'!B:B,0)))","v":0},null,{"$f":"IF(ISNA(INDEX('План ввода основ. ср-в'!M:M,MATCH(B133,'План ввода основ. ср-в'!B:B,0))),0,INDEX('План ввода основ. ср-в'!M:M,MATCH(B133,'План ввода основ. ср-в'!B:B,0)))","v":0},{"$f":"IF(ISNA(INDEX('План ввода основ. ср-в'!P:P,MATCH(B133,'План ввода основ. ср-в'!B:B,0))),0,INDEX('План ввода основ. ср-в'!P:P,MATCH(B133,'План ввода основ. ср-в'!B:B,0)))","v":0},null,{"$f":"IF(ISNA(INDEX('План ввода основ. ср-в'!O:O,MATCH(B133,'План ввода основ. ср-в'!B:B,0))),0,INDEX('План ввода основ. ср-в'!O:O,MATCH(B133,'План ввода основ. ср-в'!B:B,0)))","v":0},{"$f":"IF(ISNA(INDEX('План ввода основ. ср-в'!R:R,MATCH(B133,'План ввода основ. ср-в'!B:B,0))),0,INDEX('План ввода основ. ср-в'!R:R,MATCH(B133,'План ввода основ. ср-в'!B:B,0)))","v":0},null,{"$f":"IF(ISNA(INDEX('План ввода основ. ср-в'!Q:Q,MATCH(B133,'План ввода основ. ср-в'!B:B,0))),0,INDEX('План ввода основ. ср-в'!Q:Q,MATCH(B133,'План ввода основ. ср-в'!B:B,0)))","v":0},{"$f":"IF(ISNA(INDEX('План ввода основ. ср-в'!T:T,MATCH(B133,'План ввода основ. ср-в'!B:B,0))),0,INDEX('План ввода основ. ср-в'!T:T,MATCH(B133,'План ввода основ. ср-в'!B:B,0)))","v":0},null,{"$f":"IF(ISNA(INDEX('План ввода основ. ср-в'!S:S,MATCH(B133,'План ввода основ. ср-в'!B:B,0))),0,INDEX('План ввода основ. ср-в'!S:S,MATCH(B133,'План ввода основ. ср-в'!B:B,0)))","v":0},2.2400000000000002,null,0.4,null,{"$f":"IF(ISNA(INDEX('План ввода основ. ср-в'!W:W,MATCH(B133,'План ввода основ. ср-в'!B:B,0))),0,INDEX('План ввода основ. ср-в'!W:W,MATCH(B133,'План ввода основ. ср-в'!B:B,0)))","v":1.1145762711864409},{"$f":"IF(ISNA(INDEX('План ввода основ. ср-в'!X:X,MATCH(B133,'План ввода основ. ср-в'!B:B,0))),0,INDEX('План ввода основ. ср-в'!X:X,MATCH(B133,'План ввода основ. ср-в'!B:B,0)))","v":2.6006779661016952},{"$f":"IF(ISNA(INDEX('План ввода основ. ср-в'!Y:Y,MATCH(B133,'План ввода основ. ср-в'!B:B,0))),0,INDEX('План ввода основ. ср-в'!Y:Y,MATCH(B133,'План ввода основ. ср-в'!B:B,0)))","v":3.7152542372881361},7.4305084745762722,{"$f":"IF(ISNA(INDEX('План ввода основ. ср-в'!Z:Z,MATCH(B133,'План ввода основ. ср-в'!B:B,0))),0,INDEX('План ввода основ. ср-в'!Z:Z,MATCH(B133,'План ввода основ. ср-в'!B:B,0)))","v":0},{"$f":"IF(ISNA(INDEX('План ввода основ. ср-в'!AA:AA,MATCH(B133,'План ввода основ. ср-в'!B:B,0))),0,INDEX('План ввода основ. ср-в'!AA:AA,MATCH(B133,'План ввода основ. ср-в'!B:B,0)))","v":0},{"$f":"IF(ISNA(INDEX('План ввода основ. ср-в'!AB:AB,MATCH(B133,'План ввода основ. ср-в'!B:B,0))),0,INDEX('План ввода основ. ср-в'!AB:AB,MATCH(B133,'План ввода основ. ср-в'!B:B,0)))","v":0},{"$f":"IF(ISNA(INDEX('План ввода основ. ср-в'!AC:AC,MATCH(B133,'План ввода основ. ср-в'!B:B,0))),0,INDEX('План ввода основ. ср-в'!AC:AC,MATCH(B133,'План ввода основ. ср-в'!B:B,0)))","v":0},7.4305084745762722]
[112,"Реконструкция ВЛ-0,4 кВ от КТП КШК 511/100 кВА с заменой  КТП на 160 кВА ",null,null,null,null,null,null,2.68,null,0.1,0,null,0,null,null,null,0,null,0,0,null,0,2.68,null,0.1,8.3694915254237294,{"$f":"IF(ISNA(INDEX('План ввода основ. ср-в'!F:F,MATCH(B134,'План ввода основ. ср-в'!B:B,0))),0,INDEX('План ввода основ. ср-в'!F:F,MATCH(B134,'План ввода основ. ср-в'!B:B,0)))","v":0},null,{"$f":"IF(ISNA(INDEX('План ввода основ. ср-в'!E:E,MATCH(B134,'План ввода основ. ср-в'!B:B,0))),0,INDEX('План ввода основ. ср-в'!E:E,MATCH(B134,'План ввода основ. ср-в'!B:B,0)))","v":0},{"$f":"IF(ISNA(INDEX('План ввода основ. ср-в'!H:H,MATCH(B134,'План ввода основ. ср-в'!B:B,0))),0,INDEX('План ввода основ. ср-в'!H:H,MATCH(B134,'План ввода основ. ср-в'!B:B,0)))","v":0},null,{"$f":"IF(ISNA(INDEX('План ввода основ. ср-в'!G:G,MATCH(B134,'План ввода основ. ср-в'!B:B,0))),0,INDEX('План ввода основ. ср-в'!G:G,MATCH(B134,'План ввода основ. ср-в'!B:B,0)))","v":0},{"$f":"IF(ISNA(INDEX('План ввода основ. ср-в'!J:J,MATCH(B134,'План ввода основ. ср-в'!B:B,0))),0,INDEX('План ввода основ. ср-в'!J:J,MATCH(B134,'План ввода основ. ср-в'!B:B,0)))","v":0},null,{"$f":"IF(ISNA(INDEX('План ввода основ. ср-в'!I:I,MATCH(B134,'План ввода основ. ср-в'!B:B,0))),0,INDEX('План ввода основ. ср-в'!I:I,MATCH(B134,'План ввода основ. ср-в'!B:B,0)))","v":0},{"$f":"IF(ISNA(INDEX('План ввода основ. ср-в'!L:L,MATCH(B134,'План ввода основ. ср-в'!B:B,0))),0,INDEX('План ввода основ. ср-в'!L:L,MATCH(B134,'План ввода основ. ср-в'!B:B,0)))","v":2.68},null,{"$f":"IF(ISNA(INDEX('План ввода основ. ср-в'!K:K,MATCH(B134,'План ввода основ. ср-в'!B:B,0))),0,INDEX('План ввода основ. ср-в'!K:K,MATCH(B134,'План ввода основ. ср-в'!B:B,0)))","v":0.16},2.68,null,0.16,{"$f":"IF(ISNA(INDEX('План ввода основ. ср-в'!N:N,MATCH(B134,'План ввода основ. ср-в'!B:B,0))),0,INDEX('План ввода основ. ср-в'!N:N,MATCH(B134,'План ввода основ. ср-в'!B:B,0)))","v":0},null,{"$f":"IF(ISNA(INDEX('План ввода основ. ср-в'!M:M,MATCH(B134,'План ввода основ. ср-в'!B:B,0))),0,INDEX('План ввода основ. ср-в'!M:M,MATCH(B134,'План ввода основ. ср-в'!B:B,0)))","v":0},{"$f":"IF(ISNA(INDEX('План ввода основ. ср-в'!P:P,MATCH(B134,'План ввода основ. ср-в'!B:B,0))),0,INDEX('План ввода основ. ср-в'!P:P,MATCH(B134,'План ввода основ. ср-в'!B:B,0)))","v":0},null,{"$f":"IF(ISNA(INDEX('План ввода основ. ср-в'!O:O,MATCH(B134,'План ввода основ. ср-в'!B:B,0))),0,INDEX('План ввода основ. ср-в'!O:O,MATCH(B134,'План ввода основ. ср-в'!B:B,0)))","v":0},{"$f":"IF(ISNA(INDEX('План ввода основ. ср-в'!R:R,MATCH(B134,'План ввода основ. ср-в'!B:B,0))),0,INDEX('План ввода основ. ср-в'!R:R,MATCH(B134,'План ввода основ. ср-в'!B:B,0)))","v":0},null,{"$f":"IF(ISNA(INDEX('План ввода основ. ср-в'!Q:Q,MATCH(B134,'План ввода основ. ср-в'!B:B,0))),0,INDEX('План ввода основ. ср-в'!Q:Q,MATCH(B134,'План ввода основ. ср-в'!B:B,0)))","v":0},{"$f":"IF(ISNA(INDEX('План ввода основ. ср-в'!T:T,MATCH(B134,'План ввода основ. ср-в'!B:B,0))),0,INDEX('План ввода основ. ср-в'!T:T,MATCH(B134,'План ввода основ. ср-в'!B:B,0)))","v":0},null,{"$f":"IF(ISNA(INDEX('План ввода основ. ср-в'!S:S,MATCH(B134,'План ввода основ. ср-в'!B:B,0))),0,INDEX('План ввода основ. ср-в'!S:S,MATCH(B134,'План ввода основ. ср-в'!B:B,0)))","v":0},2.68,null,0.16,null,{"$f":"IF(ISNA(INDEX('План ввода основ. ср-в'!W:W,MATCH(B134,'План ввода основ. ср-в'!B:B,0))),0,INDEX('План ввода основ. ср-в'!W:W,MATCH(B134,'План ввода основ. ср-в'!B:B,0)))","v":1.2554237288135595},{"$f":"IF(ISNA(INDEX('План ввода основ. ср-в'!X:X,MATCH(B134,'План ввода основ. ср-в'!B:B,0))),0,INDEX('План ввода основ. ср-в'!X:X,MATCH(B134,'План ввода основ. ср-в'!B:B,0)))","v":2.929322033898305},{"$f":"IF(ISNA(INDEX('План ввода основ. ср-в'!Y:Y,MATCH(B134,'План ввода основ. ср-в'!B:B,0))),0,INDEX('План ввода основ. ср-в'!Y:Y,MATCH(B134,'План ввода основ. ср-в'!B:B,0)))","v":4.1847457627118647},8.3694915254237294,{"$f":"IF(ISNA(INDEX('План ввода основ. ср-в'!Z:Z,MATCH(B134,'План ввода основ. ср-в'!B:B,0))),0,INDEX('План ввода основ. ср-в'!Z:Z,MATCH(B134,'План ввода основ. ср-в'!B:B,0)))","v":0},{"$f":"IF(ISNA(INDEX('План ввода основ. ср-в'!AA:AA,MATCH(B134,'План ввода основ. ср-в'!B:B,0))),0,INDEX('План ввода основ. ср-в'!AA:AA,MATCH(B134,'План ввода основ. ср-в'!B:B,0)))","v":0},{"$f":"IF(ISNA(INDEX('План ввода основ. ср-в'!AB:AB,MATCH(B134,'План ввода основ. ср-в'!B:B,0))),0,INDEX('План ввода основ. ср-в'!AB:AB,MATCH(B134,'План ввода основ. ср-в'!B:B,0)))","v":0},{"$f":"IF(ISNA(INDEX('План ввода основ. ср-в'!AC:AC,MATCH(B134,'План ввода основ. ср-в'!B:B,0))),0,INDEX('План ввода основ. ср-в'!AC:AC,MATCH(B134,'План ввода основ. ср-в'!B:B,0)))","v":0},8.3694915254237294]
[113,"Реконструкция ВЛ-0,4 кВ от КТП КШК 709/250 кВА с заменой  КТП ",null,null,null,null,null,null,1.9,"/",0.25,0,null,0,0,null,0,0,null,0,0,null,0,1.9,"/",0.25,6.3050847457627128,{"$f":"IF(ISNA(INDEX('План ввода основ. ср-в'!F:F,MATCH(B135,'План ввода основ. ср-в'!B:B,0))),0,INDEX('План ввода основ. ср-в'!F:F,MATCH(B135,'План ввода основ. ср-в'!B:B,0)))","v":0},null,{"$f":"IF(ISNA(INDEX('План ввода основ. ср-в'!E:E,MATCH(B135,'План ввода основ. ср-в'!B:B,0))),0,INDEX('План ввода основ. ср-в'!E:E,MATCH(B135,'План ввода основ. ср-в'!B:B,0)))","v":0},{"$f":"IF(ISNA(INDEX('План ввода основ. ср-в'!H:H,MATCH(B135,'План ввода основ. ср-в'!B:B,0))),0,INDEX('План ввода основ. ср-в'!H:H,MATCH(B135,'План ввода основ. ср-в'!B:B,0)))","v":0},null,{"$f":"IF(ISNA(INDEX('План ввода основ. ср-в'!G:G,MATCH(B135,'План ввода основ. ср-в'!B:B,0))),0,INDEX('План ввода основ. ср-в'!G:G,MATCH(B135,'План ввода основ. ср-в'!B:B,0)))","v":0},{"$f":"IF(ISNA(INDEX('План ввода основ. ср-в'!J:J,MATCH(B135,'План ввода основ. ср-в'!B:B,0))),0,INDEX('План ввода основ. ср-в'!J:J,MATCH(B135,'План ввода основ. ср-в'!B:B,0)))","v":0},null,{"$f":"IF(ISNA(INDEX('План ввода основ. ср-в'!I:I,MATCH(B135,'План ввода основ. ср-в'!B:B,0))),0,INDEX('План ввода основ. ср-в'!I:I,MATCH(B135,'План ввода основ. ср-в'!B:B,0)))","v":0},{"$f":"IF(ISNA(INDEX('План ввода основ. ср-в'!L:L,MATCH(B135,'План ввода основ. ср-в'!B:B,0))),0,INDEX('План ввода основ. ср-в'!L:L,MATCH(B135,'План ввода основ. ср-в'!B:B,0)))","v":1.9},"/",{"$f":"IF(ISNA(INDEX('План ввода основ. ср-в'!K:K,MATCH(B135,'План ввода основ. ср-в'!B:B,0))),0,INDEX('План ввода основ. ср-в'!K:K,MATCH(B135,'План ввода основ. ср-в'!B:B,0)))","v":0.25},1.9,"/",0.25,{"$f":"IF(ISNA(INDEX('План ввода основ. ср-в'!N:N,MATCH(B135,'План ввода основ. ср-в'!B:B,0))),0,INDEX('План ввода основ. ср-в'!N:N,MATCH(B135,'План ввода основ. ср-в'!B:B,0)))","v":0},null,{"$f":"IF(ISNA(INDEX('План ввода основ. ср-в'!M:M,MATCH(B135,'План ввода основ. ср-в'!B:B,0))),0,INDEX('План ввода основ. ср-в'!M:M,MATCH(B135,'План ввода основ. ср-в'!B:B,0)))","v":0},{"$f":"IF(ISNA(INDEX('План ввода основ. ср-в'!P:P,MATCH(B135,'План ввода основ. ср-в'!B:B,0))),0,INDEX('План ввода основ. ср-в'!P:P,MATCH(B135,'План ввода основ. ср-в'!B:B,0)))","v":0},null,{"$f":"IF(ISNA(INDEX('План ввода основ. ср-в'!O:O,MATCH(B135,'План ввода основ. ср-в'!B:B,0))),0,INDEX('План ввода основ. ср-в'!O:O,MATCH(B135,'План ввода основ. ср-в'!B:B,0)))","v":0},{"$f":"IF(ISNA(INDEX('План ввода основ. ср-в'!R:R,MATCH(B135,'План ввода основ. ср-в'!B:B,0))),0,INDEX('План ввода основ. ср-в'!R:R,MATCH(B135,'План ввода основ. ср-в'!B:B,0)))","v":0},null,{"$f":"IF(ISNA(INDEX('План ввода основ. ср-в'!Q:Q,MATCH(B135,'План ввода основ. ср-в'!B:B,0))),0,INDEX('План ввода основ. ср-в'!Q:Q,MATCH(B135,'План ввода основ. ср-в'!B:B,0)))","v":0},{"$f":"IF(ISNA(INDEX('План ввода основ. ср-в'!T:T,MATCH(B135,'План ввода основ. ср-в'!B:B,0))),0,INDEX('План ввода основ. ср-в'!T:T,MATCH(B135,'План ввода основ. ср-в'!B:B,0)))","v":0},null,{"$f":"IF(ISNA(INDEX('План ввода основ. ср-в'!S:S,MATCH(B135,'План ввода основ. ср-в'!B:B,0))),0,INDEX('План ввода основ. ср-в'!S:S,MATCH(B135,'План ввода основ. ср-в'!B:B,0)))","v":0},1.9,"/",0.25,{"$f":"IF(ISNA(INDEX('План ввода основ. ср-в'!V:V,MATCH(B135,'План ввода основ. ср-в'!B:B,0))),0,INDEX('План ввода основ. ср-в'!V:V,MATCH(B135,'План ввода основ. ср-в'!B:B,0)))","v":0},{"$f":"IF(ISNA(INDEX('План ввода основ. ср-в'!W:W,MATCH(B135,'План ввода основ. ср-в'!B:B,0))),0,INDEX('План ввода основ. ср-в'!W:W,MATCH(B135,'План ввода основ. ср-в'!B:B,0)))","v":0.94576271186440686},{"$f":"IF(ISNA(INDEX('План ввода основ. ср-в'!X:X,MATCH(B135,'План ввода основ. ср-в'!B:B,0))),0,INDEX('План ввода основ. ср-в'!X:X,MATCH(B135,'План ввода основ. ср-в'!B:B,0)))","v":2.2067796610169492},{"$f":"IF(ISNA(INDEX('План ввода основ. ср-в'!Y:Y,MATCH(B135,'План ввода основ. ср-в'!B:B,0))),0,INDEX('План ввода основ. ср-в'!Y:Y,MATCH(B135,'План ввода основ. ср-в'!B:B,0)))","v":3.1525423728813564},6.3050847457627128,{"$f":"IF(ISNA(INDEX('План ввода основ. ср-в'!Z:Z,MATCH(B135,'План ввода основ. ср-в'!B:B,0))),0,INDEX('План ввода основ. ср-в'!Z:Z,MATCH(B135,'План ввода основ. ср-в'!B:B,0)))","v":0},{"$f":"IF(ISNA(INDEX('План ввода основ. ср-в'!AA:AA,MATCH(B135,'План ввода основ. ср-в'!B:B,0))),0,INDEX('План ввода основ. ср-в'!AA:AA,MATCH(B135,'План ввода основ. ср-в'!B:B,0)))","v":0},{"$f":"IF(ISNA(INDEX('План ввода основ. ср-в'!AB:AB,MATCH(B135,'План ввода основ. ср-в'!B:B,0))),0,INDEX('План ввода основ. ср-в'!AB:AB,MATCH(B135,'План ввода основ. ср-в'!B:B,0)))","v":0},{"$f":"IF(ISNA(INDEX('План ввода основ. ср-в'!AC:AC,MATCH(B135,'План ввода основ. ср-в'!B:B,0))),0,INDEX('План ввода основ. ср-в'!AC:AC,MATCH(B135,'План ввода основ. ср-в'!B:B,0)))","v":0},6.3050847457627128]
[114,"Реконструкция ВЛ-0,4 кВ от КТП КШК 1103/400 кВА с заменой  КТП ",null,null,null,null,null,null,2.0299999999999998,"/",0.4,0,"",0,0,"",0,0,"",0,0,"",0,2.0299999999999998,"/",0.4,6.8610169491525426,{"$f":"IF(ISNA(INDEX('План ввода основ. ср-в'!F:F,MATCH(B136,'План ввода основ. ср-в'!B:B,0))),0,INDEX('План ввода основ. ср-в'!F:F,MATCH(B136,'План ввода основ. ср-в'!B:B,0)))","v":0},"",{"$f":"IF(ISNA(INDEX('План ввода основ. ср-в'!E:E,MATCH(B136,'План ввода основ. ср-в'!B:B,0))),0,INDEX('План ввода основ. ср-в'!E:E,MATCH(B136,'План ввода основ. ср-в'!B:B,0)))","v":0},{"$f":"IF(ISNA(INDEX('План ввода основ. ср-в'!H:H,MATCH(B136,'План ввода основ. ср-в'!B:B,0))),0,INDEX('План ввода основ. ср-в'!H:H,MATCH(B136,'План ввода основ. ср-в'!B:B,0)))","v":0},"",{"$f":"IF(ISNA(INDEX('План ввода основ. ср-в'!G:G,MATCH(B136,'План ввода основ. ср-в'!B:B,0))),0,INDEX('План ввода основ. ср-в'!G:G,MATCH(B136,'План ввода основ. ср-в'!B:B,0)))","v":0},{"$f":"IF(ISNA(INDEX('План ввода основ. ср-в'!J:J,MATCH(B136,'План ввода основ. ср-в'!B:B,0))),0,INDEX('План ввода основ. ср-в'!J:J,MATCH(B136,'План ввода основ. ср-в'!B:B,0)))","v":0},"",{"$f":"IF(ISNA(INDEX('План ввода основ. ср-в'!I:I,MATCH(B136,'План ввода основ. ср-в'!B:B,0))),0,INDEX('План ввода основ. ср-в'!I:I,MATCH(B136,'План ввода основ. ср-в'!B:B,0)))","v":0},{"$f":"IF(ISNA(INDEX('План ввода основ. ср-в'!L:L,MATCH(B136,'План ввода основ. ср-в'!B:B,0))),0,INDEX('План ввода основ. ср-в'!L:L,MATCH(B136,'План ввода основ. ср-в'!B:B,0)))","v":2.0299999999999998},"/",{"$f":"IF(ISNA(INDEX('План ввода основ. ср-в'!K:K,MATCH(B136,'План ввода основ. ср-в'!B:B,0))),0,INDEX('План ввода основ. ср-в'!K:K,MATCH(B136,'План ввода основ. ср-в'!B:B,0)))","v":0.4},2.0299999999999998,"/",0.4,{"$f":"IF(ISNA(INDEX('План ввода основ. ср-в'!N:N,MATCH(B136,'План ввода основ. ср-в'!B:B,0))),0,INDEX('План ввода основ. ср-в'!N:N,MATCH(B136,'План ввода основ. ср-в'!B:B,0)))","v":0},"",{"$f":"IF(ISNA(INDEX('План ввода основ. ср-в'!M:M,MATCH(B136,'План ввода основ. ср-в'!B:B,0))),0,INDEX('План ввода основ. ср-в'!M:M,MATCH(B136,'План ввода основ. ср-в'!B:B,0)))","v":0},{"$f":"IF(ISNA(INDEX('План ввода основ. ср-в'!P:P,MATCH(B136,'План ввода основ. ср-в'!B:B,0))),0,INDEX('План ввода основ. ср-в'!P:P,MATCH(B136,'План ввода основ. ср-в'!B:B,0)))","v":0},"",{"$f":"IF(ISNA(INDEX('План ввода основ. ср-в'!O:O,MATCH(B136,'План ввода основ. ср-в'!B:B,0))),0,INDEX('План ввода основ. ср-в'!O:O,MATCH(B136,'План ввода основ. ср-в'!B:B,0)))","v":0},{"$f":"IF(ISNA(INDEX('План ввода основ. ср-в'!R:R,MATCH(B136,'План ввода основ. ср-в'!B:B,0))),0,INDEX('План ввода основ. ср-в'!R:R,MATCH(B136,'План ввода основ. ср-в'!B:B,0)))","v":0},"",{"$f":"IF(ISNA(INDEX('План ввода основ. ср-в'!Q:Q,MATCH(B136,'План ввода основ. ср-в'!B:B,0))),0,INDEX('План ввода основ. ср-в'!Q:Q,MATCH(B136,'План ввода основ. ср-в'!B:B,0)))","v":0},{"$f":"IF(ISNA(INDEX('План ввода основ. ср-в'!T:T,MATCH(B136,'План ввода основ. ср-в'!B:B,0))),0,INDEX('План ввода основ. ср-в'!T:T,MATCH(B136,'План ввода основ. ср-в'!B:B,0)))","v":0},"",{"$f":"IF(ISNA(INDEX('План ввода основ. ср-в'!S:S,MATCH(B136,'План ввода основ. ср-в'!B:B,0))),0,INDEX('План ввода основ. ср-в'!S:S,MATCH(B136,'План ввода основ. ср-в'!B:B,0)))","v":0},2.0299999999999998,"/",0.4,{"$f":"IF(ISNA(INDEX('План ввода основ. ср-в'!V:V,MATCH(B136,'План ввода основ. ср-в'!B:B,0))),0,INDEX('План ввода основ. ср-в'!V:V,MATCH(B136,'План ввода основ. ср-в'!B:B,0)))","v":0},{"$f":"IF(ISNA(INDEX('План ввода основ. ср-в'!W:W,MATCH(B136,'План ввода основ. ср-в'!B:B,0))),0,INDEX('План ввода основ. ср-в'!W:W,MATCH(B136,'План ввода основ. ср-в'!B:B,0)))","v":1.0291525423728813},{"$f":"IF(ISNA(INDEX('План ввода основ. ср-в'!X:X,MATCH(B136,'План ввода основ. ср-в'!B:B,0))),0,INDEX('План ввода основ. ср-в'!X:X,MATCH(B136,'План ввода основ. ср-в'!B:B,0)))","v":2.4013559322033897},{"$f":"IF(ISNA(INDEX('План ввода основ. ср-в'!Y:Y,MATCH(B136,'План ввода основ. ср-в'!B:B,0))),0,INDEX('План ввода основ. ср-в'!Y:Y,MATCH(B136,'План ввода основ. ср-в'!B:B,0)))","v":3.4305084745762713},6.8610169491525426,{"$f":"IF(ISNA(INDEX('План ввода основ. ср-в'!Z:Z,MATCH(B136,'План ввода основ. ср-в'!B:B,0))),0,INDEX('План ввода основ. ср-в'!Z:Z,MATCH(B136,'План ввода основ. ср-в'!B:B,0)))","v":0},{"$f":"IF(ISNA(INDEX('План ввода основ. ср-в'!AA:AA,MATCH(B136,'План ввода основ. ср-в'!B:B,0))),0,INDEX('План ввода основ. ср-в'!AA:AA,MATCH(B136,'План ввода основ. ср-в'!B:B,0)))","v":0},{"$f":"IF(ISNA(INDEX('План ввода основ. ср-в'!AB:AB,MATCH(B136,'План ввода основ. ср-в'!B:B,0))),0,INDEX('План ввода основ. ср-в'!AB:AB,MATCH(B136,'План ввода основ. ср-в'!B:B,0)))","v":0},{"$f":"IF(ISNA(INDEX('План ввода основ. ср-в'!AC:AC,MATCH(B136,'План ввода основ. ср-в'!B:B,0))),0,INDEX('План ввода основ. ср-в'!AC:AC,MATCH(B136,'План ввода основ. ср-в'!B:B,0)))","v":0},6.8610169491525426]
[115,"Реконструкция ВКЛ-0,4 кВ от ЗТП НАД 1102/2х400 кВА с заменой ЗТП на КТП 400 кВА",null,null,null,null,null,null,1.85,{"$f":"IF(AND(I137=0,K137=0),\"\",\"/\")","v":"/"},0.8,0,{"$f":"IF(AND(L137=0,N137=0),\"\",\"/\")","v":""},0,0,{"$f":"IF(AND(O137=0,Q137=0),\"\",\"/\")","v":""},0,0,{"$f":"IF(AND(R137=0,T137=0),\"\",\"/\")","v":""},0,0,{"$f":"IF(AND(U137=0,W137=0),\"\",\"/\")","v":""},0,1.85,"/",0.8,6.703389830508474,{"$f":"IF(ISNA(INDEX('План ввода основ. ср-в'!F:F,MATCH(B137,'План ввода основ. ср-в'!B:B,0))),0,INDEX('План ввода основ. ср-в'!F:F,MATCH(B137,'План ввода основ. ср-в'!B:B,0)))","v":0},{"$f":"IF(AND(AB137=0,AD137=0),\"\",\"/\")","v":""},{"$f":"IF(ISNA(INDEX('План ввода основ. ср-в'!E:E,MATCH(B137,'План ввода основ. ср-в'!B:B,0))),0,INDEX('План ввода основ. ср-в'!E:E,MATCH(B137,'План ввода основ. ср-в'!B:B,0)))","v":0},{"$f":"IF(ISNA(INDEX('План ввода основ. ср-в'!H:H,MATCH(B137,'План ввода основ. ср-в'!B:B,0))),0,INDEX('План ввода основ. ср-в'!H:H,MATCH(B137,'План ввода основ. ср-в'!B:B,0)))","v":0},{"$f":"IF(AND(AE137=0,AG137=0),\"\",\"/\")","v":""},{"$f":"IF(ISNA(INDEX('План ввода основ. ср-в'!G:G,MATCH(B137,'План ввода основ. ср-в'!B:B,0))),0,INDEX('План ввода основ. ср-в'!G:G,MATCH(B137,'План ввода основ. ср-в'!B:B,0)))","v":0},{"$f":"IF(ISNA(INDEX('План ввода основ. ср-в'!J:J,MATCH(B137,'План ввода основ. ср-в'!B:B,0))),0,INDEX('План ввода основ. ср-в'!J:J,MATCH(B137,'План ввода основ. ср-в'!B:B,0)))","v":0},{"$f":"IF(AND(AH137=0,AJ137=0),\"\",\"/\")","v":""},{"$f":"IF(ISNA(INDEX('План ввода основ. ср-в'!I:I,MATCH(B137,'План ввода основ. ср-в'!B:B,0))),0,INDEX('План ввода основ. ср-в'!I:I,MATCH(B137,'План ввода основ. ср-в'!B:B,0)))","v":0},{"$f":"IF(ISNA(INDEX('План ввода основ. ср-в'!L:L,MATCH(B137,'План ввода основ. ср-в'!B:B,0))),0,INDEX('План ввода основ. ср-в'!L:L,MATCH(B137,'План ввода основ. ср-в'!B:B,0)))","v":1.85},{"$f":"IF(AND(AK137=0,AM137=0),\"\",\"/\")","v":"/"},{"$f":"IF(ISNA(INDEX('План ввода основ. ср-в'!K:K,MATCH(B137,'План ввода основ. ср-в'!B:B,0))),0,INDEX('План ввода основ. ср-в'!K:K,MATCH(B137,'План ввода основ. ср-в'!B:B,0)))","v":0.4},1.85,"/",0.4,{"$f":"IF(ISNA(INDEX('План ввода основ. ср-в'!N:N,MATCH(B137,'План ввода основ. ср-в'!B:B,0))),0,INDEX('План ввода основ. ср-в'!N:N,MATCH(B137,'План ввода основ. ср-в'!B:B,0)))","v":0},{"$f":"IF(AND(AQ137=0,AS137=0),\"\",\"/\")","v":""},{"$f":"IF(ISNA(INDEX('План ввода основ. ср-в'!M:M,MATCH(B137,'План ввода основ. ср-в'!B:B,0))),0,INDEX('План ввода основ. ср-в'!M:M,MATCH(B137,'План ввода основ. ср-в'!B:B,0)))","v":0},{"$f":"IF(ISNA(INDEX('План ввода основ. ср-в'!P:P,MATCH(B137,'План ввода основ. ср-в'!B:B,0))),0,INDEX('План ввода основ. ср-в'!P:P,MATCH(B137,'План ввода основ. ср-в'!B:B,0)))","v":0},{"$f":"IF(AND(AT137=0,AV137=0),\"\",\"/\")","v":""},{"$f":"IF(ISNA(INDEX('План ввода основ. ср-в'!O:O,MATCH(B137,'План ввода основ. ср-в'!B:B,0))),0,INDEX('План ввода основ. ср-в'!O:O,MATCH(B137,'План ввода основ. ср-в'!B:B,0)))","v":0},{"$f":"IF(ISNA(INDEX('План ввода основ. ср-в'!R:R,MATCH(B137,'План ввода основ. ср-в'!B:B,0))),0,INDEX('План ввода основ. ср-в'!R:R,MATCH(B137,'План ввода основ. ср-в'!B:B,0)))","v":0},{"$f":"IF(AND(AW137=0,AY137=0),\"\",\"/\")","v":""},{"$f":"IF(ISNA(INDEX('План ввода основ. ср-в'!Q:Q,MATCH(B137,'План ввода основ. ср-в'!B:B,0))),0,INDEX('План ввода основ. ср-в'!Q:Q,MATCH(B137,'План ввода основ. ср-в'!B:B,0)))","v":0},{"$f":"IF(ISNA(INDEX('План ввода основ. ср-в'!T:T,MATCH(B137,'План ввода основ. ср-в'!B:B,0))),0,INDEX('План ввода основ. ср-в'!T:T,MATCH(B137,'План ввода основ. ср-в'!B:B,0)))","v":0},{"$f":"IF(AND(AZ137=0,BB137=0),\"\",\"/\")","v":""},{"$f":"IF(ISNA(INDEX('План ввода основ. ср-в'!S:S,MATCH(B137,'План ввода основ. ср-в'!B:B,0))),0,INDEX('План ввода основ. ср-в'!S:S,MATCH(B137,'План ввода основ. ср-в'!B:B,0)))","v":0},1.85,"/",0.4,{"$f":"IF(ISNA(INDEX('План ввода основ. ср-в'!V:V,MATCH(B137,'План ввода основ. ср-в'!B:B,0))),0,INDEX('План ввода основ. ср-в'!V:V,MATCH(B137,'План ввода основ. ср-в'!B:B,0)))","v":0},{"$f":"IF(ISNA(INDEX('План ввода основ. ср-в'!W:W,MATCH(B137,'План ввода основ. ср-в'!B:B,0))),0,INDEX('План ввода основ. ср-в'!W:W,MATCH(B137,'План ввода основ. ср-в'!B:B,0)))","v":1.0055084745762712},{"$f":"IF(ISNA(INDEX('План ввода основ. ср-в'!X:X,MATCH(B137,'План ввода основ. ср-в'!B:B,0))),0,INDEX('План ввода основ. ср-в'!X:X,MATCH(B137,'План ввода основ. ср-в'!B:B,0)))","v":2.346186440677966},{"$f":"IF(ISNA(INDEX('План ввода основ. ср-в'!Y:Y,MATCH(B137,'План ввода основ. ср-в'!B:B,0))),0,INDEX('План ввода основ. ср-в'!Y:Y,MATCH(B137,'План ввода основ. ср-в'!B:B,0)))","v":3.3516949152542375},6.703389830508474,{"$f":"IF(ISNA(INDEX('План ввода основ. ср-в'!Z:Z,MATCH(B137,'План ввода основ. ср-в'!B:B,0))),0,INDEX('План ввода основ. ср-в'!Z:Z,MATCH(B137,'План ввода основ. ср-в'!B:B,0)))","v":0},{"$f":"IF(ISNA(INDEX('План ввода основ. ср-в'!AA:AA,MATCH(B137,'План ввода основ. ср-в'!B:B,0))),0,INDEX('План ввода основ. ср-в'!AA:AA,MATCH(B137,'План ввода основ. ср-в'!B:B,0)))","v":0},{"$f":"IF(ISNA(INDEX('План ввода основ. ср-в'!AB:AB,MATCH(B137,'План ввода основ. ср-в'!B:B,0))),0,INDEX('План ввода основ. ср-в'!AB:AB,MATCH(B137,'План ввода основ. ср-в'!B:B,0)))","v":0},{"$f":"IF(ISNA(INDEX('План ввода основ. ср-в'!AC:AC,MATCH(B137,'План ввода основ. ср-в'!B:B,0))),0,INDEX('План ввода основ. ср-в'!AC:AC,MATCH(B137,'План ввода основ. ср-в'!B:B,0)))","v":0},6.703389830508474]
[116,"Реконструкция ВЛ-0,4 кВ от ЗТП КШК102/320 кВА с заменой ЗТП на КТП 400 кВА",null,null,null,null,null,null,0.7,"/",0.32,0,"",0,0,"",0,0,"",0,0,"",0,0.7,"/",0.32,3.2542372881355934,{"$f":"IF(ISNA(INDEX('План ввода основ. ср-в'!F:F,MATCH(B138,'План ввода основ. ср-в'!B:B,0))),0,INDEX('План ввода основ. ср-в'!F:F,MATCH(B138,'План ввода основ. ср-в'!B:B,0)))","v":0},"",{"$f":"IF(ISNA(INDEX('План ввода основ. ср-в'!E:E,MATCH(B138,'План ввода основ. ср-в'!B:B,0))),0,INDEX('План ввода основ. ср-в'!E:E,MATCH(B138,'План ввода основ. ср-в'!B:B,0)))","v":0},{"$f":"IF(ISNA(INDEX('План ввода основ. ср-в'!H:H,MATCH(B138,'План ввода основ. ср-в'!B:B,0))),0,INDEX('План ввода основ. ср-в'!H:H,MATCH(B138,'План ввода основ. ср-в'!B:B,0)))","v":0},"",{"$f":"IF(ISNA(INDEX('План ввода основ. ср-в'!G:G,MATCH(B138,'План ввода основ. ср-в'!B:B,0))),0,INDEX('План ввода основ. ср-в'!G:G,MATCH(B138,'План ввода основ. ср-в'!B:B,0)))","v":0},{"$f":"IF(ISNA(INDEX('План ввода основ. ср-в'!J:J,MATCH(B138,'План ввода основ. ср-в'!B:B,0))),0,INDEX('План ввода основ. ср-в'!J:J,MATCH(B138,'План ввода основ. ср-в'!B:B,0)))","v":0},"",{"$f":"IF(ISNA(INDEX('План ввода основ. ср-в'!I:I,MATCH(B138,'План ввода основ. ср-в'!B:B,0))),0,INDEX('План ввода основ. ср-в'!I:I,MATCH(B138,'План ввода основ. ср-в'!B:B,0)))","v":0},{"$f":"IF(ISNA(INDEX('План ввода основ. ср-в'!L:L,MATCH(B138,'План ввода основ. ср-в'!B:B,0))),0,INDEX('План ввода основ. ср-в'!L:L,MATCH(B138,'План ввода основ. ср-в'!B:B,0)))","v":0.7},"/",{"$f":"IF(ISNA(INDEX('План ввода основ. ср-в'!K:K,MATCH(B138,'План ввода основ. ср-в'!B:B,0))),0,INDEX('План ввода основ. ср-в'!K:K,MATCH(B138,'План ввода основ. ср-в'!B:B,0)))","v":0.4},0.7,"/",0.4,{"$f":"IF(ISNA(INDEX('План ввода основ. ср-в'!N:N,MATCH(B138,'План ввода основ. ср-в'!B:B,0))),0,INDEX('План ввода основ. ср-в'!N:N,MATCH(B138,'План ввода основ. ср-в'!B:B,0)))","v":0},"",{"$f":"IF(ISNA(INDEX('План ввода основ. ср-в'!M:M,MATCH(B138,'План ввода основ. ср-в'!B:B,0))),0,INDEX('План ввода основ. ср-в'!M:M,MATCH(B138,'План ввода основ. ср-в'!B:B,0)))","v":0},{"$f":"IF(ISNA(INDEX('План ввода основ. ср-в'!P:P,MATCH(B138,'План ввода основ. ср-в'!B:B,0))),0,INDEX('План ввода основ. ср-в'!P:P,MATCH(B138,'План ввода основ. ср-в'!B:B,0)))","v":0},"",{"$f":"IF(ISNA(INDEX('План ввода основ. ср-в'!O:O,MATCH(B138,'План ввода основ. ср-в'!B:B,0))),0,INDEX('План ввода основ. ср-в'!O:O,MATCH(B138,'План ввода основ. ср-в'!B:B,0)))","v":0},{"$f":"IF(ISNA(INDEX('План ввода основ. ср-в'!R:R,MATCH(B138,'План ввода основ. ср-в'!B:B,0))),0,INDEX('План ввода основ. ср-в'!R:R,MATCH(B138,'План ввода основ. ср-в'!B:B,0)))","v":0},"",{"$f":"IF(ISNA(INDEX('План ввода основ. ср-в'!Q:Q,MATCH(B138,'План ввода основ. ср-в'!B:B,0))),0,INDEX('План ввода основ. ср-в'!Q:Q,MATCH(B138,'План ввода основ. ср-в'!B:B,0)))","v":0},{"$f":"IF(ISNA(INDEX('План ввода основ. ср-в'!T:T,MATCH(B138,'План ввода основ. ср-в'!B:B,0))),0,INDEX('План ввода основ. ср-в'!T:T,MATCH(B138,'План ввода основ. ср-в'!B:B,0)))","v":0},"",{"$f":"IF(ISNA(INDEX('План ввода основ. ср-в'!S:S,MATCH(B138,'План ввода основ. ср-в'!B:B,0))),0,INDEX('План ввода основ. ср-в'!S:S,MATCH(B138,'План ввода основ. ср-в'!B:B,0)))","v":0},0.7,"/",0.4,{"$f":"IF(ISNA(INDEX('План ввода основ. ср-в'!V:V,MATCH(B138,'План ввода основ. ср-в'!B:B,0))),0,INDEX('План ввода основ. ср-в'!V:V,MATCH(B138,'План ввода основ. ср-в'!B:B,0)))","v":0},{"$f":"IF(ISNA(INDEX('План ввода основ. ср-в'!W:W,MATCH(B138,'План ввода основ. ср-в'!B:B,0))),0,INDEX('План ввода основ. ср-в'!W:W,MATCH(B138,'План ввода основ. ср-в'!B:B,0)))","v":0.488135593220339},{"$f":"IF(ISNA(INDEX('План ввода основ. ср-в'!X:X,MATCH(B138,'План ввода основ. ср-в'!B:B,0))),0,INDEX('План ввода основ. ср-в'!X:X,MATCH(B138,'План ввода основ. ср-в'!B:B,0)))","v":1.1389830508474577},{"$f":"IF(ISNA(INDEX('План ввода основ. ср-в'!Y:Y,MATCH(B138,'План ввода основ. ср-в'!B:B,0))),0,INDEX('План ввода основ. ср-в'!Y:Y,MATCH(B138,'План ввода основ. ср-в'!B:B,0)))","v":1.6271186440677967},3.2542372881355934,{"$f":"IF(ISNA(INDEX('План ввода основ. ср-в'!Z:Z,MATCH(B138,'План ввода основ. ср-в'!B:B,0))),0,INDEX('План ввода основ. ср-в'!Z:Z,MATCH(B138,'План ввода основ. ср-в'!B:B,0)))","v":0},{"$f":"IF(ISNA(INDEX('План ввода основ. ср-в'!AA:AA,MATCH(B138,'План ввода основ. ср-в'!B:B,0))),0,INDEX('План ввода основ. ср-в'!AA:AA,MATCH(B138,'План ввода основ. ср-в'!B:B,0)))","v":0},{"$f":"IF(ISNA(INDEX('План ввода основ. ср-в'!AB:AB,MATCH(B138,'План ввода основ. ср-в'!B:B,0))),0,INDEX('План ввода основ. ср-в'!AB:AB,MATCH(B138,'План ввода основ. ср-в'!B:B,0)))","v":0},{"$f":"IF(ISNA(INDEX('План ввода основ. ср-в'!AC:AC,MATCH(B138,'План ввода основ. ср-в'!B:B,0))),0,INDEX('План ввода основ. ср-в'!AC:AC,MATCH(B138,'План ввода основ. ср-в'!B:B,0)))","v":0},3.2542372881355934]
[117,"Реконструкция ВЛ-0,4 кВ от КТП САД 709/160 кВА с заменой КТП на 250 кВА ",null,null,null,null,null,null,1.3,{"$f":"IF(AND(I139=0,K139=0),\"\",\"/\")","v":"/"},0.16,0,{"$f":"IF(AND(L139=0,N139=0),\"\",\"/\")","v":""},0,0,{"$f":"IF(AND(O139=0,Q139=0),\"\",\"/\")","v":""},0,0,{"$f":"IF(AND(R139=0,T139=0),\"\",\"/\")","v":""},0,0,{"$f":"IF(AND(U139=0,W139=0),\"\",\"/\")","v":""},0,1.3,"/",0.16,4.6271186440677967,{"$f":"IF(ISNA(INDEX('План ввода основ. ср-в'!F:F,MATCH(B139,'План ввода основ. ср-в'!B:B,0))),0,INDEX('План ввода основ. ср-в'!F:F,MATCH(B139,'План ввода основ. ср-в'!B:B,0)))","v":0},{"$f":"IF(AND(AB139=0,AD139=0),\"\",\"/\")","v":""},{"$f":"IF(ISNA(INDEX('План ввода основ. ср-в'!E:E,MATCH(B139,'План ввода основ. ср-в'!B:B,0))),0,INDEX('План ввода основ. ср-в'!E:E,MATCH(B139,'План ввода основ. ср-в'!B:B,0)))","v":0},{"$f":"IF(ISNA(INDEX('План ввода основ. ср-в'!H:H,MATCH(B139,'План ввода основ. ср-в'!B:B,0))),0,INDEX('План ввода основ. ср-в'!H:H,MATCH(B139,'План ввода основ. ср-в'!B:B,0)))","v":0},{"$f":"IF(AND(AE139=0,AG139=0),\"\",\"/\")","v":""},{"$f":"IF(ISNA(INDEX('План ввода основ. ср-в'!G:G,MATCH(B139,'План ввода основ. ср-в'!B:B,0))),0,INDEX('План ввода основ. ср-в'!G:G,MATCH(B139,'План ввода основ. ср-в'!B:B,0)))","v":0},{"$f":"IF(ISNA(INDEX('План ввода основ. ср-в'!J:J,MATCH(B139,'План ввода основ. ср-в'!B:B,0))),0,INDEX('План ввода основ. ср-в'!J:J,MATCH(B139,'План ввода основ. ср-в'!B:B,0)))","v":0},{"$f":"IF(AND(AH139=0,AJ139=0),\"\",\"/\")","v":""},{"$f":"IF(ISNA(INDEX('План ввода основ. ср-в'!I:I,MATCH(B139,'План ввода основ. ср-в'!B:B,0))),0,INDEX('План ввода основ. ср-в'!I:I,MATCH(B139,'План ввода основ. ср-в'!B:B,0)))","v":0},{"$f":"IF(ISNA(INDEX('План ввода основ. ср-в'!L:L,MATCH(B139,'План ввода основ. ср-в'!B:B,0))),0,INDEX('План ввода основ. ср-в'!L:L,MATCH(B139,'План ввода основ. ср-в'!B:B,0)))","v":1.3},{"$f":"IF(AND(AK139=0,AM139=0),\"\",\"/\")","v":"/"},{"$f":"IF(ISNA(INDEX('План ввода основ. ср-в'!K:K,MATCH(B139,'План ввода основ. ср-в'!B:B,0))),0,INDEX('План ввода основ. ср-в'!K:K,MATCH(B139,'План ввода основ. ср-в'!B:B,0)))","v":0.25},1.3,"/",0.25,{"$f":"IF(ISNA(INDEX('План ввода основ. ср-в'!N:N,MATCH(B139,'План ввода основ. ср-в'!B:B,0))),0,INDEX('План ввода основ. ср-в'!N:N,MATCH(B139,'План ввода основ. ср-в'!B:B,0)))","v":0},{"$f":"IF(AND(AQ139=0,AS139=0),\"\",\"/\")","v":""},{"$f":"IF(ISNA(INDEX('План ввода основ. ср-в'!M:M,MATCH(B139,'План ввода основ. ср-в'!B:B,0))),0,INDEX('План ввода основ. ср-в'!M:M,MATCH(B139,'План ввода основ. ср-в'!B:B,0)))","v":0},{"$f":"IF(ISNA(INDEX('План ввода основ. ср-в'!P:P,MATCH(B139,'План ввода основ. ср-в'!B:B,0))),0,INDEX('План ввода основ. ср-в'!P:P,MATCH(B139,'План ввода основ. ср-в'!B:B,0)))","v":0},{"$f":"IF(AND(AT139=0,AV139=0),\"\",\"/\")","v":""},{"$f":"IF(ISNA(INDEX('План ввода основ. ср-в'!O:O,MATCH(B139,'План ввода основ. ср-в'!B:B,0))),0,INDEX('План ввода основ. ср-в'!O:O,MATCH(B139,'План ввода основ. ср-в'!B:B,0)))","v":0},{"$f":"IF(ISNA(INDEX('План ввода основ. ср-в'!R:R,MATCH(B139,'План ввода основ. ср-в'!B:B,0))),0,INDEX('План ввода основ. ср-в'!R:R,MATCH(B139,'План ввода основ. ср-в'!B:B,0)))","v":0},{"$f":"IF(AND(AW139=0,AY139=0),\"\",\"/\")","v":""},{"$f":"IF(ISNA(INDEX('План ввода основ. ср-в'!Q:Q,MATCH(B139,'План ввода основ. ср-в'!B:B,0))),0,INDEX('План ввода основ. ср-в'!Q:Q,MATCH(B139,'План ввода основ. ср-в'!B:B,0)))","v":0},{"$f":"IF(ISNA(INDEX('План ввода основ. ср-в'!T:T,MATCH(B139,'План ввода основ. ср-в'!B:B,0))),0,INDEX('План ввода основ. ср-в'!T:T,MATCH(B139,'План ввода основ. ср-в'!B:B,0)))","v":0},{"$f":"IF(AND(AZ139=0,BB139=0),\"\",\"/\")","v":""},{"$f":"IF(ISNA(INDEX('План ввода основ. ср-в'!S:S,MATCH(B139,'План ввода основ. ср-в'!B:B,0))),0,INDEX('План ввода основ. ср-в'!S:S,MATCH(B139,'План ввода основ. ср-в'!B:B,0)))","v":0},1.3,"/",0.25,{"$f":"IF(ISNA(INDEX('План ввода основ. ср-в'!V:V,MATCH(B139,'План ввода основ. ср-в'!B:B,0))),0,INDEX('План ввода основ. ср-в'!V:V,MATCH(B139,'План ввода основ. ср-в'!B:B,0)))","v":0},{"$f":"IF(ISNA(INDEX('План ввода основ. ср-в'!W:W,MATCH(B139,'План ввода основ. ср-в'!B:B,0))),0,INDEX('План ввода основ. ср-в'!W:W,MATCH(B139,'План ввода основ. ср-в'!B:B,0)))","v":0.69406779661016949},{"$f":"IF(ISNA(INDEX('План ввода основ. ср-в'!X:X,MATCH(B139,'План ввода основ. ср-в'!B:B,0))),0,INDEX('План ввода основ. ср-в'!X:X,MATCH(B139,'План ввода основ. ср-в'!B:B,0)))","v":1.6194915254237288},{"$f":"IF(ISNA(INDEX('План ввода основ. ср-в'!Y:Y,MATCH(B139,'План ввода основ. ср-в'!B:B,0))),0,INDEX('План ввода основ. ср-в'!Y:Y,MATCH(B139,'План ввода основ. ср-в'!B:B,0)))","v":2.3135593220338984},4.6271186440677967,{"$f":"IF(ISNA(INDEX('План ввода основ. ср-в'!Z:Z,MATCH(B139,'План ввода основ. ср-в'!B:B,0))),0,INDEX('План ввода основ. ср-в'!Z:Z,MATCH(B139,'План ввода основ. ср-в'!B:B,0)))","v":0},{"$f":"IF(ISNA(INDEX('План ввода основ. ср-в'!AA:AA,MATCH(B139,'План ввода основ. ср-в'!B:B,0))),0,INDEX('План ввода основ. ср-в'!AA:AA,MATCH(B139,'План ввода основ. ср-в'!B:B,0)))","v":0},{"$f":"IF(ISNA(INDEX('План ввода основ. ср-в'!AB:AB,MATCH(B139,'План ввода основ. ср-в'!B:B,0))),0,INDEX('План ввода основ. ср-в'!AB:AB,MATCH(B139,'План ввода основ. ср-в'!B:B,0)))","v":0},{"$f":"IF(ISNA(INDEX('План ввода основ. ср-в'!AC:AC,MATCH(B139,'План ввода основ. ср-в'!B:B,0))),0,INDEX('План ввода основ. ср-в'!AC:AC,MATCH(B139,'План ввода основ. ср-в'!B:B,0)))","v":0},4.6271186440677967]
[118,"Реконструкция ВЛ-0,4 кВ от КТП КШК 109/160 с заменой ЗТП на  КТП 160 кВА",null,null,null,null,null,null,0,"",0,0.4,"/",0.16,0,"",0,0,"",0,0,"",0,0.4,"/",0.16,1.9661016949152541,{"$f":"IF(ISNA(INDEX('План ввода основ. ср-в'!F:F,MATCH(B140,'План ввода основ. ср-в'!B:B,0))),0,INDEX('План ввода основ. ср-в'!F:F,MATCH(B140,'План ввода основ. ср-в'!B:B,0)))","v":0},"",{"$f":"IF(ISNA(INDEX('План ввода основ. ср-в'!E:E,MATCH(B140,'План ввода основ. ср-в'!B:B,0))),0,INDEX('План ввода основ. ср-в'!E:E,MATCH(B140,'План ввода основ. ср-в'!B:B,0)))","v":0},{"$f":"IF(ISNA(INDEX('План ввода основ. ср-в'!H:H,MATCH(B140,'План ввода основ. ср-в'!B:B,0))),0,INDEX('План ввода основ. ср-в'!H:H,MATCH(B140,'План ввода основ. ср-в'!B:B,0)))","v":0},"",{"$f":"IF(ISNA(INDEX('План ввода основ. ср-в'!G:G,MATCH(B140,'План ввода основ. ср-в'!B:B,0))),0,INDEX('План ввода основ. ср-в'!G:G,MATCH(B140,'План ввода основ. ср-в'!B:B,0)))","v":0},{"$f":"IF(ISNA(INDEX('План ввода основ. ср-в'!J:J,MATCH(B140,'План ввода основ. ср-в'!B:B,0))),0,INDEX('План ввода основ. ср-в'!J:J,MATCH(B140,'План ввода основ. ср-в'!B:B,0)))","v":0},"",{"$f":"IF(ISNA(INDEX('План ввода основ. ср-в'!I:I,MATCH(B140,'План ввода основ. ср-в'!B:B,0))),0,INDEX('План ввода основ. ср-в'!I:I,MATCH(B140,'План ввода основ. ср-в'!B:B,0)))","v":0},{"$f":"IF(ISNA(INDEX('План ввода основ. ср-в'!L:L,MATCH(B140,'План ввода основ. ср-в'!B:B,0))),0,INDEX('План ввода основ. ср-в'!L:L,MATCH(B140,'План ввода основ. ср-в'!B:B,0)))","v":0},"",{"$f":"IF(ISNA(INDEX('План ввода основ. ср-в'!K:K,MATCH(B140,'План ввода основ. ср-в'!B:B,0))),0,INDEX('План ввода основ. ср-в'!K:K,MATCH(B140,'План ввода основ. ср-в'!B:B,0)))","v":0},0,"/",0,{"$f":"IF(ISNA(INDEX('План ввода основ. ср-в'!N:N,MATCH(B140,'План ввода основ. ср-в'!B:B,0))),0,INDEX('План ввода основ. ср-в'!N:N,MATCH(B140,'План ввода основ. ср-в'!B:B,0)))","v":0.4},"/",{"$f":"IF(ISNA(INDEX('План ввода основ. ср-в'!M:M,MATCH(B140,'План ввода основ. ср-в'!B:B,0))),0,INDEX('План ввода основ. ср-в'!M:M,MATCH(B140,'План ввода основ. ср-в'!B:B,0)))","v":0.16},{"$f":"IF(ISNA(INDEX('План ввода основ. ср-в'!P:P,MATCH(B140,'План ввода основ. ср-в'!B:B,0))),0,INDEX('План ввода основ. ср-в'!P:P,MATCH(B140,'План ввода основ. ср-в'!B:B,0)))","v":0},"",{"$f":"IF(ISNA(INDEX('План ввода основ. ср-в'!O:O,MATCH(B140,'План ввода основ. ср-в'!B:B,0))),0,INDEX('План ввода основ. ср-в'!O:O,MATCH(B140,'План ввода основ. ср-в'!B:B,0)))","v":0},{"$f":"IF(ISNA(INDEX('План ввода основ. ср-в'!R:R,MATCH(B140,'План ввода основ. ср-в'!B:B,0))),0,INDEX('План ввода основ. ср-в'!R:R,MATCH(B140,'План ввода основ. ср-в'!B:B,0)))","v":0},"",{"$f":"IF(ISNA(INDEX('План ввода основ. ср-в'!Q:Q,MATCH(B140,'План ввода основ. ср-в'!B:B,0))),0,INDEX('План ввода основ. ср-в'!Q:Q,MATCH(B140,'План ввода основ. ср-в'!B:B,0)))","v":0},{"$f":"IF(ISNA(INDEX('План ввода основ. ср-в'!T:T,MATCH(B140,'План ввода основ. ср-в'!B:B,0))),0,INDEX('План ввода основ. ср-в'!T:T,MATCH(B140,'План ввода основ. ср-в'!B:B,0)))","v":0},"",{"$f":"IF(ISNA(INDEX('План ввода основ. ср-в'!S:S,MATCH(B140,'План ввода основ. ср-в'!B:B,0))),0,INDEX('План ввода основ. ср-в'!S:S,MATCH(B140,'План ввода основ. ср-в'!B:B,0)))","v":0},0.4,"/",0.16,{"$f":"IF(ISNA(INDEX('План ввода основ. ср-в'!V:V,MATCH(B140,'План ввода основ. ср-в'!B:B,0))),0,INDEX('План ввода основ. ср-в'!V:V,MATCH(B140,'План ввода основ. ср-в'!B:B,0)))","v":0},{"$f":"IF(ISNA(INDEX('План ввода основ. ср-в'!W:W,MATCH(B140,'План ввода основ. ср-в'!B:B,0))),0,INDEX('План ввода основ. ср-в'!W:W,MATCH(B140,'План ввода основ. ср-в'!B:B,0)))","v":0},{"$f":"IF(ISNA(INDEX('План ввода основ. ср-в'!X:X,MATCH(B140,'План ввода основ. ср-в'!B:B,0))),0,INDEX('План ввода основ. ср-в'!X:X,MATCH(B140,'План ввода основ. ср-в'!B:B,0)))","v":0},{"$f":"IF(ISNA(INDEX('План ввода основ. ср-в'!Y:Y,MATCH(B140,'План ввода основ. ср-в'!B:B,0))),0,INDEX('План ввода основ. ср-в'!Y:Y,MATCH(B140,'План ввода основ. ср-в'!B:B,0)))","v":0},0,{"$f":"IF(ISNA(INDEX('План ввода основ. ср-в'!Z:Z,MATCH(B140,'План ввода основ. ср-в'!B:B,0))),0,INDEX('План ввода основ. ср-в'!Z:Z,MATCH(B140,'План ввода основ. ср-в'!B:B,0)))","v":1.9661016949152541},{"$f":"IF(ISNA(INDEX('План ввода основ. ср-в'!AA:AA,MATCH(B140,'План ввода основ. ср-в'!B:B,0))),0,INDEX('План ввода основ. ср-в'!AA:AA,MATCH(B140,'План ввода основ. ср-в'!B:B,0)))","v":0},{"$f":"IF(ISNA(INDEX('План ввода основ. ср-в'!AB:AB,MATCH(B140,'План ввода основ. ср-в'!B:B,0))),0,INDEX('План ввода основ. ср-в'!AB:AB,MATCH(B140,'План ввода основ. ср-в'!B:B,0)))","v":0},{"$f":"IF(ISNA(INDEX('План ввода основ. ср-в'!AC:AC,MATCH(B140,'План ввода основ. ср-в'!B:B,0))),0,INDEX('План ввода основ. ср-в'!AC:AC,MATCH(B140,'План ввода основ. ср-в'!B:B,0)))","v":0},1.9661016949152541]
[119,"Реконструкция ВЛ-0,4 кВ от КТП КШК 1115/250 с заменой КТП",null,null,null,null,null,null,0,"",0,1.2,"/",0.25,0,"",0,0,"",0,0,"",0,1.2,"/",0.25,3.8644067796610169,{"$f":"IF(ISNA(INDEX('План ввода основ. ср-в'!F:F,MATCH(B141,'План ввода основ. ср-в'!B:B,0))),0,INDEX('План ввода основ. ср-в'!F:F,MATCH(B141,'План ввода основ. ср-в'!B:B,0)))","v":0},"",{"$f":"IF(ISNA(INDEX('План ввода основ. ср-в'!E:E,MATCH(B141,'План ввода основ. ср-в'!B:B,0))),0,INDEX('План ввода основ. ср-в'!E:E,MATCH(B141,'План ввода основ. ср-в'!B:B,0)))","v":0},{"$f":"IF(ISNA(INDEX('План ввода основ. ср-в'!H:H,MATCH(B141,'План ввода основ. ср-в'!B:B,0))),0,INDEX('План ввода основ. ср-в'!H:H,MATCH(B141,'План ввода основ. ср-в'!B:B,0)))","v":0},"",{"$f":"IF(ISNA(INDEX('План ввода основ. ср-в'!G:G,MATCH(B141,'План ввода основ. ср-в'!B:B,0))),0,INDEX('План ввода основ. ср-в'!G:G,MATCH(B141,'План ввода основ. ср-в'!B:B,0)))","v":0},{"$f":"IF(ISNA(INDEX('План ввода основ. ср-в'!J:J,MATCH(B141,'План ввода основ. ср-в'!B:B,0))),0,INDEX('План ввода основ. ср-в'!J:J,MATCH(B141,'План ввода основ. ср-в'!B:B,0)))","v":0},"",{"$f":"IF(ISNA(INDEX('План ввода основ. ср-в'!I:I,MATCH(B141,'План ввода основ. ср-в'!B:B,0))),0,INDEX('План ввода основ. ср-в'!I:I,MATCH(B141,'План ввода основ. ср-в'!B:B,0)))","v":0},{"$f":"IF(ISNA(INDEX('План ввода основ. ср-в'!L:L,MATCH(B141,'План ввода основ. ср-в'!B:B,0))),0,INDEX('План ввода основ. ср-в'!L:L,MATCH(B141,'План ввода основ. ср-в'!B:B,0)))","v":0},"",{"$f":"IF(ISNA(INDEX('План ввода основ. ср-в'!K:K,MATCH(B141,'План ввода основ. ср-в'!B:B,0))),0,INDEX('План ввода основ. ср-в'!K:K,MATCH(B141,'План ввода основ. ср-в'!B:B,0)))","v":0},0,"/",0,{"$f":"IF(ISNA(INDEX('План ввода основ. ср-в'!N:N,MATCH(B141,'План ввода основ. ср-в'!B:B,0))),0,INDEX('План ввода основ. ср-в'!N:N,MATCH(B141,'План ввода основ. ср-в'!B:B,0)))","v":1.2},"/",{"$f":"IF(ISNA(INDEX('План ввода основ. ср-в'!M:M,MATCH(B141,'План ввода основ. ср-в'!B:B,0))),0,INDEX('План ввода основ. ср-в'!M:M,MATCH(B141,'План ввода основ. ср-в'!B:B,0)))","v":0.25},{"$f":"IF(ISNA(INDEX('План ввода основ. ср-в'!P:P,MATCH(B141,'План ввода основ. ср-в'!B:B,0))),0,INDEX('План ввода основ. ср-в'!P:P,MATCH(B141,'План ввода основ. ср-в'!B:B,0)))","v":0},"",{"$f":"IF(ISNA(INDEX('План ввода основ. ср-в'!O:O,MATCH(B141,'План ввода основ. ср-в'!B:B,0))),0,INDEX('План ввода основ. ср-в'!O:O,MATCH(B141,'План ввода основ. ср-в'!B:B,0)))","v":0},{"$f":"IF(ISNA(INDEX('План ввода основ. ср-в'!R:R,MATCH(B141,'План ввода основ. ср-в'!B:B,0))),0,INDEX('План ввода основ. ср-в'!R:R,MATCH(B141,'План ввода основ. ср-в'!B:B,0)))","v":0},"",{"$f":"IF(ISNA(INDEX('План ввода основ. ср-в'!Q:Q,MATCH(B141,'План ввода основ. ср-в'!B:B,0))),0,INDEX('План ввода основ. ср-в'!Q:Q,MATCH(B141,'План ввода основ. ср-в'!B:B,0)))","v":0},{"$f":"IF(ISNA(INDEX('План ввода основ. ср-в'!T:T,MATCH(B141,'План ввода основ. ср-в'!B:B,0))),0,INDEX('План ввода основ. ср-в'!T:T,MATCH(B141,'План ввода основ. ср-в'!B:B,0)))","v":0},"",{"$f":"IF(ISNA(INDEX('План ввода основ. ср-в'!S:S,MATCH(B141,'План ввода основ. ср-в'!B:B,0))),0,INDEX('План ввода основ. ср-в'!S:S,MATCH(B141,'План ввода основ. ср-в'!B:B,0)))","v":0},1.2,"/",0.25,{"$f":"IF(ISNA(INDEX('План ввода основ. ср-в'!V:V,MATCH(B141,'План ввода основ. ср-в'!B:B,0))),0,INDEX('План ввода основ. ср-в'!V:V,MATCH(B141,'План ввода основ. ср-в'!B:B,0)))","v":0},{"$f":"IF(ISNA(INDEX('План ввода основ. ср-в'!W:W,MATCH(B141,'План ввода основ. ср-в'!B:B,0))),0,INDEX('План ввода основ. ср-в'!W:W,MATCH(B141,'План ввода основ. ср-в'!B:B,0)))","v":0},{"$f":"IF(ISNA(INDEX('План ввода основ. ср-в'!X:X,MATCH(B141,'План ввода основ. ср-в'!B:B,0))),0,INDEX('План ввода основ. ср-в'!X:X,MATCH(B141,'План ввода основ. ср-в'!B:B,0)))","v":0},{"$f":"IF(ISNA(INDEX('План ввода основ. ср-в'!Y:Y,MATCH(B141,'План ввода основ. ср-в'!B:B,0))),0,INDEX('План ввода основ. ср-в'!Y:Y,MATCH(B141,'План ввода основ. ср-в'!B:B,0)))","v":0},0,{"$f":"IF(ISNA(INDEX('План ввода основ. ср-в'!Z:Z,MATCH(B141,'План ввода основ. ср-в'!B:B,0))),0,INDEX('План ввода основ. ср-в'!Z:Z,MATCH(B141,'План ввода основ. ср-в'!B:B,0)))","v":3.8644067796610169},{"$f":"IF(ISNA(INDEX('План ввода основ. ср-в'!AA:AA,MATCH(B141,'План ввода основ. ср-в'!B:B,0))),0,INDEX('План ввода основ. ср-в'!AA:AA,MATCH(B141,'План ввода основ. ср-в'!B:B,0)))","v":0},{"$f":"IF(ISNA(INDEX('План ввода основ. ср-в'!AB:AB,MATCH(B141,'План ввода основ. ср-в'!B:B,0))),0,INDEX('План ввода основ. ср-в'!AB:AB,MATCH(B141,'План ввода основ. ср-в'!B:B,0)))","v":0},{"$f":"IF(ISNA(INDEX('План ввода основ. ср-в'!AC:AC,MATCH(B141,'План ввода основ. ср-в'!B:B,0))),0,INDEX('План ввода основ. ср-в'!AC:AC,MATCH(B141,'План ввода основ. ср-в'!B:B,0)))","v":0},3.8644067796610169]
[120,"Реконструкция ВЛ-0,4 кВ от КТП КШК 1113/250 кВА с заменой КТП",null,null,null,null,null,null,0,{"$f":"IF(AND(I142=0,K142=0),\"\",\"/\")","v":""},0,1.1000000000000001,{"$f":"IF(AND(L142=0,N142=0),\"\",\"/\")","v":"/"},0.25,0,{"$f":"IF(AND(O142=0,Q142=0),\"\",\"/\")","v":""},0,0,{"$f":"IF(AND(R142=0,T142=0),\"\",\"/\")","v":""},0,0,{"$f":"IF(AND(U142=0,W142=0),\"\",\"/\")","v":""},0,1.1000000000000001,"/",0.25,3.6271186440677972,{"$f":"IF(ISNA(INDEX('План ввода основ. ср-в'!F:F,MATCH(B142,'План ввода основ. ср-в'!B:B,0))),0,INDEX('План ввода основ. ср-в'!F:F,MATCH(B142,'План ввода основ. ср-в'!B:B,0)))","v":0},{"$f":"IF(AND(AB142=0,AD142=0),\"\",\"/\")","v":""},{"$f":"IF(ISNA(INDEX('План ввода основ. ср-в'!E:E,MATCH(B142,'План ввода основ. ср-в'!B:B,0))),0,INDEX('План ввода основ. ср-в'!E:E,MATCH(B142,'План ввода основ. ср-в'!B:B,0)))","v":0},{"$f":"IF(ISNA(INDEX('План ввода основ. ср-в'!H:H,MATCH(B142,'План ввода основ. ср-в'!B:B,0))),0,INDEX('План ввода основ. ср-в'!H:H,MATCH(B142,'План ввода основ. ср-в'!B:B,0)))","v":0},{"$f":"IF(AND(AE142=0,AG142=0),\"\",\"/\")","v":""},{"$f":"IF(ISNA(INDEX('План ввода основ. ср-в'!G:G,MATCH(B142,'План ввода основ. ср-в'!B:B,0))),0,INDEX('План ввода основ. ср-в'!G:G,MATCH(B142,'План ввода основ. ср-в'!B:B,0)))","v":0},{"$f":"IF(ISNA(INDEX('План ввода основ. ср-в'!J:J,MATCH(B142,'План ввода основ. ср-в'!B:B,0))),0,INDEX('План ввода основ. ср-в'!J:J,MATCH(B142,'План ввода основ. ср-в'!B:B,0)))","v":0},{"$f":"IF(AND(AH142=0,AJ142=0),\"\",\"/\")","v":""},{"$f":"IF(ISNA(INDEX('План ввода основ. ср-в'!I:I,MATCH(B142,'План ввода основ. ср-в'!B:B,0))),0,INDEX('План ввода основ. ср-в'!I:I,MATCH(B142,'План ввода основ. ср-в'!B:B,0)))","v":0},{"$f":"IF(ISNA(INDEX('План ввода основ. ср-в'!L:L,MATCH(B142,'План ввода основ. ср-в'!B:B,0))),0,INDEX('План ввода основ. ср-в'!L:L,MATCH(B142,'План ввода основ. ср-в'!B:B,0)))","v":0},{"$f":"IF(AND(AK142=0,AM142=0),\"\",\"/\")","v":""},{"$f":"IF(ISNA(INDEX('План ввода основ. ср-в'!K:K,MATCH(B142,'План ввода основ. ср-в'!B:B,0))),0,INDEX('План ввода основ. ср-в'!K:K,MATCH(B142,'План ввода основ. ср-в'!B:B,0)))","v":0},0,"/",0,{"$f":"IF(ISNA(INDEX('План ввода основ. ср-в'!N:N,MATCH(B142,'План ввода основ. ср-в'!B:B,0))),0,INDEX('План ввода основ. ср-в'!N:N,MATCH(B142,'План ввода основ. ср-в'!B:B,0)))","v":1.1000000000000001},{"$f":"IF(AND(AQ142=0,AS142=0),\"\",\"/\")","v":"/"},{"$f":"IF(ISNA(INDEX('План ввода основ. ср-в'!M:M,MATCH(B142,'План ввода основ. ср-в'!B:B,0))),0,INDEX('План ввода основ. ср-в'!M:M,MATCH(B142,'План ввода основ. ср-в'!B:B,0)))","v":0.25},{"$f":"IF(ISNA(INDEX('План ввода основ. ср-в'!P:P,MATCH(B142,'План ввода основ. ср-в'!B:B,0))),0,INDEX('План ввода основ. ср-в'!P:P,MATCH(B142,'План ввода основ. ср-в'!B:B,0)))","v":0},{"$f":"IF(AND(AT142=0,AV142=0),\"\",\"/\")","v":""},{"$f":"IF(ISNA(INDEX('План ввода основ. ср-в'!O:O,MATCH(B142,'План ввода основ. ср-в'!B:B,0))),0,INDEX('План ввода основ. ср-в'!O:O,MATCH(B142,'План ввода основ. ср-в'!B:B,0)))","v":0},{"$f":"IF(ISNA(INDEX('План ввода основ. ср-в'!R:R,MATCH(B142,'План ввода основ. ср-в'!B:B,0))),0,INDEX('План ввода основ. ср-в'!R:R,MATCH(B142,'План ввода основ. ср-в'!B:B,0)))","v":0},{"$f":"IF(AND(AW142=0,AY142=0),\"\",\"/\")","v":""},{"$f":"IF(ISNA(INDEX('План ввода основ. ср-в'!Q:Q,MATCH(B142,'План ввода основ. ср-в'!B:B,0))),0,INDEX('План ввода основ. ср-в'!Q:Q,MATCH(B142,'План ввода основ. ср-в'!B:B,0)))","v":0},{"$f":"IF(ISNA(INDEX('План ввода основ. ср-в'!T:T,MATCH(B142,'План ввода основ. ср-в'!B:B,0))),0,INDEX('План ввода основ. ср-в'!T:T,MATCH(B142,'План ввода основ. ср-в'!B:B,0)))","v":0},{"$f":"IF(AND(AZ142=0,BB142=0),\"\",\"/\")","v":""},{"$f":"IF(ISNA(INDEX('План ввода основ. ср-в'!S:S,MATCH(B142,'План ввода основ. ср-в'!B:B,0))),0,INDEX('План ввода основ. ср-в'!S:S,MATCH(B142,'План ввода основ. ср-в'!B:B,0)))","v":0},1.1000000000000001,"/",0.25,{"$f":"IF(ISNA(INDEX('План ввода основ. ср-в'!V:V,MATCH(B142,'План ввода основ. ср-в'!B:B,0))),0,INDEX('План ввода основ. ср-в'!V:V,MATCH(B142,'План ввода основ. ср-в'!B:B,0)))","v":0},{"$f":"IF(ISNA(INDEX('План ввода основ. ср-в'!W:W,MATCH(B142,'План ввода основ. ср-в'!B:B,0))),0,INDEX('План ввода основ. ср-в'!W:W,MATCH(B142,'План ввода основ. ср-в'!B:B,0)))","v":0},{"$f":"IF(ISNA(INDEX('План ввода основ. ср-в'!X:X,MATCH(B142,'План ввода основ. ср-в'!B:B,0))),0,INDEX('План ввода основ. ср-в'!X:X,MATCH(B142,'План ввода основ. ср-в'!B:B,0)))","v":0},{"$f":"IF(ISNA(INDEX('План ввода основ. ср-в'!Y:Y,MATCH(B142,'План ввода основ. ср-в'!B:B,0))),0,INDEX('План ввода основ. ср-в'!Y:Y,MATCH(B142,'План ввода основ. ср-в'!B:B,0)))","v":0},0,{"$f":"IF(ISNA(INDEX('План ввода основ. ср-в'!Z:Z,MATCH(B142,'План ввода основ. ср-в'!B:B,0))),0,INDEX('План ввода основ. ср-в'!Z:Z,MATCH(B142,'План ввода основ. ср-в'!B:B,0)))","v":3.6271186440677972},{"$f":"IF(ISNA(INDEX('План ввода основ. ср-в'!AA:AA,MATCH(B142,'План ввода основ. ср-в'!B:B,0))),0,INDEX('План ввода основ. ср-в'!AA:AA,MATCH(B142,'План ввода основ. ср-в'!B:B,0)))","v":0},{"$f":"IF(ISNA(INDEX('План ввода основ. ср-в'!AB:AB,MATCH(B142,'План ввода основ. ср-в'!B:B,0))),0,INDEX('План ввода основ. ср-в'!AB:AB,MATCH(B142,'План ввода основ. ср-в'!B:B,0)))","v":0},{"$f":"IF(ISNA(INDEX('План ввода основ. ср-в'!AC:AC,MATCH(B142,'План ввода основ. ср-в'!B:B,0))),0,INDEX('План ввода основ. ср-в'!AC:AC,MATCH(B142,'План ввода основ. ср-в'!B:B,0)))","v":0},3.6271186440677972]
[121,"Реконструкция ВЛ-0,4 кВ от КТП КШК 504/160 с заменой КТП на 250 кВА",null,null,null,null,null,null,0,"",0,2.5,"/",0.16,0,"",0,0,"",0,0,"",0,2.5,"/",0.16,6.9491525423728815,{"$f":"IF(ISNA(INDEX('План ввода основ. ср-в'!F:F,MATCH(B143,'План ввода основ. ср-в'!B:B,0))),0,INDEX('План ввода основ. ср-в'!F:F,MATCH(B143,'План ввода основ. ср-в'!B:B,0)))","v":0},"",{"$f":"IF(ISNA(INDEX('План ввода основ. ср-в'!E:E,MATCH(B143,'План ввода основ. ср-в'!B:B,0))),0,INDEX('План ввода основ. ср-в'!E:E,MATCH(B143,'План ввода основ. ср-в'!B:B,0)))","v":0},{"$f":"IF(ISNA(INDEX('План ввода основ. ср-в'!H:H,MATCH(B143,'План ввода основ. ср-в'!B:B,0))),0,INDEX('План ввода основ. ср-в'!H:H,MATCH(B143,'План ввода основ. ср-в'!B:B,0)))","v":0},"",{"$f":"IF(ISNA(INDEX('План ввода основ. ср-в'!G:G,MATCH(B143,'План ввода основ. ср-в'!B:B,0))),0,INDEX('План ввода основ. ср-в'!G:G,MATCH(B143,'План ввода основ. ср-в'!B:B,0)))","v":0},{"$f":"IF(ISNA(INDEX('План ввода основ. ср-в'!J:J,MATCH(B143,'План ввода основ. ср-в'!B:B,0))),0,INDEX('План ввода основ. ср-в'!J:J,MATCH(B143,'План ввода основ. ср-в'!B:B,0)))","v":0},"",{"$f":"IF(ISNA(INDEX('План ввода основ. ср-в'!I:I,MATCH(B143,'План ввода основ. ср-в'!B:B,0))),0,INDEX('План ввода основ. ср-в'!I:I,MATCH(B143,'План ввода основ. ср-в'!B:B,0)))","v":0},{"$f":"IF(ISNA(INDEX('План ввода основ. ср-в'!L:L,MATCH(B143,'План ввода основ. ср-в'!B:B,0))),0,INDEX('План ввода основ. ср-в'!L:L,MATCH(B143,'План ввода основ. ср-в'!B:B,0)))","v":0},"",{"$f":"IF(ISNA(INDEX('План ввода основ. ср-в'!K:K,MATCH(B143,'План ввода основ. ср-в'!B:B,0))),0,INDEX('План ввода основ. ср-в'!K:K,MATCH(B143,'План ввода основ. ср-в'!B:B,0)))","v":0},0,"/",0,{"$f":"IF(ISNA(INDEX('План ввода основ. ср-в'!N:N,MATCH(B143,'План ввода основ. ср-в'!B:B,0))),0,INDEX('План ввода основ. ср-в'!N:N,MATCH(B143,'План ввода основ. ср-в'!B:B,0)))","v":2.5},"/",{"$f":"IF(ISNA(INDEX('План ввода основ. ср-в'!M:M,MATCH(B143,'План ввода основ. ср-в'!B:B,0))),0,INDEX('План ввода основ. ср-в'!M:M,MATCH(B143,'План ввода основ. ср-в'!B:B,0)))","v":0.25},{"$f":"IF(ISNA(INDEX('План ввода основ. ср-в'!P:P,MATCH(B143,'План ввода основ. ср-в'!B:B,0))),0,INDEX('План ввода основ. ср-в'!P:P,MATCH(B143,'План ввода основ. ср-в'!B:B,0)))","v":0},"",{"$f":"IF(ISNA(INDEX('План ввода основ. ср-в'!O:O,MATCH(B143,'План ввода основ. ср-в'!B:B,0))),0,INDEX('План ввода основ. ср-в'!O:O,MATCH(B143,'План ввода основ. ср-в'!B:B,0)))","v":0},{"$f":"IF(ISNA(INDEX('План ввода основ. ср-в'!R:R,MATCH(B143,'План ввода основ. ср-в'!B:B,0))),0,INDEX('План ввода основ. ср-в'!R:R,MATCH(B143,'План ввода основ. ср-в'!B:B,0)))","v":0},"",{"$f":"IF(ISNA(INDEX('План ввода основ. ср-в'!Q:Q,MATCH(B143,'План ввода основ. ср-в'!B:B,0))),0,INDEX('План ввода основ. ср-в'!Q:Q,MATCH(B143,'План ввода основ. ср-в'!B:B,0)))","v":0},{"$f":"IF(ISNA(INDEX('План ввода основ. ср-в'!T:T,MATCH(B143,'План ввода основ. ср-в'!B:B,0))),0,INDEX('План ввода основ. ср-в'!T:T,MATCH(B143,'План ввода основ. ср-в'!B:B,0)))","v":0},"",{"$f":"IF(ISNA(INDEX('План ввода основ. ср-в'!S:S,MATCH(B143,'План ввода основ. ср-в'!B:B,0))),0,INDEX('План ввода основ. ср-в'!S:S,MATCH(B143,'План ввода основ. ср-в'!B:B,0)))","v":0},2.5,"/",0.25,{"$f":"IF(ISNA(INDEX('План ввода основ. ср-в'!V:V,MATCH(B143,'План ввода основ. ср-в'!B:B,0))),0,INDEX('План ввода основ. ср-в'!V:V,MATCH(B143,'План ввода основ. ср-в'!B:B,0)))","v":0},{"$f":"IF(ISNA(INDEX('План ввода основ. ср-в'!W:W,MATCH(B143,'План ввода основ. ср-в'!B:B,0))),0,INDEX('План ввода основ. ср-в'!W:W,MATCH(B143,'План ввода основ. ср-в'!B:B,0)))","v":0},{"$f":"IF(ISNA(INDEX('План ввода основ. ср-в'!X:X,MATCH(B143,'План ввода основ. ср-в'!B:B,0))),0,INDEX('План ввода основ. ср-в'!X:X,MATCH(B143,'План ввода основ. ср-в'!B:B,0)))","v":0},{"$f":"IF(ISNA(INDEX('План ввода основ. ср-в'!Y:Y,MATCH(B143,'План ввода основ. ср-в'!B:B,0))),0,INDEX('План ввода основ. ср-в'!Y:Y,MATCH(B143,'План ввода основ. ср-в'!B:B,0)))","v":0},0,{"$f":"IF(ISNA(INDEX('План ввода основ. ср-в'!Z:Z,MATCH(B143,'План ввода основ. ср-в'!B:B,0))),0,INDEX('План ввода основ. ср-в'!Z:Z,MATCH(B143,'План ввода основ. ср-в'!B:B,0)))","v":6.9491525423728815},{"$f":"IF(ISNA(INDEX('План ввода основ. ср-в'!AA:AA,MATCH(B143,'План ввода основ. ср-в'!B:B,0))),0,INDEX('План ввода основ. ср-в'!AA:AA,MATCH(B143,'План ввода основ. ср-в'!B:B,0)))","v":0},{"$f":"IF(ISNA(INDEX('План ввода основ. ср-в'!AB:AB,MATCH(B143,'План ввода основ. ср-в'!B:B,0))),0,INDEX('План ввода основ. ср-в'!AB:AB,MATCH(B143,'План ввода основ. ср-в'!B:B,0)))","v":0},{"$f":"IF(ISNA(INDEX('План ввода основ. ср-в'!AC:AC,MATCH(B143,'План ввода основ. ср-в'!B:B,0))),0,INDEX('План ввода основ. ср-в'!AC:AC,MATCH(B143,'План ввода основ. ср-в'!B:B,0)))","v":0},6.9491525423728815]
[122,"Реконструкция ВЛ-0,4 кВ от КТП КРМ 502/100 кВА с заменой КТП на 63 кВА",null,null,null,null,null,null,0,"",0,0,"",0,0.2,"/",0.1,0,"",0,0,"",0,0.2,"/",0.1,1.4915254237288134,{"$f":"IF(ISNA(INDEX('План ввода основ. ср-в'!F:F,MATCH(B144,'План ввода основ. ср-в'!B:B,0))),0,INDEX('План ввода основ. ср-в'!F:F,MATCH(B144,'План ввода основ. ср-в'!B:B,0)))","v":0},"",{"$f":"IF(ISNA(INDEX('План ввода основ. ср-в'!E:E,MATCH(B144,'План ввода основ. ср-в'!B:B,0))),0,INDEX('План ввода основ. ср-в'!E:E,MATCH(B144,'План ввода основ. ср-в'!B:B,0)))","v":0},{"$f":"IF(ISNA(INDEX('План ввода основ. ср-в'!H:H,MATCH(B144,'План ввода основ. ср-в'!B:B,0))),0,INDEX('План ввода основ. ср-в'!H:H,MATCH(B144,'План ввода основ. ср-в'!B:B,0)))","v":0},"",{"$f":"IF(ISNA(INDEX('План ввода основ. ср-в'!G:G,MATCH(B144,'План ввода основ. ср-в'!B:B,0))),0,INDEX('План ввода основ. ср-в'!G:G,MATCH(B144,'План ввода основ. ср-в'!B:B,0)))","v":0},{"$f":"IF(ISNA(INDEX('План ввода основ. ср-в'!J:J,MATCH(B144,'План ввода основ. ср-в'!B:B,0))),0,INDEX('План ввода основ. ср-в'!J:J,MATCH(B144,'План ввода основ. ср-в'!B:B,0)))","v":0},"",{"$f":"IF(ISNA(INDEX('План ввода основ. ср-в'!I:I,MATCH(B144,'План ввода основ. ср-в'!B:B,0))),0,INDEX('План ввода основ. ср-в'!I:I,MATCH(B144,'План ввода основ. ср-в'!B:B,0)))","v":0},{"$f":"IF(ISNA(INDEX('План ввода основ. ср-в'!L:L,MATCH(B144,'План ввода основ. ср-в'!B:B,0))),0,INDEX('План ввода основ. ср-в'!L:L,MATCH(B144,'План ввода основ. ср-в'!B:B,0)))","v":0},"",{"$f":"IF(ISNA(INDEX('План ввода основ. ср-в'!K:K,MATCH(B144,'План ввода основ. ср-в'!B:B,0))),0,INDEX('План ввода основ. ср-в'!K:K,MATCH(B144,'План ввода основ. ср-в'!B:B,0)))","v":0},0,"/",0,{"$f":"IF(ISNA(INDEX('План ввода основ. ср-в'!N:N,MATCH(B144,'План ввода основ. ср-в'!B:B,0))),0,INDEX('План ввода основ. ср-в'!N:N,MATCH(B144,'План ввода основ. ср-в'!B:B,0)))","v":0},"",{"$f":"IF(ISNA(INDEX('План ввода основ. ср-в'!M:M,MATCH(B144,'План ввода основ. ср-в'!B:B,0))),0,INDEX('План ввода основ. ср-в'!M:M,MATCH(B144,'План ввода основ. ср-в'!B:B,0)))","v":0},{"$f":"IF(ISNA(INDEX('План ввода основ. ср-в'!P:P,MATCH(B144,'План ввода основ. ср-в'!B:B,0))),0,INDEX('План ввода основ. ср-в'!P:P,MATCH(B144,'План ввода основ. ср-в'!B:B,0)))","v":0.2},"/",{"$f":"IF(ISNA(INDEX('План ввода основ. ср-в'!O:O,MATCH(B144,'План ввода основ. ср-в'!B:B,0))),0,INDEX('План ввода основ. ср-в'!O:O,MATCH(B144,'План ввода основ. ср-в'!B:B,0)))","v":6.3E-2},{"$f":"IF(ISNA(INDEX('План ввода основ. ср-в'!R:R,MATCH(B144,'План ввода основ. ср-в'!B:B,0))),0,INDEX('План ввода основ. ср-в'!R:R,MATCH(B144,'План ввода основ. ср-в'!B:B,0)))","v":0},"",{"$f":"IF(ISNA(INDEX('План ввода основ. ср-в'!Q:Q,MATCH(B144,'План ввода основ. ср-в'!B:B,0))),0,INDEX('План ввода основ. ср-в'!Q:Q,MATCH(B144,'План ввода основ. ср-в'!B:B,0)))","v":0},{"$f":"IF(ISNA(INDEX('План ввода основ. ср-в'!T:T,MATCH(B144,'План ввода основ. ср-в'!B:B,0))),0,INDEX('План ввода основ. ср-в'!T:T,MATCH(B144,'План ввода основ. ср-в'!B:B,0)))","v":0},"",{"$f":"IF(ISNA(INDEX('План ввода основ. ср-в'!S:S,MATCH(B144,'План ввода основ. ср-в'!B:B,0))),0,INDEX('План ввода основ. ср-в'!S:S,MATCH(B144,'План ввода основ. ср-в'!B:B,0)))","v":0},0.2,"/",6.3E-2,{"$f":"IF(ISNA(INDEX('План ввода основ. ср-в'!V:V,MATCH(B144,'План ввода основ. ср-в'!B:B,0))),0,INDEX('План ввода основ. ср-в'!V:V,MATCH(B144,'План ввода основ. ср-в'!B:B,0)))","v":0},{"$f":"IF(ISNA(INDEX('План ввода основ. ср-в'!W:W,MATCH(B144,'План ввода основ. ср-в'!B:B,0))),0,INDEX('План ввода основ. ср-в'!W:W,MATCH(B144,'План ввода основ. ср-в'!B:B,0)))","v":0},{"$f":"IF(ISNA(INDEX('План ввода основ. ср-в'!X:X,MATCH(B144,'План ввода основ. ср-в'!B:B,0))),0,INDEX('План ввода основ. ср-в'!X:X,MATCH(B144,'План ввода основ. ср-в'!B:B,0)))","v":0},{"$f":"IF(ISNA(INDEX('План ввода основ. ср-в'!Y:Y,MATCH(B144,'План ввода основ. ср-в'!B:B,0))),0,INDEX('План ввода основ. ср-в'!Y:Y,MATCH(B144,'План ввода основ. ср-в'!B:B,0)))","v":0},0,{"$f":"IF(ISNA(INDEX('План ввода основ. ср-в'!Z:Z,MATCH(B144,'План ввода основ. ср-в'!B:B,0))),0,INDEX('План ввода основ. ср-в'!Z:Z,MATCH(B144,'План ввода основ. ср-в'!B:B,0)))","v":0},{"$f":"IF(ISNA(INDEX('План ввода основ. ср-в'!AA:AA,MATCH(B144,'План ввода основ. ср-в'!B:B,0))),0,INDEX('План ввода основ. ср-в'!AA:AA,MATCH(B144,'План ввода основ. ср-в'!B:B,0)))","v":1.4915254237288134},{"$f":"IF(ISNA(INDEX('План ввода основ. ср-в'!AB:AB,MATCH(B144,'План ввода основ. ср-в'!B:B,0))),0,INDEX('План ввода основ. ср-в'!AB:AB,MATCH(B144,'План ввода основ. ср-в'!B:B,0)))","v":0},{"$f":"IF(ISNA(INDEX('План ввода основ. ср-в'!AC:AC,MATCH(B144,'План ввода основ. ср-в'!B:B,0))),0,INDEX('План ввода основ. ср-в'!AC:AC,MATCH(B144,'План ввода основ. ср-в'!B:B,0)))","v":0},1.4915254237288134]
[123,"Реконструкция ВЛ-0,4 кВ от КТП КШК 1204/63 кВА с переносом и заменой на КТП ",null,null,null,null,null,null,0,{"$f":"IF(AND(I145=0,K145=0),\"\",\"/\")","v":""},0,0,{"$f":"IF(AND(L145=0,N145=0),\"\",\"/\")","v":""},0,0.2,{"$f":"IF(AND(O145=0,Q145=0),\"\",\"/\")","v":"/"},6.3E-2,0,{"$f":"IF(AND(R145=0,T145=0),\"\",\"/\")","v":""},0,0,{"$f":"IF(AND(U145=0,W145=0),\"\",\"/\")","v":""},0,0.2,"/",6.3E-2,1.4915254237288134,{"$f":"IF(ISNA(INDEX('План ввода основ. ср-в'!F:F,MATCH(B145,'План ввода основ. ср-в'!B:B,0))),0,INDEX('План ввода основ. ср-в'!F:F,MATCH(B145,'План ввода основ. ср-в'!B:B,0)))","v":0},{"$f":"IF(AND(AB145=0,AD145=0),\"\",\"/\")","v":""},{"$f":"IF(ISNA(INDEX('План ввода основ. ср-в'!E:E,MATCH(B145,'План ввода основ. ср-в'!B:B,0))),0,INDEX('План ввода основ. ср-в'!E:E,MATCH(B145,'План ввода основ. ср-в'!B:B,0)))","v":0},{"$f":"IF(ISNA(INDEX('План ввода основ. ср-в'!H:H,MATCH(B145,'План ввода основ. ср-в'!B:B,0))),0,INDEX('План ввода основ. ср-в'!H:H,MATCH(B145,'План ввода основ. ср-в'!B:B,0)))","v":0},{"$f":"IF(AND(AE145=0,AG145=0),\"\",\"/\")","v":""},{"$f":"IF(ISNA(INDEX('План ввода основ. ср-в'!G:G,MATCH(B145,'План ввода основ. ср-в'!B:B,0))),0,INDEX('План ввода основ. ср-в'!G:G,MATCH(B145,'План ввода основ. ср-в'!B:B,0)))","v":0},{"$f":"IF(ISNA(INDEX('План ввода основ. ср-в'!J:J,MATCH(B145,'План ввода основ. ср-в'!B:B,0))),0,INDEX('План ввода основ. ср-в'!J:J,MATCH(B145,'План ввода основ. ср-в'!B:B,0)))","v":0},{"$f":"IF(AND(AH145=0,AJ145=0),\"\",\"/\")","v":""},{"$f":"IF(ISNA(INDEX('План ввода основ. ср-в'!I:I,MATCH(B145,'План ввода основ. ср-в'!B:B,0))),0,INDEX('План ввода основ. ср-в'!I:I,MATCH(B145,'План ввода основ. ср-в'!B:B,0)))","v":0},{"$f":"IF(ISNA(INDEX('План ввода основ. ср-в'!L:L,MATCH(B145,'План ввода основ. ср-в'!B:B,0))),0,INDEX('План ввода основ. ср-в'!L:L,MATCH(B145,'План ввода основ. ср-в'!B:B,0)))","v":0},{"$f":"IF(AND(AK145=0,AM145=0),\"\",\"/\")","v":""},{"$f":"IF(ISNA(INDEX('План ввода основ. ср-в'!K:K,MATCH(B145,'План ввода основ. ср-в'!B:B,0))),0,INDEX('План ввода основ. ср-в'!K:K,MATCH(B145,'План ввода основ. ср-в'!B:B,0)))","v":0},0,"/",0,{"$f":"IF(ISNA(INDEX('План ввода основ. ср-в'!N:N,MATCH(B145,'План ввода основ. ср-в'!B:B,0))),0,INDEX('План ввода основ. ср-в'!N:N,MATCH(B145,'План ввода основ. ср-в'!B:B,0)))","v":0},{"$f":"IF(AND(AQ145=0,AS145=0),\"\",\"/\")","v":""},{"$f":"IF(ISNA(INDEX('План ввода основ. ср-в'!M:M,MATCH(B145,'План ввода основ. ср-в'!B:B,0))),0,INDEX('План ввода основ. ср-в'!M:M,MATCH(B145,'План ввода основ. ср-в'!B:B,0)))","v":0},{"$f":"IF(ISNA(INDEX('План ввода основ. ср-в'!P:P,MATCH(B145,'План ввода основ. ср-в'!B:B,0))),0,INDEX('План ввода основ. ср-в'!P:P,MATCH(B145,'План ввода основ. ср-в'!B:B,0)))","v":0.2},{"$f":"IF(AND(AT145=0,AV145=0),\"\",\"/\")","v":"/"},{"$f":"IF(ISNA(INDEX('План ввода основ. ср-в'!O:O,MATCH(B145,'План ввода основ. ср-в'!B:B,0))),0,INDEX('План ввода основ. ср-в'!O:O,MATCH(B145,'План ввода основ. ср-в'!B:B,0)))","v":6.3E-2},{"$f":"IF(ISNA(INDEX('План ввода основ. ср-в'!R:R,MATCH(B145,'План ввода основ. ср-в'!B:B,0))),0,INDEX('План ввода основ. ср-в'!R:R,MATCH(B145,'План ввода основ. ср-в'!B:B,0)))","v":0},{"$f":"IF(AND(AW145=0,AY145=0),\"\",\"/\")","v":""},{"$f":"IF(ISNA(INDEX('План ввода основ. ср-в'!Q:Q,MATCH(B145,'План ввода основ. ср-в'!B:B,0))),0,INDEX('План ввода основ. ср-в'!Q:Q,MATCH(B145,'План ввода основ. ср-в'!B:B,0)))","v":0},{"$f":"IF(ISNA(INDEX('План ввода основ. ср-в'!T:T,MATCH(B145,'План ввода основ. ср-в'!B:B,0))),0,INDEX('План ввода основ. ср-в'!T:T,MATCH(B145,'План ввода основ. ср-в'!B:B,0)))","v":0},{"$f":"IF(AND(AZ145=0,BB145=0),\"\",\"/\")","v":""},{"$f":"IF(ISNA(INDEX('План ввода основ. ср-в'!S:S,MATCH(B145,'План ввода основ. ср-в'!B:B,0))),0,INDEX('План ввода основ. ср-в'!S:S,MATCH(B145,'План ввода основ. ср-в'!B:B,0)))","v":0},0.2,"/",6.3E-2,{"$f":"IF(ISNA(INDEX('План ввода основ. ср-в'!V:V,MATCH(B145,'План ввода основ. ср-в'!B:B,0))),0,INDEX('План ввода основ. ср-в'!V:V,MATCH(B145,'План ввода основ. ср-в'!B:B,0)))","v":0},{"$f":"IF(ISNA(INDEX('План ввода основ. ср-в'!W:W,MATCH(B145,'План ввода основ. ср-в'!B:B,0))),0,INDEX('План ввода основ. ср-в'!W:W,MATCH(B145,'План ввода основ. ср-в'!B:B,0)))","v":0},{"$f":"IF(ISNA(INDEX('План ввода основ. ср-в'!X:X,MATCH(B145,'План ввода основ. ср-в'!B:B,0))),0,INDEX('План ввода основ. ср-в'!X:X,MATCH(B145,'План ввода основ. ср-в'!B:B,0)))","v":0},{"$f":"IF(ISNA(INDEX('План ввода основ. ср-в'!Y:Y,MATCH(B145,'План ввода основ. ср-в'!B:B,0))),0,INDEX('План ввода основ. ср-в'!Y:Y,MATCH(B145,'План ввода основ. ср-в'!B:B,0)))","v":0},0,{"$f":"IF(ISNA(INDEX('План ввода основ. ср-в'!Z:Z,MATCH(B145,'План ввода основ. ср-в'!B:B,0))),0,INDEX('План ввода основ. ср-в'!Z:Z,MATCH(B145,'План ввода основ. ср-в'!B:B,0)))","v":0},{"$f":"IF(ISNA(INDEX('План ввода основ. ср-в'!AA:AA,MATCH(B145,'План ввода основ. ср-в'!B:B,0))),0,INDEX('План ввода основ. ср-в'!AA:AA,MATCH(B145,'План ввода основ. ср-в'!B:B,0)))","v":1.4915254237288134},{"$f":"IF(ISNA(INDEX('План ввода основ. ср-в'!AB:AB,MATCH(B145,'План ввода основ. ср-в'!B:B,0))),0,INDEX('План ввода основ. ср-в'!AB:AB,MATCH(B145,'План ввода основ. ср-в'!B:B,0)))","v":0},{"$f":"IF(ISNA(INDEX('План ввода основ. ср-в'!AC:AC,MATCH(B145,'План ввода основ. ср-в'!B:B,0))),0,INDEX('План ввода основ. ср-в'!AC:AC,MATCH(B145,'План ввода основ. ср-в'!B:B,0)))","v":0},1.4915254237288134]
[124,"Реконструкция ВЛ-0,4 кВ от ЗТП САД 703/400 кВА с заменой КТП на 400 кВА",null,null,null,null,null,null,0,"",0,0,"",0,0.1,"/",0.4,0,"",0,0,"",0,0.1,"/",0.4,1.2542372881355932,{"$f":"IF(ISNA(INDEX('План ввода основ. ср-в'!F:F,MATCH(B146,'План ввода основ. ср-в'!B:B,0))),0,INDEX('План ввода основ. ср-в'!F:F,MATCH(B146,'План ввода основ. ср-в'!B:B,0)))","v":0},"",{"$f":"IF(ISNA(INDEX('План ввода основ. ср-в'!E:E,MATCH(B146,'План ввода основ. ср-в'!B:B,0))),0,INDEX('План ввода основ. ср-в'!E:E,MATCH(B146,'План ввода основ. ср-в'!B:B,0)))","v":0},{"$f":"IF(ISNA(INDEX('План ввода основ. ср-в'!H:H,MATCH(B146,'План ввода основ. ср-в'!B:B,0))),0,INDEX('План ввода основ. ср-в'!H:H,MATCH(B146,'План ввода основ. ср-в'!B:B,0)))","v":0},"",{"$f":"IF(ISNA(INDEX('План ввода основ. ср-в'!G:G,MATCH(B146,'План ввода основ. ср-в'!B:B,0))),0,INDEX('План ввода основ. ср-в'!G:G,MATCH(B146,'План ввода основ. ср-в'!B:B,0)))","v":0},{"$f":"IF(ISNA(INDEX('План ввода основ. ср-в'!J:J,MATCH(B146,'План ввода основ. ср-в'!B:B,0))),0,INDEX('План ввода основ. ср-в'!J:J,MATCH(B146,'План ввода основ. ср-в'!B:B,0)))","v":0},"",{"$f":"IF(ISNA(INDEX('План ввода основ. ср-в'!I:I,MATCH(B146,'План ввода основ. ср-в'!B:B,0))),0,INDEX('План ввода основ. ср-в'!I:I,MATCH(B146,'План ввода основ. ср-в'!B:B,0)))","v":0},{"$f":"IF(ISNA(INDEX('План ввода основ. ср-в'!L:L,MATCH(B146,'План ввода основ. ср-в'!B:B,0))),0,INDEX('План ввода основ. ср-в'!L:L,MATCH(B146,'План ввода основ. ср-в'!B:B,0)))","v":0},"",{"$f":"IF(ISNA(INDEX('План ввода основ. ср-в'!K:K,MATCH(B146,'План ввода основ. ср-в'!B:B,0))),0,INDEX('План ввода основ. ср-в'!K:K,MATCH(B146,'План ввода основ. ср-в'!B:B,0)))","v":0},0,"/",0,{"$f":"IF(ISNA(INDEX('План ввода основ. ср-в'!N:N,MATCH(B146,'План ввода основ. ср-в'!B:B,0))),0,INDEX('План ввода основ. ср-в'!N:N,MATCH(B146,'План ввода основ. ср-в'!B:B,0)))","v":0},"",{"$f":"IF(ISNA(INDEX('План ввода основ. ср-в'!M:M,MATCH(B146,'План ввода основ. ср-в'!B:B,0))),0,INDEX('План ввода основ. ср-в'!M:M,MATCH(B146,'План ввода основ. ср-в'!B:B,0)))","v":0},{"$f":"IF(ISNA(INDEX('План ввода основ. ср-в'!P:P,MATCH(B146,'План ввода основ. ср-в'!B:B,0))),0,INDEX('План ввода основ. ср-в'!P:P,MATCH(B146,'План ввода основ. ср-в'!B:B,0)))","v":0.1},"/",{"$f":"IF(ISNA(INDEX('План ввода основ. ср-в'!O:O,MATCH(B146,'План ввода основ. ср-в'!B:B,0))),0,INDEX('План ввода основ. ср-в'!O:O,MATCH(B146,'План ввода основ. ср-в'!B:B,0)))","v":0.4},{"$f":"IF(ISNA(INDEX('План ввода основ. ср-в'!R:R,MATCH(B146,'План ввода основ. ср-в'!B:B,0))),0,INDEX('План ввода основ. ср-в'!R:R,MATCH(B146,'План ввода основ. ср-в'!B:B,0)))","v":0},"",{"$f":"IF(ISNA(INDEX('План ввода основ. ср-в'!Q:Q,MATCH(B146,'План ввода основ. ср-в'!B:B,0))),0,INDEX('План ввода основ. ср-в'!Q:Q,MATCH(B146,'План ввода основ. ср-в'!B:B,0)))","v":0},{"$f":"IF(ISNA(INDEX('План ввода основ. ср-в'!T:T,MATCH(B146,'План ввода основ. ср-в'!B:B,0))),0,INDEX('План ввода основ. ср-в'!T:T,MATCH(B146,'План ввода основ. ср-в'!B:B,0)))","v":0},"",{"$f":"IF(ISNA(INDEX('План ввода основ. ср-в'!S:S,MATCH(B146,'План ввода основ. ср-в'!B:B,0))),0,INDEX('План ввода основ. ср-в'!S:S,MATCH(B146,'План ввода основ. ср-в'!B:B,0)))","v":0},0.1,"/",0.4,{"$f":"IF(ISNA(INDEX('План ввода основ. ср-в'!V:V,MATCH(B146,'План ввода основ. ср-в'!B:B,0))),0,INDEX('План ввода основ. ср-в'!V:V,MATCH(B146,'План ввода основ. ср-в'!B:B,0)))","v":0},{"$f":"IF(ISNA(INDEX('План ввода основ. ср-в'!W:W,MATCH(B146,'План ввода основ. ср-в'!B:B,0))),0,INDEX('План ввода основ. ср-в'!W:W,MATCH(B146,'План ввода основ. ср-в'!B:B,0)))","v":0},{"$f":"IF(ISNA(INDEX('План ввода основ. ср-в'!X:X,MATCH(B146,'План ввода основ. ср-в'!B:B,0))),0,INDEX('План ввода основ. ср-в'!X:X,MATCH(B146,'План ввода основ. ср-в'!B:B,0)))","v":0},{"$f":"IF(ISNA(INDEX('План ввода основ. ср-в'!Y:Y,MATCH(B146,'План ввода основ. ср-в'!B:B,0))),0,INDEX('План ввода основ. ср-в'!Y:Y,MATCH(B146,'План ввода основ. ср-в'!B:B,0)))","v":0},0,{"$f":"IF(ISNA(INDEX('План ввода основ. ср-в'!Z:Z,MATCH(B146,'План ввода основ. ср-в'!B:B,0))),0,INDEX('План ввода основ. ср-в'!Z:Z,MATCH(B146,'План ввода основ. ср-в'!B:B,0)))","v":0},{"$f":"IF(ISNA(INDEX('План ввода основ. ср-в'!AA:AA,MATCH(B146,'План ввода основ. ср-в'!B:B,0))),0,INDEX('План ввода основ. ср-в'!AA:AA,MATCH(B146,'План ввода основ. ср-в'!B:B,0)))","v":1.2542372881355932},{"$f":"IF(ISNA(INDEX('План ввода основ. ср-в'!AB:AB,MATCH(B146,'План ввода основ. ср-в'!B:B,0))),0,INDEX('План ввода основ. ср-в'!AB:AB,MATCH(B146,'План ввода основ. ср-в'!B:B,0)))","v":0},{"$f":"IF(ISNA(INDEX('План ввода основ. ср-в'!AC:AC,MATCH(B146,'План ввода основ. ср-в'!B:B,0))),0,INDEX('План ввода основ. ср-в'!AC:AC,MATCH(B146,'План ввода основ. ср-в'!B:B,0)))","v":0},1.2542372881355932]
[125,"Реконструкция ВЛ-0,4 кВ от КТП  НБК 117/160 кВА с заменой КТП на 63 кВА ",null,null,null,null,null,null,0,"",0,0,"",0,0.5,"/",0.16,0,"",0,0,"",0,0.5,"/",0.16,2.2033898305084745,{"$f":"IF(ISNA(INDEX('План ввода основ. ср-в'!F:F,MATCH(B147,'План ввода основ. ср-в'!B:B,0))),0,INDEX('План ввода основ. ср-в'!F:F,MATCH(B147,'План ввода основ. ср-в'!B:B,0)))","v":0},"",{"$f":"IF(ISNA(INDEX('План ввода основ. ср-в'!E:E,MATCH(B147,'План ввода основ. ср-в'!B:B,0))),0,INDEX('План ввода основ. ср-в'!E:E,MATCH(B147,'План ввода основ. ср-в'!B:B,0)))","v":0},{"$f":"IF(ISNA(INDEX('План ввода основ. ср-в'!H:H,MATCH(B147,'План ввода основ. ср-в'!B:B,0))),0,INDEX('План ввода основ. ср-в'!H:H,MATCH(B147,'План ввода основ. ср-в'!B:B,0)))","v":0},"",{"$f":"IF(ISNA(INDEX('План ввода основ. ср-в'!G:G,MATCH(B147,'План ввода основ. ср-в'!B:B,0))),0,INDEX('План ввода основ. ср-в'!G:G,MATCH(B147,'План ввода основ. ср-в'!B:B,0)))","v":0},{"$f":"IF(ISNA(INDEX('План ввода основ. ср-в'!J:J,MATCH(B147,'План ввода основ. ср-в'!B:B,0))),0,INDEX('План ввода основ. ср-в'!J:J,MATCH(B147,'План ввода основ. ср-в'!B:B,0)))","v":0},"",{"$f":"IF(ISNA(INDEX('План ввода основ. ср-в'!I:I,MATCH(B147,'План ввода основ. ср-в'!B:B,0))),0,INDEX('План ввода основ. ср-в'!I:I,MATCH(B147,'План ввода основ. ср-в'!B:B,0)))","v":0},{"$f":"IF(ISNA(INDEX('План ввода основ. ср-в'!L:L,MATCH(B147,'План ввода основ. ср-в'!B:B,0))),0,INDEX('План ввода основ. ср-в'!L:L,MATCH(B147,'План ввода основ. ср-в'!B:B,0)))","v":0},"",{"$f":"IF(ISNA(INDEX('План ввода основ. ср-в'!K:K,MATCH(B147,'План ввода основ. ср-в'!B:B,0))),0,INDEX('План ввода основ. ср-в'!K:K,MATCH(B147,'План ввода основ. ср-в'!B:B,0)))","v":0},0,"/",0,{"$f":"IF(ISNA(INDEX('План ввода основ. ср-в'!N:N,MATCH(B147,'План ввода основ. ср-в'!B:B,0))),0,INDEX('План ввода основ. ср-в'!N:N,MATCH(B147,'План ввода основ. ср-в'!B:B,0)))","v":0},"",{"$f":"IF(ISNA(INDEX('План ввода основ. ср-в'!M:M,MATCH(B147,'План ввода основ. ср-в'!B:B,0))),0,INDEX('План ввода основ. ср-в'!M:M,MATCH(B147,'План ввода основ. ср-в'!B:B,0)))","v":0},{"$f":"IF(ISNA(INDEX('План ввода основ. ср-в'!P:P,MATCH(B147,'План ввода основ. ср-в'!B:B,0))),0,INDEX('План ввода основ. ср-в'!P:P,MATCH(B147,'План ввода основ. ср-в'!B:B,0)))","v":0.5},"/",{"$f":"IF(ISNA(INDEX('План ввода основ. ср-в'!O:O,MATCH(B147,'План ввода основ. ср-в'!B:B,0))),0,INDEX('План ввода основ. ср-в'!O:O,MATCH(B147,'План ввода основ. ср-в'!B:B,0)))","v":6.3E-2},{"$f":"IF(ISNA(INDEX('План ввода основ. ср-в'!R:R,MATCH(B147,'План ввода основ. ср-в'!B:B,0))),0,INDEX('План ввода основ. ср-в'!R:R,MATCH(B147,'План ввода основ. ср-в'!B:B,0)))","v":0},"",{"$f":"IF(ISNA(INDEX('План ввода основ. ср-в'!Q:Q,MATCH(B147,'План ввода основ. ср-в'!B:B,0))),0,INDEX('План ввода основ. ср-в'!Q:Q,MATCH(B147,'План ввода основ. ср-в'!B:B,0)))","v":0},{"$f":"IF(ISNA(INDEX('План ввода основ. ср-в'!T:T,MATCH(B147,'План ввода основ. ср-в'!B:B,0))),0,INDEX('План ввода основ. ср-в'!T:T,MATCH(B147,'План ввода основ. ср-в'!B:B,0)))","v":0},"",{"$f":"IF(ISNA(INDEX('План ввода основ. ср-в'!S:S,MATCH(B147,'План ввода основ. ср-в'!B:B,0))),0,INDEX('План ввода основ. ср-в'!S:S,MATCH(B147,'План ввода основ. ср-в'!B:B,0)))","v":0},0.5,"/",6.3E-2,{"$f":"IF(ISNA(INDEX('План ввода основ. ср-в'!V:V,MATCH(B147,'План ввода основ. ср-в'!B:B,0))),0,INDEX('План ввода основ. ср-в'!V:V,MATCH(B147,'План ввода основ. ср-в'!B:B,0)))","v":0},{"$f":"IF(ISNA(INDEX('План ввода основ. ср-в'!W:W,MATCH(B147,'План ввода основ. ср-в'!B:B,0))),0,INDEX('План ввода основ. ср-в'!W:W,MATCH(B147,'План ввода основ. ср-в'!B:B,0)))","v":0},{"$f":"IF(ISNA(INDEX('План ввода основ. ср-в'!X:X,MATCH(B147,'План ввода основ. ср-в'!B:B,0))),0,INDEX('План ввода основ. ср-в'!X:X,MATCH(B147,'План ввода основ. ср-в'!B:B,0)))","v":0},{"$f":"IF(ISNA(INDEX('План ввода основ. ср-в'!Y:Y,MATCH(B147,'План ввода основ. ср-в'!B:B,0))),0,INDEX('План ввода основ. ср-в'!Y:Y,MATCH(B147,'План ввода основ. ср-в'!B:B,0)))","v":0},0,{"$f":"IF(ISNA(INDEX('План ввода основ. ср-в'!Z:Z,MATCH(B147,'План ввода основ. ср-в'!B:B,0))),0,INDEX('План ввода основ. ср-в'!Z:Z,MATCH(B147,'План ввода основ. ср-в'!B:B,0)))","v":0},{"$f":"IF(ISNA(INDEX('План ввода основ. ср-в'!AA:AA,MATCH(B147,'План ввода основ. ср-в'!B:B,0))),0,INDEX('План ввода основ. ср-в'!AA:AA,MATCH(B147,'План ввода основ. ср-в'!B:B,0)))","v":2.2033898305084745},{"$f":"IF(ISNA(INDEX('План ввода основ. ср-в'!AB:AB,MATCH(B147,'План ввода основ. ср-в'!B:B,0))),0,INDEX('План ввода основ. ср-в'!AB:AB,MATCH(B147,'План ввода основ. ср-в'!B:B,0)))","v":0},{"$f":"IF(ISNA(INDEX('План ввода основ. ср-в'!AC:AC,MATCH(B147,'План ввода основ. ср-в'!B:B,0))),0,INDEX('План ввода основ. ср-в'!AC:AC,MATCH(B147,'План ввода основ. ср-в'!B:B,0)))","v":0},2.2033898305084745]
[126,"Реконструкция ВЛ-0,4 кВ от ЗТП КШК 1301/400*2 с заменой ЗТП на КТП 400*2 кВА",null,null,null,null,null,null,0,{"$f":"IF(AND(I148=0,K148=0),\"\",\"/\")","v":""},0,0,{"$f":"IF(AND(L148=0,N148=0),\"\",\"/\")","v":""},0,0,{"$f":"IF(AND(O148=0,Q148=0),\"\",\"/\")","v":""},0,0.75,{"$f":"IF(AND(R148=0,T148=0),\"\",\"/\")","v":"/"},0.8,0,{"$f":"IF(AND(U148=0,W148=0),\"\",\"/\")","v":""},0,0.75,"/",0.8,2.7966101694915255,{"$f":"IF(ISNA(INDEX('План ввода основ. ср-в'!F:F,MATCH(B148,'План ввода основ. ср-в'!B:B,0))),0,INDEX('План ввода основ. ср-в'!F:F,MATCH(B148,'План ввода основ. ср-в'!B:B,0)))","v":0},{"$f":"IF(AND(AB148=0,AD148=0),\"\",\"/\")","v":""},{"$f":"IF(ISNA(INDEX('План ввода основ. ср-в'!E:E,MATCH(B148,'План ввода основ. ср-в'!B:B,0))),0,INDEX('План ввода основ. ср-в'!E:E,MATCH(B148,'План ввода основ. ср-в'!B:B,0)))","v":0},{"$f":"IF(ISNA(INDEX('План ввода основ. ср-в'!H:H,MATCH(B148,'План ввода основ. ср-в'!B:B,0))),0,INDEX('План ввода основ. ср-в'!H:H,MATCH(B148,'План ввода основ. ср-в'!B:B,0)))","v":0},{"$f":"IF(AND(AE148=0,AG148=0),\"\",\"/\")","v":""},{"$f":"IF(ISNA(INDEX('План ввода основ. ср-в'!G:G,MATCH(B148,'План ввода основ. ср-в'!B:B,0))),0,INDEX('План ввода основ. ср-в'!G:G,MATCH(B148,'План ввода основ. ср-в'!B:B,0)))","v":0},{"$f":"IF(ISNA(INDEX('План ввода основ. ср-в'!J:J,MATCH(B148,'План ввода основ. ср-в'!B:B,0))),0,INDEX('План ввода основ. ср-в'!J:J,MATCH(B148,'План ввода основ. ср-в'!B:B,0)))","v":0},{"$f":"IF(AND(AH148=0,AJ148=0),\"\",\"/\")","v":""},{"$f":"IF(ISNA(INDEX('План ввода основ. ср-в'!I:I,MATCH(B148,'План ввода основ. ср-в'!B:B,0))),0,INDEX('План ввода основ. ср-в'!I:I,MATCH(B148,'План ввода основ. ср-в'!B:B,0)))","v":0},{"$f":"IF(ISNA(INDEX('План ввода основ. ср-в'!L:L,MATCH(B148,'План ввода основ. ср-в'!B:B,0))),0,INDEX('План ввода основ. ср-в'!L:L,MATCH(B148,'План ввода основ. ср-в'!B:B,0)))","v":0},{"$f":"IF(AND(AK148=0,AM148=0),\"\",\"/\")","v":""},{"$f":"IF(ISNA(INDEX('План ввода основ. ср-в'!K:K,MATCH(B148,'План ввода основ. ср-в'!B:B,0))),0,INDEX('План ввода основ. ср-в'!K:K,MATCH(B148,'План ввода основ. ср-в'!B:B,0)))","v":0},0,"/",0,{"$f":"IF(ISNA(INDEX('План ввода основ. ср-в'!N:N,MATCH(B148,'План ввода основ. ср-в'!B:B,0))),0,INDEX('План ввода основ. ср-в'!N:N,MATCH(B148,'План ввода основ. ср-в'!B:B,0)))","v":0},{"$f":"IF(AND(AQ148=0,AS148=0),\"\",\"/\")","v":""},{"$f":"IF(ISNA(INDEX('План ввода основ. ср-в'!M:M,MATCH(B148,'План ввода основ. ср-в'!B:B,0))),0,INDEX('План ввода основ. ср-в'!M:M,MATCH(B148,'План ввода основ. ср-в'!B:B,0)))","v":0},{"$f":"IF(ISNA(INDEX('План ввода основ. ср-в'!P:P,MATCH(B148,'План ввода основ. ср-в'!B:B,0))),0,INDEX('План ввода основ. ср-в'!P:P,MATCH(B148,'План ввода основ. ср-в'!B:B,0)))","v":0},{"$f":"IF(AND(AT148=0,AV148=0),\"\",\"/\")","v":""},{"$f":"IF(ISNA(INDEX('План ввода основ. ср-в'!O:O,MATCH(B148,'План ввода основ. ср-в'!B:B,0))),0,INDEX('План ввода основ. ср-в'!O:O,MATCH(B148,'План ввода основ. ср-в'!B:B,0)))","v":0},{"$f":"IF(ISNA(INDEX('План ввода основ. ср-в'!R:R,MATCH(B148,'План ввода основ. ср-в'!B:B,0))),0,INDEX('План ввода основ. ср-в'!R:R,MATCH(B148,'План ввода основ. ср-в'!B:B,0)))","v":0.75},{"$f":"IF(AND(AW148=0,AY148=0),\"\",\"/\")","v":"/"},{"$f":"IF(ISNA(INDEX('План ввода основ. ср-в'!Q:Q,MATCH(B148,'План ввода основ. ср-в'!B:B,0))),0,INDEX('План ввода основ. ср-в'!Q:Q,MATCH(B148,'План ввода основ. ср-в'!B:B,0)))","v":0.8},{"$f":"IF(ISNA(INDEX('План ввода основ. ср-в'!T:T,MATCH(B148,'План ввода основ. ср-в'!B:B,0))),0,INDEX('План ввода основ. ср-в'!T:T,MATCH(B148,'План ввода основ. ср-в'!B:B,0)))","v":0},{"$f":"IF(AND(AZ148=0,BB148=0),\"\",\"/\")","v":""},{"$f":"IF(ISNA(INDEX('План ввода основ. ср-в'!S:S,MATCH(B148,'План ввода основ. ср-в'!B:B,0))),0,INDEX('План ввода основ. ср-в'!S:S,MATCH(B148,'План ввода основ. ср-в'!B:B,0)))","v":0},0.75,"/",0.8,{"$f":"IF(ISNA(INDEX('План ввода основ. ср-в'!V:V,MATCH(B148,'План ввода основ. ср-в'!B:B,0))),0,INDEX('План ввода основ. ср-в'!V:V,MATCH(B148,'План ввода основ. ср-в'!B:B,0)))","v":0},{"$f":"IF(ISNA(INDEX('План ввода основ. ср-в'!W:W,MATCH(B148,'План ввода основ. ср-в'!B:B,0))),0,INDEX('План ввода основ. ср-в'!W:W,MATCH(B148,'План ввода основ. ср-в'!B:B,0)))","v":0},{"$f":"IF(ISNA(INDEX('План ввода основ. ср-в'!X:X,MATCH(B148,'План ввода основ. ср-в'!B:B,0))),0,INDEX('План ввода основ. ср-в'!X:X,MATCH(B148,'План ввода основ. ср-в'!B:B,0)))","v":0},{"$f":"IF(ISNA(INDEX('План ввода основ. ср-в'!Y:Y,MATCH(B148,'План ввода основ. ср-в'!B:B,0))),0,INDEX('План ввода основ. ср-в'!Y:Y,MATCH(B148,'План ввода основ. ср-в'!B:B,0)))","v":0},0,{"$f":"IF(ISNA(INDEX('План ввода основ. ср-в'!Z:Z,MATCH(B148,'План ввода основ. ср-в'!B:B,0))),0,INDEX('План ввода основ. ср-в'!Z:Z,MATCH(B148,'План ввода основ. ср-в'!B:B,0)))","v":0},{"$f":"IF(ISNA(INDEX('План ввода основ. ср-в'!AA:AA,MATCH(B148,'План ввода основ. ср-в'!B:B,0))),0,INDEX('План ввода основ. ср-в'!AA:AA,MATCH(B148,'План ввода основ. ср-в'!B:B,0)))","v":0},{"$f":"IF(ISNA(INDEX('План ввода основ. ср-в'!AB:AB,MATCH(B148,'План ввода основ. ср-в'!B:B,0))),0,INDEX('План ввода основ. ср-в'!AB:AB,MATCH(B148,'План ввода основ. ср-в'!B:B,0)))","v":2.7966101694915255},{"$f":"IF(ISNA(INDEX('План ввода основ. ср-в'!AC:AC,MATCH(B148,'План ввода основ. ср-в'!B:B,0))),0,INDEX('План ввода основ. ср-в'!AC:AC,MATCH(B148,'План ввода основ. ср-в'!B:B,0)))","v":0},2.7966101694915255]
[127,"Реконструкция ВЛ-0,4 кВ от КТП КШК 506/250 кВА с заменой  КТП",null,null,null,null,null,null,0,"",0,0,"",0,0,"",0,0,"",0,2.7,"/",0.25,2.7,"/",0.25,7.4237288135593227,{"$f":"IF(ISNA(INDEX('План ввода основ. ср-в'!F:F,MATCH(B149,'План ввода основ. ср-в'!B:B,0))),0,INDEX('План ввода основ. ср-в'!F:F,MATCH(B149,'План ввода основ. ср-в'!B:B,0)))","v":0},"",{"$f":"IF(ISNA(INDEX('План ввода основ. ср-в'!E:E,MATCH(B149,'План ввода основ. ср-в'!B:B,0))),0,INDEX('План ввода основ. ср-в'!E:E,MATCH(B149,'План ввода основ. ср-в'!B:B,0)))","v":0},{"$f":"IF(ISNA(INDEX('План ввода основ. ср-в'!H:H,MATCH(B149,'План ввода основ. ср-в'!B:B,0))),0,INDEX('План ввода основ. ср-в'!H:H,MATCH(B149,'План ввода основ. ср-в'!B:B,0)))","v":0},"",{"$f":"IF(ISNA(INDEX('План ввода основ. ср-в'!G:G,MATCH(B149,'План ввода основ. ср-в'!B:B,0))),0,INDEX('План ввода основ. ср-в'!G:G,MATCH(B149,'План ввода основ. ср-в'!B:B,0)))","v":0},{"$f":"IF(ISNA(INDEX('План ввода основ. ср-в'!J:J,MATCH(B149,'План ввода основ. ср-в'!B:B,0))),0,INDEX('План ввода основ. ср-в'!J:J,MATCH(B149,'План ввода основ. ср-в'!B:B,0)))","v":0},"",{"$f":"IF(ISNA(INDEX('План ввода основ. ср-в'!I:I,MATCH(B149,'План ввода основ. ср-в'!B:B,0))),0,INDEX('План ввода основ. ср-в'!I:I,MATCH(B149,'План ввода основ. ср-в'!B:B,0)))","v":0},{"$f":"IF(ISNA(INDEX('План ввода основ. ср-в'!L:L,MATCH(B149,'План ввода основ. ср-в'!B:B,0))),0,INDEX('План ввода основ. ср-в'!L:L,MATCH(B149,'План ввода основ. ср-в'!B:B,0)))","v":0},"",{"$f":"IF(ISNA(INDEX('План ввода основ. ср-в'!K:K,MATCH(B149,'План ввода основ. ср-в'!B:B,0))),0,INDEX('План ввода основ. ср-в'!K:K,MATCH(B149,'План ввода основ. ср-в'!B:B,0)))","v":0},0,"/",0,{"$f":"IF(ISNA(INDEX('План ввода основ. ср-в'!N:N,MATCH(B149,'План ввода основ. ср-в'!B:B,0))),0,INDEX('План ввода основ. ср-в'!N:N,MATCH(B149,'План ввода основ. ср-в'!B:B,0)))","v":0},"",{"$f":"IF(ISNA(INDEX('План ввода основ. ср-в'!M:M,MATCH(B149,'План ввода основ. ср-в'!B:B,0))),0,INDEX('План ввода основ. ср-в'!M:M,MATCH(B149,'План ввода основ. ср-в'!B:B,0)))","v":0},{"$f":"IF(ISNA(INDEX('План ввода основ. ср-в'!P:P,MATCH(B149,'План ввода основ. ср-в'!B:B,0))),0,INDEX('План ввода основ. ср-в'!P:P,MATCH(B149,'План ввода основ. ср-в'!B:B,0)))","v":0},"",{"$f":"IF(ISNA(INDEX('План ввода основ. ср-в'!O:O,MATCH(B149,'План ввода основ. ср-в'!B:B,0))),0,INDEX('План ввода основ. ср-в'!O:O,MATCH(B149,'План ввода основ. ср-в'!B:B,0)))","v":0},{"$f":"IF(ISNA(INDEX('План ввода основ. ср-в'!R:R,MATCH(B149,'План ввода основ. ср-в'!B:B,0))),0,INDEX('План ввода основ. ср-в'!R:R,MATCH(B149,'План ввода основ. ср-в'!B:B,0)))","v":0},"",{"$f":"IF(ISNA(INDEX('План ввода основ. ср-в'!Q:Q,MATCH(B149,'План ввода основ. ср-в'!B:B,0))),0,INDEX('План ввода основ. ср-в'!Q:Q,MATCH(B149,'План ввода основ. ср-в'!B:B,0)))","v":0},{"$f":"IF(ISNA(INDEX('План ввода основ. ср-в'!T:T,MATCH(B149,'План ввода основ. ср-в'!B:B,0))),0,INDEX('План ввода основ. ср-в'!T:T,MATCH(B149,'План ввода основ. ср-в'!B:B,0)))","v":2.7},"/",{"$f":"IF(ISNA(INDEX('План ввода основ. ср-в'!S:S,MATCH(B149,'План ввода основ. ср-в'!B:B,0))),0,INDEX('План ввода основ. ср-в'!S:S,MATCH(B149,'План ввода основ. ср-в'!B:B,0)))","v":0.25},2.7,"/",0.25,{"$f":"IF(ISNA(INDEX('План ввода основ. ср-в'!V:V,MATCH(B149,'План ввода основ. ср-в'!B:B,0))),0,INDEX('План ввода основ. ср-в'!V:V,MATCH(B149,'План ввода основ. ср-в'!B:B,0)))","v":0},{"$f":"IF(ISNA(INDEX('План ввода основ. ср-в'!W:W,MATCH(B149,'План ввода основ. ср-в'!B:B,0))),0,INDEX('План ввода основ. ср-в'!W:W,MATCH(B149,'План ввода основ. ср-в'!B:B,0)))","v":0},{"$f":"IF(ISNA(INDEX('План ввода основ. ср-в'!X:X,MATCH(B149,'План ввода основ. ср-в'!B:B,0))),0,INDEX('План ввода основ. ср-в'!X:X,MATCH(B149,'План ввода основ. ср-в'!B:B,0)))","v":0},{"$f":"IF(ISNA(INDEX('План ввода основ. ср-в'!Y:Y,MATCH(B149,'План ввода основ. ср-в'!B:B,0))),0,INDEX('План ввода основ. ср-в'!Y:Y,MATCH(B149,'План ввода основ. ср-в'!B:B,0)))","v":0},0,{"$f":"IF(ISNA(INDEX('План ввода основ. ср-в'!Z:Z,MATCH(B149,'План ввода основ. ср-в'!B:B,0))),0,INDEX('План ввода основ. ср-в'!Z:Z,MATCH(B149,'План ввода основ. ср-в'!B:B,0)))","v":0},{"$f":"IF(ISNA(INDEX('План ввода основ. ср-в'!AA:AA,MATCH(B149,'План ввода основ. ср-в'!B:B,0))),0,INDEX('План ввода основ. ср-в'!AA:AA,MATCH(B149,'План ввода основ. ср-в'!B:B,0)))","v":0},{"$f":"IF(ISNA(INDEX('План ввода основ. ср-в'!AB:AB,MATCH(B149,'План ввода основ. ср-в'!B:B,0))),0,INDEX('План ввода основ. ср-в'!AB:AB,MATCH(B149,'План ввода основ. ср-в'!B:B,0)))","v":0},{"$f":"IF(ISNA(INDEX('План ввода основ. ср-в'!AC:AC,MATCH(B149,'План ввода основ. ср-в'!B:B,0))),0,INDEX('План ввода основ. ср-в'!AC:AC,MATCH(B149,'План ввода основ. ср-в'!B:B,0)))","v":7.4237288135593227},7.4237288135593227]
[128,"Реконструкция ВЛ-0,4 кВ от КТП КШК 908/100 кВА с заменой КТП на 250 кВА",null,null,null,null,null,null,0,"",0,0,"",0,0,"",0,0,"",0,0.2,"/",0.1,0.2,"/",0.1,1.4915254237288134,{"$f":"IF(ISNA(INDEX('План ввода основ. ср-в'!F:F,MATCH(B150,'План ввода основ. ср-в'!B:B,0))),0,INDEX('План ввода основ. ср-в'!F:F,MATCH(B150,'План ввода основ. ср-в'!B:B,0)))","v":0},"",{"$f":"IF(ISNA(INDEX('План ввода основ. ср-в'!E:E,MATCH(B150,'План ввода основ. ср-в'!B:B,0))),0,INDEX('План ввода основ. ср-в'!E:E,MATCH(B150,'План ввода основ. ср-в'!B:B,0)))","v":0},{"$f":"IF(ISNA(INDEX('План ввода основ. ср-в'!H:H,MATCH(B150,'План ввода основ. ср-в'!B:B,0))),0,INDEX('План ввода основ. ср-в'!H:H,MATCH(B150,'План ввода основ. ср-в'!B:B,0)))","v":0},"",{"$f":"IF(ISNA(INDEX('План ввода основ. ср-в'!G:G,MATCH(B150,'План ввода основ. ср-в'!B:B,0))),0,INDEX('План ввода основ. ср-в'!G:G,MATCH(B150,'План ввода основ. ср-в'!B:B,0)))","v":0},{"$f":"IF(ISNA(INDEX('План ввода основ. ср-в'!J:J,MATCH(B150,'План ввода основ. ср-в'!B:B,0))),0,INDEX('План ввода основ. ср-в'!J:J,MATCH(B150,'План ввода основ. ср-в'!B:B,0)))","v":0},"",{"$f":"IF(ISNA(INDEX('План ввода основ. ср-в'!I:I,MATCH(B150,'План ввода основ. ср-в'!B:B,0))),0,INDEX('План ввода основ. ср-в'!I:I,MATCH(B150,'План ввода основ. ср-в'!B:B,0)))","v":0},{"$f":"IF(ISNA(INDEX('План ввода основ. ср-в'!L:L,MATCH(B150,'План ввода основ. ср-в'!B:B,0))),0,INDEX('План ввода основ. ср-в'!L:L,MATCH(B150,'План ввода основ. ср-в'!B:B,0)))","v":0},"",{"$f":"IF(ISNA(INDEX('План ввода основ. ср-в'!K:K,MATCH(B150,'План ввода основ. ср-в'!B:B,0))),0,INDEX('План ввода основ. ср-в'!K:K,MATCH(B150,'План ввода основ. ср-в'!B:B,0)))","v":0},0,"/",0,{"$f":"IF(ISNA(INDEX('План ввода основ. ср-в'!N:N,MATCH(B150,'План ввода основ. ср-в'!B:B,0))),0,INDEX('План ввода основ. ср-в'!N:N,MATCH(B150,'План ввода основ. ср-в'!B:B,0)))","v":0},"",{"$f":"IF(ISNA(INDEX('План ввода основ. ср-в'!M:M,MATCH(B150,'План ввода основ. ср-в'!B:B,0))),0,INDEX('План ввода основ. ср-в'!M:M,MATCH(B150,'План ввода основ. ср-в'!B:B,0)))","v":0},{"$f":"IF(ISNA(INDEX('План ввода основ. ср-в'!P:P,MATCH(B150,'План ввода основ. ср-в'!B:B,0))),0,INDEX('План ввода основ. ср-в'!P:P,MATCH(B150,'План ввода основ. ср-в'!B:B,0)))","v":0},"",{"$f":"IF(ISNA(INDEX('План ввода основ. ср-в'!O:O,MATCH(B150,'План ввода основ. ср-в'!B:B,0))),0,INDEX('План ввода основ. ср-в'!O:O,MATCH(B150,'План ввода основ. ср-в'!B:B,0)))","v":0},{"$f":"IF(ISNA(INDEX('План ввода основ. ср-в'!R:R,MATCH(B150,'План ввода основ. ср-в'!B:B,0))),0,INDEX('План ввода основ. ср-в'!R:R,MATCH(B150,'План ввода основ. ср-в'!B:B,0)))","v":0},"",{"$f":"IF(ISNA(INDEX('План ввода основ. ср-в'!Q:Q,MATCH(B150,'План ввода основ. ср-в'!B:B,0))),0,INDEX('План ввода основ. ср-в'!Q:Q,MATCH(B150,'План ввода основ. ср-в'!B:B,0)))","v":0},{"$f":"IF(ISNA(INDEX('План ввода основ. ср-в'!T:T,MATCH(B150,'План ввода основ. ср-в'!B:B,0))),0,INDEX('План ввода основ. ср-в'!T:T,MATCH(B150,'План ввода основ. ср-в'!B:B,0)))","v":0.2},"/",{"$f":"IF(ISNA(INDEX('План ввода основ. ср-в'!S:S,MATCH(B150,'План ввода основ. ср-в'!B:B,0))),0,INDEX('План ввода основ. ср-в'!S:S,MATCH(B150,'План ввода основ. ср-в'!B:B,0)))","v":0.25},0.2,"/",0.25,{"$f":"IF(ISNA(INDEX('План ввода основ. ср-в'!V:V,MATCH(B150,'План ввода основ. ср-в'!B:B,0))),0,INDEX('План ввода основ. ср-в'!V:V,MATCH(B150,'План ввода основ. ср-в'!B:B,0)))","v":0},{"$f":"IF(ISNA(INDEX('План ввода основ. ср-в'!W:W,MATCH(B150,'План ввода основ. ср-в'!B:B,0))),0,INDEX('План ввода основ. ср-в'!W:W,MATCH(B150,'План ввода основ. ср-в'!B:B,0)))","v":0},{"$f":"IF(ISNA(INDEX('План ввода основ. ср-в'!X:X,MATCH(B150,'План ввода основ. ср-в'!B:B,0))),0,INDEX('План ввода основ. ср-в'!X:X,MATCH(B150,'План ввода основ. ср-в'!B:B,0)))","v":0},{"$f":"IF(ISNA(INDEX('План ввода основ. ср-в'!Y:Y,MATCH(B150,'План ввода основ. ср-в'!B:B,0))),0,INDEX('План ввода основ. ср-в'!Y:Y,MATCH(B150,'План ввода основ. ср-в'!B:B,0)))","v":0},0,{"$f":"IF(ISNA(INDEX('План ввода основ. ср-в'!Z:Z,MATCH(B150,'План ввода основ. ср-в'!B:B,0))),0,INDEX('План ввода основ. ср-в'!Z:Z,MATCH(B150,'План ввода основ. ср-в'!B:B,0)))","v":0},{"$f":"IF(ISNA(INDEX('План ввода основ. ср-в'!AA:AA,MATCH(B150,'План ввода основ. ср-в'!B:B,0))),0,INDEX('План ввода основ. ср-в'!AA:AA,MATCH(B150,'План ввода основ. ср-в'!B:B,0)))","v":0},{"$f":"IF(ISNA(INDEX('План ввода основ. ср-в'!AB:AB,MATCH(B150,'План ввода основ. ср-в'!B:B,0))),0,INDEX('План ввода основ. ср-в'!AB:AB,MATCH(B150,'План ввода основ. ср-в'!B:B,0)))","v":0},{"$f":"IF(ISNA(INDEX('План ввода основ. ср-в'!AC:AC,MATCH(B150,'План ввода основ. ср-в'!B:B,0))),0,INDEX('План ввода основ. ср-в'!AC:AC,MATCH(B150,'План ввода основ. ср-в'!B:B,0)))","v":1.4915254237288134},1.4915254237288134]
[129,"Красноармейский район",null,null,null,null,null,null,0,{"$f":"IF(AND(I151=0,K151=0),\"\",\"/\")","v":""},0,0,{"$f":"IF(AND(L151=0,N151=0),\"\",\"/\")","v":""},0,0,{"$f":"IF(AND(O151=0,Q151=0),\"\",\"/\")","v":""},0,0,{"$f":"IF(AND(R151=0,T151=0),\"\",\"/\")","v":""},0,0,{"$f":"IF(AND(U151=0,W151=0),\"\",\"/\")","v":""},0,0,"/",0,0,{"$f":"IF(ISNA(INDEX('План ввода основ. ср-в'!F:F,MATCH(B151,'План ввода основ. ср-в'!B:B,0))),0,INDEX('План ввода основ. ср-в'!F:F,MATCH(B151,'План ввода основ. ср-в'!B:B,0)))","v":0},{"$f":"IF(AND(AB151=0,AD151=0),\"\",\"/\")","v":""},{"$f":"IF(ISNA(INDEX('План ввода основ. ср-в'!E:E,MATCH(B151,'План ввода основ. ср-в'!B:B,0))),0,INDEX('План ввода основ. ср-в'!E:E,MATCH(B151,'План ввода основ. ср-в'!B:B,0)))","v":0},{"$f":"IF(ISNA(INDEX('План ввода основ. ср-в'!H:H,MATCH(B151,'План ввода основ. ср-в'!B:B,0))),0,INDEX('План ввода основ. ср-в'!H:H,MATCH(B151,'План ввода основ. ср-в'!B:B,0)))","v":0},{"$f":"IF(AND(AE151=0,AG151=0),\"\",\"/\")","v":""},{"$f":"IF(ISNA(INDEX('План ввода основ. ср-в'!G:G,MATCH(B151,'План ввода основ. ср-в'!B:B,0))),0,INDEX('План ввода основ. ср-в'!G:G,MATCH(B151,'План ввода основ. ср-в'!B:B,0)))","v":0},{"$f":"IF(ISNA(INDEX('План ввода основ. ср-в'!J:J,MATCH(B151,'План ввода основ. ср-в'!B:B,0))),0,INDEX('План ввода основ. ср-в'!J:J,MATCH(B151,'План ввода основ. ср-в'!B:B,0)))","v":0},{"$f":"IF(AND(AH151=0,AJ151=0),\"\",\"/\")","v":""},{"$f":"IF(ISNA(INDEX('План ввода основ. ср-в'!I:I,MATCH(B151,'План ввода основ. ср-в'!B:B,0))),0,INDEX('План ввода основ. ср-в'!I:I,MATCH(B151,'План ввода основ. ср-в'!B:B,0)))","v":0},{"$f":"IF(ISNA(INDEX('План ввода основ. ср-в'!L:L,MATCH(B151,'План ввода основ. ср-в'!B:B,0))),0,INDEX('План ввода основ. ср-в'!L:L,MATCH(B151,'План ввода основ. ср-в'!B:B,0)))","v":0},{"$f":"IF(AND(AK151=0,AM151=0),\"\",\"/\")","v":""},{"$f":"IF(ISNA(INDEX('План ввода основ. ср-в'!K:K,MATCH(B151,'План ввода основ. ср-в'!B:B,0))),0,INDEX('План ввода основ. ср-в'!K:K,MATCH(B151,'План ввода основ. ср-в'!B:B,0)))","v":0},0,"/",0,{"$f":"IF(ISNA(INDEX('План ввода основ. ср-в'!N:N,MATCH(B151,'План ввода основ. ср-в'!B:B,0))),0,INDEX('План ввода основ. ср-в'!N:N,MATCH(B151,'План ввода основ. ср-в'!B:B,0)))","v":0},{"$f":"IF(AND(AQ151=0,AS151=0),\"\",\"/\")","v":""},{"$f":"IF(ISNA(INDEX('План ввода основ. ср-в'!M:M,MATCH(B151,'План ввода основ. ср-в'!B:B,0))),0,INDEX('План ввода основ. ср-в'!M:M,MATCH(B151,'План ввода основ. ср-в'!B:B,0)))","v":0},{"$f":"IF(ISNA(INDEX('План ввода основ. ср-в'!P:P,MATCH(B151,'План ввода основ. ср-в'!B:B,0))),0,INDEX('План ввода основ. ср-в'!P:P,MATCH(B151,'План ввода основ. ср-в'!B:B,0)))","v":0},{"$f":"IF(AND(AT151=0,AV151=0),\"\",\"/\")","v":""},{"$f":"IF(ISNA(INDEX('План ввода основ. ср-в'!O:O,MATCH(B151,'План ввода основ. ср-в'!B:B,0))),0,INDEX('План ввода основ. ср-в'!O:O,MATCH(B151,'План ввода основ. ср-в'!B:B,0)))","v":0},{"$f":"IF(ISNA(INDEX('План ввода основ. ср-в'!R:R,MATCH(B151,'План ввода основ. ср-в'!B:B,0))),0,INDEX('План ввода основ. ср-в'!R:R,MATCH(B151,'План ввода основ. ср-в'!B:B,0)))","v":0},{"$f":"IF(AND(AW151=0,AY151=0),\"\",\"/\")","v":""},{"$f":"IF(ISNA(INDEX('План ввода основ. ср-в'!Q:Q,MATCH(B151,'План ввода основ. ср-в'!B:B,0))),0,INDEX('План ввода основ. ср-в'!Q:Q,MATCH(B151,'План ввода основ. ср-в'!B:B,0)))","v":0},{"$f":"IF(ISNA(INDEX('План ввода основ. ср-в'!T:T,MATCH(B151,'План ввода основ. ср-в'!B:B,0))),0,INDEX('План ввода основ. ср-в'!T:T,MATCH(B151,'План ввода основ. ср-в'!B:B,0)))","v":0},{"$f":"IF(AND(AZ151=0,BB151=0),\"\",\"/\")","v":""},{"$f":"IF(ISNA(INDEX('План ввода основ. ср-в'!S:S,MATCH(B151,'План ввода основ. ср-в'!B:B,0))),0,INDEX('План ввода основ. ср-в'!S:S,MATCH(B151,'План ввода основ. ср-в'!B:B,0)))","v":0},0,"/",0,{"$f":"IF(ISNA(INDEX('План ввода основ. ср-в'!V:V,MATCH(B151,'План ввода основ. ср-в'!B:B,0))),0,INDEX('План ввода основ. ср-в'!V:V,MATCH(B151,'План ввода основ. ср-в'!B:B,0)))","v":0},{"$f":"IF(ISNA(INDEX('План ввода основ. ср-в'!W:W,MATCH(B151,'План ввода основ. ср-в'!B:B,0))),0,INDEX('План ввода основ. ср-в'!W:W,MATCH(B151,'План ввода основ. ср-в'!B:B,0)))","v":0},{"$f":"IF(ISNA(INDEX('План ввода основ. ср-в'!X:X,MATCH(B151,'План ввода основ. ср-в'!B:B,0))),0,INDEX('План ввода основ. ср-в'!X:X,MATCH(B151,'План ввода основ. ср-в'!B:B,0)))","v":0},{"$f":"IF(ISNA(INDEX('План ввода основ. ср-в'!Y:Y,MATCH(B151,'План ввода основ. ср-в'!B:B,0))),0,INDEX('План ввода основ. ср-в'!Y:Y,MATCH(B151,'План ввода основ. ср-в'!B:B,0)))","v":0},0,{"$f":"IF(ISNA(INDEX('План ввода основ. ср-в'!Z:Z,MATCH(B151,'План ввода основ. ср-в'!B:B,0))),0,INDEX('План ввода основ. ср-в'!Z:Z,MATCH(B151,'План ввода основ. ср-в'!B:B,0)))","v":0},{"$f":"IF(ISNA(INDEX('План ввода основ. ср-в'!AA:AA,MATCH(B151,'План ввода основ. ср-в'!B:B,0))),0,INDEX('План ввода основ. ср-в'!AA:AA,MATCH(B151,'План ввода основ. ср-в'!B:B,0)))","v":0},{"$f":"IF(ISNA(INDEX('План ввода основ. ср-в'!AB:AB,MATCH(B151,'План ввода основ. ср-в'!B:B,0))),0,INDEX('План ввода основ. ср-в'!AB:AB,MATCH(B151,'План ввода основ. ср-в'!B:B,0)))","v":0},{"$f":"IF(ISNA(INDEX('План ввода основ. ср-в'!AC:AC,MATCH(B151,'План ввода основ. ср-в'!B:B,0))),0,INDEX('План ввода основ. ср-в'!AC:AC,MATCH(B151,'План ввода основ. ср-в'!B:B,0)))","v":0},0]
[130,"Реконструкция ВЛ-10 кВ Ф-1 ПС В.Гай",null,null,null,null,null,null,1.2,"/",0,0,"",0,0,"",0,0,"",0,0,"",0,{"$f":"SUM(I152+L152+O152+R152+U152)","v":1.2},"/",0,3.2542372881355934,{"$f":"IF(ISNA(INDEX('План ввода основ. ср-в'!F:F,MATCH(B152,'План ввода основ. ср-в'!B:B,0))),0,INDEX('План ввода основ. ср-в'!F:F,MATCH(B152,'План ввода основ. ср-в'!B:B,0)))","v":0},"",{"$f":"IF(ISNA(INDEX('План ввода основ. ср-в'!E:E,MATCH(B152,'План ввода основ. ср-в'!B:B,0))),0,INDEX('План ввода основ. ср-в'!E:E,MATCH(B152,'План ввода основ. ср-в'!B:B,0)))","v":0},{"$f":"IF(ISNA(INDEX('План ввода основ. ср-в'!H:H,MATCH(B152,'План ввода основ. ср-в'!B:B,0))),0,INDEX('План ввода основ. ср-в'!H:H,MATCH(B152,'План ввода основ. ср-в'!B:B,0)))","v":0},"",{"$f":"IF(ISNA(INDEX('План ввода основ. ср-в'!G:G,MATCH(B152,'План ввода основ. ср-в'!B:B,0))),0,INDEX('План ввода основ. ср-в'!G:G,MATCH(B152,'План ввода основ. ср-в'!B:B,0)))","v":0},{"$f":"IF(ISNA(INDEX('План ввода основ. ср-в'!J:J,MATCH(B152,'План ввода основ. ср-в'!B:B,0))),0,INDEX('План ввода основ. ср-в'!J:J,MATCH(B152,'План ввода основ. ср-в'!B:B,0)))","v":0},"",{"$f":"IF(ISNA(INDEX('План ввода основ. ср-в'!I:I,MATCH(B152,'План ввода основ. ср-в'!B:B,0))),0,INDEX('План ввода основ. ср-в'!I:I,MATCH(B152,'План ввода основ. ср-в'!B:B,0)))","v":0},{"$f":"IF(ISNA(INDEX('План ввода основ. ср-в'!L:L,MATCH(B152,'План ввода основ. ср-в'!B:B,0))),0,INDEX('План ввода основ. ср-в'!L:L,MATCH(B152,'План ввода основ. ср-в'!B:B,0)))","v":1.2},"/",{"$f":"IF(ISNA(INDEX('План ввода основ. ср-в'!K:K,MATCH(B152,'План ввода основ. ср-в'!B:B,0))),0,INDEX('План ввода основ. ср-в'!K:K,MATCH(B152,'План ввода основ. ср-в'!B:B,0)))","v":0},{"$f":"AB152+AE152+AH152+AK152","v":1.2},"/",{"$f":"AD152+AG152+AJ152+AM152","v":0},{"$f":"IF(ISNA(INDEX('План ввода основ. ср-в'!N:N,MATCH(B152,'План ввода основ. ср-в'!B:B,0))),0,INDEX('План ввода основ. ср-в'!N:N,MATCH(B152,'План ввода основ. ср-в'!B:B,0)))","v":0},"",{"$f":"IF(ISNA(INDEX('План ввода основ. ср-в'!M:M,MATCH(B152,'План ввода основ. ср-в'!B:B,0))),0,INDEX('План ввода основ. ср-в'!M:M,MATCH(B152,'План ввода основ. ср-в'!B:B,0)))","v":0},{"$f":"IF(ISNA(INDEX('План ввода основ. ср-в'!P:P,MATCH(B152,'План ввода основ. ср-в'!B:B,0))),0,INDEX('План ввода основ. ср-в'!P:P,MATCH(B152,'План ввода основ. ср-в'!B:B,0)))","v":0},"",{"$f":"IF(ISNA(INDEX('План ввода основ. ср-в'!O:O,MATCH(B152,'План ввода основ. ср-в'!B:B,0))),0,INDEX('План ввода основ. ср-в'!O:O,MATCH(B152,'План ввода основ. ср-в'!B:B,0)))","v":0},{"$f":"IF(ISNA(INDEX('План ввода основ. ср-в'!R:R,MATCH(B152,'План ввода основ. ср-в'!B:B,0))),0,INDEX('План ввода основ. ср-в'!R:R,MATCH(B152,'План ввода основ. ср-в'!B:B,0)))","v":0},"",{"$f":"IF(ISNA(INDEX('План ввода основ. ср-в'!Q:Q,MATCH(B152,'План ввода основ. ср-в'!B:B,0))),0,INDEX('План ввода основ. ср-в'!Q:Q,MATCH(B152,'План ввода основ. ср-в'!B:B,0)))","v":0},{"$f":"IF(ISNA(INDEX('План ввода основ. ср-в'!T:T,MATCH(B152,'План ввода основ. ср-в'!B:B,0))),0,INDEX('План ввода основ. ср-в'!T:T,MATCH(B152,'План ввода основ. ср-в'!B:B,0)))","v":0},"",{"$f":"IF(ISNA(INDEX('План ввода основ. ср-в'!S:S,MATCH(B152,'План ввода основ. ср-в'!B:B,0))),0,INDEX('План ввода основ. ср-в'!S:S,MATCH(B152,'План ввода основ. ср-в'!B:B,0)))","v":0},1.2,"/",{"$f":"AP152+AS152+AV152+AY152+BB152","v":0},{"$f":"IF(ISNA(INDEX('План ввода основ. ср-в'!V:V,MATCH(B152,'План ввода основ. ср-в'!B:B,0))),0,INDEX('План ввода основ. ср-в'!V:V,MATCH(B152,'План ввода основ. ср-в'!B:B,0)))","v":0},{"$f":"IF(ISNA(INDEX('План ввода основ. ср-в'!W:W,MATCH(B152,'План ввода основ. ср-в'!B:B,0))),0,INDEX('План ввода основ. ср-в'!W:W,MATCH(B152,'План ввода основ. ср-в'!B:B,0)))","v":0.488135593220339},{"$f":"IF(ISNA(INDEX('План ввода основ. ср-в'!X:X,MATCH(B152,'План ввода основ. ср-в'!B:B,0))),0,INDEX('План ввода основ. ср-в'!X:X,MATCH(B152,'План ввода основ. ср-в'!B:B,0)))","v":1.1389830508474577},{"$f":"IF(ISNA(INDEX('План ввода основ. ср-в'!Y:Y,MATCH(B152,'План ввода основ. ср-в'!B:B,0))),0,INDEX('План ввода основ. ср-в'!Y:Y,MATCH(B152,'План ввода основ. ср-в'!B:B,0)))","v":1.6271186440677967},{"$f":"SUM(BF152:BI152)","v":3.2542372881355934},{"$f":"IF(ISNA(INDEX('План ввода основ. ср-в'!Z:Z,MATCH(B152,'План ввода основ. ср-в'!B:B,0))),0,INDEX('План ввода основ. ср-в'!Z:Z,MATCH(B152,'План ввода основ. ср-в'!B:B,0)))","v":0},{"$f":"IF(ISNA(INDEX('План ввода основ. ср-в'!AA:AA,MATCH(B152,'План ввода основ. ср-в'!B:B,0))),0,INDEX('План ввода основ. ср-в'!AA:AA,MATCH(B152,'План ввода основ. ср-в'!B:B,0)))","v":0},{"$f":"IF(ISNA(INDEX('План ввода основ. ср-в'!AB:AB,MATCH(B152,'План ввода основ. ср-в'!B:B,0))),0,INDEX('План ввода основ. ср-в'!AB:AB,MATCH(B152,'План ввода основ. ср-в'!B:B,0)))","v":0},{"$f":"IF(ISNA(INDEX('План ввода основ. ср-в'!AC:AC,MATCH(B152,'План ввода основ. ср-в'!B:B,0))),0,INDEX('План ввода основ. ср-в'!AC:AC,MATCH(B152,'План ввода основ. ср-в'!B:B,0)))","v":0},{"$f":"SUM(BJ152:BN152)","v":3.2542372881355934}]
[131,"Реконструкция ВЛ-10 кВ Ф-1 ПС Колдыбань",null,null,null,null,null,null,0,"",0,0.21,"/",0,0,"",0,0,"",0,0,"",0,0.21,"/",{"$f":"SUM(K153+N153+Q153+T153+W153)","v":0},0.49830508474576268,{"$f":"IF(ISNA(INDEX('План ввода основ. ср-в'!F:F,MATCH(B153,'План ввода основ. ср-в'!B:B,0))),0,INDEX('План ввода основ. ср-в'!F:F,MATCH(B153,'План ввода основ. ср-в'!B:B,0)))","v":0},"",{"$f":"IF(ISNA(INDEX('План ввода основ. ср-в'!E:E,MATCH(B153,'План ввода основ. ср-в'!B:B,0))),0,INDEX('План ввода основ. ср-в'!E:E,MATCH(B153,'План ввода основ. ср-в'!B:B,0)))","v":0},{"$f":"IF(ISNA(INDEX('План ввода основ. ср-в'!H:H,MATCH(B153,'План ввода основ. ср-в'!B:B,0))),0,INDEX('План ввода основ. ср-в'!H:H,MATCH(B153,'План ввода основ. ср-в'!B:B,0)))","v":0},"",{"$f":"IF(ISNA(INDEX('План ввода основ. ср-в'!G:G,MATCH(B153,'План ввода основ. ср-в'!B:B,0))),0,INDEX('План ввода основ. ср-в'!G:G,MATCH(B153,'План ввода основ. ср-в'!B:B,0)))","v":0},{"$f":"IF(ISNA(INDEX('План ввода основ. ср-в'!J:J,MATCH(B153,'План ввода основ. ср-в'!B:B,0))),0,INDEX('План ввода основ. ср-в'!J:J,MATCH(B153,'План ввода основ. ср-в'!B:B,0)))","v":0},"",{"$f":"IF(ISNA(INDEX('План ввода основ. ср-в'!I:I,MATCH(B153,'План ввода основ. ср-в'!B:B,0))),0,INDEX('План ввода основ. ср-в'!I:I,MATCH(B153,'План ввода основ. ср-в'!B:B,0)))","v":0},{"$f":"IF(ISNA(INDEX('План ввода основ. ср-в'!L:L,MATCH(B153,'План ввода основ. ср-в'!B:B,0))),0,INDEX('План ввода основ. ср-в'!L:L,MATCH(B153,'План ввода основ. ср-в'!B:B,0)))","v":0},"",{"$f":"IF(ISNA(INDEX('План ввода основ. ср-в'!K:K,MATCH(B153,'План ввода основ. ср-в'!B:B,0))),0,INDEX('План ввода основ. ср-в'!K:K,MATCH(B153,'План ввода основ. ср-в'!B:B,0)))","v":0},0,"/",0,{"$f":"IF(ISNA(INDEX('План ввода основ. ср-в'!N:N,MATCH(B153,'План ввода основ. ср-в'!B:B,0))),0,INDEX('План ввода основ. ср-в'!N:N,MATCH(B153,'План ввода основ. ср-в'!B:B,0)))","v":0.21},"/",{"$f":"IF(ISNA(INDEX('План ввода основ. ср-в'!M:M,MATCH(B153,'План ввода основ. ср-в'!B:B,0))),0,INDEX('План ввода основ. ср-в'!M:M,MATCH(B153,'План ввода основ. ср-в'!B:B,0)))","v":0},{"$f":"IF(ISNA(INDEX('План ввода основ. ср-в'!P:P,MATCH(B153,'План ввода основ. ср-в'!B:B,0))),0,INDEX('План ввода основ. ср-в'!P:P,MATCH(B153,'План ввода основ. ср-в'!B:B,0)))","v":0},"",{"$f":"IF(ISNA(INDEX('План ввода основ. ср-в'!O:O,MATCH(B153,'План ввода основ. ср-в'!B:B,0))),0,INDEX('План ввода основ. ср-в'!O:O,MATCH(B153,'План ввода основ. ср-в'!B:B,0)))","v":0},{"$f":"IF(ISNA(INDEX('План ввода основ. ср-в'!R:R,MATCH(B153,'План ввода основ. ср-в'!B:B,0))),0,INDEX('План ввода основ. ср-в'!R:R,MATCH(B153,'План ввода основ. ср-в'!B:B,0)))","v":0},"",{"$f":"IF(ISNA(INDEX('План ввода основ. ср-в'!Q:Q,MATCH(B153,'План ввода основ. ср-в'!B:B,0))),0,INDEX('План ввода основ. ср-в'!Q:Q,MATCH(B153,'План ввода основ. ср-в'!B:B,0)))","v":0},{"$f":"IF(ISNA(INDEX('План ввода основ. ср-в'!T:T,MATCH(B153,'План ввода основ. ср-в'!B:B,0))),0,INDEX('План ввода основ. ср-в'!T:T,MATCH(B153,'План ввода основ. ср-в'!B:B,0)))","v":0},"",{"$f":"IF(ISNA(INDEX('План ввода основ. ср-в'!S:S,MATCH(B153,'План ввода основ. ср-в'!B:B,0))),0,INDEX('План ввода основ. ср-в'!S:S,MATCH(B153,'План ввода основ. ср-в'!B:B,0)))","v":0},0.21,"/",0,{"$f":"IF(ISNA(INDEX('План ввода основ. ср-в'!V:V,MATCH(B153,'План ввода основ. ср-в'!B:B,0))),0,INDEX('План ввода основ. ср-в'!V:V,MATCH(B153,'План ввода основ. ср-в'!B:B,0)))","v":0},{"$f":"IF(ISNA(INDEX('План ввода основ. ср-в'!W:W,MATCH(B153,'План ввода основ. ср-в'!B:B,0))),0,INDEX('План ввода основ. ср-в'!W:W,MATCH(B153,'План ввода основ. ср-в'!B:B,0)))","v":0},{"$f":"IF(ISNA(INDEX('План ввода основ. ср-в'!X:X,MATCH(B153,'План ввода основ. ср-в'!B:B,0))),0,INDEX('План ввода основ. ср-в'!X:X,MATCH(B153,'План ввода основ. ср-в'!B:B,0)))","v":0},{"$f":"IF(ISNA(INDEX('План ввода основ. ср-в'!Y:Y,MATCH(B153,'План ввода основ. ср-в'!B:B,0))),0,INDEX('План ввода основ. ср-в'!Y:Y,MATCH(B153,'План ввода основ. ср-в'!B:B,0)))","v":0},0,{"$f":"IF(ISNA(INDEX('План ввода основ. ср-в'!Z:Z,MATCH(B153,'План ввода основ. ср-в'!B:B,0))),0,INDEX('План ввода основ. ср-в'!Z:Z,MATCH(B153,'План ввода основ. ср-в'!B:B,0)))","v":0.49830508474576268},{"$f":"IF(ISNA(INDEX('План ввода основ. ср-в'!AA:AA,MATCH(B153,'План ввода основ. ср-в'!B:B,0))),0,INDEX('План ввода основ. ср-в'!AA:AA,MATCH(B153,'План ввода основ. ср-в'!B:B,0)))","v":0},{"$f":"IF(ISNA(INDEX('План ввода основ. ср-в'!AB:AB,MATCH(B153,'План ввода основ. ср-в'!B:B,0))),0,INDEX('План ввода основ. ср-в'!AB:AB,MATCH(B153,'План ввода основ. ср-в'!B:B,0)))","v":0},{"$f":"IF(ISNA(INDEX('План ввода основ. ср-в'!AC:AC,MATCH(B153,'План ввода основ. ср-в'!B:B,0))),0,INDEX('План ввода основ. ср-в'!AC:AC,MATCH(B153,'План ввода основ. ср-в'!B:B,0)))","v":0},0.49830508474576268]
[132,"Реконструкция ВЛ-10 кВ Ф-2 ПС В.Гай",null,null,null,null,null,null,0,{"$f":"IF(AND(I154=0,K154=0),\"\",\"/\")","v":""},0,0.3,{"$f":"IF(AND(L154=0,N154=0),\"\",\"/\")","v":"/"},0,0,{"$f":"IF(AND(O154=0,Q154=0),\"\",\"/\")","v":""},0,0,{"$f":"IF(AND(R154=0,T154=0),\"\",\"/\")","v":""},0,0,{"$f":"IF(AND(U154=0,W154=0),\"\",\"/\")","v":""},0,0.3,"/",0,0.71186440677966101,{"$f":"IF(ISNA(INDEX('План ввода основ. ср-в'!F:F,MATCH(B154,'План ввода основ. ср-в'!B:B,0))),0,INDEX('План ввода основ. ср-в'!F:F,MATCH(B154,'План ввода основ. ср-в'!B:B,0)))","v":0},{"$f":"IF(AND(AB154=0,AD154=0),\"\",\"/\")","v":""},{"$f":"IF(ISNA(INDEX('План ввода основ. ср-в'!E:E,MATCH(B154,'План ввода основ. ср-в'!B:B,0))),0,INDEX('План ввода основ. ср-в'!E:E,MATCH(B154,'План ввода основ. ср-в'!B:B,0)))","v":0},{"$f":"IF(ISNA(INDEX('План ввода основ. ср-в'!H:H,MATCH(B154,'План ввода основ. ср-в'!B:B,0))),0,INDEX('План ввода основ. ср-в'!H:H,MATCH(B154,'План ввода основ. ср-в'!B:B,0)))","v":0},{"$f":"IF(AND(AE154=0,AG154=0),\"\",\"/\")","v":""},{"$f":"IF(ISNA(INDEX('План ввода основ. ср-в'!G:G,MATCH(B154,'План ввода основ. ср-в'!B:B,0))),0,INDEX('План ввода основ. ср-в'!G:G,MATCH(B154,'План ввода основ. ср-в'!B:B,0)))","v":0},{"$f":"IF(ISNA(INDEX('План ввода основ. ср-в'!J:J,MATCH(B154,'План ввода основ. ср-в'!B:B,0))),0,INDEX('План ввода основ. ср-в'!J:J,MATCH(B154,'План ввода основ. ср-в'!B:B,0)))","v":0},{"$f":"IF(AND(AH154=0,AJ154=0),\"\",\"/\")","v":""},{"$f":"IF(ISNA(INDEX('План ввода основ. ср-в'!I:I,MATCH(B154,'План ввода основ. ср-в'!B:B,0))),0,INDEX('План ввода основ. ср-в'!I:I,MATCH(B154,'План ввода основ. ср-в'!B:B,0)))","v":0},{"$f":"IF(ISNA(INDEX('План ввода основ. ср-в'!L:L,MATCH(B154,'План ввода основ. ср-в'!B:B,0))),0,INDEX('План ввода основ. ср-в'!L:L,MATCH(B154,'План ввода основ. ср-в'!B:B,0)))","v":0},{"$f":"IF(AND(AK154=0,AM154=0),\"\",\"/\")","v":""},{"$f":"IF(ISNA(INDEX('План ввода основ. ср-в'!K:K,MATCH(B154,'План ввода основ. ср-в'!B:B,0))),0,INDEX('План ввода основ. ср-в'!K:K,MATCH(B154,'План ввода основ. ср-в'!B:B,0)))","v":0},0,"/",0,{"$f":"IF(ISNA(INDEX('План ввода основ. ср-в'!N:N,MATCH(B154,'План ввода основ. ср-в'!B:B,0))),0,INDEX('План ввода основ. ср-в'!N:N,MATCH(B154,'План ввода основ. ср-в'!B:B,0)))","v":0.3},{"$f":"IF(AND(AQ154=0,AS154=0),\"\",\"/\")","v":"/"},{"$f":"IF(ISNA(INDEX('План ввода основ. ср-в'!M:M,MATCH(B154,'План ввода основ. ср-в'!B:B,0))),0,INDEX('План ввода основ. ср-в'!M:M,MATCH(B154,'План ввода основ. ср-в'!B:B,0)))","v":0},{"$f":"IF(ISNA(INDEX('План ввода основ. ср-в'!P:P,MATCH(B154,'План ввода основ. ср-в'!B:B,0))),0,INDEX('План ввода основ. ср-в'!P:P,MATCH(B154,'План ввода основ. ср-в'!B:B,0)))","v":0},{"$f":"IF(AND(AT154=0,AV154=0),\"\",\"/\")","v":""},{"$f":"IF(ISNA(INDEX('План ввода основ. ср-в'!O:O,MATCH(B154,'План ввода основ. ср-в'!B:B,0))),0,INDEX('План ввода основ. ср-в'!O:O,MATCH(B154,'План ввода основ. ср-в'!B:B,0)))","v":0},{"$f":"IF(ISNA(INDEX('План ввода основ. ср-в'!R:R,MATCH(B154,'План ввода основ. ср-в'!B:B,0))),0,INDEX('План ввода основ. ср-в'!R:R,MATCH(B154,'План ввода основ. ср-в'!B:B,0)))","v":0},{"$f":"IF(AND(AW154=0,AY154=0),\"\",\"/\")","v":""},{"$f":"IF(ISNA(INDEX('План ввода основ. ср-в'!Q:Q,MATCH(B154,'План ввода основ. ср-в'!B:B,0))),0,INDEX('План ввода основ. ср-в'!Q:Q,MATCH(B154,'План ввода основ. ср-в'!B:B,0)))","v":0},{"$f":"IF(ISNA(INDEX('План ввода основ. ср-в'!T:T,MATCH(B154,'План ввода основ. ср-в'!B:B,0))),0,INDEX('План ввода основ. ср-в'!T:T,MATCH(B154,'План ввода основ. ср-в'!B:B,0)))","v":0},{"$f":"IF(AND(AZ154=0,BB154=0),\"\",\"/\")","v":""},{"$f":"IF(ISNA(INDEX('План ввода основ. ср-в'!S:S,MATCH(B154,'План ввода основ. ср-в'!B:B,0))),0,INDEX('План ввода основ. ср-в'!S:S,MATCH(B154,'План ввода основ. ср-в'!B:B,0)))","v":0},0.3,"/",0,{"$f":"IF(ISNA(INDEX('План ввода основ. ср-в'!V:V,MATCH(B154,'План ввода основ. ср-в'!B:B,0))),0,INDEX('План ввода основ. ср-в'!V:V,MATCH(B154,'План ввода основ. ср-в'!B:B,0)))","v":0},{"$f":"IF(ISNA(INDEX('План ввода основ. ср-в'!W:W,MATCH(B154,'План ввода основ. ср-в'!B:B,0))),0,INDEX('План ввода основ. ср-в'!W:W,MATCH(B154,'План ввода основ. ср-в'!B:B,0)))","v":0},{"$f":"IF(ISNA(INDEX('План ввода основ. ср-в'!X:X,MATCH(B154,'План ввода основ. ср-в'!B:B,0))),0,INDEX('План ввода основ. ср-в'!X:X,MATCH(B154,'План ввода основ. ср-в'!B:B,0)))","v":0},{"$f":"IF(ISNA(INDEX('План ввода основ. ср-в'!Y:Y,MATCH(B154,'План ввода основ. ср-в'!B:B,0))),0,INDEX('План ввода основ. ср-в'!Y:Y,MATCH(B154,'План ввода основ. ср-в'!B:B,0)))","v":0},0,{"$f":"IF(ISNA(INDEX('План ввода основ. ср-в'!Z:Z,MATCH(B154,'План ввода основ. ср-в'!B:B,0))),0,INDEX('План ввода основ. ср-в'!Z:Z,MATCH(B154,'План ввода основ. ср-в'!B:B,0)))","v":0.71186440677966101},{"$f":"IF(ISNA(INDEX('План ввода основ. ср-в'!AA:AA,MATCH(B154,'План ввода основ. ср-в'!B:B,0))),0,INDEX('План ввода основ. ср-в'!AA:AA,MATCH(B154,'План ввода основ. ср-в'!B:B,0)))","v":0},{"$f":"IF(ISNA(INDEX('План ввода основ. ср-в'!AB:AB,MATCH(B154,'План ввода основ. ср-в'!B:B,0))),0,INDEX('План ввода основ. ср-в'!AB:AB,MATCH(B154,'План ввода основ. ср-в'!B:B,0)))","v":0},{"$f":"IF(ISNA(INDEX('План ввода основ. ср-в'!AC:AC,MATCH(B154,'План ввода основ. ср-в'!B:B,0))),0,INDEX('План ввода основ. ср-в'!AC:AC,MATCH(B154,'План ввода основ. ср-в'!B:B,0)))","v":0},0.71186440677966101]
[133,"Красноярский район",null,null,null,null,null,null,0,"",0,0,"",0,0,"",0,0,"",0,0,"",0,0,"/",0,0,{"$f":"IF(ISNA(INDEX('План ввода основ. ср-в'!F:F,MATCH(B155,'План ввода основ. ср-в'!B:B,0))),0,INDEX('План ввода основ. ср-в'!F:F,MATCH(B155,'План ввода основ. ср-в'!B:B,0)))","v":0},"",{"$f":"IF(ISNA(INDEX('План ввода основ. ср-в'!E:E,MATCH(B155,'План ввода основ. ср-в'!B:B,0))),0,INDEX('План ввода основ. ср-в'!E:E,MATCH(B155,'План ввода основ. ср-в'!B:B,0)))","v":0},{"$f":"IF(ISNA(INDEX('План ввода основ. ср-в'!H:H,MATCH(B155,'План ввода основ. ср-в'!B:B,0))),0,INDEX('План ввода основ. ср-в'!H:H,MATCH(B155,'План ввода основ. ср-в'!B:B,0)))","v":0},"",{"$f":"IF(ISNA(INDEX('План ввода основ. ср-в'!G:G,MATCH(B155,'План ввода основ. ср-в'!B:B,0))),0,INDEX('План ввода основ. ср-в'!G:G,MATCH(B155,'План ввода основ. ср-в'!B:B,0)))","v":0},{"$f":"IF(ISNA(INDEX('План ввода основ. ср-в'!J:J,MATCH(B155,'План ввода основ. ср-в'!B:B,0))),0,INDEX('План ввода основ. ср-в'!J:J,MATCH(B155,'План ввода основ. ср-в'!B:B,0)))","v":0},"",{"$f":"IF(ISNA(INDEX('План ввода основ. ср-в'!I:I,MATCH(B155,'План ввода основ. ср-в'!B:B,0))),0,INDEX('План ввода основ. ср-в'!I:I,MATCH(B155,'План ввода основ. ср-в'!B:B,0)))","v":0},{"$f":"IF(ISNA(INDEX('План ввода основ. ср-в'!L:L,MATCH(B155,'План ввода основ. ср-в'!B:B,0))),0,INDEX('План ввода основ. ср-в'!L:L,MATCH(B155,'План ввода основ. ср-в'!B:B,0)))","v":0},"",{"$f":"IF(ISNA(INDEX('План ввода основ. ср-в'!K:K,MATCH(B155,'План ввода основ. ср-в'!B:B,0))),0,INDEX('План ввода основ. ср-в'!K:K,MATCH(B155,'План ввода основ. ср-в'!B:B,0)))","v":0},0,"/",0,{"$f":"IF(ISNA(INDEX('План ввода основ. ср-в'!N:N,MATCH(B155,'План ввода основ. ср-в'!B:B,0))),0,INDEX('План ввода основ. ср-в'!N:N,MATCH(B155,'План ввода основ. ср-в'!B:B,0)))","v":0},"",{"$f":"IF(ISNA(INDEX('План ввода основ. ср-в'!M:M,MATCH(B155,'План ввода основ. ср-в'!B:B,0))),0,INDEX('План ввода основ. ср-в'!M:M,MATCH(B155,'План ввода основ. ср-в'!B:B,0)))","v":0},{"$f":"IF(ISNA(INDEX('План ввода основ. ср-в'!P:P,MATCH(B155,'План ввода основ. ср-в'!B:B,0))),0,INDEX('План ввода основ. ср-в'!P:P,MATCH(B155,'План ввода основ. ср-в'!B:B,0)))","v":0},"",{"$f":"IF(ISNA(INDEX('План ввода основ. ср-в'!O:O,MATCH(B155,'План ввода основ. ср-в'!B:B,0))),0,INDEX('План ввода основ. ср-в'!O:O,MATCH(B155,'План ввода основ. ср-в'!B:B,0)))","v":0},{"$f":"IF(ISNA(INDEX('План ввода основ. ср-в'!R:R,MATCH(B155,'План ввода основ. ср-в'!B:B,0))),0,INDEX('План ввода основ. ср-в'!R:R,MATCH(B155,'План ввода основ. ср-в'!B:B,0)))","v":0},"",{"$f":"IF(ISNA(INDEX('План ввода основ. ср-в'!Q:Q,MATCH(B155,'План ввода основ. ср-в'!B:B,0))),0,INDEX('План ввода основ. ср-в'!Q:Q,MATCH(B155,'План ввода основ. ср-в'!B:B,0)))","v":0},{"$f":"IF(ISNA(INDEX('План ввода основ. ср-в'!T:T,MATCH(B155,'План ввода основ. ср-в'!B:B,0))),0,INDEX('План ввода основ. ср-в'!T:T,MATCH(B155,'План ввода основ. ср-в'!B:B,0)))","v":0},"",{"$f":"IF(ISNA(INDEX('План ввода основ. ср-в'!S:S,MATCH(B155,'План ввода основ. ср-в'!B:B,0))),0,INDEX('План ввода основ. ср-в'!S:S,MATCH(B155,'План ввода основ. ср-в'!B:B,0)))","v":0},0,"/",0,{"$f":"IF(ISNA(INDEX('План ввода основ. ср-в'!V:V,MATCH(B155,'План ввода основ. ср-в'!B:B,0))),0,INDEX('План ввода основ. ср-в'!V:V,MATCH(B155,'План ввода основ. ср-в'!B:B,0)))","v":0},{"$f":"IF(ISNA(INDEX('План ввода основ. ср-в'!W:W,MATCH(B155,'План ввода основ. ср-в'!B:B,0))),0,INDEX('План ввода основ. ср-в'!W:W,MATCH(B155,'План ввода основ. ср-в'!B:B,0)))","v":0},{"$f":"IF(ISNA(INDEX('План ввода основ. ср-в'!X:X,MATCH(B155,'План ввода основ. ср-в'!B:B,0))),0,INDEX('План ввода основ. ср-в'!X:X,MATCH(B155,'План ввода основ. ср-в'!B:B,0)))","v":0},{"$f":"IF(ISNA(INDEX('План ввода основ. ср-в'!Y:Y,MATCH(B155,'План ввода основ. ср-в'!B:B,0))),0,INDEX('План ввода основ. ср-в'!Y:Y,MATCH(B155,'План ввода основ. ср-в'!B:B,0)))","v":0},0,{"$f":"IF(ISNA(INDEX('План ввода основ. ср-в'!Z:Z,MATCH(B155,'План ввода основ. ср-в'!B:B,0))),0,INDEX('План ввода основ. ср-в'!Z:Z,MATCH(B155,'План ввода основ. ср-в'!B:B,0)))","v":0},{"$f":"IF(ISNA(INDEX('План ввода основ. ср-в'!AA:AA,MATCH(B155,'План ввода основ. ср-в'!B:B,0))),0,INDEX('План ввода основ. ср-в'!AA:AA,MATCH(B155,'План ввода основ. ср-в'!B:B,0)))","v":0},{"$f":"IF(ISNA(INDEX('План ввода основ. ср-в'!AB:AB,MATCH(B155,'План ввода основ. ср-в'!B:B,0))),0,INDEX('План ввода основ. ср-в'!AB:AB,MATCH(B155,'План ввода основ. ср-в'!B:B,0)))","v":0},{"$f":"IF(ISNA(INDEX('План ввода основ. ср-в'!AC:AC,MATCH(B155,'План ввода основ. ср-в'!B:B,0))),0,INDEX('План ввода основ. ср-в'!AC:AC,MATCH(B155,'План ввода основ. ср-в'!B:B,0)))","v":0},0]
[134,"Реконструкция ВЛ-6 кВ в п. Новосемейкино",null,null,null,null,null,null,0.3,null,0,0,null,0,null,null,null,0,null,0,0,null,0,0.3,"/",0,1.6949152542372881,{"$f":"IF(ISNA(INDEX('План ввода основ. ср-в'!F:F,MATCH(B156,'План ввода основ. ср-в'!B:B,0))),0,INDEX('План ввода основ. ср-в'!F:F,MATCH(B156,'План ввода основ. ср-в'!B:B,0)))","v":0},null,{"$f":"IF(ISNA(INDEX('План ввода основ. ср-в'!E:E,MATCH(B156,'План ввода основ. ср-в'!B:B,0))),0,INDEX('План ввода основ. ср-в'!E:E,MATCH(B156,'План ввода основ. ср-в'!B:B,0)))","v":0},{"$f":"IF(ISNA(INDEX('План ввода основ. ср-в'!H:H,MATCH(B156,'План ввода основ. ср-в'!B:B,0))),0,INDEX('План ввода основ. ср-в'!H:H,MATCH(B156,'План ввода основ. ср-в'!B:B,0)))","v":0},null,{"$f":"IF(ISNA(INDEX('План ввода основ. ср-в'!G:G,MATCH(B156,'План ввода основ. ср-в'!B:B,0))),0,INDEX('План ввода основ. ср-в'!G:G,MATCH(B156,'План ввода основ. ср-в'!B:B,0)))","v":0},{"$f":"IF(ISNA(INDEX('План ввода основ. ср-в'!J:J,MATCH(B156,'План ввода основ. ср-в'!B:B,0))),0,INDEX('План ввода основ. ср-в'!J:J,MATCH(B156,'План ввода основ. ср-в'!B:B,0)))","v":0},null,{"$f":"IF(ISNA(INDEX('План ввода основ. ср-в'!I:I,MATCH(B156,'План ввода основ. ср-в'!B:B,0))),0,INDEX('План ввода основ. ср-в'!I:I,MATCH(B156,'План ввода основ. ср-в'!B:B,0)))","v":0},{"$f":"IF(ISNA(INDEX('План ввода основ. ср-в'!L:L,MATCH(B156,'План ввода основ. ср-в'!B:B,0))),0,INDEX('План ввода основ. ср-в'!L:L,MATCH(B156,'План ввода основ. ср-в'!B:B,0)))","v":0.3},null,{"$f":"IF(ISNA(INDEX('План ввода основ. ср-в'!K:K,MATCH(B156,'План ввода основ. ср-в'!B:B,0))),0,INDEX('План ввода основ. ср-в'!K:K,MATCH(B156,'План ввода основ. ср-в'!B:B,0)))","v":0},0.3,"/",0,{"$f":"IF(ISNA(INDEX('План ввода основ. ср-в'!N:N,MATCH(B156,'План ввода основ. ср-в'!B:B,0))),0,INDEX('План ввода основ. ср-в'!N:N,MATCH(B156,'План ввода основ. ср-в'!B:B,0)))","v":0},null,{"$f":"IF(ISNA(INDEX('План ввода основ. ср-в'!M:M,MATCH(B156,'План ввода основ. ср-в'!B:B,0))),0,INDEX('План ввода основ. ср-в'!M:M,MATCH(B156,'План ввода основ. ср-в'!B:B,0)))","v":0},{"$f":"IF(ISNA(INDEX('План ввода основ. ср-в'!P:P,MATCH(B156,'План ввода основ. ср-в'!B:B,0))),0,INDEX('План ввода основ. ср-в'!P:P,MATCH(B156,'План ввода основ. ср-в'!B:B,0)))","v":0},null,{"$f":"IF(ISNA(INDEX('План ввода основ. ср-в'!O:O,MATCH(B156,'План ввода основ. ср-в'!B:B,0))),0,INDEX('План ввода основ. ср-в'!O:O,MATCH(B156,'План ввода основ. ср-в'!B:B,0)))","v":0},{"$f":"IF(ISNA(INDEX('План ввода основ. ср-в'!R:R,MATCH(B156,'План ввода основ. ср-в'!B:B,0))),0,INDEX('План ввода основ. ср-в'!R:R,MATCH(B156,'План ввода основ. ср-в'!B:B,0)))","v":0},null,{"$f":"IF(ISNA(INDEX('План ввода основ. ср-в'!Q:Q,MATCH(B156,'План ввода основ. ср-в'!B:B,0))),0,INDEX('План ввода основ. ср-в'!Q:Q,MATCH(B156,'План ввода основ. ср-в'!B:B,0)))","v":0},{"$f":"IF(ISNA(INDEX('План ввода основ. ср-в'!T:T,MATCH(B156,'План ввода основ. ср-в'!B:B,0))),0,INDEX('План ввода основ. ср-в'!T:T,MATCH(B156,'План ввода основ. ср-в'!B:B,0)))","v":0},null,{"$f":"IF(ISNA(INDEX('План ввода основ. ср-в'!S:S,MATCH(B156,'План ввода основ. ср-в'!B:B,0))),0,INDEX('План ввода основ. ср-в'!S:S,MATCH(B156,'План ввода основ. ср-в'!B:B,0)))","v":0},0.3,"/",0,{"$f":"IF(ISNA(INDEX('План ввода основ. ср-в'!V:V,MATCH(B156,'План ввода основ. ср-в'!B:B,0))),0,INDEX('План ввода основ. ср-в'!V:V,MATCH(B156,'План ввода основ. ср-в'!B:B,0)))","v":0},{"$f":"IF(ISNA(INDEX('План ввода основ. ср-в'!W:W,MATCH(B156,'План ввода основ. ср-в'!B:B,0))),0,INDEX('План ввода основ. ср-в'!W:W,MATCH(B156,'План ввода основ. ср-в'!B:B,0)))","v":0.25423728813559321},{"$f":"IF(ISNA(INDEX('План ввода основ. ср-в'!X:X,MATCH(B156,'План ввода основ. ср-в'!B:B,0))),0,INDEX('План ввода основ. ср-в'!X:X,MATCH(B156,'План ввода основ. ср-в'!B:B,0)))","v":0.59322033898305082},{"$f":"IF(ISNA(INDEX('План ввода основ. ср-в'!Y:Y,MATCH(B156,'План ввода основ. ср-в'!B:B,0))),0,INDEX('План ввода основ. ср-в'!Y:Y,MATCH(B156,'План ввода основ. ср-в'!B:B,0)))","v":0.84745762711864414},1.6949152542372881,{"$f":"IF(ISNA(INDEX('План ввода основ. ср-в'!Z:Z,MATCH(B156,'План ввода основ. ср-в'!B:B,0))),0,INDEX('План ввода основ. ср-в'!Z:Z,MATCH(B156,'План ввода основ. ср-в'!B:B,0)))","v":0},{"$f":"IF(ISNA(INDEX('План ввода основ. ср-в'!AA:AA,MATCH(B156,'План ввода основ. ср-в'!B:B,0))),0,INDEX('План ввода основ. ср-в'!AA:AA,MATCH(B156,'План ввода основ. ср-в'!B:B,0)))","v":0},{"$f":"IF(ISNA(INDEX('План ввода основ. ср-в'!AB:AB,MATCH(B156,'План ввода основ. ср-в'!B:B,0))),0,INDEX('План ввода основ. ср-в'!AB:AB,MATCH(B156,'План ввода основ. ср-в'!B:B,0)))","v":0},{"$f":"IF(ISNA(INDEX('План ввода основ. ср-в'!AC:AC,MATCH(B156,'План ввода основ. ср-в'!B:B,0))),0,INDEX('План ввода основ. ср-в'!AC:AC,MATCH(B156,'План ввода основ. ср-в'!B:B,0)))","v":0},1.6949152542372881]
[135,"Реконструкция Ф Кур-21",null,null,null,null,null,null,2.5,null,0,0,null,0,null,null,null,0,null,0,0,null,0,2.5,"/",0,15,{"$f":"IF(ISNA(INDEX('План ввода основ. ср-в'!F:F,MATCH(B157,'План ввода основ. ср-в'!B:B,0))),0,INDEX('План ввода основ. ср-в'!F:F,MATCH(B157,'План ввода основ. ср-в'!B:B,0)))","v":0},null,{"$f":"IF(ISNA(INDEX('План ввода основ. ср-в'!E:E,MATCH(B157,'План ввода основ. ср-в'!B:B,0))),0,INDEX('План ввода основ. ср-в'!E:E,MATCH(B157,'План ввода основ. ср-в'!B:B,0)))","v":0},{"$f":"IF(ISNA(INDEX('План ввода основ. ср-в'!H:H,MATCH(B157,'План ввода основ. ср-в'!B:B,0))),0,INDEX('План ввода основ. ср-в'!H:H,MATCH(B157,'План ввода основ. ср-в'!B:B,0)))","v":0},null,{"$f":"IF(ISNA(INDEX('План ввода основ. ср-в'!G:G,MATCH(B157,'План ввода основ. ср-в'!B:B,0))),0,INDEX('План ввода основ. ср-в'!G:G,MATCH(B157,'План ввода основ. ср-в'!B:B,0)))","v":0},{"$f":"IF(ISNA(INDEX('План ввода основ. ср-в'!J:J,MATCH(B157,'План ввода основ. ср-в'!B:B,0))),0,INDEX('План ввода основ. ср-в'!J:J,MATCH(B157,'План ввода основ. ср-в'!B:B,0)))","v":0},null,{"$f":"IF(ISNA(INDEX('План ввода основ. ср-в'!I:I,MATCH(B157,'План ввода основ. ср-в'!B:B,0))),0,INDEX('План ввода основ. ср-в'!I:I,MATCH(B157,'План ввода основ. ср-в'!B:B,0)))","v":0},{"$f":"IF(ISNA(INDEX('План ввода основ. ср-в'!L:L,MATCH(B157,'План ввода основ. ср-в'!B:B,0))),0,INDEX('План ввода основ. ср-в'!L:L,MATCH(B157,'План ввода основ. ср-в'!B:B,0)))","v":2.5},null,{"$f":"IF(ISNA(INDEX('План ввода основ. ср-в'!K:K,MATCH(B157,'План ввода основ. ср-в'!B:B,0))),0,INDEX('План ввода основ. ср-в'!K:K,MATCH(B157,'План ввода основ. ср-в'!B:B,0)))","v":0},2.5,"/",0,{"$f":"IF(ISNA(INDEX('План ввода основ. ср-в'!N:N,MATCH(B157,'План ввода основ. ср-в'!B:B,0))),0,INDEX('План ввода основ. ср-в'!N:N,MATCH(B157,'План ввода основ. ср-в'!B:B,0)))","v":0},null,{"$f":"IF(ISNA(INDEX('План ввода основ. ср-в'!M:M,MATCH(B157,'План ввода основ. ср-в'!B:B,0))),0,INDEX('План ввода основ. ср-в'!M:M,MATCH(B157,'План ввода основ. ср-в'!B:B,0)))","v":0},{"$f":"IF(ISNA(INDEX('План ввода основ. ср-в'!P:P,MATCH(B157,'План ввода основ. ср-в'!B:B,0))),0,INDEX('План ввода основ. ср-в'!P:P,MATCH(B157,'План ввода основ. ср-в'!B:B,0)))","v":0},null,{"$f":"IF(ISNA(INDEX('План ввода основ. ср-в'!O:O,MATCH(B157,'План ввода основ. ср-в'!B:B,0))),0,INDEX('План ввода основ. ср-в'!O:O,MATCH(B157,'План ввода основ. ср-в'!B:B,0)))","v":0},{"$f":"IF(ISNA(INDEX('План ввода основ. ср-в'!R:R,MATCH(B157,'План ввода основ. ср-в'!B:B,0))),0,INDEX('План ввода основ. ср-в'!R:R,MATCH(B157,'План ввода основ. ср-в'!B:B,0)))","v":0},null,{"$f":"IF(ISNA(INDEX('План ввода основ. ср-в'!Q:Q,MATCH(B157,'План ввода основ. ср-в'!B:B,0))),0,INDEX('План ввода основ. ср-в'!Q:Q,MATCH(B157,'План ввода основ. ср-в'!B:B,0)))","v":0},{"$f":"IF(ISNA(INDEX('План ввода основ. ср-в'!T:T,MATCH(B157,'План ввода основ. ср-в'!B:B,0))),0,INDEX('План ввода основ. ср-в'!T:T,MATCH(B157,'План ввода основ. ср-в'!B:B,0)))","v":0},null,{"$f":"IF(ISNA(INDEX('План ввода основ. ср-в'!S:S,MATCH(B157,'План ввода основ. ср-в'!B:B,0))),0,INDEX('План ввода основ. ср-в'!S:S,MATCH(B157,'План ввода основ. ср-в'!B:B,0)))","v":0},2.5,"/",0,{"$f":"IF(ISNA(INDEX('План ввода основ. ср-в'!V:V,MATCH(B157,'План ввода основ. ср-в'!B:B,0))),0,INDEX('План ввода основ. ср-в'!V:V,MATCH(B157,'План ввода основ. ср-в'!B:B,0)))","v":0},{"$f":"IF(ISNA(INDEX('План ввода основ. ср-в'!W:W,MATCH(B157,'План ввода основ. ср-в'!B:B,0))),0,INDEX('План ввода основ. ср-в'!W:W,MATCH(B157,'План ввода основ. ср-в'!B:B,0)))","v":2.25},{"$f":"IF(ISNA(INDEX('План ввода основ. ср-в'!X:X,MATCH(B157,'План ввода основ. ср-в'!B:B,0))),0,INDEX('План ввода основ. ср-в'!X:X,MATCH(B157,'План ввода основ. ср-в'!B:B,0)))","v":5.25},{"$f":"IF(ISNA(INDEX('План ввода основ. ср-в'!Y:Y,MATCH(B157,'План ввода основ. ср-в'!B:B,0))),0,INDEX('План ввода основ. ср-в'!Y:Y,MATCH(B157,'План ввода основ. ср-в'!B:B,0)))","v":7.5},15,{"$f":"IF(ISNA(INDEX('План ввода основ. ср-в'!Z:Z,MATCH(B157,'План ввода основ. ср-в'!B:B,0))),0,INDEX('План ввода основ. ср-в'!Z:Z,MATCH(B157,'План ввода основ. ср-в'!B:B,0)))","v":0},{"$f":"IF(ISNA(INDEX('План ввода основ. ср-в'!AA:AA,MATCH(B157,'План ввода основ. ср-в'!B:B,0))),0,INDEX('План ввода основ. ср-в'!AA:AA,MATCH(B157,'План ввода основ. ср-в'!B:B,0)))","v":0},{"$f":"IF(ISNA(INDEX('План ввода основ. ср-в'!AB:AB,MATCH(B157,'План ввода основ. ср-в'!B:B,0))),0,INDEX('План ввода основ. ср-в'!AB:AB,MATCH(B157,'План ввода основ. ср-в'!B:B,0)))","v":0},{"$f":"IF(ISNA(INDEX('План ввода основ. ср-в'!AC:AC,MATCH(B157,'План ввода основ. ср-в'!B:B,0))),0,INDEX('План ввода основ. ср-в'!AC:AC,MATCH(B157,'План ввода основ. ср-в'!B:B,0)))","v":0},15]
[136,"Реконструкция ВЛ-0,4 кВ от КТП Кяр 614/250 кВА и Кяр 613/250 кВА с заменой КТП на 400 кВА ",null,null,null,null,null,null,7,"/",0.5,0,"",0,0,"",0,0,"",0,0,"",0,7,"/",0.5,21.694915254237294,{"$f":"IF(ISNA(INDEX('План ввода основ. ср-в'!F:F,MATCH(B158,'План ввода основ. ср-в'!B:B,0))),0,INDEX('План ввода основ. ср-в'!F:F,MATCH(B158,'План ввода основ. ср-в'!B:B,0)))","v":0},"",{"$f":"IF(ISNA(INDEX('План ввода основ. ср-в'!E:E,MATCH(B158,'План ввода основ. ср-в'!B:B,0))),0,INDEX('План ввода основ. ср-в'!E:E,MATCH(B158,'План ввода основ. ср-в'!B:B,0)))","v":0},{"$f":"IF(ISNA(INDEX('План ввода основ. ср-в'!H:H,MATCH(B158,'План ввода основ. ср-в'!B:B,0))),0,INDEX('План ввода основ. ср-в'!H:H,MATCH(B158,'План ввода основ. ср-в'!B:B,0)))","v":0},"",{"$f":"IF(ISNA(INDEX('План ввода основ. ср-в'!G:G,MATCH(B158,'План ввода основ. ср-в'!B:B,0))),0,INDEX('План ввода основ. ср-в'!G:G,MATCH(B158,'План ввода основ. ср-в'!B:B,0)))","v":0},{"$f":"IF(ISNA(INDEX('План ввода основ. ср-в'!J:J,MATCH(B158,'План ввода основ. ср-в'!B:B,0))),0,INDEX('План ввода основ. ср-в'!J:J,MATCH(B158,'План ввода основ. ср-в'!B:B,0)))","v":0},"",{"$f":"IF(ISNA(INDEX('План ввода основ. ср-в'!I:I,MATCH(B158,'План ввода основ. ср-в'!B:B,0))),0,INDEX('План ввода основ. ср-в'!I:I,MATCH(B158,'План ввода основ. ср-в'!B:B,0)))","v":0},{"$f":"IF(ISNA(INDEX('План ввода основ. ср-в'!L:L,MATCH(B158,'План ввода основ. ср-в'!B:B,0))),0,INDEX('План ввода основ. ср-в'!L:L,MATCH(B158,'План ввода основ. ср-в'!B:B,0)))","v":7},"/",{"$f":"IF(ISNA(INDEX('План ввода основ. ср-в'!K:K,MATCH(B158,'План ввода основ. ср-в'!B:B,0))),0,INDEX('План ввода основ. ср-в'!K:K,MATCH(B158,'План ввода основ. ср-в'!B:B,0)))","v":0.8},7,"/",0.8,{"$f":"IF(ISNA(INDEX('План ввода основ. ср-в'!N:N,MATCH(B158,'План ввода основ. ср-в'!B:B,0))),0,INDEX('План ввода основ. ср-в'!N:N,MATCH(B158,'План ввода основ. ср-в'!B:B,0)))","v":0},"",{"$f":"IF(ISNA(INDEX('План ввода основ. ср-в'!M:M,MATCH(B158,'План ввода основ. ср-в'!B:B,0))),0,INDEX('План ввода основ. ср-в'!M:M,MATCH(B158,'План ввода основ. ср-в'!B:B,0)))","v":0},{"$f":"IF(ISNA(INDEX('План ввода основ. ср-в'!P:P,MATCH(B158,'План ввода основ. ср-в'!B:B,0))),0,INDEX('План ввода основ. ср-в'!P:P,MATCH(B158,'План ввода основ. ср-в'!B:B,0)))","v":0},"",{"$f":"IF(ISNA(INDEX('План ввода основ. ср-в'!O:O,MATCH(B158,'План ввода основ. ср-в'!B:B,0))),0,INDEX('План ввода основ. ср-в'!O:O,MATCH(B158,'План ввода основ. ср-в'!B:B,0)))","v":0},{"$f":"IF(ISNA(INDEX('План ввода основ. ср-в'!R:R,MATCH(B158,'План ввода основ. ср-в'!B:B,0))),0,INDEX('План ввода основ. ср-в'!R:R,MATCH(B158,'План ввода основ. ср-в'!B:B,0)))","v":0},"",{"$f":"IF(ISNA(INDEX('План ввода основ. ср-в'!Q:Q,MATCH(B158,'План ввода основ. ср-в'!B:B,0))),0,INDEX('План ввода основ. ср-в'!Q:Q,MATCH(B158,'План ввода основ. ср-в'!B:B,0)))","v":0},{"$f":"IF(ISNA(INDEX('План ввода основ. ср-в'!T:T,MATCH(B158,'План ввода основ. ср-в'!B:B,0))),0,INDEX('План ввода основ. ср-в'!T:T,MATCH(B158,'План ввода основ. ср-в'!B:B,0)))","v":0},"",{"$f":"IF(ISNA(INDEX('План ввода основ. ср-в'!S:S,MATCH(B158,'План ввода основ. ср-в'!B:B,0))),0,INDEX('План ввода основ. ср-в'!S:S,MATCH(B158,'План ввода основ. ср-в'!B:B,0)))","v":0},7,"/",0.8,{"$f":"IF(ISNA(INDEX('План ввода основ. ср-в'!V:V,MATCH(B158,'План ввода основ. ср-в'!B:B,0))),0,INDEX('План ввода основ. ср-в'!V:V,MATCH(B158,'План ввода основ. ср-в'!B:B,0)))","v":0},{"$f":"IF(ISNA(INDEX('План ввода основ. ср-в'!W:W,MATCH(B158,'План ввода основ. ср-в'!B:B,0))),0,INDEX('План ввода основ. ср-в'!W:W,MATCH(B158,'План ввода основ. ср-в'!B:B,0)))","v":3.2542372881355939},{"$f":"IF(ISNA(INDEX('План ввода основ. ср-в'!X:X,MATCH(B158,'План ввода основ. ср-в'!B:B,0))),0,INDEX('План ввода основ. ср-в'!X:X,MATCH(B158,'План ввода основ. ср-в'!B:B,0)))","v":7.5932203389830528},{"$f":"IF(ISNA(INDEX('План ввода основ. ср-в'!Y:Y,MATCH(B158,'План ввода основ. ср-в'!B:B,0))),0,INDEX('План ввода основ. ср-в'!Y:Y,MATCH(B158,'План ввода основ. ср-в'!B:B,0)))","v":10.847457627118647},21.694915254237294,{"$f":"IF(ISNA(INDEX('План ввода основ. ср-в'!Z:Z,MATCH(B158,'План ввода основ. ср-в'!B:B,0))),0,INDEX('План ввода основ. ср-в'!Z:Z,MATCH(B158,'План ввода основ. ср-в'!B:B,0)))","v":0},{"$f":"IF(ISNA(INDEX('План ввода основ. ср-в'!AA:AA,MATCH(B158,'План ввода основ. ср-в'!B:B,0))),0,INDEX('План ввода основ. ср-в'!AA:AA,MATCH(B158,'План ввода основ. ср-в'!B:B,0)))","v":0},{"$f":"IF(ISNA(INDEX('План ввода основ. ср-в'!AB:AB,MATCH(B158,'План ввода основ. ср-в'!B:B,0))),0,INDEX('План ввода основ. ср-в'!AB:AB,MATCH(B158,'План ввода основ. ср-в'!B:B,0)))","v":0},{"$f":"IF(ISNA(INDEX('План ввода основ. ср-в'!AC:AC,MATCH(B158,'План ввода основ. ср-в'!B:B,0))),0,INDEX('План ввода основ. ср-в'!AC:AC,MATCH(B158,'План ввода основ. ср-в'!B:B,0)))","v":0},21.694915254237294]
[137,"Реконструкция ВЛ-0,4 кВ от КТП Кяр 613/250 кВА с заменой КТП на 400 кВА ",null,null,null,null,null,null,2.9,null,0.25,0,null,0,null,null,null,0,null,0,0,null,0,2.9,null,0.25,9.2203389830508478,{"$f":"IF(ISNA(INDEX('План ввода основ. ср-в'!F:F,MATCH(B159,'План ввода основ. ср-в'!B:B,0))),0,INDEX('План ввода основ. ср-в'!F:F,MATCH(B159,'План ввода основ. ср-в'!B:B,0)))","v":0},null,{"$f":"IF(ISNA(INDEX('План ввода основ. ср-в'!E:E,MATCH(B159,'План ввода основ. ср-в'!B:B,0))),0,INDEX('План ввода основ. ср-в'!E:E,MATCH(B159,'План ввода основ. ср-в'!B:B,0)))","v":0},{"$f":"IF(ISNA(INDEX('План ввода основ. ср-в'!H:H,MATCH(B159,'План ввода основ. ср-в'!B:B,0))),0,INDEX('План ввода основ. ср-в'!H:H,MATCH(B159,'План ввода основ. ср-в'!B:B,0)))","v":0},null,{"$f":"IF(ISNA(INDEX('План ввода основ. ср-в'!G:G,MATCH(B159,'План ввода основ. ср-в'!B:B,0))),0,INDEX('План ввода основ. ср-в'!G:G,MATCH(B159,'План ввода основ. ср-в'!B:B,0)))","v":0},{"$f":"IF(ISNA(INDEX('План ввода основ. ср-в'!J:J,MATCH(B159,'План ввода основ. ср-в'!B:B,0))),0,INDEX('План ввода основ. ср-в'!J:J,MATCH(B159,'План ввода основ. ср-в'!B:B,0)))","v":0},null,{"$f":"IF(ISNA(INDEX('План ввода основ. ср-в'!I:I,MATCH(B159,'План ввода основ. ср-в'!B:B,0))),0,INDEX('План ввода основ. ср-в'!I:I,MATCH(B159,'План ввода основ. ср-в'!B:B,0)))","v":0},{"$f":"IF(ISNA(INDEX('План ввода основ. ср-в'!L:L,MATCH(B159,'План ввода основ. ср-в'!B:B,0))),0,INDEX('План ввода основ. ср-в'!L:L,MATCH(B159,'План ввода основ. ср-в'!B:B,0)))","v":2.9},null,{"$f":"IF(ISNA(INDEX('План ввода основ. ср-в'!K:K,MATCH(B159,'План ввода основ. ср-в'!B:B,0))),0,INDEX('План ввода основ. ср-в'!K:K,MATCH(B159,'План ввода основ. ср-в'!B:B,0)))","v":0.4},2.9,null,0.4,{"$f":"IF(ISNA(INDEX('План ввода основ. ср-в'!N:N,MATCH(B159,'План ввода основ. ср-в'!B:B,0))),0,INDEX('План ввода основ. ср-в'!N:N,MATCH(B159,'План ввода основ. ср-в'!B:B,0)))","v":0},null,{"$f":"IF(ISNA(INDEX('План ввода основ. ср-в'!M:M,MATCH(B159,'План ввода основ. ср-в'!B:B,0))),0,INDEX('План ввода основ. ср-в'!M:M,MATCH(B159,'План ввода основ. ср-в'!B:B,0)))","v":0},{"$f":"IF(ISNA(INDEX('План ввода основ. ср-в'!P:P,MATCH(B159,'План ввода основ. ср-в'!B:B,0))),0,INDEX('План ввода основ. ср-в'!P:P,MATCH(B159,'План ввода основ. ср-в'!B:B,0)))","v":0},null,{"$f":"IF(ISNA(INDEX('План ввода основ. ср-в'!O:O,MATCH(B159,'План ввода основ. ср-в'!B:B,0))),0,INDEX('План ввода основ. ср-в'!O:O,MATCH(B159,'План ввода основ. ср-в'!B:B,0)))","v":0},{"$f":"IF(ISNA(INDEX('План ввода основ. ср-в'!R:R,MATCH(B159,'План ввода основ. ср-в'!B:B,0))),0,INDEX('План ввода основ. ср-в'!R:R,MATCH(B159,'План ввода основ. ср-в'!B:B,0)))","v":0},null,{"$f":"IF(ISNA(INDEX('План ввода основ. ср-в'!Q:Q,MATCH(B159,'План ввода основ. ср-в'!B:B,0))),0,INDEX('План ввода основ. ср-в'!Q:Q,MATCH(B159,'План ввода основ. ср-в'!B:B,0)))","v":0},{"$f":"IF(ISNA(INDEX('План ввода основ. ср-в'!T:T,MATCH(B159,'План ввода основ. ср-в'!B:B,0))),0,INDEX('План ввода основ. ср-в'!T:T,MATCH(B159,'План ввода основ. ср-в'!B:B,0)))","v":0},null,{"$f":"IF(ISNA(INDEX('План ввода основ. ср-в'!S:S,MATCH(B159,'План ввода основ. ср-в'!B:B,0))),0,INDEX('План ввода основ. ср-в'!S:S,MATCH(B159,'План ввода основ. ср-в'!B:B,0)))","v":0},2.9,null,0.4,null,{"$f":"IF(ISNA(INDEX('План ввода основ. ср-в'!W:W,MATCH(B159,'План ввода основ. ср-в'!B:B,0))),0,INDEX('План ввода основ. ср-в'!W:W,MATCH(B159,'План ввода основ. ср-в'!B:B,0)))","v":1.3830508474576271},{"$f":"IF(ISNA(INDEX('План ввода основ. ср-в'!X:X,MATCH(B159,'План ввода основ. ср-в'!B:B,0))),0,INDEX('План ввода основ. ср-в'!X:X,MATCH(B159,'План ввода основ. ср-в'!B:B,0)))","v":3.2271186440677964},{"$f":"IF(ISNA(INDEX('План ввода основ. ср-в'!Y:Y,MATCH(B159,'План ввода основ. ср-в'!B:B,0))),0,INDEX('План ввода основ. ср-в'!Y:Y,MATCH(B159,'План ввода основ. ср-в'!B:B,0)))","v":4.6101694915254239},9.2203389830508478,{"$f":"IF(ISNA(INDEX('План ввода основ. ср-в'!Z:Z,MATCH(B159,'План ввода основ. ср-в'!B:B,0))),0,INDEX('План ввода основ. ср-в'!Z:Z,MATCH(B159,'План ввода основ. ср-в'!B:B,0)))","v":0},{"$f":"IF(ISNA(INDEX('План ввода основ. ср-в'!AA:AA,MATCH(B159,'План ввода основ. ср-в'!B:B,0))),0,INDEX('План ввода основ. ср-в'!AA:AA,MATCH(B159,'План ввода основ. ср-в'!B:B,0)))","v":0},{"$f":"IF(ISNA(INDEX('План ввода основ. ср-в'!AB:AB,MATCH(B159,'План ввода основ. ср-в'!B:B,0))),0,INDEX('План ввода основ. ср-в'!AB:AB,MATCH(B159,'План ввода основ. ср-в'!B:B,0)))","v":0},{"$f":"IF(ISNA(INDEX('План ввода основ. ср-в'!AC:AC,MATCH(B159,'План ввода основ. ср-в'!B:B,0))),0,INDEX('План ввода основ. ср-в'!AC:AC,MATCH(B159,'План ввода основ. ср-в'!B:B,0)))","v":0},9.2203389830508478]
[138,"Реконструкция ВЛ-0,4 кВ от КТП Кяр 314/400 кВА с заменой КТП",null,null,null,null,null,null,3,"/",0.4,0,"",0,0,"",0,0,"",0,0,"",0,3,"/",0.4,{"$f":"BO160","v":9.4915254237288149},{"$f":"IF(ISNA(INDEX('План ввода основ. ср-в'!F:F,MATCH(B160,'План ввода основ. ср-в'!B:B,0))),0,INDEX('План ввода основ. ср-в'!F:F,MATCH(B160,'План ввода основ. ср-в'!B:B,0)))","v":0},"",{"$f":"IF(ISNA(INDEX('План ввода основ. ср-в'!E:E,MATCH(B160,'План ввода основ. ср-в'!B:B,0))),0,INDEX('План ввода основ. ср-в'!E:E,MATCH(B160,'План ввода основ. ср-в'!B:B,0)))","v":0},{"$f":"IF(ISNA(INDEX('План ввода основ. ср-в'!H:H,MATCH(B160,'План ввода основ. ср-в'!B:B,0))),0,INDEX('План ввода основ. ср-в'!H:H,MATCH(B160,'План ввода основ. ср-в'!B:B,0)))","v":0},"",{"$f":"IF(ISNA(INDEX('План ввода основ. ср-в'!G:G,MATCH(B160,'План ввода основ. ср-в'!B:B,0))),0,INDEX('План ввода основ. ср-в'!G:G,MATCH(B160,'План ввода основ. ср-в'!B:B,0)))","v":0},{"$f":"IF(ISNA(INDEX('План ввода основ. ср-в'!J:J,MATCH(B160,'План ввода основ. ср-в'!B:B,0))),0,INDEX('План ввода основ. ср-в'!J:J,MATCH(B160,'План ввода основ. ср-в'!B:B,0)))","v":0},"",{"$f":"IF(ISNA(INDEX('План ввода основ. ср-в'!I:I,MATCH(B160,'План ввода основ. ср-в'!B:B,0))),0,INDEX('План ввода основ. ср-в'!I:I,MATCH(B160,'План ввода основ. ср-в'!B:B,0)))","v":0},{"$f":"IF(ISNA(INDEX('План ввода основ. ср-в'!L:L,MATCH(B160,'План ввода основ. ср-в'!B:B,0))),0,INDEX('План ввода основ. ср-в'!L:L,MATCH(B160,'План ввода основ. ср-в'!B:B,0)))","v":3},"/",{"$f":"IF(ISNA(INDEX('План ввода основ. ср-в'!K:K,MATCH(B160,'План ввода основ. ср-в'!B:B,0))),0,INDEX('План ввода основ. ср-в'!K:K,MATCH(B160,'План ввода основ. ср-в'!B:B,0)))","v":0.4},3,"/",0.4,{"$f":"IF(ISNA(INDEX('План ввода основ. ср-в'!N:N,MATCH(B160,'План ввода основ. ср-в'!B:B,0))),0,INDEX('План ввода основ. ср-в'!N:N,MATCH(B160,'План ввода основ. ср-в'!B:B,0)))","v":0},"",{"$f":"IF(ISNA(INDEX('План ввода основ. ср-в'!M:M,MATCH(B160,'План ввода основ. ср-в'!B:B,0))),0,INDEX('План ввода основ. ср-в'!M:M,MATCH(B160,'План ввода основ. ср-в'!B:B,0)))","v":0},{"$f":"IF(ISNA(INDEX('План ввода основ. ср-в'!P:P,MATCH(B160,'План ввода основ. ср-в'!B:B,0))),0,INDEX('План ввода основ. ср-в'!P:P,MATCH(B160,'План ввода основ. ср-в'!B:B,0)))","v":0},"",{"$f":"IF(ISNA(INDEX('План ввода основ. ср-в'!O:O,MATCH(B160,'План ввода основ. ср-в'!B:B,0))),0,INDEX('План ввода основ. ср-в'!O:O,MATCH(B160,'План ввода основ. ср-в'!B:B,0)))","v":0},{"$f":"IF(ISNA(INDEX('План ввода основ. ср-в'!R:R,MATCH(B160,'План ввода основ. ср-в'!B:B,0))),0,INDEX('План ввода основ. ср-в'!R:R,MATCH(B160,'План ввода основ. ср-в'!B:B,0)))","v":0},"",{"$f":"IF(ISNA(INDEX('План ввода основ. ср-в'!Q:Q,MATCH(B160,'План ввода основ. ср-в'!B:B,0))),0,INDEX('План ввода основ. ср-в'!Q:Q,MATCH(B160,'План ввода основ. ср-в'!B:B,0)))","v":0},{"$f":"IF(ISNA(INDEX('План ввода основ. ср-в'!T:T,MATCH(B160,'План ввода основ. ср-в'!B:B,0))),0,INDEX('План ввода основ. ср-в'!T:T,MATCH(B160,'План ввода основ. ср-в'!B:B,0)))","v":0},"",{"$f":"IF(ISNA(INDEX('План ввода основ. ср-в'!S:S,MATCH(B160,'План ввода основ. ср-в'!B:B,0))),0,INDEX('План ввода основ. ср-в'!S:S,MATCH(B160,'План ввода основ. ср-в'!B:B,0)))","v":0},{"$f":"AN160+AQ160+AT160+AW160+AZ160","v":3},"/",0.4,{"$f":"IF(ISNA(INDEX('План ввода основ. ср-в'!V:V,MATCH(B160,'План ввода основ. ср-в'!B:B,0))),0,INDEX('План ввода основ. ср-в'!V:V,MATCH(B160,'План ввода основ. ср-в'!B:B,0)))","v":0},{"$f":"IF(ISNA(INDEX('План ввода основ. ср-в'!W:W,MATCH(B160,'План ввода основ. ср-в'!B:B,0))),0,INDEX('План ввода основ. ср-в'!W:W,MATCH(B160,'План ввода основ. ср-в'!B:B,0)))","v":1.4237288135593222},{"$f":"IF(ISNA(INDEX('План ввода основ. ср-в'!X:X,MATCH(B160,'План ввода основ. ср-в'!B:B,0))),0,INDEX('План ввода основ. ср-в'!X:X,MATCH(B160,'План ввода основ. ср-в'!B:B,0)))","v":3.3220338983050852},{"$f":"IF(ISNA(INDEX('План ввода основ. ср-в'!Y:Y,MATCH(B160,'План ввода основ. ср-в'!B:B,0))),0,INDEX('План ввода основ. ср-в'!Y:Y,MATCH(B160,'План ввода основ. ср-в'!B:B,0)))","v":4.7457627118644075},9.4915254237288149,{"$f":"IF(ISNA(INDEX('План ввода основ. ср-в'!Z:Z,MATCH(B160,'План ввода основ. ср-в'!B:B,0))),0,INDEX('План ввода основ. ср-в'!Z:Z,MATCH(B160,'План ввода основ. ср-в'!B:B,0)))","v":0},{"$f":"IF(ISNA(INDEX('План ввода основ. ср-в'!AA:AA,MATCH(B160,'План ввода основ. ср-в'!B:B,0))),0,INDEX('План ввода основ. ср-в'!AA:AA,MATCH(B160,'План ввода основ. ср-в'!B:B,0)))","v":0},{"$f":"IF(ISNA(INDEX('План ввода основ. ср-в'!AB:AB,MATCH(B160,'План ввода основ. ср-в'!B:B,0))),0,INDEX('План ввода основ. ср-в'!AB:AB,MATCH(B160,'План ввода основ. ср-в'!B:B,0)))","v":0},{"$f":"IF(ISNA(INDEX('План ввода основ. ср-в'!AC:AC,MATCH(B160,'План ввода основ. ср-в'!B:B,0))),0,INDEX('План ввода основ. ср-в'!AC:AC,MATCH(B160,'План ввода основ. ср-в'!B:B,0)))","v":0},9.4915254237288149]
[139,"Реконструкция ВЛ-0,4 кВ от КТП НБ 702/250 кВА с заменой КТП на 400 кВА",null,null,null,null,null,null,5,"/",0.25,0,"",0,0,"",0,0,"",0,0,"",0,5,"/",0.25,14.915254237288137,{"$f":"IF(ISNA(INDEX('План ввода основ. ср-в'!F:F,MATCH(B161,'План ввода основ. ср-в'!B:B,0))),0,INDEX('План ввода основ. ср-в'!F:F,MATCH(B161,'План ввода основ. ср-в'!B:B,0)))","v":0},"",{"$f":"IF(ISNA(INDEX('План ввода основ. ср-в'!E:E,MATCH(B161,'План ввода основ. ср-в'!B:B,0))),0,INDEX('План ввода основ. ср-в'!E:E,MATCH(B161,'План ввода основ. ср-в'!B:B,0)))","v":0},{"$f":"IF(ISNA(INDEX('План ввода основ. ср-в'!H:H,MATCH(B161,'План ввода основ. ср-в'!B:B,0))),0,INDEX('План ввода основ. ср-в'!H:H,MATCH(B161,'План ввода основ. ср-в'!B:B,0)))","v":0},"",{"$f":"IF(ISNA(INDEX('План ввода основ. ср-в'!G:G,MATCH(B161,'План ввода основ. ср-в'!B:B,0))),0,INDEX('План ввода основ. ср-в'!G:G,MATCH(B161,'План ввода основ. ср-в'!B:B,0)))","v":0},{"$f":"IF(ISNA(INDEX('План ввода основ. ср-в'!J:J,MATCH(B161,'План ввода основ. ср-в'!B:B,0))),0,INDEX('План ввода основ. ср-в'!J:J,MATCH(B161,'План ввода основ. ср-в'!B:B,0)))","v":0},"",{"$f":"IF(ISNA(INDEX('План ввода основ. ср-в'!I:I,MATCH(B161,'План ввода основ. ср-в'!B:B,0))),0,INDEX('План ввода основ. ср-в'!I:I,MATCH(B161,'План ввода основ. ср-в'!B:B,0)))","v":0},{"$f":"IF(ISNA(INDEX('План ввода основ. ср-в'!L:L,MATCH(B161,'План ввода основ. ср-в'!B:B,0))),0,INDEX('План ввода основ. ср-в'!L:L,MATCH(B161,'План ввода основ. ср-в'!B:B,0)))","v":5},"/",{"$f":"IF(ISNA(INDEX('План ввода основ. ср-в'!K:K,MATCH(B161,'План ввода основ. ср-в'!B:B,0))),0,INDEX('План ввода основ. ср-в'!K:K,MATCH(B161,'План ввода основ. ср-в'!B:B,0)))","v":0.4},5,"/",0.4,{"$f":"IF(ISNA(INDEX('План ввода основ. ср-в'!N:N,MATCH(B161,'План ввода основ. ср-в'!B:B,0))),0,INDEX('План ввода основ. ср-в'!N:N,MATCH(B161,'План ввода основ. ср-в'!B:B,0)))","v":0},"",{"$f":"IF(ISNA(INDEX('План ввода основ. ср-в'!M:M,MATCH(B161,'План ввода основ. ср-в'!B:B,0))),0,INDEX('План ввода основ. ср-в'!M:M,MATCH(B161,'План ввода основ. ср-в'!B:B,0)))","v":0},{"$f":"IF(ISNA(INDEX('План ввода основ. ср-в'!P:P,MATCH(B161,'План ввода основ. ср-в'!B:B,0))),0,INDEX('План ввода основ. ср-в'!P:P,MATCH(B161,'План ввода основ. ср-в'!B:B,0)))","v":0},"",{"$f":"IF(ISNA(INDEX('План ввода основ. ср-в'!O:O,MATCH(B161,'План ввода основ. ср-в'!B:B,0))),0,INDEX('План ввода основ. ср-в'!O:O,MATCH(B161,'План ввода основ. ср-в'!B:B,0)))","v":0},{"$f":"IF(ISNA(INDEX('План ввода основ. ср-в'!R:R,MATCH(B161,'План ввода основ. ср-в'!B:B,0))),0,INDEX('План ввода основ. ср-в'!R:R,MATCH(B161,'План ввода основ. ср-в'!B:B,0)))","v":0},"",{"$f":"IF(ISNA(INDEX('План ввода основ. ср-в'!Q:Q,MATCH(B161,'План ввода основ. ср-в'!B:B,0))),0,INDEX('План ввода основ. ср-в'!Q:Q,MATCH(B161,'План ввода основ. ср-в'!B:B,0)))","v":0},{"$f":"IF(ISNA(INDEX('План ввода основ. ср-в'!T:T,MATCH(B161,'План ввода основ. ср-в'!B:B,0))),0,INDEX('План ввода основ. ср-в'!T:T,MATCH(B161,'План ввода основ. ср-в'!B:B,0)))","v":0},"",{"$f":"IF(ISNA(INDEX('План ввода основ. ср-в'!S:S,MATCH(B161,'План ввода основ. ср-в'!B:B,0))),0,INDEX('План ввода основ. ср-в'!S:S,MATCH(B161,'План ввода основ. ср-в'!B:B,0)))","v":0},5,"/",0.4,{"$f":"IF(ISNA(INDEX('План ввода основ. ср-в'!V:V,MATCH(B161,'План ввода основ. ср-в'!B:B,0))),0,INDEX('План ввода основ. ср-в'!V:V,MATCH(B161,'План ввода основ. ср-в'!B:B,0)))","v":0},{"$f":"IF(ISNA(INDEX('План ввода основ. ср-в'!W:W,MATCH(B161,'План ввода основ. ср-в'!B:B,0))),0,INDEX('План ввода основ. ср-в'!W:W,MATCH(B161,'План ввода основ. ср-в'!B:B,0)))","v":2.2372881355932206},{"$f":"IF(ISNA(INDEX('План ввода основ. ср-в'!X:X,MATCH(B161,'План ввода основ. ср-в'!B:B,0))),0,INDEX('План ввода основ. ср-в'!X:X,MATCH(B161,'План ввода основ. ср-в'!B:B,0)))","v":5.2203389830508478},{"$f":"IF(ISNA(INDEX('План ввода основ. ср-в'!Y:Y,MATCH(B161,'План ввода основ. ср-в'!B:B,0))),0,INDEX('План ввода основ. ср-в'!Y:Y,MATCH(B161,'План ввода основ. ср-в'!B:B,0)))","v":7.4576271186440684},14.915254237288137,{"$f":"IF(ISNA(INDEX('План ввода основ. ср-в'!Z:Z,MATCH(B161,'План ввода основ. ср-в'!B:B,0))),0,INDEX('План ввода основ. ср-в'!Z:Z,MATCH(B161,'План ввода основ. ср-в'!B:B,0)))","v":0},{"$f":"IF(ISNA(INDEX('План ввода основ. ср-в'!AA:AA,MATCH(B161,'План ввода основ. ср-в'!B:B,0))),0,INDEX('План ввода основ. ср-в'!AA:AA,MATCH(B161,'План ввода основ. ср-в'!B:B,0)))","v":0},{"$f":"IF(ISNA(INDEX('План ввода основ. ср-в'!AB:AB,MATCH(B161,'План ввода основ. ср-в'!B:B,0))),0,INDEX('План ввода основ. ср-в'!AB:AB,MATCH(B161,'План ввода основ. ср-в'!B:B,0)))","v":0},{"$f":"IF(ISNA(INDEX('План ввода основ. ср-в'!AC:AC,MATCH(B161,'План ввода основ. ср-в'!B:B,0))),0,INDEX('План ввода основ. ср-в'!AC:AC,MATCH(B161,'План ввода основ. ср-в'!B:B,0)))","v":0},14.915254237288137]
[140,"Реконструкция ВЛ-0,4 кВ от КТП РЦ 1101/250 кВА с заменой КТП на 400 кВА и установкой дополнительной КТП 250 кВА",null,null,null,null,null,null,0,"",0,6,"/",0.25,0,"",0,0,"",0,0,"",0,6,"/",0.25,16.271186440677962,{"$f":"IF(ISNA(INDEX('План ввода основ. ср-в'!F:F,MATCH(B162,'План ввода основ. ср-в'!B:B,0))),0,INDEX('План ввода основ. ср-в'!F:F,MATCH(B162,'План ввода основ. ср-в'!B:B,0)))","v":0},"",{"$f":"IF(ISNA(INDEX('План ввода основ. ср-в'!E:E,MATCH(B162,'План ввода основ. ср-в'!B:B,0))),0,INDEX('План ввода основ. ср-в'!E:E,MATCH(B162,'План ввода основ. ср-в'!B:B,0)))","v":0},{"$f":"IF(ISNA(INDEX('План ввода основ. ср-в'!H:H,MATCH(B162,'План ввода основ. ср-в'!B:B,0))),0,INDEX('План ввода основ. ср-в'!H:H,MATCH(B162,'План ввода основ. ср-в'!B:B,0)))","v":0},"",{"$f":"IF(ISNA(INDEX('План ввода основ. ср-в'!G:G,MATCH(B162,'План ввода основ. ср-в'!B:B,0))),0,INDEX('План ввода основ. ср-в'!G:G,MATCH(B162,'План ввода основ. ср-в'!B:B,0)))","v":0},{"$f":"IF(ISNA(INDEX('План ввода основ. ср-в'!J:J,MATCH(B162,'План ввода основ. ср-в'!B:B,0))),0,INDEX('План ввода основ. ср-в'!J:J,MATCH(B162,'План ввода основ. ср-в'!B:B,0)))","v":0},"",{"$f":"IF(ISNA(INDEX('План ввода основ. ср-в'!I:I,MATCH(B162,'План ввода основ. ср-в'!B:B,0))),0,INDEX('План ввода основ. ср-в'!I:I,MATCH(B162,'План ввода основ. ср-в'!B:B,0)))","v":0},{"$f":"IF(ISNA(INDEX('План ввода основ. ср-в'!L:L,MATCH(B162,'План ввода основ. ср-в'!B:B,0))),0,INDEX('План ввода основ. ср-в'!L:L,MATCH(B162,'План ввода основ. ср-в'!B:B,0)))","v":0},"",{"$f":"IF(ISNA(INDEX('План ввода основ. ср-в'!K:K,MATCH(B162,'План ввода основ. ср-в'!B:B,0))),0,INDEX('План ввода основ. ср-в'!K:K,MATCH(B162,'План ввода основ. ср-в'!B:B,0)))","v":0},0,"/",0,{"$f":"IF(ISNA(INDEX('План ввода основ. ср-в'!N:N,MATCH(B162,'План ввода основ. ср-в'!B:B,0))),0,INDEX('План ввода основ. ср-в'!N:N,MATCH(B162,'План ввода основ. ср-в'!B:B,0)))","v":6},"/",{"$f":"IF(ISNA(INDEX('План ввода основ. ср-в'!M:M,MATCH(B162,'План ввода основ. ср-в'!B:B,0))),0,INDEX('План ввода основ. ср-в'!M:M,MATCH(B162,'План ввода основ. ср-в'!B:B,0)))","v":0.65},{"$f":"IF(ISNA(INDEX('План ввода основ. ср-в'!P:P,MATCH(B162,'План ввода основ. ср-в'!B:B,0))),0,INDEX('План ввода основ. ср-в'!P:P,MATCH(B162,'План ввода основ. ср-в'!B:B,0)))","v":0},"",{"$f":"IF(ISNA(INDEX('План ввода основ. ср-в'!O:O,MATCH(B162,'План ввода основ. ср-в'!B:B,0))),0,INDEX('План ввода основ. ср-в'!O:O,MATCH(B162,'План ввода основ. ср-в'!B:B,0)))","v":0},{"$f":"IF(ISNA(INDEX('План ввода основ. ср-в'!R:R,MATCH(B162,'План ввода основ. ср-в'!B:B,0))),0,INDEX('План ввода основ. ср-в'!R:R,MATCH(B162,'План ввода основ. ср-в'!B:B,0)))","v":0},"",{"$f":"IF(ISNA(INDEX('План ввода основ. ср-в'!Q:Q,MATCH(B162,'План ввода основ. ср-в'!B:B,0))),0,INDEX('План ввода основ. ср-в'!Q:Q,MATCH(B162,'План ввода основ. ср-в'!B:B,0)))","v":0},{"$f":"IF(ISNA(INDEX('План ввода основ. ср-в'!T:T,MATCH(B162,'План ввода основ. ср-в'!B:B,0))),0,INDEX('План ввода основ. ср-в'!T:T,MATCH(B162,'План ввода основ. ср-в'!B:B,0)))","v":0},"",{"$f":"IF(ISNA(INDEX('План ввода основ. ср-в'!S:S,MATCH(B162,'План ввода основ. ср-в'!B:B,0))),0,INDEX('План ввода основ. ср-в'!S:S,MATCH(B162,'План ввода основ. ср-в'!B:B,0)))","v":0},6,"/",0.65,{"$f":"IF(ISNA(INDEX('План ввода основ. ср-в'!V:V,MATCH(B162,'План ввода основ. ср-в'!B:B,0))),0,INDEX('План ввода основ. ср-в'!V:V,MATCH(B162,'План ввода основ. ср-в'!B:B,0)))","v":0},{"$f":"IF(ISNA(INDEX('План ввода основ. ср-в'!W:W,MATCH(B162,'План ввода основ. ср-в'!B:B,0))),0,INDEX('План ввода основ. ср-в'!W:W,MATCH(B162,'План ввода основ. ср-в'!B:B,0)))","v":0},{"$f":"IF(ISNA(INDEX('План ввода основ. ср-в'!X:X,MATCH(B162,'План ввода основ. ср-в'!B:B,0))),0,INDEX('План ввода основ. ср-в'!X:X,MATCH(B162,'План ввода основ. ср-в'!B:B,0)))","v":0},{"$f":"IF(ISNA(INDEX('План ввода основ. ср-в'!Y:Y,MATCH(B162,'План ввода основ. ср-в'!B:B,0))),0,INDEX('План ввода основ. ср-в'!Y:Y,MATCH(B162,'План ввода основ. ср-в'!B:B,0)))","v":0},0,{"$f":"IF(ISNA(INDEX('План ввода основ. ср-в'!Z:Z,MATCH(B162,'План ввода основ. ср-в'!B:B,0))),0,INDEX('План ввода основ. ср-в'!Z:Z,MATCH(B162,'План ввода основ. ср-в'!B:B,0)))","v":16.271186440677962},{"$f":"IF(ISNA(INDEX('План ввода основ. ср-в'!AA:AA,MATCH(B162,'План ввода основ. ср-в'!B:B,0))),0,INDEX('План ввода основ. ср-в'!AA:AA,MATCH(B162,'План ввода основ. ср-в'!B:B,0)))","v":0},{"$f":"IF(ISNA(INDEX('План ввода основ. ср-в'!AB:AB,MATCH(B162,'План ввода основ. ср-в'!B:B,0))),0,INDEX('План ввода основ. ср-в'!AB:AB,MATCH(B162,'План ввода основ. ср-в'!B:B,0)))","v":0},{"$f":"IF(ISNA(INDEX('План ввода основ. ср-в'!AC:AC,MATCH(B162,'План ввода основ. ср-в'!B:B,0))),0,INDEX('План ввода основ. ср-в'!AC:AC,MATCH(B162,'План ввода основ. ср-в'!B:B,0)))","v":0},16.271186440677962]
[141,"Реконструкция ВЛ-0,4 кВ от КТП НБ 1604/160 кВА с заменой КТП на 250 кВА",null,null,null,null,null,null,0,"",0,2,"/",0.16,0,"",0,0,"",0,0,"",0,2,"/",0.16,5.7627118644067794,{"$f":"IF(ISNA(INDEX('План ввода основ. ср-в'!F:F,MATCH(B163,'План ввода основ. ср-в'!B:B,0))),0,INDEX('План ввода основ. ср-в'!F:F,MATCH(B163,'План ввода основ. ср-в'!B:B,0)))","v":0},"",{"$f":"IF(ISNA(INDEX('План ввода основ. ср-в'!E:E,MATCH(B163,'План ввода основ. ср-в'!B:B,0))),0,INDEX('План ввода основ. ср-в'!E:E,MATCH(B163,'План ввода основ. ср-в'!B:B,0)))","v":0},{"$f":"IF(ISNA(INDEX('План ввода основ. ср-в'!H:H,MATCH(B163,'План ввода основ. ср-в'!B:B,0))),0,INDEX('План ввода основ. ср-в'!H:H,MATCH(B163,'План ввода основ. ср-в'!B:B,0)))","v":0},"",{"$f":"IF(ISNA(INDEX('План ввода основ. ср-в'!G:G,MATCH(B163,'План ввода основ. ср-в'!B:B,0))),0,INDEX('План ввода основ. ср-в'!G:G,MATCH(B163,'План ввода основ. ср-в'!B:B,0)))","v":0},{"$f":"IF(ISNA(INDEX('План ввода основ. ср-в'!J:J,MATCH(B163,'План ввода основ. ср-в'!B:B,0))),0,INDEX('План ввода основ. ср-в'!J:J,MATCH(B163,'План ввода основ. ср-в'!B:B,0)))","v":0},"",{"$f":"IF(ISNA(INDEX('План ввода основ. ср-в'!I:I,MATCH(B163,'План ввода основ. ср-в'!B:B,0))),0,INDEX('План ввода основ. ср-в'!I:I,MATCH(B163,'План ввода основ. ср-в'!B:B,0)))","v":0},{"$f":"IF(ISNA(INDEX('План ввода основ. ср-в'!L:L,MATCH(B163,'План ввода основ. ср-в'!B:B,0))),0,INDEX('План ввода основ. ср-в'!L:L,MATCH(B163,'План ввода основ. ср-в'!B:B,0)))","v":0},"",{"$f":"IF(ISNA(INDEX('План ввода основ. ср-в'!K:K,MATCH(B163,'План ввода основ. ср-в'!B:B,0))),0,INDEX('План ввода основ. ср-в'!K:K,MATCH(B163,'План ввода основ. ср-в'!B:B,0)))","v":0},0,"/",0,{"$f":"IF(ISNA(INDEX('План ввода основ. ср-в'!N:N,MATCH(B163,'План ввода основ. ср-в'!B:B,0))),0,INDEX('План ввода основ. ср-в'!N:N,MATCH(B163,'План ввода основ. ср-в'!B:B,0)))","v":2},"/",{"$f":"IF(ISNA(INDEX('План ввода основ. ср-в'!M:M,MATCH(B163,'План ввода основ. ср-в'!B:B,0))),0,INDEX('План ввода основ. ср-в'!M:M,MATCH(B163,'План ввода основ. ср-в'!B:B,0)))","v":0.25},{"$f":"IF(ISNA(INDEX('План ввода основ. ср-в'!P:P,MATCH(B163,'План ввода основ. ср-в'!B:B,0))),0,INDEX('План ввода основ. ср-в'!P:P,MATCH(B163,'План ввода основ. ср-в'!B:B,0)))","v":0},"",{"$f":"IF(ISNA(INDEX('План ввода основ. ср-в'!O:O,MATCH(B163,'План ввода основ. ср-в'!B:B,0))),0,INDEX('План ввода основ. ср-в'!O:O,MATCH(B163,'План ввода основ. ср-в'!B:B,0)))","v":0},{"$f":"IF(ISNA(INDEX('План ввода основ. ср-в'!R:R,MATCH(B163,'План ввода основ. ср-в'!B:B,0))),0,INDEX('План ввода основ. ср-в'!R:R,MATCH(B163,'План ввода основ. ср-в'!B:B,0)))","v":0},"",{"$f":"IF(ISNA(INDEX('План ввода основ. ср-в'!Q:Q,MATCH(B163,'План ввода основ. ср-в'!B:B,0))),0,INDEX('План ввода основ. ср-в'!Q:Q,MATCH(B163,'План ввода основ. ср-в'!B:B,0)))","v":0},{"$f":"IF(ISNA(INDEX('План ввода основ. ср-в'!T:T,MATCH(B163,'План ввода основ. ср-в'!B:B,0))),0,INDEX('План ввода основ. ср-в'!T:T,MATCH(B163,'План ввода основ. ср-в'!B:B,0)))","v":0},"",{"$f":"IF(ISNA(INDEX('План ввода основ. ср-в'!S:S,MATCH(B163,'План ввода основ. ср-в'!B:B,0))),0,INDEX('План ввода основ. ср-в'!S:S,MATCH(B163,'План ввода основ. ср-в'!B:B,0)))","v":0},2,"/",0.25,{"$f":"IF(ISNA(INDEX('План ввода основ. ср-в'!V:V,MATCH(B163,'План ввода основ. ср-в'!B:B,0))),0,INDEX('План ввода основ. ср-в'!V:V,MATCH(B163,'План ввода основ. ср-в'!B:B,0)))","v":0},{"$f":"IF(ISNA(INDEX('План ввода основ. ср-в'!W:W,MATCH(B163,'План ввода основ. ср-в'!B:B,0))),0,INDEX('План ввода основ. ср-в'!W:W,MATCH(B163,'План ввода основ. ср-в'!B:B,0)))","v":0},{"$f":"IF(ISNA(INDEX('План ввода основ. ср-в'!X:X,MATCH(B163,'План ввода основ. ср-в'!B:B,0))),0,INDEX('План ввода основ. ср-в'!X:X,MATCH(B163,'План ввода основ. ср-в'!B:B,0)))","v":0},{"$f":"IF(ISNA(INDEX('План ввода основ. ср-в'!Y:Y,MATCH(B163,'План ввода основ. ср-в'!B:B,0))),0,INDEX('План ввода основ. ср-в'!Y:Y,MATCH(B163,'План ввода основ. ср-в'!B:B,0)))","v":0},0,{"$f":"IF(ISNA(INDEX('План ввода основ. ср-в'!Z:Z,MATCH(B163,'План ввода основ. ср-в'!B:B,0))),0,INDEX('План ввода основ. ср-в'!Z:Z,MATCH(B163,'План ввода основ. ср-в'!B:B,0)))","v":5.7627118644067794},{"$f":"IF(ISNA(INDEX('План ввода основ. ср-в'!AA:AA,MATCH(B163,'План ввода основ. ср-в'!B:B,0))),0,INDEX('План ввода основ. ср-в'!AA:AA,MATCH(B163,'План ввода основ. ср-в'!B:B,0)))","v":0},{"$f":"IF(ISNA(INDEX('План ввода основ. ср-в'!AB:AB,MATCH(B163,'План ввода основ. ср-в'!B:B,0))),0,INDEX('План ввода основ. ср-в'!AB:AB,MATCH(B163,'План ввода основ. ср-в'!B:B,0)))","v":0},{"$f":"IF(ISNA(INDEX('План ввода основ. ср-в'!AC:AC,MATCH(B163,'План ввода основ. ср-в'!B:B,0))),0,INDEX('План ввода основ. ср-в'!AC:AC,MATCH(B163,'План ввода основ. ср-в'!B:B,0)))","v":0},5.7627118644067794]
[142,"Реконструкция ВЛ-0,4 кВ от КТП Кяр 407/160 кВА с заменой КТП на 250 кВА",null,null,null,null,null,null,0,{"$f":"IF(AND(I164=0,K164=0),\"\",\"/\")","v":""},0,2,{"$f":"IF(AND(L164=0,N164=0),\"\",\"/\")","v":"/"},0.16,0,{"$f":"IF(AND(O164=0,Q164=0),\"\",\"/\")","v":""},0,0,{"$f":"IF(AND(R164=0,T164=0),\"\",\"/\")","v":""},0,0,{"$f":"IF(AND(U164=0,W164=0),\"\",\"/\")","v":""},0,2,"/",0.16,5.7627118644067794,{"$f":"IF(ISNA(INDEX('План ввода основ. ср-в'!F:F,MATCH(B164,'План ввода основ. ср-в'!B:B,0))),0,INDEX('План ввода основ. ср-в'!F:F,MATCH(B164,'План ввода основ. ср-в'!B:B,0)))","v":0},{"$f":"IF(AND(AB164=0,AD164=0),\"\",\"/\")","v":""},{"$f":"IF(ISNA(INDEX('План ввода основ. ср-в'!E:E,MATCH(B164,'План ввода основ. ср-в'!B:B,0))),0,INDEX('План ввода основ. ср-в'!E:E,MATCH(B164,'План ввода основ. ср-в'!B:B,0)))","v":0},{"$f":"IF(ISNA(INDEX('План ввода основ. ср-в'!H:H,MATCH(B164,'План ввода основ. ср-в'!B:B,0))),0,INDEX('План ввода основ. ср-в'!H:H,MATCH(B164,'План ввода основ. ср-в'!B:B,0)))","v":0},{"$f":"IF(AND(AE164=0,AG164=0),\"\",\"/\")","v":""},{"$f":"IF(ISNA(INDEX('План ввода основ. ср-в'!G:G,MATCH(B164,'План ввода основ. ср-в'!B:B,0))),0,INDEX('План ввода основ. ср-в'!G:G,MATCH(B164,'План ввода основ. ср-в'!B:B,0)))","v":0},{"$f":"IF(ISNA(INDEX('План ввода основ. ср-в'!J:J,MATCH(B164,'План ввода основ. ср-в'!B:B,0))),0,INDEX('План ввода основ. ср-в'!J:J,MATCH(B164,'План ввода основ. ср-в'!B:B,0)))","v":0},{"$f":"IF(AND(AH164=0,AJ164=0),\"\",\"/\")","v":""},{"$f":"IF(ISNA(INDEX('План ввода основ. ср-в'!I:I,MATCH(B164,'План ввода основ. ср-в'!B:B,0))),0,INDEX('План ввода основ. ср-в'!I:I,MATCH(B164,'План ввода основ. ср-в'!B:B,0)))","v":0},{"$f":"IF(ISNA(INDEX('План ввода основ. ср-в'!L:L,MATCH(B164,'План ввода основ. ср-в'!B:B,0))),0,INDEX('План ввода основ. ср-в'!L:L,MATCH(B164,'План ввода основ. ср-в'!B:B,0)))","v":0},{"$f":"IF(AND(AK164=0,AM164=0),\"\",\"/\")","v":""},{"$f":"IF(ISNA(INDEX('План ввода основ. ср-в'!K:K,MATCH(B164,'План ввода основ. ср-в'!B:B,0))),0,INDEX('План ввода основ. ср-в'!K:K,MATCH(B164,'План ввода основ. ср-в'!B:B,0)))","v":0},0,"/",0,{"$f":"IF(ISNA(INDEX('План ввода основ. ср-в'!N:N,MATCH(B164,'План ввода основ. ср-в'!B:B,0))),0,INDEX('План ввода основ. ср-в'!N:N,MATCH(B164,'План ввода основ. ср-в'!B:B,0)))","v":2},{"$f":"IF(AND(AQ164=0,AS164=0),\"\",\"/\")","v":"/"},{"$f":"IF(ISNA(INDEX('План ввода основ. ср-в'!M:M,MATCH(B164,'План ввода основ. ср-в'!B:B,0))),0,INDEX('План ввода основ. ср-в'!M:M,MATCH(B164,'План ввода основ. ср-в'!B:B,0)))","v":0.25},{"$f":"IF(ISNA(INDEX('План ввода основ. ср-в'!P:P,MATCH(B164,'План ввода основ. ср-в'!B:B,0))),0,INDEX('План ввода основ. ср-в'!P:P,MATCH(B164,'План ввода основ. ср-в'!B:B,0)))","v":0},{"$f":"IF(AND(AT164=0,AV164=0),\"\",\"/\")","v":""},{"$f":"IF(ISNA(INDEX('План ввода основ. ср-в'!O:O,MATCH(B164,'План ввода основ. ср-в'!B:B,0))),0,INDEX('План ввода основ. ср-в'!O:O,MATCH(B164,'План ввода основ. ср-в'!B:B,0)))","v":0},{"$f":"IF(ISNA(INDEX('План ввода основ. ср-в'!R:R,MATCH(B164,'План ввода основ. ср-в'!B:B,0))),0,INDEX('План ввода основ. ср-в'!R:R,MATCH(B164,'План ввода основ. ср-в'!B:B,0)))","v":0},{"$f":"IF(AND(AW164=0,AY164=0),\"\",\"/\")","v":""},{"$f":"IF(ISNA(INDEX('План ввода основ. ср-в'!Q:Q,MATCH(B164,'План ввода основ. ср-в'!B:B,0))),0,INDEX('План ввода основ. ср-в'!Q:Q,MATCH(B164,'План ввода основ. ср-в'!B:B,0)))","v":0},{"$f":"IF(ISNA(INDEX('План ввода основ. ср-в'!T:T,MATCH(B164,'План ввода основ. ср-в'!B:B,0))),0,INDEX('План ввода основ. ср-в'!T:T,MATCH(B164,'План ввода основ. ср-в'!B:B,0)))","v":0},{"$f":"IF(AND(AZ164=0,BB164=0),\"\",\"/\")","v":""},{"$f":"IF(ISNA(INDEX('План ввода основ. ср-в'!S:S,MATCH(B164,'План ввода основ. ср-в'!B:B,0))),0,INDEX('План ввода основ. ср-в'!S:S,MATCH(B164,'План ввода основ. ср-в'!B:B,0)))","v":0},2,"/",0.25,{"$f":"IF(ISNA(INDEX('План ввода основ. ср-в'!V:V,MATCH(B164,'План ввода основ. ср-в'!B:B,0))),0,INDEX('План ввода основ. ср-в'!V:V,MATCH(B164,'План ввода основ. ср-в'!B:B,0)))","v":0},{"$f":"IF(ISNA(INDEX('План ввода основ. ср-в'!W:W,MATCH(B164,'План ввода основ. ср-в'!B:B,0))),0,INDEX('План ввода основ. ср-в'!W:W,MATCH(B164,'План ввода основ. ср-в'!B:B,0)))","v":0},{"$f":"IF(ISNA(INDEX('План ввода основ. ср-в'!X:X,MATCH(B164,'План ввода основ. ср-в'!B:B,0))),0,INDEX('План ввода основ. ср-в'!X:X,MATCH(B164,'План ввода основ. ср-в'!B:B,0)))","v":0},{"$f":"IF(ISNA(INDEX('План ввода основ. ср-в'!Y:Y,MATCH(B164,'План ввода основ. ср-в'!B:B,0))),0,INDEX('План ввода основ. ср-в'!Y:Y,MATCH(B164,'План ввода основ. ср-в'!B:B,0)))","v":0},0,{"$f":"IF(ISNA(INDEX('План ввода основ. ср-в'!Z:Z,MATCH(B164,'План ввода основ. ср-в'!B:B,0))),0,INDEX('План ввода основ. ср-в'!Z:Z,MATCH(B164,'План ввода основ. ср-в'!B:B,0)))","v":5.7627118644067794},{"$f":"IF(ISNA(INDEX('План ввода основ. ср-в'!AA:AA,MATCH(B164,'План ввода основ. ср-в'!B:B,0))),0,INDEX('План ввода основ. ср-в'!AA:AA,MATCH(B164,'План ввода основ. ср-в'!B:B,0)))","v":0},{"$f":"IF(ISNA(INDEX('План ввода основ. ср-в'!AB:AB,MATCH(B164,'План ввода основ. ср-в'!B:B,0))),0,INDEX('План ввода основ. ср-в'!AB:AB,MATCH(B164,'План ввода основ. ср-в'!B:B,0)))","v":0},{"$f":"IF(ISNA(INDEX('План ввода основ. ср-в'!AC:AC,MATCH(B164,'План ввода основ. ср-в'!B:B,0))),0,INDEX('План ввода основ. ср-в'!AC:AC,MATCH(B164,'План ввода основ. ср-в'!B:B,0)))","v":0},5.7627118644067794]
[143,"Реконструкция ВЛ-0,4 кВ от КТП РЦ 1113/320 кВА с заменой КТП на 400 кВА",null,null,null,null,null,null,0,"",0,3,"/",0.32,0,"",0,0,"",0,0,"",0,3,"/",0.32,8.1355932203389809,{"$f":"IF(ISNA(INDEX('План ввода основ. ср-в'!F:F,MATCH(B165,'План ввода основ. ср-в'!B:B,0))),0,INDEX('План ввода основ. ср-в'!F:F,MATCH(B165,'План ввода основ. ср-в'!B:B,0)))","v":0},"",{"$f":"IF(ISNA(INDEX('План ввода основ. ср-в'!E:E,MATCH(B165,'План ввода основ. ср-в'!B:B,0))),0,INDEX('План ввода основ. ср-в'!E:E,MATCH(B165,'План ввода основ. ср-в'!B:B,0)))","v":0},{"$f":"IF(ISNA(INDEX('План ввода основ. ср-в'!H:H,MATCH(B165,'План ввода основ. ср-в'!B:B,0))),0,INDEX('План ввода основ. ср-в'!H:H,MATCH(B165,'План ввода основ. ср-в'!B:B,0)))","v":0},"",{"$f":"IF(ISNA(INDEX('План ввода основ. ср-в'!G:G,MATCH(B165,'План ввода основ. ср-в'!B:B,0))),0,INDEX('План ввода основ. ср-в'!G:G,MATCH(B165,'План ввода основ. ср-в'!B:B,0)))","v":0},{"$f":"IF(ISNA(INDEX('План ввода основ. ср-в'!J:J,MATCH(B165,'План ввода основ. ср-в'!B:B,0))),0,INDEX('План ввода основ. ср-в'!J:J,MATCH(B165,'План ввода основ. ср-в'!B:B,0)))","v":0},"",{"$f":"IF(ISNA(INDEX('План ввода основ. ср-в'!I:I,MATCH(B165,'План ввода основ. ср-в'!B:B,0))),0,INDEX('План ввода основ. ср-в'!I:I,MATCH(B165,'План ввода основ. ср-в'!B:B,0)))","v":0},{"$f":"IF(ISNA(INDEX('План ввода основ. ср-в'!L:L,MATCH(B165,'План ввода основ. ср-в'!B:B,0))),0,INDEX('План ввода основ. ср-в'!L:L,MATCH(B165,'План ввода основ. ср-в'!B:B,0)))","v":0},"",{"$f":"IF(ISNA(INDEX('План ввода основ. ср-в'!K:K,MATCH(B165,'План ввода основ. ср-в'!B:B,0))),0,INDEX('План ввода основ. ср-в'!K:K,MATCH(B165,'План ввода основ. ср-в'!B:B,0)))","v":0},0,"/",0,{"$f":"IF(ISNA(INDEX('План ввода основ. ср-в'!N:N,MATCH(B165,'План ввода основ. ср-в'!B:B,0))),0,INDEX('План ввода основ. ср-в'!N:N,MATCH(B165,'План ввода основ. ср-в'!B:B,0)))","v":3},"/",{"$f":"IF(ISNA(INDEX('План ввода основ. ср-в'!M:M,MATCH(B165,'План ввода основ. ср-в'!B:B,0))),0,INDEX('План ввода основ. ср-в'!M:M,MATCH(B165,'План ввода основ. ср-в'!B:B,0)))","v":0.4},{"$f":"IF(ISNA(INDEX('План ввода основ. ср-в'!P:P,MATCH(B165,'План ввода основ. ср-в'!B:B,0))),0,INDEX('План ввода основ. ср-в'!P:P,MATCH(B165,'План ввода основ. ср-в'!B:B,0)))","v":0},"",{"$f":"IF(ISNA(INDEX('План ввода основ. ср-в'!O:O,MATCH(B165,'План ввода основ. ср-в'!B:B,0))),0,INDEX('План ввода основ. ср-в'!O:O,MATCH(B165,'План ввода основ. ср-в'!B:B,0)))","v":0},{"$f":"IF(ISNA(INDEX('План ввода основ. ср-в'!R:R,MATCH(B165,'План ввода основ. ср-в'!B:B,0))),0,INDEX('План ввода основ. ср-в'!R:R,MATCH(B165,'План ввода основ. ср-в'!B:B,0)))","v":0},"",{"$f":"IF(ISNA(INDEX('План ввода основ. ср-в'!Q:Q,MATCH(B165,'План ввода основ. ср-в'!B:B,0))),0,INDEX('План ввода основ. ср-в'!Q:Q,MATCH(B165,'План ввода основ. ср-в'!B:B,0)))","v":0},{"$f":"IF(ISNA(INDEX('План ввода основ. ср-в'!T:T,MATCH(B165,'План ввода основ. ср-в'!B:B,0))),0,INDEX('План ввода основ. ср-в'!T:T,MATCH(B165,'План ввода основ. ср-в'!B:B,0)))","v":0},"",{"$f":"IF(ISNA(INDEX('План ввода основ. ср-в'!S:S,MATCH(B165,'План ввода основ. ср-в'!B:B,0))),0,INDEX('План ввода основ. ср-в'!S:S,MATCH(B165,'План ввода основ. ср-в'!B:B,0)))","v":0},3,"/",0.4,{"$f":"IF(ISNA(INDEX('План ввода основ. ср-в'!V:V,MATCH(B165,'План ввода основ. ср-в'!B:B,0))),0,INDEX('План ввода основ. ср-в'!V:V,MATCH(B165,'План ввода основ. ср-в'!B:B,0)))","v":0},{"$f":"IF(ISNA(INDEX('План ввода основ. ср-в'!W:W,MATCH(B165,'План ввода основ. ср-в'!B:B,0))),0,INDEX('План ввода основ. ср-в'!W:W,MATCH(B165,'План ввода основ. ср-в'!B:B,0)))","v":0},{"$f":"IF(ISNA(INDEX('План ввода основ. ср-в'!X:X,MATCH(B165,'План ввода основ. ср-в'!B:B,0))),0,INDEX('План ввода основ. ср-в'!X:X,MATCH(B165,'План ввода основ. ср-в'!B:B,0)))","v":0},{"$f":"IF(ISNA(INDEX('План ввода основ. ср-в'!Y:Y,MATCH(B165,'План ввода основ. ср-в'!B:B,0))),0,INDEX('План ввода основ. ср-в'!Y:Y,MATCH(B165,'План ввода основ. ср-в'!B:B,0)))","v":0},0,{"$f":"IF(ISNA(INDEX('План ввода основ. ср-в'!Z:Z,MATCH(B165,'План ввода основ. ср-в'!B:B,0))),0,INDEX('План ввода основ. ср-в'!Z:Z,MATCH(B165,'План ввода основ. ср-в'!B:B,0)))","v":8.1355932203389809},{"$f":"IF(ISNA(INDEX('План ввода основ. ср-в'!AA:AA,MATCH(B165,'План ввода основ. ср-в'!B:B,0))),0,INDEX('План ввода основ. ср-в'!AA:AA,MATCH(B165,'План ввода основ. ср-в'!B:B,0)))","v":0},{"$f":"IF(ISNA(INDEX('План ввода основ. ср-в'!AB:AB,MATCH(B165,'План ввода основ. ср-в'!B:B,0))),0,INDEX('План ввода основ. ср-в'!AB:AB,MATCH(B165,'План ввода основ. ср-в'!B:B,0)))","v":0},{"$f":"IF(ISNA(INDEX('План ввода основ. ср-в'!AC:AC,MATCH(B165,'План ввода основ. ср-в'!B:B,0))),0,INDEX('План ввода основ. ср-в'!AC:AC,MATCH(B165,'План ввода основ. ср-в'!B:B,0)))","v":0},8.1355932203389809]
[144,"Реконструкция ВЛ-0,4 кВ от ЗТП ДСК 6034/2х320 кВА ",null,null,null,null,null,null,0,"",0,0,"",0,2,"/",0,0,"",0,0,"",0,2,"/",0,4.7457627118644066,{"$f":"IF(ISNA(INDEX('План ввода основ. ср-в'!F:F,MATCH(B166,'План ввода основ. ср-в'!B:B,0))),0,INDEX('План ввода основ. ср-в'!F:F,MATCH(B166,'План ввода основ. ср-в'!B:B,0)))","v":0},"",{"$f":"IF(ISNA(INDEX('План ввода основ. ср-в'!E:E,MATCH(B166,'План ввода основ. ср-в'!B:B,0))),0,INDEX('План ввода основ. ср-в'!E:E,MATCH(B166,'План ввода основ. ср-в'!B:B,0)))","v":0},{"$f":"IF(ISNA(INDEX('План ввода основ. ср-в'!H:H,MATCH(B166,'План ввода основ. ср-в'!B:B,0))),0,INDEX('План ввода основ. ср-в'!H:H,MATCH(B166,'План ввода основ. ср-в'!B:B,0)))","v":0},"",{"$f":"IF(ISNA(INDEX('План ввода основ. ср-в'!G:G,MATCH(B166,'План ввода основ. ср-в'!B:B,0))),0,INDEX('План ввода основ. ср-в'!G:G,MATCH(B166,'План ввода основ. ср-в'!B:B,0)))","v":0},{"$f":"IF(ISNA(INDEX('План ввода основ. ср-в'!J:J,MATCH(B166,'План ввода основ. ср-в'!B:B,0))),0,INDEX('План ввода основ. ср-в'!J:J,MATCH(B166,'План ввода основ. ср-в'!B:B,0)))","v":0},"",{"$f":"IF(ISNA(INDEX('План ввода основ. ср-в'!I:I,MATCH(B166,'План ввода основ. ср-в'!B:B,0))),0,INDEX('План ввода основ. ср-в'!I:I,MATCH(B166,'План ввода основ. ср-в'!B:B,0)))","v":0},{"$f":"IF(ISNA(INDEX('План ввода основ. ср-в'!L:L,MATCH(B166,'План ввода основ. ср-в'!B:B,0))),0,INDEX('План ввода основ. ср-в'!L:L,MATCH(B166,'План ввода основ. ср-в'!B:B,0)))","v":0},"",{"$f":"IF(ISNA(INDEX('План ввода основ. ср-в'!K:K,MATCH(B166,'План ввода основ. ср-в'!B:B,0))),0,INDEX('План ввода основ. ср-в'!K:K,MATCH(B166,'План ввода основ. ср-в'!B:B,0)))","v":0},0,"/",0,{"$f":"IF(ISNA(INDEX('План ввода основ. ср-в'!N:N,MATCH(B166,'План ввода основ. ср-в'!B:B,0))),0,INDEX('План ввода основ. ср-в'!N:N,MATCH(B166,'План ввода основ. ср-в'!B:B,0)))","v":0},"",{"$f":"IF(ISNA(INDEX('План ввода основ. ср-в'!M:M,MATCH(B166,'План ввода основ. ср-в'!B:B,0))),0,INDEX('План ввода основ. ср-в'!M:M,MATCH(B166,'План ввода основ. ср-в'!B:B,0)))","v":0},{"$f":"IF(ISNA(INDEX('План ввода основ. ср-в'!P:P,MATCH(B166,'План ввода основ. ср-в'!B:B,0))),0,INDEX('План ввода основ. ср-в'!P:P,MATCH(B166,'План ввода основ. ср-в'!B:B,0)))","v":2},"/",{"$f":"IF(ISNA(INDEX('План ввода основ. ср-в'!O:O,MATCH(B166,'План ввода основ. ср-в'!B:B,0))),0,INDEX('План ввода основ. ср-в'!O:O,MATCH(B166,'План ввода основ. ср-в'!B:B,0)))","v":0},{"$f":"IF(ISNA(INDEX('План ввода основ. ср-в'!R:R,MATCH(B166,'План ввода основ. ср-в'!B:B,0))),0,INDEX('План ввода основ. ср-в'!R:R,MATCH(B166,'План ввода основ. ср-в'!B:B,0)))","v":0},"",{"$f":"IF(ISNA(INDEX('План ввода основ. ср-в'!Q:Q,MATCH(B166,'План ввода основ. ср-в'!B:B,0))),0,INDEX('План ввода основ. ср-в'!Q:Q,MATCH(B166,'План ввода основ. ср-в'!B:B,0)))","v":0},{"$f":"IF(ISNA(INDEX('План ввода основ. ср-в'!T:T,MATCH(B166,'План ввода основ. ср-в'!B:B,0))),0,INDEX('План ввода основ. ср-в'!T:T,MATCH(B166,'План ввода основ. ср-в'!B:B,0)))","v":0},"",{"$f":"IF(ISNA(INDEX('План ввода основ. ср-в'!S:S,MATCH(B166,'План ввода основ. ср-в'!B:B,0))),0,INDEX('План ввода основ. ср-в'!S:S,MATCH(B166,'План ввода основ. ср-в'!B:B,0)))","v":0},2,"/",0,{"$f":"IF(ISNA(INDEX('План ввода основ. ср-в'!V:V,MATCH(B166,'План ввода основ. ср-в'!B:B,0))),0,INDEX('План ввода основ. ср-в'!V:V,MATCH(B166,'План ввода основ. ср-в'!B:B,0)))","v":0},{"$f":"IF(ISNA(INDEX('План ввода основ. ср-в'!W:W,MATCH(B166,'План ввода основ. ср-в'!B:B,0))),0,INDEX('План ввода основ. ср-в'!W:W,MATCH(B166,'План ввода основ. ср-в'!B:B,0)))","v":0},{"$f":"IF(ISNA(INDEX('План ввода основ. ср-в'!X:X,MATCH(B166,'План ввода основ. ср-в'!B:B,0))),0,INDEX('План ввода основ. ср-в'!X:X,MATCH(B166,'План ввода основ. ср-в'!B:B,0)))","v":0},{"$f":"IF(ISNA(INDEX('План ввода основ. ср-в'!Y:Y,MATCH(B166,'План ввода основ. ср-в'!B:B,0))),0,INDEX('План ввода основ. ср-в'!Y:Y,MATCH(B166,'План ввода основ. ср-в'!B:B,0)))","v":0},0,{"$f":"IF(ISNA(INDEX('План ввода основ. ср-в'!Z:Z,MATCH(B166,'План ввода основ. ср-в'!B:B,0))),0,INDEX('План ввода основ. ср-в'!Z:Z,MATCH(B166,'План ввода основ. ср-в'!B:B,0)))","v":0},{"$f":"IF(ISNA(INDEX('План ввода основ. ср-в'!AA:AA,MATCH(B166,'План ввода основ. ср-в'!B:B,0))),0,INDEX('План ввода основ. ср-в'!AA:AA,MATCH(B166,'План ввода основ. ср-в'!B:B,0)))","v":4.7457627118644066},{"$f":"IF(ISNA(INDEX('План ввода основ. ср-в'!AB:AB,MATCH(B166,'План ввода основ. ср-в'!B:B,0))),0,INDEX('План ввода основ. ср-в'!AB:AB,MATCH(B166,'План ввода основ. ср-в'!B:B,0)))","v":0},{"$f":"IF(ISNA(INDEX('План ввода основ. ср-в'!AC:AC,MATCH(B166,'План ввода основ. ср-в'!B:B,0))),0,INDEX('План ввода основ. ср-в'!AC:AC,MATCH(B166,'План ввода основ. ср-в'!B:B,0)))","v":0},4.7457627118644066]
[145,"Реконструкция ВЛ-0,4 кВ от КТП НБ 701/100 кВА с заменой КТП на 160 кВА",null,null,null,null,null,null,0,{"$f":"IF(AND(I167=0,K167=0),\"\",\"/\")","v":""},0,0,{"$f":"IF(AND(L167=0,N167=0),\"\",\"/\")","v":""},0,2,{"$f":"IF(AND(O167=0,Q167=0),\"\",\"/\")","v":"/"},0.1,0,{"$f":"IF(AND(R167=0,T167=0),\"\",\"/\")","v":""},0,0,{"$f":"IF(AND(U167=0,W167=0),\"\",\"/\")","v":""},0,2,"/",0.1,5.7627118644067794,{"$f":"IF(ISNA(INDEX('План ввода основ. ср-в'!F:F,MATCH(B167,'План ввода основ. ср-в'!B:B,0))),0,INDEX('План ввода основ. ср-в'!F:F,MATCH(B167,'План ввода основ. ср-в'!B:B,0)))","v":0},{"$f":"IF(AND(AB167=0,AD167=0),\"\",\"/\")","v":""},{"$f":"IF(ISNA(INDEX('План ввода основ. ср-в'!E:E,MATCH(B167,'План ввода основ. ср-в'!B:B,0))),0,INDEX('План ввода основ. ср-в'!E:E,MATCH(B167,'План ввода основ. ср-в'!B:B,0)))","v":0},{"$f":"IF(ISNA(INDEX('План ввода основ. ср-в'!H:H,MATCH(B167,'План ввода основ. ср-в'!B:B,0))),0,INDEX('План ввода основ. ср-в'!H:H,MATCH(B167,'План ввода основ. ср-в'!B:B,0)))","v":0},{"$f":"IF(AND(AE167=0,AG167=0),\"\",\"/\")","v":""},{"$f":"IF(ISNA(INDEX('План ввода основ. ср-в'!G:G,MATCH(B167,'План ввода основ. ср-в'!B:B,0))),0,INDEX('План ввода основ. ср-в'!G:G,MATCH(B167,'План ввода основ. ср-в'!B:B,0)))","v":0},{"$f":"IF(ISNA(INDEX('План ввода основ. ср-в'!J:J,MATCH(B167,'План ввода основ. ср-в'!B:B,0))),0,INDEX('План ввода основ. ср-в'!J:J,MATCH(B167,'План ввода основ. ср-в'!B:B,0)))","v":0},{"$f":"IF(AND(AH167=0,AJ167=0),\"\",\"/\")","v":""},{"$f":"IF(ISNA(INDEX('План ввода основ. ср-в'!I:I,MATCH(B167,'План ввода основ. ср-в'!B:B,0))),0,INDEX('План ввода основ. ср-в'!I:I,MATCH(B167,'План ввода основ. ср-в'!B:B,0)))","v":0},{"$f":"IF(ISNA(INDEX('План ввода основ. ср-в'!L:L,MATCH(B167,'План ввода основ. ср-в'!B:B,0))),0,INDEX('План ввода основ. ср-в'!L:L,MATCH(B167,'План ввода основ. ср-в'!B:B,0)))","v":0},{"$f":"IF(AND(AK167=0,AM167=0),\"\",\"/\")","v":""},{"$f":"IF(ISNA(INDEX('План ввода основ. ср-в'!K:K,MATCH(B167,'План ввода основ. ср-в'!B:B,0))),0,INDEX('План ввода основ. ср-в'!K:K,MATCH(B167,'План ввода основ. ср-в'!B:B,0)))","v":0},0,"/",0,{"$f":"IF(ISNA(INDEX('План ввода основ. ср-в'!N:N,MATCH(B167,'План ввода основ. ср-в'!B:B,0))),0,INDEX('План ввода основ. ср-в'!N:N,MATCH(B167,'План ввода основ. ср-в'!B:B,0)))","v":0},{"$f":"IF(AND(AQ167=0,AS167=0),\"\",\"/\")","v":""},{"$f":"IF(ISNA(INDEX('План ввода основ. ср-в'!M:M,MATCH(B167,'План ввода основ. ср-в'!B:B,0))),0,INDEX('План ввода основ. ср-в'!M:M,MATCH(B167,'План ввода основ. ср-в'!B:B,0)))","v":0},{"$f":"IF(ISNA(INDEX('План ввода основ. ср-в'!P:P,MATCH(B167,'План ввода основ. ср-в'!B:B,0))),0,INDEX('План ввода основ. ср-в'!P:P,MATCH(B167,'План ввода основ. ср-в'!B:B,0)))","v":2},{"$f":"IF(AND(AT167=0,AV167=0),\"\",\"/\")","v":"/"},{"$f":"IF(ISNA(INDEX('План ввода основ. ср-в'!O:O,MATCH(B167,'План ввода основ. ср-в'!B:B,0))),0,INDEX('План ввода основ. ср-в'!O:O,MATCH(B167,'План ввода основ. ср-в'!B:B,0)))","v":0.16},{"$f":"IF(ISNA(INDEX('План ввода основ. ср-в'!R:R,MATCH(B167,'План ввода основ. ср-в'!B:B,0))),0,INDEX('План ввода основ. ср-в'!R:R,MATCH(B167,'План ввода основ. ср-в'!B:B,0)))","v":0},{"$f":"IF(AND(AW167=0,AY167=0),\"\",\"/\")","v":""},{"$f":"IF(ISNA(INDEX('План ввода основ. ср-в'!Q:Q,MATCH(B167,'План ввода основ. ср-в'!B:B,0))),0,INDEX('План ввода основ. ср-в'!Q:Q,MATCH(B167,'План ввода основ. ср-в'!B:B,0)))","v":0},{"$f":"IF(ISNA(INDEX('План ввода основ. ср-в'!T:T,MATCH(B167,'План ввода основ. ср-в'!B:B,0))),0,INDEX('План ввода основ. ср-в'!T:T,MATCH(B167,'План ввода основ. ср-в'!B:B,0)))","v":0},{"$f":"IF(AND(AZ167=0,BB167=0),\"\",\"/\")","v":""},{"$f":"IF(ISNA(INDEX('План ввода основ. ср-в'!S:S,MATCH(B167,'План ввода основ. ср-в'!B:B,0))),0,INDEX('План ввода основ. ср-в'!S:S,MATCH(B167,'План ввода основ. ср-в'!B:B,0)))","v":0},2,"/",0.16,{"$f":"IF(ISNA(INDEX('План ввода основ. ср-в'!V:V,MATCH(B167,'План ввода основ. ср-в'!B:B,0))),0,INDEX('План ввода основ. ср-в'!V:V,MATCH(B167,'План ввода основ. ср-в'!B:B,0)))","v":0},{"$f":"IF(ISNA(INDEX('План ввода основ. ср-в'!W:W,MATCH(B167,'План ввода основ. ср-в'!B:B,0))),0,INDEX('План ввода основ. ср-в'!W:W,MATCH(B167,'План ввода основ. ср-в'!B:B,0)))","v":0},{"$f":"IF(ISNA(INDEX('План ввода основ. ср-в'!X:X,MATCH(B167,'План ввода основ. ср-в'!B:B,0))),0,INDEX('План ввода основ. ср-в'!X:X,MATCH(B167,'План ввода основ. ср-в'!B:B,0)))","v":0},{"$f":"IF(ISNA(INDEX('План ввода основ. ср-в'!Y:Y,MATCH(B167,'План ввода основ. ср-в'!B:B,0))),0,INDEX('План ввода основ. ср-в'!Y:Y,MATCH(B167,'План ввода основ. ср-в'!B:B,0)))","v":0},0,{"$f":"IF(ISNA(INDEX('План ввода основ. ср-в'!Z:Z,MATCH(B167,'План ввода основ. ср-в'!B:B,0))),0,INDEX('План ввода основ. ср-в'!Z:Z,MATCH(B167,'План ввода основ. ср-в'!B:B,0)))","v":0},{"$f":"IF(ISNA(INDEX('План ввода основ. ср-в'!AA:AA,MATCH(B167,'План ввода основ. ср-в'!B:B,0))),0,INDEX('План ввода основ. ср-в'!AA:AA,MATCH(B167,'План ввода основ. ср-в'!B:B,0)))","v":5.7627118644067794},{"$f":"IF(ISNA(INDEX('План ввода основ. ср-в'!AB:AB,MATCH(B167,'План ввода основ. ср-в'!B:B,0))),0,INDEX('План ввода основ. ср-в'!AB:AB,MATCH(B167,'План ввода основ. ср-в'!B:B,0)))","v":0},{"$f":"IF(ISNA(INDEX('План ввода основ. ср-в'!AC:AC,MATCH(B167,'План ввода основ. ср-в'!B:B,0))),0,INDEX('План ввода основ. ср-в'!AC:AC,MATCH(B167,'План ввода основ. ср-в'!B:B,0)))","v":0},5.7627118644067794]
[146,"Реконструкция ВЛ-0,4 кВ от КТП РЦ 3101/2х400 кВА с заменой КТП на 630 кВА и установкой дополнительной КТП 250 кВА",null,null,null,null,null,null,0,"",0,0,"",0,3,"/",0.8,0,"",0,0,"",0,3,"/",0.8,9.322033898305083,{"$f":"IF(ISNA(INDEX('План ввода основ. ср-в'!F:F,MATCH(B168,'План ввода основ. ср-в'!B:B,0))),0,INDEX('План ввода основ. ср-в'!F:F,MATCH(B168,'План ввода основ. ср-в'!B:B,0)))","v":0},"",{"$f":"IF(ISNA(INDEX('План ввода основ. ср-в'!E:E,MATCH(B168,'План ввода основ. ср-в'!B:B,0))),0,INDEX('План ввода основ. ср-в'!E:E,MATCH(B168,'План ввода основ. ср-в'!B:B,0)))","v":0},{"$f":"IF(ISNA(INDEX('План ввода основ. ср-в'!H:H,MATCH(B168,'План ввода основ. ср-в'!B:B,0))),0,INDEX('План ввода основ. ср-в'!H:H,MATCH(B168,'План ввода основ. ср-в'!B:B,0)))","v":0},"",{"$f":"IF(ISNA(INDEX('План ввода основ. ср-в'!G:G,MATCH(B168,'План ввода основ. ср-в'!B:B,0))),0,INDEX('План ввода основ. ср-в'!G:G,MATCH(B168,'План ввода основ. ср-в'!B:B,0)))","v":0},{"$f":"IF(ISNA(INDEX('План ввода основ. ср-в'!J:J,MATCH(B168,'План ввода основ. ср-в'!B:B,0))),0,INDEX('План ввода основ. ср-в'!J:J,MATCH(B168,'План ввода основ. ср-в'!B:B,0)))","v":0},"",{"$f":"IF(ISNA(INDEX('План ввода основ. ср-в'!I:I,MATCH(B168,'План ввода основ. ср-в'!B:B,0))),0,INDEX('План ввода основ. ср-в'!I:I,MATCH(B168,'План ввода основ. ср-в'!B:B,0)))","v":0},{"$f":"IF(ISNA(INDEX('План ввода основ. ср-в'!L:L,MATCH(B168,'План ввода основ. ср-в'!B:B,0))),0,INDEX('План ввода основ. ср-в'!L:L,MATCH(B168,'План ввода основ. ср-в'!B:B,0)))","v":0},"",{"$f":"IF(ISNA(INDEX('План ввода основ. ср-в'!K:K,MATCH(B168,'План ввода основ. ср-в'!B:B,0))),0,INDEX('План ввода основ. ср-в'!K:K,MATCH(B168,'План ввода основ. ср-в'!B:B,0)))","v":0},0,"/",0,{"$f":"IF(ISNA(INDEX('План ввода основ. ср-в'!N:N,MATCH(B168,'План ввода основ. ср-в'!B:B,0))),0,INDEX('План ввода основ. ср-в'!N:N,MATCH(B168,'План ввода основ. ср-в'!B:B,0)))","v":0},"",{"$f":"IF(ISNA(INDEX('План ввода основ. ср-в'!M:M,MATCH(B168,'План ввода основ. ср-в'!B:B,0))),0,INDEX('План ввода основ. ср-в'!M:M,MATCH(B168,'План ввода основ. ср-в'!B:B,0)))","v":0},{"$f":"IF(ISNA(INDEX('План ввода основ. ср-в'!P:P,MATCH(B168,'План ввода основ. ср-в'!B:B,0))),0,INDEX('План ввода основ. ср-в'!P:P,MATCH(B168,'План ввода основ. ср-в'!B:B,0)))","v":3},"/",{"$f":"IF(ISNA(INDEX('План ввода основ. ср-в'!O:O,MATCH(B168,'План ввода основ. ср-в'!B:B,0))),0,INDEX('План ввода основ. ср-в'!O:O,MATCH(B168,'План ввода основ. ср-в'!B:B,0)))","v":0.88},{"$f":"IF(ISNA(INDEX('План ввода основ. ср-в'!R:R,MATCH(B168,'План ввода основ. ср-в'!B:B,0))),0,INDEX('План ввода основ. ср-в'!R:R,MATCH(B168,'План ввода основ. ср-в'!B:B,0)))","v":0},"",{"$f":"IF(ISNA(INDEX('План ввода основ. ср-в'!Q:Q,MATCH(B168,'План ввода основ. ср-в'!B:B,0))),0,INDEX('План ввода основ. ср-в'!Q:Q,MATCH(B168,'План ввода основ. ср-в'!B:B,0)))","v":0},{"$f":"IF(ISNA(INDEX('План ввода основ. ср-в'!T:T,MATCH(B168,'План ввода основ. ср-в'!B:B,0))),0,INDEX('План ввода основ. ср-в'!T:T,MATCH(B168,'План ввода основ. ср-в'!B:B,0)))","v":0},"",{"$f":"IF(ISNA(INDEX('План ввода основ. ср-в'!S:S,MATCH(B168,'План ввода основ. ср-в'!B:B,0))),0,INDEX('План ввода основ. ср-в'!S:S,MATCH(B168,'План ввода основ. ср-в'!B:B,0)))","v":0},3,"/",0.88,{"$f":"IF(ISNA(INDEX('План ввода основ. ср-в'!V:V,MATCH(B168,'План ввода основ. ср-в'!B:B,0))),0,INDEX('План ввода основ. ср-в'!V:V,MATCH(B168,'План ввода основ. ср-в'!B:B,0)))","v":0},{"$f":"IF(ISNA(INDEX('План ввода основ. ср-в'!W:W,MATCH(B168,'План ввода основ. ср-в'!B:B,0))),0,INDEX('План ввода основ. ср-в'!W:W,MATCH(B168,'План ввода основ. ср-в'!B:B,0)))","v":0},{"$f":"IF(ISNA(INDEX('План ввода основ. ср-в'!X:X,MATCH(B168,'План ввода основ. ср-в'!B:B,0))),0,INDEX('План ввода основ. ср-в'!X:X,MATCH(B168,'План ввода основ. ср-в'!B:B,0)))","v":0},{"$f":"IF(ISNA(INDEX('План ввода основ. ср-в'!Y:Y,MATCH(B168,'План ввода основ. ср-в'!B:B,0))),0,INDEX('План ввода основ. ср-в'!Y:Y,MATCH(B168,'План ввода основ. ср-в'!B:B,0)))","v":0},0,{"$f":"IF(ISNA(INDEX('План ввода основ. ср-в'!Z:Z,MATCH(B168,'План ввода основ. ср-в'!B:B,0))),0,INDEX('План ввода основ. ср-в'!Z:Z,MATCH(B168,'План ввода основ. ср-в'!B:B,0)))","v":0},{"$f":"IF(ISNA(INDEX('План ввода основ. ср-в'!AA:AA,MATCH(B168,'План ввода основ. ср-в'!B:B,0))),0,INDEX('План ввода основ. ср-в'!AA:AA,MATCH(B168,'План ввода основ. ср-в'!B:B,0)))","v":9.322033898305083},{"$f":"IF(ISNA(INDEX('План ввода основ. ср-в'!AB:AB,MATCH(B168,'План ввода основ. ср-в'!B:B,0))),0,INDEX('План ввода основ. ср-в'!AB:AB,MATCH(B168,'План ввода основ. ср-в'!B:B,0)))","v":0},{"$f":"IF(ISNA(INDEX('План ввода основ. ср-в'!AC:AC,MATCH(B168,'План ввода основ. ср-в'!B:B,0))),0,INDEX('План ввода основ. ср-в'!AC:AC,MATCH(B168,'План ввода основ. ср-в'!B:B,0)))","v":0},9.322033898305083]
[147,"Реконструкция ВЛ-0,4 кВ от КТП НБ 714/250 кВА с заменой КТП",null,null,null,null,null,null,0,"",0,0,"",0,0,"",0,2,"/",0.25,0,"",0,2,"/",0.25,5.7627118644067794,{"$f":"IF(ISNA(INDEX('План ввода основ. ср-в'!F:F,MATCH(B169,'План ввода основ. ср-в'!B:B,0))),0,INDEX('План ввода основ. ср-в'!F:F,MATCH(B169,'План ввода основ. ср-в'!B:B,0)))","v":0},"",{"$f":"IF(ISNA(INDEX('План ввода основ. ср-в'!E:E,MATCH(B169,'План ввода основ. ср-в'!B:B,0))),0,INDEX('План ввода основ. ср-в'!E:E,MATCH(B169,'План ввода основ. ср-в'!B:B,0)))","v":0},{"$f":"IF(ISNA(INDEX('План ввода основ. ср-в'!H:H,MATCH(B169,'План ввода основ. ср-в'!B:B,0))),0,INDEX('План ввода основ. ср-в'!H:H,MATCH(B169,'План ввода основ. ср-в'!B:B,0)))","v":0},"",{"$f":"IF(ISNA(INDEX('План ввода основ. ср-в'!G:G,MATCH(B169,'План ввода основ. ср-в'!B:B,0))),0,INDEX('План ввода основ. ср-в'!G:G,MATCH(B169,'План ввода основ. ср-в'!B:B,0)))","v":0},{"$f":"IF(ISNA(INDEX('План ввода основ. ср-в'!J:J,MATCH(B169,'План ввода основ. ср-в'!B:B,0))),0,INDEX('План ввода основ. ср-в'!J:J,MATCH(B169,'План ввода основ. ср-в'!B:B,0)))","v":0},"",{"$f":"IF(ISNA(INDEX('План ввода основ. ср-в'!I:I,MATCH(B169,'План ввода основ. ср-в'!B:B,0))),0,INDEX('План ввода основ. ср-в'!I:I,MATCH(B169,'План ввода основ. ср-в'!B:B,0)))","v":0},{"$f":"IF(ISNA(INDEX('План ввода основ. ср-в'!L:L,MATCH(B169,'План ввода основ. ср-в'!B:B,0))),0,INDEX('План ввода основ. ср-в'!L:L,MATCH(B169,'План ввода основ. ср-в'!B:B,0)))","v":0},"",{"$f":"IF(ISNA(INDEX('План ввода основ. ср-в'!K:K,MATCH(B169,'План ввода основ. ср-в'!B:B,0))),0,INDEX('План ввода основ. ср-в'!K:K,MATCH(B169,'План ввода основ. ср-в'!B:B,0)))","v":0},0,"/",0,{"$f":"IF(ISNA(INDEX('План ввода основ. ср-в'!N:N,MATCH(B169,'План ввода основ. ср-в'!B:B,0))),0,INDEX('План ввода основ. ср-в'!N:N,MATCH(B169,'План ввода основ. ср-в'!B:B,0)))","v":0},"",{"$f":"IF(ISNA(INDEX('План ввода основ. ср-в'!M:M,MATCH(B169,'План ввода основ. ср-в'!B:B,0))),0,INDEX('План ввода основ. ср-в'!M:M,MATCH(B169,'План ввода основ. ср-в'!B:B,0)))","v":0},{"$f":"IF(ISNA(INDEX('План ввода основ. ср-в'!P:P,MATCH(B169,'План ввода основ. ср-в'!B:B,0))),0,INDEX('План ввода основ. ср-в'!P:P,MATCH(B169,'План ввода основ. ср-в'!B:B,0)))","v":0},"",{"$f":"IF(ISNA(INDEX('План ввода основ. ср-в'!O:O,MATCH(B169,'План ввода основ. ср-в'!B:B,0))),0,INDEX('План ввода основ. ср-в'!O:O,MATCH(B169,'План ввода основ. ср-в'!B:B,0)))","v":0},{"$f":"IF(ISNA(INDEX('План ввода основ. ср-в'!R:R,MATCH(B169,'План ввода основ. ср-в'!B:B,0))),0,INDEX('План ввода основ. ср-в'!R:R,MATCH(B169,'План ввода основ. ср-в'!B:B,0)))","v":2},"/",{"$f":"IF(ISNA(INDEX('План ввода основ. ср-в'!Q:Q,MATCH(B169,'План ввода основ. ср-в'!B:B,0))),0,INDEX('План ввода основ. ср-в'!Q:Q,MATCH(B169,'План ввода основ. ср-в'!B:B,0)))","v":0.25},{"$f":"IF(ISNA(INDEX('План ввода основ. ср-в'!T:T,MATCH(B169,'План ввода основ. ср-в'!B:B,0))),0,INDEX('План ввода основ. ср-в'!T:T,MATCH(B169,'План ввода основ. ср-в'!B:B,0)))","v":0},"",{"$f":"IF(ISNA(INDEX('План ввода основ. ср-в'!S:S,MATCH(B169,'План ввода основ. ср-в'!B:B,0))),0,INDEX('План ввода основ. ср-в'!S:S,MATCH(B169,'План ввода основ. ср-в'!B:B,0)))","v":0},2,"/",0.25,{"$f":"IF(ISNA(INDEX('План ввода основ. ср-в'!V:V,MATCH(B169,'План ввода основ. ср-в'!B:B,0))),0,INDEX('План ввода основ. ср-в'!V:V,MATCH(B169,'План ввода основ. ср-в'!B:B,0)))","v":0},{"$f":"IF(ISNA(INDEX('План ввода основ. ср-в'!W:W,MATCH(B169,'План ввода основ. ср-в'!B:B,0))),0,INDEX('План ввода основ. ср-в'!W:W,MATCH(B169,'План ввода основ. ср-в'!B:B,0)))","v":0},{"$f":"IF(ISNA(INDEX('План ввода основ. ср-в'!X:X,MATCH(B169,'План ввода основ. ср-в'!B:B,0))),0,INDEX('План ввода основ. ср-в'!X:X,MATCH(B169,'План ввода основ. ср-в'!B:B,0)))","v":0},{"$f":"IF(ISNA(INDEX('План ввода основ. ср-в'!Y:Y,MATCH(B169,'План ввода основ. ср-в'!B:B,0))),0,INDEX('План ввода основ. ср-в'!Y:Y,MATCH(B169,'План ввода основ. ср-в'!B:B,0)))","v":0},0,{"$f":"IF(ISNA(INDEX('План ввода основ. ср-в'!Z:Z,MATCH(B169,'План ввода основ. ср-в'!B:B,0))),0,INDEX('План ввода основ. ср-в'!Z:Z,MATCH(B169,'План ввода основ. ср-в'!B:B,0)))","v":0},{"$f":"IF(ISNA(INDEX('План ввода основ. ср-в'!AA:AA,MATCH(B169,'План ввода основ. ср-в'!B:B,0))),0,INDEX('План ввода основ. ср-в'!AA:AA,MATCH(B169,'План ввода основ. ср-в'!B:B,0)))","v":0},{"$f":"IF(ISNA(INDEX('План ввода основ. ср-в'!AB:AB,MATCH(B169,'План ввода основ. ср-в'!B:B,0))),0,INDEX('План ввода основ. ср-в'!AB:AB,MATCH(B169,'План ввода основ. ср-в'!B:B,0)))","v":5.7627118644067794},{"$f":"IF(ISNA(INDEX('План ввода основ. ср-в'!AC:AC,MATCH(B169,'План ввода основ. ср-в'!B:B,0))),0,INDEX('План ввода основ. ср-в'!AC:AC,MATCH(B169,'План ввода основ. ср-в'!B:B,0)))","v":0},5.7627118644067794]
[148,"Реконструкция ВЛ-0,4 кВ от КТП Рак 802/160 кВА с заменой КТП на 250 кВА",null,null,null,null,null,null,0,{"$f":"IF(AND(I170=0,K170=0),\"\",\"/\")","v":""},0,0,{"$f":"IF(AND(L170=0,N170=0),\"\",\"/\")","v":""},0,0,{"$f":"IF(AND(O170=0,Q170=0),\"\",\"/\")","v":""},0,0,{"$f":"IF(AND(R170=0,T170=0),\"\",\"/\")","v":""},0,3,{"$f":"IF(AND(U170=0,W170=0),\"\",\"/\")","v":"/"},0.16,3,"/",0.16,8.1355932203389809,{"$f":"IF(ISNA(INDEX('План ввода основ. ср-в'!F:F,MATCH(B170,'План ввода основ. ср-в'!B:B,0))),0,INDEX('План ввода основ. ср-в'!F:F,MATCH(B170,'План ввода основ. ср-в'!B:B,0)))","v":0},{"$f":"IF(AND(AB170=0,AD170=0),\"\",\"/\")","v":""},{"$f":"IF(ISNA(INDEX('План ввода основ. ср-в'!E:E,MATCH(B170,'План ввода основ. ср-в'!B:B,0))),0,INDEX('План ввода основ. ср-в'!E:E,MATCH(B170,'План ввода основ. ср-в'!B:B,0)))","v":0},{"$f":"IF(ISNA(INDEX('План ввода основ. ср-в'!H:H,MATCH(B170,'План ввода основ. ср-в'!B:B,0))),0,INDEX('План ввода основ. ср-в'!H:H,MATCH(B170,'План ввода основ. ср-в'!B:B,0)))","v":0},{"$f":"IF(AND(AE170=0,AG170=0),\"\",\"/\")","v":""},{"$f":"IF(ISNA(INDEX('План ввода основ. ср-в'!G:G,MATCH(B170,'План ввода основ. ср-в'!B:B,0))),0,INDEX('План ввода основ. ср-в'!G:G,MATCH(B170,'План ввода основ. ср-в'!B:B,0)))","v":0},{"$f":"IF(ISNA(INDEX('План ввода основ. ср-в'!J:J,MATCH(B170,'План ввода основ. ср-в'!B:B,0))),0,INDEX('План ввода основ. ср-в'!J:J,MATCH(B170,'План ввода основ. ср-в'!B:B,0)))","v":0},{"$f":"IF(AND(AH170=0,AJ170=0),\"\",\"/\")","v":""},{"$f":"IF(ISNA(INDEX('План ввода основ. ср-в'!I:I,MATCH(B170,'План ввода основ. ср-в'!B:B,0))),0,INDEX('План ввода основ. ср-в'!I:I,MATCH(B170,'План ввода основ. ср-в'!B:B,0)))","v":0},{"$f":"IF(ISNA(INDEX('План ввода основ. ср-в'!L:L,MATCH(B170,'План ввода основ. ср-в'!B:B,0))),0,INDEX('План ввода основ. ср-в'!L:L,MATCH(B170,'План ввода основ. ср-в'!B:B,0)))","v":0},{"$f":"IF(AND(AK170=0,AM170=0),\"\",\"/\")","v":""},{"$f":"IF(ISNA(INDEX('План ввода основ. ср-в'!K:K,MATCH(B170,'План ввода основ. ср-в'!B:B,0))),0,INDEX('План ввода основ. ср-в'!K:K,MATCH(B170,'План ввода основ. ср-в'!B:B,0)))","v":0},0,"/",0,{"$f":"IF(ISNA(INDEX('План ввода основ. ср-в'!N:N,MATCH(B170,'План ввода основ. ср-в'!B:B,0))),0,INDEX('План ввода основ. ср-в'!N:N,MATCH(B170,'План ввода основ. ср-в'!B:B,0)))","v":0},{"$f":"IF(AND(AQ170=0,AS170=0),\"\",\"/\")","v":""},{"$f":"IF(ISNA(INDEX('План ввода основ. ср-в'!M:M,MATCH(B170,'План ввода основ. ср-в'!B:B,0))),0,INDEX('План ввода основ. ср-в'!M:M,MATCH(B170,'План ввода основ. ср-в'!B:B,0)))","v":0},{"$f":"IF(ISNA(INDEX('План ввода основ. ср-в'!P:P,MATCH(B170,'План ввода основ. ср-в'!B:B,0))),0,INDEX('План ввода основ. ср-в'!P:P,MATCH(B170,'План ввода основ. ср-в'!B:B,0)))","v":0},{"$f":"IF(AND(AT170=0,AV170=0),\"\",\"/\")","v":""},{"$f":"IF(ISNA(INDEX('План ввода основ. ср-в'!O:O,MATCH(B170,'План ввода основ. ср-в'!B:B,0))),0,INDEX('План ввода основ. ср-в'!O:O,MATCH(B170,'План ввода основ. ср-в'!B:B,0)))","v":0},{"$f":"IF(ISNA(INDEX('План ввода основ. ср-в'!R:R,MATCH(B170,'План ввода основ. ср-в'!B:B,0))),0,INDEX('План ввода основ. ср-в'!R:R,MATCH(B170,'План ввода основ. ср-в'!B:B,0)))","v":0},{"$f":"IF(AND(AW170=0,AY170=0),\"\",\"/\")","v":""},{"$f":"IF(ISNA(INDEX('План ввода основ. ср-в'!Q:Q,MATCH(B170,'План ввода основ. ср-в'!B:B,0))),0,INDEX('План ввода основ. ср-в'!Q:Q,MATCH(B170,'План ввода основ. ср-в'!B:B,0)))","v":0},{"$f":"IF(ISNA(INDEX('План ввода основ. ср-в'!T:T,MATCH(B170,'План ввода основ. ср-в'!B:B,0))),0,INDEX('План ввода основ. ср-в'!T:T,MATCH(B170,'План ввода основ. ср-в'!B:B,0)))","v":3},{"$f":"IF(AND(AZ170=0,BB170=0),\"\",\"/\")","v":"/"},{"$f":"IF(ISNA(INDEX('План ввода основ. ср-в'!S:S,MATCH(B170,'План ввода основ. ср-в'!B:B,0))),0,INDEX('План ввода основ. ср-в'!S:S,MATCH(B170,'План ввода основ. ср-в'!B:B,0)))","v":0.25},3,"/",0.25,{"$f":"IF(ISNA(INDEX('План ввода основ. ср-в'!V:V,MATCH(B170,'План ввода основ. ср-в'!B:B,0))),0,INDEX('План ввода основ. ср-в'!V:V,MATCH(B170,'План ввода основ. ср-в'!B:B,0)))","v":0},{"$f":"IF(ISNA(INDEX('План ввода основ. ср-в'!W:W,MATCH(B170,'План ввода основ. ср-в'!B:B,0))),0,INDEX('План ввода основ. ср-в'!W:W,MATCH(B170,'План ввода основ. ср-в'!B:B,0)))","v":0},{"$f":"IF(ISNA(INDEX('План ввода основ. ср-в'!X:X,MATCH(B170,'План ввода основ. ср-в'!B:B,0))),0,INDEX('План ввода основ. ср-в'!X:X,MATCH(B170,'План ввода основ. ср-в'!B:B,0)))","v":0},{"$f":"IF(ISNA(INDEX('План ввода основ. ср-в'!Y:Y,MATCH(B170,'План ввода основ. ср-в'!B:B,0))),0,INDEX('План ввода основ. ср-в'!Y:Y,MATCH(B170,'План ввода основ. ср-в'!B:B,0)))","v":0},0,{"$f":"IF(ISNA(INDEX('План ввода основ. ср-в'!Z:Z,MATCH(B170,'План ввода основ. ср-в'!B:B,0))),0,INDEX('План ввода основ. ср-в'!Z:Z,MATCH(B170,'План ввода основ. ср-в'!B:B,0)))","v":0},{"$f":"IF(ISNA(INDEX('План ввода основ. ср-в'!AA:AA,MATCH(B170,'План ввода основ. ср-в'!B:B,0))),0,INDEX('План ввода основ. ср-в'!AA:AA,MATCH(B170,'План ввода основ. ср-в'!B:B,0)))","v":0},{"$f":"IF(ISNA(INDEX('План ввода основ. ср-в'!AB:AB,MATCH(B170,'План ввода основ. ср-в'!B:B,0))),0,INDEX('План ввода основ. ср-в'!AB:AB,MATCH(B170,'План ввода основ. ср-в'!B:B,0)))","v":0},{"$f":"IF(ISNA(INDEX('План ввода основ. ср-в'!AC:AC,MATCH(B170,'План ввода основ. ср-в'!B:B,0))),0,INDEX('План ввода основ. ср-в'!AC:AC,MATCH(B170,'План ввода основ. ср-в'!B:B,0)))","v":8.1355932203389809},8.1355932203389809]
[149,"Пестравский район",null,null,null,null,null,null,0,{"$f":"IF(AND(I171=0,K171=0),\"\",\"/\")","v":""},0,0,{"$f":"IF(AND(L171=0,N171=0),\"\",\"/\")","v":""},0,0,{"$f":"IF(AND(O171=0,Q171=0),\"\",\"/\")","v":""},0,0,{"$f":"IF(AND(R171=0,T171=0),\"\",\"/\")","v":""},0,0,{"$f":"IF(AND(U171=0,W171=0),\"\",\"/\")","v":""},0,0,"/",0,0,{"$f":"IF(ISNA(INDEX('План ввода основ. ср-в'!F:F,MATCH(B171,'План ввода основ. ср-в'!B:B,0))),0,INDEX('План ввода основ. ср-в'!F:F,MATCH(B171,'План ввода основ. ср-в'!B:B,0)))","v":0},{"$f":"IF(AND(AB171=0,AD171=0),\"\",\"/\")","v":""},{"$f":"IF(ISNA(INDEX('План ввода основ. ср-в'!E:E,MATCH(B171,'План ввода основ. ср-в'!B:B,0))),0,INDEX('План ввода основ. ср-в'!E:E,MATCH(B171,'План ввода основ. ср-в'!B:B,0)))","v":0},{"$f":"IF(ISNA(INDEX('План ввода основ. ср-в'!H:H,MATCH(B171,'План ввода основ. ср-в'!B:B,0))),0,INDEX('План ввода основ. ср-в'!H:H,MATCH(B171,'План ввода основ. ср-в'!B:B,0)))","v":0},{"$f":"IF(AND(AE171=0,AG171=0),\"\",\"/\")","v":""},{"$f":"IF(ISNA(INDEX('План ввода основ. ср-в'!G:G,MATCH(B171,'План ввода основ. ср-в'!B:B,0))),0,INDEX('План ввода основ. ср-в'!G:G,MATCH(B171,'План ввода основ. ср-в'!B:B,0)))","v":0},{"$f":"IF(ISNA(INDEX('План ввода основ. ср-в'!J:J,MATCH(B171,'План ввода основ. ср-в'!B:B,0))),0,INDEX('План ввода основ. ср-в'!J:J,MATCH(B171,'План ввода основ. ср-в'!B:B,0)))","v":0},{"$f":"IF(AND(AH171=0,AJ171=0),\"\",\"/\")","v":""},{"$f":"IF(ISNA(INDEX('План ввода основ. ср-в'!I:I,MATCH(B171,'План ввода основ. ср-в'!B:B,0))),0,INDEX('План ввода основ. ср-в'!I:I,MATCH(B171,'План ввода основ. ср-в'!B:B,0)))","v":0},{"$f":"IF(ISNA(INDEX('План ввода основ. ср-в'!L:L,MATCH(B171,'План ввода основ. ср-в'!B:B,0))),0,INDEX('План ввода основ. ср-в'!L:L,MATCH(B171,'План ввода основ. ср-в'!B:B,0)))","v":0},{"$f":"IF(AND(AK171=0,AM171=0),\"\",\"/\")","v":""},{"$f":"IF(ISNA(INDEX('План ввода основ. ср-в'!K:K,MATCH(B171,'План ввода основ. ср-в'!B:B,0))),0,INDEX('План ввода основ. ср-в'!K:K,MATCH(B171,'План ввода основ. ср-в'!B:B,0)))","v":0},0,"/",0,{"$f":"IF(ISNA(INDEX('План ввода основ. ср-в'!N:N,MATCH(B171,'План ввода основ. ср-в'!B:B,0))),0,INDEX('План ввода основ. ср-в'!N:N,MATCH(B171,'План ввода основ. ср-в'!B:B,0)))","v":0},{"$f":"IF(AND(AQ171=0,AS171=0),\"\",\"/\")","v":""},{"$f":"IF(ISNA(INDEX('План ввода основ. ср-в'!M:M,MATCH(B171,'План ввода основ. ср-в'!B:B,0))),0,INDEX('План ввода основ. ср-в'!M:M,MATCH(B171,'План ввода основ. ср-в'!B:B,0)))","v":0},{"$f":"IF(ISNA(INDEX('План ввода основ. ср-в'!P:P,MATCH(B171,'План ввода основ. ср-в'!B:B,0))),0,INDEX('План ввода основ. ср-в'!P:P,MATCH(B171,'План ввода основ. ср-в'!B:B,0)))","v":0},{"$f":"IF(AND(AT171=0,AV171=0),\"\",\"/\")","v":""},{"$f":"IF(ISNA(INDEX('План ввода основ. ср-в'!O:O,MATCH(B171,'План ввода основ. ср-в'!B:B,0))),0,INDEX('План ввода основ. ср-в'!O:O,MATCH(B171,'План ввода основ. ср-в'!B:B,0)))","v":0},{"$f":"IF(ISNA(INDEX('План ввода основ. ср-в'!R:R,MATCH(B171,'План ввода основ. ср-в'!B:B,0))),0,INDEX('План ввода основ. ср-в'!R:R,MATCH(B171,'План ввода основ. ср-в'!B:B,0)))","v":0},{"$f":"IF(AND(AW171=0,AY171=0),\"\",\"/\")","v":""},{"$f":"IF(ISNA(INDEX('План ввода основ. ср-в'!Q:Q,MATCH(B171,'План ввода основ. ср-в'!B:B,0))),0,INDEX('План ввода основ. ср-в'!Q:Q,MATCH(B171,'План ввода основ. ср-в'!B:B,0)))","v":0},{"$f":"IF(ISNA(INDEX('План ввода основ. ср-в'!T:T,MATCH(B171,'План ввода основ. ср-в'!B:B,0))),0,INDEX('План ввода основ. ср-в'!T:T,MATCH(B171,'План ввода основ. ср-в'!B:B,0)))","v":0},{"$f":"IF(AND(AZ171=0,BB171=0),\"\",\"/\")","v":""},{"$f":"IF(ISNA(INDEX('План ввода основ. ср-в'!S:S,MATCH(B171,'План ввода основ. ср-в'!B:B,0))),0,INDEX('План ввода основ. ср-в'!S:S,MATCH(B171,'План ввода основ. ср-в'!B:B,0)))","v":0},0,"/",0,{"$f":"IF(ISNA(INDEX('План ввода основ. ср-в'!V:V,MATCH(B171,'План ввода основ. ср-в'!B:B,0))),0,INDEX('План ввода основ. ср-в'!V:V,MATCH(B171,'План ввода основ. ср-в'!B:B,0)))","v":0},{"$f":"IF(ISNA(INDEX('План ввода основ. ср-в'!W:W,MATCH(B171,'План ввода основ. ср-в'!B:B,0))),0,INDEX('План ввода основ. ср-в'!W:W,MATCH(B171,'План ввода основ. ср-в'!B:B,0)))","v":0},{"$f":"IF(ISNA(INDEX('План ввода основ. ср-в'!X:X,MATCH(B171,'План ввода основ. ср-в'!B:B,0))),0,INDEX('План ввода основ. ср-в'!X:X,MATCH(B171,'План ввода основ. ср-в'!B:B,0)))","v":0},{"$f":"IF(ISNA(INDEX('План ввода основ. ср-в'!Y:Y,MATCH(B171,'План ввода основ. ср-в'!B:B,0))),0,INDEX('План ввода основ. ср-в'!Y:Y,MATCH(B171,'План ввода основ. ср-в'!B:B,0)))","v":0},0,{"$f":"IF(ISNA(INDEX('План ввода основ. ср-в'!Z:Z,MATCH(B171,'План ввода основ. ср-в'!B:B,0))),0,INDEX('План ввода основ. ср-в'!Z:Z,MATCH(B171,'План ввода основ. ср-в'!B:B,0)))","v":0},{"$f":"IF(ISNA(INDEX('План ввода основ. ср-в'!AA:AA,MATCH(B171,'План ввода основ. ср-в'!B:B,0))),0,INDEX('План ввода основ. ср-в'!AA:AA,MATCH(B171,'План ввода основ. ср-в'!B:B,0)))","v":0},{"$f":"IF(ISNA(INDEX('План ввода основ. ср-в'!AB:AB,MATCH(B171,'План ввода основ. ср-в'!B:B,0))),0,INDEX('План ввода основ. ср-в'!AB:AB,MATCH(B171,'План ввода основ. ср-в'!B:B,0)))","v":0},{"$f":"IF(ISNA(INDEX('План ввода основ. ср-в'!AC:AC,MATCH(B171,'План ввода основ. ср-в'!B:B,0))),0,INDEX('План ввода основ. ср-в'!AC:AC,MATCH(B171,'План ввода основ. ср-в'!B:B,0)))","v":0},0]
[150,"Реконструкция ВЛ-10 кВ Ф-8 ПС Пестравка",null,null,null,null,null,null,12.6,"/",0,0,"",0,0,"",0,0,"",0,0,"",0,12.6,"/",0,34.16949152542373,{"$f":"IF(ISNA(INDEX('План ввода основ. ср-в'!F:F,MATCH(B172,'План ввода основ. ср-в'!B:B,0))),0,INDEX('План ввода основ. ср-в'!F:F,MATCH(B172,'План ввода основ. ср-в'!B:B,0)))","v":0},"",{"$f":"IF(ISNA(INDEX('План ввода основ. ср-в'!E:E,MATCH(B172,'План ввода основ. ср-в'!B:B,0))),0,INDEX('План ввода основ. ср-в'!E:E,MATCH(B172,'План ввода основ. ср-в'!B:B,0)))","v":0},{"$f":"IF(ISNA(INDEX('План ввода основ. ср-в'!H:H,MATCH(B172,'План ввода основ. ср-в'!B:B,0))),0,INDEX('План ввода основ. ср-в'!H:H,MATCH(B172,'План ввода основ. ср-в'!B:B,0)))","v":0},"",{"$f":"IF(ISNA(INDEX('План ввода основ. ср-в'!G:G,MATCH(B172,'План ввода основ. ср-в'!B:B,0))),0,INDEX('План ввода основ. ср-в'!G:G,MATCH(B172,'План ввода основ. ср-в'!B:B,0)))","v":0},{"$f":"IF(ISNA(INDEX('План ввода основ. ср-в'!J:J,MATCH(B172,'План ввода основ. ср-в'!B:B,0))),0,INDEX('План ввода основ. ср-в'!J:J,MATCH(B172,'План ввода основ. ср-в'!B:B,0)))","v":0},"",{"$f":"IF(ISNA(INDEX('План ввода основ. ср-в'!I:I,MATCH(B172,'План ввода основ. ср-в'!B:B,0))),0,INDEX('План ввода основ. ср-в'!I:I,MATCH(B172,'План ввода основ. ср-в'!B:B,0)))","v":0},{"$f":"IF(ISNA(INDEX('План ввода основ. ср-в'!L:L,MATCH(B172,'План ввода основ. ср-в'!B:B,0))),0,INDEX('План ввода основ. ср-в'!L:L,MATCH(B172,'План ввода основ. ср-в'!B:B,0)))","v":12.6},"/",{"$f":"IF(ISNA(INDEX('План ввода основ. ср-в'!K:K,MATCH(B172,'План ввода основ. ср-в'!B:B,0))),0,INDEX('План ввода основ. ср-в'!K:K,MATCH(B172,'План ввода основ. ср-в'!B:B,0)))","v":0},12.6,"/",0,{"$f":"IF(ISNA(INDEX('План ввода основ. ср-в'!N:N,MATCH(B172,'План ввода основ. ср-в'!B:B,0))),0,INDEX('План ввода основ. ср-в'!N:N,MATCH(B172,'План ввода основ. ср-в'!B:B,0)))","v":0},"",{"$f":"IF(ISNA(INDEX('План ввода основ. ср-в'!M:M,MATCH(B172,'План ввода основ. ср-в'!B:B,0))),0,INDEX('План ввода основ. ср-в'!M:M,MATCH(B172,'План ввода основ. ср-в'!B:B,0)))","v":0},{"$f":"IF(ISNA(INDEX('План ввода основ. ср-в'!P:P,MATCH(B172,'План ввода основ. ср-в'!B:B,0))),0,INDEX('План ввода основ. ср-в'!P:P,MATCH(B172,'План ввода основ. ср-в'!B:B,0)))","v":0},"",{"$f":"IF(ISNA(INDEX('План ввода основ. ср-в'!O:O,MATCH(B172,'План ввода основ. ср-в'!B:B,0))),0,INDEX('План ввода основ. ср-в'!O:O,MATCH(B172,'План ввода основ. ср-в'!B:B,0)))","v":0},{"$f":"IF(ISNA(INDEX('План ввода основ. ср-в'!R:R,MATCH(B172,'План ввода основ. ср-в'!B:B,0))),0,INDEX('План ввода основ. ср-в'!R:R,MATCH(B172,'План ввода основ. ср-в'!B:B,0)))","v":0},"",{"$f":"IF(ISNA(INDEX('План ввода основ. ср-в'!Q:Q,MATCH(B172,'План ввода основ. ср-в'!B:B,0))),0,INDEX('План ввода основ. ср-в'!Q:Q,MATCH(B172,'План ввода основ. ср-в'!B:B,0)))","v":0},{"$f":"IF(ISNA(INDEX('План ввода основ. ср-в'!T:T,MATCH(B172,'План ввода основ. ср-в'!B:B,0))),0,INDEX('План ввода основ. ср-в'!T:T,MATCH(B172,'План ввода основ. ср-в'!B:B,0)))","v":0},"",{"$f":"IF(ISNA(INDEX('План ввода основ. ср-в'!S:S,MATCH(B172,'План ввода основ. ср-в'!B:B,0))),0,INDEX('План ввода основ. ср-в'!S:S,MATCH(B172,'План ввода основ. ср-в'!B:B,0)))","v":0},12.6,"/",0,{"$f":"IF(ISNA(INDEX('План ввода основ. ср-в'!V:V,MATCH(B172,'План ввода основ. ср-в'!B:B,0))),0,INDEX('План ввода основ. ср-в'!V:V,MATCH(B172,'План ввода основ. ср-в'!B:B,0)))","v":0},{"$f":"IF(ISNA(INDEX('План ввода основ. ср-в'!W:W,MATCH(B172,'План ввода основ. ср-в'!B:B,0))),0,INDEX('План ввода основ. ср-в'!W:W,MATCH(B172,'План ввода основ. ср-в'!B:B,0)))","v":5.1254237288135593},{"$f":"IF(ISNA(INDEX('План ввода основ. ср-в'!X:X,MATCH(B172,'План ввода основ. ср-в'!B:B,0))),0,INDEX('План ввода основ. ср-в'!X:X,MATCH(B172,'План ввода основ. ср-в'!B:B,0)))","v":11.959322033898305},{"$f":"IF(ISNA(INDEX('План ввода основ. ср-в'!Y:Y,MATCH(B172,'План ввода основ. ср-в'!B:B,0))),0,INDEX('План ввода основ. ср-в'!Y:Y,MATCH(B172,'План ввода основ. ср-в'!B:B,0)))","v":17.084745762711865},34.16949152542373,{"$f":"IF(ISNA(INDEX('План ввода основ. ср-в'!Z:Z,MATCH(B172,'План ввода основ. ср-в'!B:B,0))),0,INDEX('План ввода основ. ср-в'!Z:Z,MATCH(B172,'План ввода основ. ср-в'!B:B,0)))","v":0},{"$f":"IF(ISNA(INDEX('План ввода основ. ср-в'!AA:AA,MATCH(B172,'План ввода основ. ср-в'!B:B,0))),0,INDEX('План ввода основ. ср-в'!AA:AA,MATCH(B172,'План ввода основ. ср-в'!B:B,0)))","v":0},{"$f":"IF(ISNA(INDEX('План ввода основ. ср-в'!AB:AB,MATCH(B172,'План ввода основ. ср-в'!B:B,0))),0,INDEX('План ввода основ. ср-в'!AB:AB,MATCH(B172,'План ввода основ. ср-в'!B:B,0)))","v":0},{"$f":"IF(ISNA(INDEX('План ввода основ. ср-в'!AC:AC,MATCH(B172,'План ввода основ. ср-в'!B:B,0))),0,INDEX('План ввода основ. ср-в'!AC:AC,MATCH(B172,'План ввода основ. ср-в'!B:B,0)))","v":0},34.16949152542373]
[151,"Реконструкция ВЛ-0,4 кВ от КТП 420/160 кВА с заменой КТП",null,null,null,null,null,null,0,{"$f":"IF(AND(I173=0,K173=0),\"\",\"/\")","v":""},0,1.8,{"$f":"IF(AND(L173=0,N173=0),\"\",\"/\")","v":"/"},0.16,0,{"$f":"IF(AND(O173=0,Q173=0),\"\",\"/\")","v":""},0,0,{"$f":"IF(AND(R173=0,T173=0),\"\",\"/\")","v":""},0,0,{"$f":"IF(AND(U173=0,W173=0),\"\",\"/\")","v":""},0,1.8,"/",0.16,5.2881355932203391,{"$f":"IF(ISNA(INDEX('План ввода основ. ср-в'!F:F,MATCH(B173,'План ввода основ. ср-в'!B:B,0))),0,INDEX('План ввода основ. ср-в'!F:F,MATCH(B173,'План ввода основ. ср-в'!B:B,0)))","v":0},{"$f":"IF(AND(AB173=0,AD173=0),\"\",\"/\")","v":""},{"$f":"IF(ISNA(INDEX('План ввода основ. ср-в'!E:E,MATCH(B173,'План ввода основ. ср-в'!B:B,0))),0,INDEX('План ввода основ. ср-в'!E:E,MATCH(B173,'План ввода основ. ср-в'!B:B,0)))","v":0},{"$f":"IF(ISNA(INDEX('План ввода основ. ср-в'!H:H,MATCH(B173,'План ввода основ. ср-в'!B:B,0))),0,INDEX('План ввода основ. ср-в'!H:H,MATCH(B173,'План ввода основ. ср-в'!B:B,0)))","v":0},{"$f":"IF(AND(AE173=0,AG173=0),\"\",\"/\")","v":""},{"$f":"IF(ISNA(INDEX('План ввода основ. ср-в'!G:G,MATCH(B173,'План ввода основ. ср-в'!B:B,0))),0,INDEX('План ввода основ. ср-в'!G:G,MATCH(B173,'План ввода основ. ср-в'!B:B,0)))","v":0},{"$f":"IF(ISNA(INDEX('План ввода основ. ср-в'!J:J,MATCH(B173,'План ввода основ. ср-в'!B:B,0))),0,INDEX('План ввода основ. ср-в'!J:J,MATCH(B173,'План ввода основ. ср-в'!B:B,0)))","v":0},{"$f":"IF(AND(AH173=0,AJ173=0),\"\",\"/\")","v":""},{"$f":"IF(ISNA(INDEX('План ввода основ. ср-в'!I:I,MATCH(B173,'План ввода основ. ср-в'!B:B,0))),0,INDEX('План ввода основ. ср-в'!I:I,MATCH(B173,'План ввода основ. ср-в'!B:B,0)))","v":0},{"$f":"IF(ISNA(INDEX('План ввода основ. ср-в'!L:L,MATCH(B173,'План ввода основ. ср-в'!B:B,0))),0,INDEX('План ввода основ. ср-в'!L:L,MATCH(B173,'План ввода основ. ср-в'!B:B,0)))","v":0},{"$f":"IF(AND(AK173=0,AM173=0),\"\",\"/\")","v":""},{"$f":"IF(ISNA(INDEX('План ввода основ. ср-в'!K:K,MATCH(B173,'План ввода основ. ср-в'!B:B,0))),0,INDEX('План ввода основ. ср-в'!K:K,MATCH(B173,'План ввода основ. ср-в'!B:B,0)))","v":0},0,"/",0,{"$f":"IF(ISNA(INDEX('План ввода основ. ср-в'!N:N,MATCH(B173,'План ввода основ. ср-в'!B:B,0))),0,INDEX('План ввода основ. ср-в'!N:N,MATCH(B173,'План ввода основ. ср-в'!B:B,0)))","v":1.8},{"$f":"IF(AND(AQ173=0,AS173=0),\"\",\"/\")","v":"/"},{"$f":"IF(ISNA(INDEX('План ввода основ. ср-в'!M:M,MATCH(B173,'План ввода основ. ср-в'!B:B,0))),0,INDEX('План ввода основ. ср-в'!M:M,MATCH(B173,'План ввода основ. ср-в'!B:B,0)))","v":0.16},{"$f":"IF(ISNA(INDEX('План ввода основ. ср-в'!P:P,MATCH(B173,'План ввода основ. ср-в'!B:B,0))),0,INDEX('План ввода основ. ср-в'!P:P,MATCH(B173,'План ввода основ. ср-в'!B:B,0)))","v":0},{"$f":"IF(AND(AT173=0,AV173=0),\"\",\"/\")","v":""},{"$f":"IF(ISNA(INDEX('План ввода основ. ср-в'!O:O,MATCH(B173,'План ввода основ. ср-в'!B:B,0))),0,INDEX('План ввода основ. ср-в'!O:O,MATCH(B173,'План ввода основ. ср-в'!B:B,0)))","v":0},{"$f":"IF(ISNA(INDEX('План ввода основ. ср-в'!R:R,MATCH(B173,'План ввода основ. ср-в'!B:B,0))),0,INDEX('План ввода основ. ср-в'!R:R,MATCH(B173,'План ввода основ. ср-в'!B:B,0)))","v":0},{"$f":"IF(AND(AW173=0,AY173=0),\"\",\"/\")","v":""},{"$f":"IF(ISNA(INDEX('План ввода основ. ср-в'!Q:Q,MATCH(B173,'План ввода основ. ср-в'!B:B,0))),0,INDEX('План ввода основ. ср-в'!Q:Q,MATCH(B173,'План ввода основ. ср-в'!B:B,0)))","v":0},{"$f":"IF(ISNA(INDEX('План ввода основ. ср-в'!T:T,MATCH(B173,'План ввода основ. ср-в'!B:B,0))),0,INDEX('План ввода основ. ср-в'!T:T,MATCH(B173,'План ввода основ. ср-в'!B:B,0)))","v":0},{"$f":"IF(AND(AZ173=0,BB173=0),\"\",\"/\")","v":""},{"$f":"IF(ISNA(INDEX('План ввода основ. ср-в'!S:S,MATCH(B173,'План ввода основ. ср-в'!B:B,0))),0,INDEX('План ввода основ. ср-в'!S:S,MATCH(B173,'План ввода основ. ср-в'!B:B,0)))","v":0},1.8,"/",0.16,{"$f":"IF(ISNA(INDEX('План ввода основ. ср-в'!V:V,MATCH(B173,'План ввода основ. ср-в'!B:B,0))),0,INDEX('План ввода основ. ср-в'!V:V,MATCH(B173,'План ввода основ. ср-в'!B:B,0)))","v":0},{"$f":"IF(ISNA(INDEX('План ввода основ. ср-в'!W:W,MATCH(B173,'План ввода основ. ср-в'!B:B,0))),0,INDEX('План ввода основ. ср-в'!W:W,MATCH(B173,'План ввода основ. ср-в'!B:B,0)))","v":0},{"$f":"IF(ISNA(INDEX('План ввода основ. ср-в'!X:X,MATCH(B173,'План ввода основ. ср-в'!B:B,0))),0,INDEX('План ввода основ. ср-в'!X:X,MATCH(B173,'План ввода основ. ср-в'!B:B,0)))","v":0},{"$f":"IF(ISNA(INDEX('План ввода основ. ср-в'!Y:Y,MATCH(B173,'План ввода основ. ср-в'!B:B,0))),0,INDEX('План ввода основ. ср-в'!Y:Y,MATCH(B173,'План ввода основ. ср-в'!B:B,0)))","v":0},0,{"$f":"IF(ISNA(INDEX('План ввода основ. ср-в'!Z:Z,MATCH(B173,'План ввода основ. ср-в'!B:B,0))),0,INDEX('План ввода основ. ср-в'!Z:Z,MATCH(B173,'План ввода основ. ср-в'!B:B,0)))","v":5.2881355932203391},{"$f":"IF(ISNA(INDEX('План ввода основ. ср-в'!AA:AA,MATCH(B173,'План ввода основ. ср-в'!B:B,0))),0,INDEX('План ввода основ. ср-в'!AA:AA,MATCH(B173,'План ввода основ. ср-в'!B:B,0)))","v":0},{"$f":"IF(ISNA(INDEX('План ввода основ. ср-в'!AB:AB,MATCH(B173,'План ввода основ. ср-в'!B:B,0))),0,INDEX('План ввода основ. ср-в'!AB:AB,MATCH(B173,'План ввода основ. ср-в'!B:B,0)))","v":0},{"$f":"IF(ISNA(INDEX('План ввода основ. ср-в'!AC:AC,MATCH(B173,'План ввода основ. ср-в'!B:B,0))),0,INDEX('План ввода основ. ср-в'!AC:AC,MATCH(B173,'План ввода основ. ср-в'!B:B,0)))","v":0},5.2881355932203391]
[152,"Реконструкция ВЛ-0,4 кВ от КТП 507/160 кВА с заменой КТП на 250 кВА",null,null,null,null,null,null,0,"",0,2.9,"/",0.16,0,"",0,0,"",0,0,"",0,2.9,"/",0.16,7.8983050847457621,{"$f":"IF(ISNA(INDEX('План ввода основ. ср-в'!F:F,MATCH(B174,'План ввода основ. ср-в'!B:B,0))),0,INDEX('План ввода основ. ср-в'!F:F,MATCH(B174,'План ввода основ. ср-в'!B:B,0)))","v":0},"",{"$f":"IF(ISNA(INDEX('План ввода основ. ср-в'!E:E,MATCH(B174,'План ввода основ. ср-в'!B:B,0))),0,INDEX('План ввода основ. ср-в'!E:E,MATCH(B174,'План ввода основ. ср-в'!B:B,0)))","v":0},{"$f":"IF(ISNA(INDEX('План ввода основ. ср-в'!H:H,MATCH(B174,'План ввода основ. ср-в'!B:B,0))),0,INDEX('План ввода основ. ср-в'!H:H,MATCH(B174,'План ввода основ. ср-в'!B:B,0)))","v":0},"",{"$f":"IF(ISNA(INDEX('План ввода основ. ср-в'!G:G,MATCH(B174,'План ввода основ. ср-в'!B:B,0))),0,INDEX('План ввода основ. ср-в'!G:G,MATCH(B174,'План ввода основ. ср-в'!B:B,0)))","v":0},{"$f":"IF(ISNA(INDEX('План ввода основ. ср-в'!J:J,MATCH(B174,'План ввода основ. ср-в'!B:B,0))),0,INDEX('План ввода основ. ср-в'!J:J,MATCH(B174,'План ввода основ. ср-в'!B:B,0)))","v":0},"",{"$f":"IF(ISNA(INDEX('План ввода основ. ср-в'!I:I,MATCH(B174,'План ввода основ. ср-в'!B:B,0))),0,INDEX('План ввода основ. ср-в'!I:I,MATCH(B174,'План ввода основ. ср-в'!B:B,0)))","v":0},{"$f":"IF(ISNA(INDEX('План ввода основ. ср-в'!L:L,MATCH(B174,'План ввода основ. ср-в'!B:B,0))),0,INDEX('План ввода основ. ср-в'!L:L,MATCH(B174,'План ввода основ. ср-в'!B:B,0)))","v":0},"",{"$f":"IF(ISNA(INDEX('План ввода основ. ср-в'!K:K,MATCH(B174,'План ввода основ. ср-в'!B:B,0))),0,INDEX('План ввода основ. ср-в'!K:K,MATCH(B174,'План ввода основ. ср-в'!B:B,0)))","v":0},0,"/",0,{"$f":"IF(ISNA(INDEX('План ввода основ. ср-в'!N:N,MATCH(B174,'План ввода основ. ср-в'!B:B,0))),0,INDEX('План ввода основ. ср-в'!N:N,MATCH(B174,'План ввода основ. ср-в'!B:B,0)))","v":2.9},"/",{"$f":"IF(ISNA(INDEX('План ввода основ. ср-в'!M:M,MATCH(B174,'План ввода основ. ср-в'!B:B,0))),0,INDEX('План ввода основ. ср-в'!M:M,MATCH(B174,'План ввода основ. ср-в'!B:B,0)))","v":0.25},{"$f":"IF(ISNA(INDEX('План ввода основ. ср-в'!P:P,MATCH(B174,'План ввода основ. ср-в'!B:B,0))),0,INDEX('План ввода основ. ср-в'!P:P,MATCH(B174,'План ввода основ. ср-в'!B:B,0)))","v":0},"",{"$f":"IF(ISNA(INDEX('План ввода основ. ср-в'!O:O,MATCH(B174,'План ввода основ. ср-в'!B:B,0))),0,INDEX('План ввода основ. ср-в'!O:O,MATCH(B174,'План ввода основ. ср-в'!B:B,0)))","v":0},{"$f":"IF(ISNA(INDEX('План ввода основ. ср-в'!R:R,MATCH(B174,'План ввода основ. ср-в'!B:B,0))),0,INDEX('План ввода основ. ср-в'!R:R,MATCH(B174,'План ввода основ. ср-в'!B:B,0)))","v":0},"",{"$f":"IF(ISNA(INDEX('План ввода основ. ср-в'!Q:Q,MATCH(B174,'План ввода основ. ср-в'!B:B,0))),0,INDEX('План ввода основ. ср-в'!Q:Q,MATCH(B174,'План ввода основ. ср-в'!B:B,0)))","v":0},{"$f":"IF(ISNA(INDEX('План ввода основ. ср-в'!T:T,MATCH(B174,'План ввода основ. ср-в'!B:B,0))),0,INDEX('План ввода основ. ср-в'!T:T,MATCH(B174,'План ввода основ. ср-в'!B:B,0)))","v":0},"",{"$f":"IF(ISNA(INDEX('План ввода основ. ср-в'!S:S,MATCH(B174,'План ввода основ. ср-в'!B:B,0))),0,INDEX('План ввода основ. ср-в'!S:S,MATCH(B174,'План ввода основ. ср-в'!B:B,0)))","v":0},2.9,"/",0.25,{"$f":"IF(ISNA(INDEX('План ввода основ. ср-в'!V:V,MATCH(B174,'План ввода основ. ср-в'!B:B,0))),0,INDEX('План ввода основ. ср-в'!V:V,MATCH(B174,'План ввода основ. ср-в'!B:B,0)))","v":0},{"$f":"IF(ISNA(INDEX('План ввода основ. ср-в'!W:W,MATCH(B174,'План ввода основ. ср-в'!B:B,0))),0,INDEX('План ввода основ. ср-в'!W:W,MATCH(B174,'План ввода основ. ср-в'!B:B,0)))","v":0},{"$f":"IF(ISNA(INDEX('План ввода основ. ср-в'!X:X,MATCH(B174,'План ввода основ. ср-в'!B:B,0))),0,INDEX('План ввода основ. ср-в'!X:X,MATCH(B174,'План ввода основ. ср-в'!B:B,0)))","v":0},{"$f":"IF(ISNA(INDEX('План ввода основ. ср-в'!Y:Y,MATCH(B174,'План ввода основ. ср-в'!B:B,0))),0,INDEX('План ввода основ. ср-в'!Y:Y,MATCH(B174,'План ввода основ. ср-в'!B:B,0)))","v":0},0,{"$f":"IF(ISNA(INDEX('План ввода основ. ср-в'!Z:Z,MATCH(B174,'План ввода основ. ср-в'!B:B,0))),0,INDEX('План ввода основ. ср-в'!Z:Z,MATCH(B174,'План ввода основ. ср-в'!B:B,0)))","v":7.8983050847457621},{"$f":"IF(ISNA(INDEX('План ввода основ. ср-в'!AA:AA,MATCH(B174,'План ввода основ. ср-в'!B:B,0))),0,INDEX('План ввода основ. ср-в'!AA:AA,MATCH(B174,'План ввода основ. ср-в'!B:B,0)))","v":0},{"$f":"IF(ISNA(INDEX('План ввода основ. ср-в'!AB:AB,MATCH(B174,'План ввода основ. ср-в'!B:B,0))),0,INDEX('План ввода основ. ср-в'!AB:AB,MATCH(B174,'План ввода основ. ср-в'!B:B,0)))","v":0},{"$f":"IF(ISNA(INDEX('План ввода основ. ср-в'!AC:AC,MATCH(B174,'План ввода основ. ср-в'!B:B,0))),0,INDEX('План ввода основ. ср-в'!AC:AC,MATCH(B174,'План ввода основ. ср-в'!B:B,0)))","v":0},7.8983050847457621]
[153,"Реконструкция ВЛ-0,4 кВ от КТП 509/160 кВА с заменой КТП на 250 кВА",null,null,null,null,null,null,0,"",0,0,"",0,4.5,"/",0.16,0,"",0,0,"",0,4.5,"/",0.16,11.694915254237287,{"$f":"IF(ISNA(INDEX('План ввода основ. ср-в'!F:F,MATCH(B175,'План ввода основ. ср-в'!B:B,0))),0,INDEX('План ввода основ. ср-в'!F:F,MATCH(B175,'План ввода основ. ср-в'!B:B,0)))","v":0},"",{"$f":"IF(ISNA(INDEX('План ввода основ. ср-в'!E:E,MATCH(B175,'План ввода основ. ср-в'!B:B,0))),0,INDEX('План ввода основ. ср-в'!E:E,MATCH(B175,'План ввода основ. ср-в'!B:B,0)))","v":0},{"$f":"IF(ISNA(INDEX('План ввода основ. ср-в'!H:H,MATCH(B175,'План ввода основ. ср-в'!B:B,0))),0,INDEX('План ввода основ. ср-в'!H:H,MATCH(B175,'План ввода основ. ср-в'!B:B,0)))","v":0},"",{"$f":"IF(ISNA(INDEX('План ввода основ. ср-в'!G:G,MATCH(B175,'План ввода основ. ср-в'!B:B,0))),0,INDEX('План ввода основ. ср-в'!G:G,MATCH(B175,'План ввода основ. ср-в'!B:B,0)))","v":0},{"$f":"IF(ISNA(INDEX('План ввода основ. ср-в'!J:J,MATCH(B175,'План ввода основ. ср-в'!B:B,0))),0,INDEX('План ввода основ. ср-в'!J:J,MATCH(B175,'План ввода основ. ср-в'!B:B,0)))","v":0},"",{"$f":"IF(ISNA(INDEX('План ввода основ. ср-в'!I:I,MATCH(B175,'План ввода основ. ср-в'!B:B,0))),0,INDEX('План ввода основ. ср-в'!I:I,MATCH(B175,'План ввода основ. ср-в'!B:B,0)))","v":0},{"$f":"IF(ISNA(INDEX('План ввода основ. ср-в'!L:L,MATCH(B175,'План ввода основ. ср-в'!B:B,0))),0,INDEX('План ввода основ. ср-в'!L:L,MATCH(B175,'План ввода основ. ср-в'!B:B,0)))","v":0},"",{"$f":"IF(ISNA(INDEX('План ввода основ. ср-в'!K:K,MATCH(B175,'План ввода основ. ср-в'!B:B,0))),0,INDEX('План ввода основ. ср-в'!K:K,MATCH(B175,'План ввода основ. ср-в'!B:B,0)))","v":0},0,"/",0,{"$f":"IF(ISNA(INDEX('План ввода основ. ср-в'!N:N,MATCH(B175,'План ввода основ. ср-в'!B:B,0))),0,INDEX('План ввода основ. ср-в'!N:N,MATCH(B175,'План ввода основ. ср-в'!B:B,0)))","v":0},"",{"$f":"IF(ISNA(INDEX('План ввода основ. ср-в'!M:M,MATCH(B175,'План ввода основ. ср-в'!B:B,0))),0,INDEX('План ввода основ. ср-в'!M:M,MATCH(B175,'План ввода основ. ср-в'!B:B,0)))","v":0},{"$f":"IF(ISNA(INDEX('План ввода основ. ср-в'!P:P,MATCH(B175,'План ввода основ. ср-в'!B:B,0))),0,INDEX('План ввода основ. ср-в'!P:P,MATCH(B175,'План ввода основ. ср-в'!B:B,0)))","v":4.5},"/",{"$f":"IF(ISNA(INDEX('План ввода основ. ср-в'!O:O,MATCH(B175,'План ввода основ. ср-в'!B:B,0))),0,INDEX('План ввода основ. ср-в'!O:O,MATCH(B175,'План ввода основ. ср-в'!B:B,0)))","v":0.25},{"$f":"IF(ISNA(INDEX('План ввода основ. ср-в'!R:R,MATCH(B175,'План ввода основ. ср-в'!B:B,0))),0,INDEX('План ввода основ. ср-в'!R:R,MATCH(B175,'План ввода основ. ср-в'!B:B,0)))","v":0},"",{"$f":"IF(ISNA(INDEX('План ввода основ. ср-в'!Q:Q,MATCH(B175,'План ввода основ. ср-в'!B:B,0))),0,INDEX('План ввода основ. ср-в'!Q:Q,MATCH(B175,'План ввода основ. ср-в'!B:B,0)))","v":0},{"$f":"IF(ISNA(INDEX('План ввода основ. ср-в'!T:T,MATCH(B175,'План ввода основ. ср-в'!B:B,0))),0,INDEX('План ввода основ. ср-в'!T:T,MATCH(B175,'План ввода основ. ср-в'!B:B,0)))","v":0},"",{"$f":"IF(ISNA(INDEX('План ввода основ. ср-в'!S:S,MATCH(B175,'План ввода основ. ср-в'!B:B,0))),0,INDEX('План ввода основ. ср-в'!S:S,MATCH(B175,'План ввода основ. ср-в'!B:B,0)))","v":0},4.5,"/",0.25,{"$f":"IF(ISNA(INDEX('План ввода основ. ср-в'!V:V,MATCH(B175,'План ввода основ. ср-в'!B:B,0))),0,INDEX('План ввода основ. ср-в'!V:V,MATCH(B175,'План ввода основ. ср-в'!B:B,0)))","v":0},{"$f":"IF(ISNA(INDEX('План ввода основ. ср-в'!W:W,MATCH(B175,'План ввода основ. ср-в'!B:B,0))),0,INDEX('План ввода основ. ср-в'!W:W,MATCH(B175,'План ввода основ. ср-в'!B:B,0)))","v":0},{"$f":"IF(ISNA(INDEX('План ввода основ. ср-в'!X:X,MATCH(B175,'План ввода основ. ср-в'!B:B,0))),0,INDEX('План ввода основ. ср-в'!X:X,MATCH(B175,'План ввода основ. ср-в'!B:B,0)))","v":0},{"$f":"IF(ISNA(INDEX('План ввода основ. ср-в'!Y:Y,MATCH(B175,'План ввода основ. ср-в'!B:B,0))),0,INDEX('План ввода основ. ср-в'!Y:Y,MATCH(B175,'План ввода основ. ср-в'!B:B,0)))","v":0},0,{"$f":"IF(ISNA(INDEX('План ввода основ. ср-в'!Z:Z,MATCH(B175,'План ввода основ. ср-в'!B:B,0))),0,INDEX('План ввода основ. ср-в'!Z:Z,MATCH(B175,'План ввода основ. ср-в'!B:B,0)))","v":0},{"$f":"IF(ISNA(INDEX('План ввода основ. ср-в'!AA:AA,MATCH(B175,'План ввода основ. ср-в'!B:B,0))),0,INDEX('План ввода основ. ср-в'!AA:AA,MATCH(B175,'План ввода основ. ср-в'!B:B,0)))","v":11.694915254237287},{"$f":"IF(ISNA(INDEX('План ввода основ. ср-в'!AB:AB,MATCH(B175,'План ввода основ. ср-в'!B:B,0))),0,INDEX('План ввода основ. ср-в'!AB:AB,MATCH(B175,'План ввода основ. ср-в'!B:B,0)))","v":0},{"$f":"IF(ISNA(INDEX('План ввода основ. ср-в'!AC:AC,MATCH(B175,'План ввода основ. ср-в'!B:B,0))),0,INDEX('План ввода основ. ср-в'!AC:AC,MATCH(B175,'План ввода основ. ср-в'!B:B,0)))","v":0},11.694915254237287]
[154,"Реконструкция ВЛ-0,4 кВ от КТП Мт 102/250 кВА с заменой КТП ",null,null,null,null,null,null,0,{"$f":"IF(AND(I176=0,K176=0),\"\",\"/\")","v":""},0,0,{"$f":"IF(AND(L176=0,N176=0),\"\",\"/\")","v":""},0,0.8,{"$f":"IF(AND(O176=0,Q176=0),\"\",\"/\")","v":"/"},0.25,0,{"$f":"IF(AND(R176=0,T176=0),\"\",\"/\")","v":""},0,0,{"$f":"IF(AND(U176=0,W176=0),\"\",\"/\")","v":""},0,0.8,"/",0.25,2.9152542372881354,{"$f":"IF(ISNA(INDEX('План ввода основ. ср-в'!F:F,MATCH(B176,'План ввода основ. ср-в'!B:B,0))),0,INDEX('План ввода основ. ср-в'!F:F,MATCH(B176,'План ввода основ. ср-в'!B:B,0)))","v":0},{"$f":"IF(AND(AB176=0,AD176=0),\"\",\"/\")","v":""},{"$f":"IF(ISNA(INDEX('План ввода основ. ср-в'!E:E,MATCH(B176,'План ввода основ. ср-в'!B:B,0))),0,INDEX('План ввода основ. ср-в'!E:E,MATCH(B176,'План ввода основ. ср-в'!B:B,0)))","v":0},{"$f":"IF(ISNA(INDEX('План ввода основ. ср-в'!H:H,MATCH(B176,'План ввода основ. ср-в'!B:B,0))),0,INDEX('План ввода основ. ср-в'!H:H,MATCH(B176,'План ввода основ. ср-в'!B:B,0)))","v":0},{"$f":"IF(AND(AE176=0,AG176=0),\"\",\"/\")","v":""},{"$f":"IF(ISNA(INDEX('План ввода основ. ср-в'!G:G,MATCH(B176,'План ввода основ. ср-в'!B:B,0))),0,INDEX('План ввода основ. ср-в'!G:G,MATCH(B176,'План ввода основ. ср-в'!B:B,0)))","v":0},{"$f":"IF(ISNA(INDEX('План ввода основ. ср-в'!J:J,MATCH(B176,'План ввода основ. ср-в'!B:B,0))),0,INDEX('План ввода основ. ср-в'!J:J,MATCH(B176,'План ввода основ. ср-в'!B:B,0)))","v":0},{"$f":"IF(AND(AH176=0,AJ176=0),\"\",\"/\")","v":""},{"$f":"IF(ISNA(INDEX('План ввода основ. ср-в'!I:I,MATCH(B176,'План ввода основ. ср-в'!B:B,0))),0,INDEX('План ввода основ. ср-в'!I:I,MATCH(B176,'План ввода основ. ср-в'!B:B,0)))","v":0},{"$f":"IF(ISNA(INDEX('План ввода основ. ср-в'!L:L,MATCH(B176,'План ввода основ. ср-в'!B:B,0))),0,INDEX('План ввода основ. ср-в'!L:L,MATCH(B176,'План ввода основ. ср-в'!B:B,0)))","v":0},{"$f":"IF(AND(AK176=0,AM176=0),\"\",\"/\")","v":""},{"$f":"IF(ISNA(INDEX('План ввода основ. ср-в'!K:K,MATCH(B176,'План ввода основ. ср-в'!B:B,0))),0,INDEX('План ввода основ. ср-в'!K:K,MATCH(B176,'План ввода основ. ср-в'!B:B,0)))","v":0},0,"/",0,{"$f":"IF(ISNA(INDEX('План ввода основ. ср-в'!N:N,MATCH(B176,'План ввода основ. ср-в'!B:B,0))),0,INDEX('План ввода основ. ср-в'!N:N,MATCH(B176,'План ввода основ. ср-в'!B:B,0)))","v":0},{"$f":"IF(AND(AQ176=0,AS176=0),\"\",\"/\")","v":""},{"$f":"IF(ISNA(INDEX('План ввода основ. ср-в'!M:M,MATCH(B176,'План ввода основ. ср-в'!B:B,0))),0,INDEX('План ввода основ. ср-в'!M:M,MATCH(B176,'План ввода основ. ср-в'!B:B,0)))","v":0},{"$f":"IF(ISNA(INDEX('План ввода основ. ср-в'!P:P,MATCH(B176,'План ввода основ. ср-в'!B:B,0))),0,INDEX('План ввода основ. ср-в'!P:P,MATCH(B176,'План ввода основ. ср-в'!B:B,0)))","v":0.8},{"$f":"IF(AND(AT176=0,AV176=0),\"\",\"/\")","v":"/"},{"$f":"IF(ISNA(INDEX('План ввода основ. ср-в'!O:O,MATCH(B176,'План ввода основ. ср-в'!B:B,0))),0,INDEX('План ввода основ. ср-в'!O:O,MATCH(B176,'План ввода основ. ср-в'!B:B,0)))","v":0.25},{"$f":"IF(ISNA(INDEX('План ввода основ. ср-в'!R:R,MATCH(B176,'План ввода основ. ср-в'!B:B,0))),0,INDEX('План ввода основ. ср-в'!R:R,MATCH(B176,'План ввода основ. ср-в'!B:B,0)))","v":0},{"$f":"IF(AND(AW176=0,AY176=0),\"\",\"/\")","v":""},{"$f":"IF(ISNA(INDEX('План ввода основ. ср-в'!Q:Q,MATCH(B176,'План ввода основ. ср-в'!B:B,0))),0,INDEX('План ввода основ. ср-в'!Q:Q,MATCH(B176,'План ввода основ. ср-в'!B:B,0)))","v":0},{"$f":"IF(ISNA(INDEX('План ввода основ. ср-в'!T:T,MATCH(B176,'План ввода основ. ср-в'!B:B,0))),0,INDEX('План ввода основ. ср-в'!T:T,MATCH(B176,'План ввода основ. ср-в'!B:B,0)))","v":0},{"$f":"IF(AND(AZ176=0,BB176=0),\"\",\"/\")","v":""},{"$f":"IF(ISNA(INDEX('План ввода основ. ср-в'!S:S,MATCH(B176,'План ввода основ. ср-в'!B:B,0))),0,INDEX('План ввода основ. ср-в'!S:S,MATCH(B176,'План ввода основ. ср-в'!B:B,0)))","v":0},0.8,"/",0.25,{"$f":"IF(ISNA(INDEX('План ввода основ. ср-в'!V:V,MATCH(B176,'План ввода основ. ср-в'!B:B,0))),0,INDEX('План ввода основ. ср-в'!V:V,MATCH(B176,'План ввода основ. ср-в'!B:B,0)))","v":0},{"$f":"IF(ISNA(INDEX('План ввода основ. ср-в'!W:W,MATCH(B176,'План ввода основ. ср-в'!B:B,0))),0,INDEX('План ввода основ. ср-в'!W:W,MATCH(B176,'План ввода основ. ср-в'!B:B,0)))","v":0},{"$f":"IF(ISNA(INDEX('План ввода основ. ср-в'!X:X,MATCH(B176,'План ввода основ. ср-в'!B:B,0))),0,INDEX('План ввода основ. ср-в'!X:X,MATCH(B176,'План ввода основ. ср-в'!B:B,0)))","v":0},{"$f":"IF(ISNA(INDEX('План ввода основ. ср-в'!Y:Y,MATCH(B176,'План ввода основ. ср-в'!B:B,0))),0,INDEX('План ввода основ. ср-в'!Y:Y,MATCH(B176,'План ввода основ. ср-в'!B:B,0)))","v":0},0,{"$f":"IF(ISNA(INDEX('План ввода основ. ср-в'!Z:Z,MATCH(B176,'План ввода основ. ср-в'!B:B,0))),0,INDEX('План ввода основ. ср-в'!Z:Z,MATCH(B176,'План ввода основ. ср-в'!B:B,0)))","v":0},{"$f":"IF(ISNA(INDEX('План ввода основ. ср-в'!AA:AA,MATCH(B176,'План ввода основ. ср-в'!B:B,0))),0,INDEX('План ввода основ. ср-в'!AA:AA,MATCH(B176,'План ввода основ. ср-в'!B:B,0)))","v":2.9152542372881354},{"$f":"IF(ISNA(INDEX('План ввода основ. ср-в'!AB:AB,MATCH(B176,'План ввода основ. ср-в'!B:B,0))),0,INDEX('План ввода основ. ср-в'!AB:AB,MATCH(B176,'План ввода основ. ср-в'!B:B,0)))","v":0},{"$f":"IF(ISNA(INDEX('План ввода основ. ср-в'!AC:AC,MATCH(B176,'План ввода основ. ср-в'!B:B,0))),0,INDEX('План ввода основ. ср-в'!AC:AC,MATCH(B176,'План ввода основ. ср-в'!B:B,0)))","v":0},2.9152542372881354]
[155,"Реконструкция ВЛ-0,4 кВ от КТП 508/250 кВА с заменой КТП на 400 кВА",null,null,null,null,null,null,0,"",0,0,"",0,0,"",0,3.2,"/",0.25,0,"",0,3.2,"/",0.25,8.6101694915254221,{"$f":"IF(ISNA(INDEX('План ввода основ. ср-в'!F:F,MATCH(B177,'План ввода основ. ср-в'!B:B,0))),0,INDEX('План ввода основ. ср-в'!F:F,MATCH(B177,'План ввода основ. ср-в'!B:B,0)))","v":0},"",{"$f":"IF(ISNA(INDEX('План ввода основ. ср-в'!E:E,MATCH(B177,'План ввода основ. ср-в'!B:B,0))),0,INDEX('План ввода основ. ср-в'!E:E,MATCH(B177,'План ввода основ. ср-в'!B:B,0)))","v":0},{"$f":"IF(ISNA(INDEX('План ввода основ. ср-в'!H:H,MATCH(B177,'План ввода основ. ср-в'!B:B,0))),0,INDEX('План ввода основ. ср-в'!H:H,MATCH(B177,'План ввода основ. ср-в'!B:B,0)))","v":0},"",{"$f":"IF(ISNA(INDEX('План ввода основ. ср-в'!G:G,MATCH(B177,'План ввода основ. ср-в'!B:B,0))),0,INDEX('План ввода основ. ср-в'!G:G,MATCH(B177,'План ввода основ. ср-в'!B:B,0)))","v":0},{"$f":"IF(ISNA(INDEX('План ввода основ. ср-в'!J:J,MATCH(B177,'План ввода основ. ср-в'!B:B,0))),0,INDEX('План ввода основ. ср-в'!J:J,MATCH(B177,'План ввода основ. ср-в'!B:B,0)))","v":0},"",{"$f":"IF(ISNA(INDEX('План ввода основ. ср-в'!I:I,MATCH(B177,'План ввода основ. ср-в'!B:B,0))),0,INDEX('План ввода основ. ср-в'!I:I,MATCH(B177,'План ввода основ. ср-в'!B:B,0)))","v":0},{"$f":"IF(ISNA(INDEX('План ввода основ. ср-в'!L:L,MATCH(B177,'План ввода основ. ср-в'!B:B,0))),0,INDEX('План ввода основ. ср-в'!L:L,MATCH(B177,'План ввода основ. ср-в'!B:B,0)))","v":0},"",{"$f":"IF(ISNA(INDEX('План ввода основ. ср-в'!K:K,MATCH(B177,'План ввода основ. ср-в'!B:B,0))),0,INDEX('План ввода основ. ср-в'!K:K,MATCH(B177,'План ввода основ. ср-в'!B:B,0)))","v":0},0,"/",0,{"$f":"IF(ISNA(INDEX('План ввода основ. ср-в'!N:N,MATCH(B177,'План ввода основ. ср-в'!B:B,0))),0,INDEX('План ввода основ. ср-в'!N:N,MATCH(B177,'План ввода основ. ср-в'!B:B,0)))","v":0},"",{"$f":"IF(ISNA(INDEX('План ввода основ. ср-в'!M:M,MATCH(B177,'План ввода основ. ср-в'!B:B,0))),0,INDEX('План ввода основ. ср-в'!M:M,MATCH(B177,'План ввода основ. ср-в'!B:B,0)))","v":0},{"$f":"IF(ISNA(INDEX('План ввода основ. ср-в'!P:P,MATCH(B177,'План ввода основ. ср-в'!B:B,0))),0,INDEX('План ввода основ. ср-в'!P:P,MATCH(B177,'План ввода основ. ср-в'!B:B,0)))","v":0},"",{"$f":"IF(ISNA(INDEX('План ввода основ. ср-в'!O:O,MATCH(B177,'План ввода основ. ср-в'!B:B,0))),0,INDEX('План ввода основ. ср-в'!O:O,MATCH(B177,'План ввода основ. ср-в'!B:B,0)))","v":0},{"$f":"IF(ISNA(INDEX('План ввода основ. ср-в'!R:R,MATCH(B177,'План ввода основ. ср-в'!B:B,0))),0,INDEX('План ввода основ. ср-в'!R:R,MATCH(B177,'План ввода основ. ср-в'!B:B,0)))","v":3.2},"/",{"$f":"IF(ISNA(INDEX('План ввода основ. ср-в'!Q:Q,MATCH(B177,'План ввода основ. ср-в'!B:B,0))),0,INDEX('План ввода основ. ср-в'!Q:Q,MATCH(B177,'План ввода основ. ср-в'!B:B,0)))","v":0.4},{"$f":"IF(ISNA(INDEX('План ввода основ. ср-в'!T:T,MATCH(B177,'План ввода основ. ср-в'!B:B,0))),0,INDEX('План ввода основ. ср-в'!T:T,MATCH(B177,'План ввода основ. ср-в'!B:B,0)))","v":0},"",{"$f":"IF(ISNA(INDEX('План ввода основ. ср-в'!S:S,MATCH(B177,'План ввода основ. ср-в'!B:B,0))),0,INDEX('План ввода основ. ср-в'!S:S,MATCH(B177,'План ввода основ. ср-в'!B:B,0)))","v":0},3.2,"/",0.4,{"$f":"IF(ISNA(INDEX('План ввода основ. ср-в'!V:V,MATCH(B177,'План ввода основ. ср-в'!B:B,0))),0,INDEX('План ввода основ. ср-в'!V:V,MATCH(B177,'План ввода основ. ср-в'!B:B,0)))","v":0},{"$f":"IF(ISNA(INDEX('План ввода основ. ср-в'!W:W,MATCH(B177,'План ввода основ. ср-в'!B:B,0))),0,INDEX('План ввода основ. ср-в'!W:W,MATCH(B177,'План ввода основ. ср-в'!B:B,0)))","v":0},{"$f":"IF(ISNA(INDEX('План ввода основ. ср-в'!X:X,MATCH(B177,'План ввода основ. ср-в'!B:B,0))),0,INDEX('План ввода основ. ср-в'!X:X,MATCH(B177,'План ввода основ. ср-в'!B:B,0)))","v":0},{"$f":"IF(ISNA(INDEX('План ввода основ. ср-в'!Y:Y,MATCH(B177,'План ввода основ. ср-в'!B:B,0))),0,INDEX('План ввода основ. ср-в'!Y:Y,MATCH(B177,'План ввода основ. ср-в'!B:B,0)))","v":0},0,{"$f":"IF(ISNA(INDEX('План ввода основ. ср-в'!Z:Z,MATCH(B177,'План ввода основ. ср-в'!B:B,0))),0,INDEX('План ввода основ. ср-в'!Z:Z,MATCH(B177,'План ввода основ. ср-в'!B:B,0)))","v":0},{"$f":"IF(ISNA(INDEX('План ввода основ. ср-в'!AA:AA,MATCH(B177,'План ввода основ. ср-в'!B:B,0))),0,INDEX('План ввода основ. ср-в'!AA:AA,MATCH(B177,'План ввода основ. ср-в'!B:B,0)))","v":0},{"$f":"IF(ISNA(INDEX('План ввода основ. ср-в'!AB:AB,MATCH(B177,'План ввода основ. ср-в'!B:B,0))),0,INDEX('План ввода основ. ср-в'!AB:AB,MATCH(B177,'План ввода основ. ср-в'!B:B,0)))","v":8.6101694915254221},{"$f":"IF(ISNA(INDEX('План ввода основ. ср-в'!AC:AC,MATCH(B177,'План ввода основ. ср-в'!B:B,0))),0,INDEX('План ввода основ. ср-в'!AC:AC,MATCH(B177,'План ввода основ. ср-в'!B:B,0)))","v":0},8.6101694915254221]
[156,"Реконструкция ВЛ-0,4 кВ от КТП Мр 512/160 кВА с заменой КТП на 400 кВА",null,null,null,null,null,null,0,"",0,0,"",0,0,"",0,0,"",0,0.8,"/",0.16,0.8,"/",0.16,2.9152542372881354,{"$f":"IF(ISNA(INDEX('План ввода основ. ср-в'!F:F,MATCH(B178,'План ввода основ. ср-в'!B:B,0))),0,INDEX('План ввода основ. ср-в'!F:F,MATCH(B178,'План ввода основ. ср-в'!B:B,0)))","v":0},"",{"$f":"IF(ISNA(INDEX('План ввода основ. ср-в'!E:E,MATCH(B178,'План ввода основ. ср-в'!B:B,0))),0,INDEX('План ввода основ. ср-в'!E:E,MATCH(B178,'План ввода основ. ср-в'!B:B,0)))","v":0},{"$f":"IF(ISNA(INDEX('План ввода основ. ср-в'!H:H,MATCH(B178,'План ввода основ. ср-в'!B:B,0))),0,INDEX('План ввода основ. ср-в'!H:H,MATCH(B178,'План ввода основ. ср-в'!B:B,0)))","v":0},"",{"$f":"IF(ISNA(INDEX('План ввода основ. ср-в'!G:G,MATCH(B178,'План ввода основ. ср-в'!B:B,0))),0,INDEX('План ввода основ. ср-в'!G:G,MATCH(B178,'План ввода основ. ср-в'!B:B,0)))","v":0},{"$f":"IF(ISNA(INDEX('План ввода основ. ср-в'!J:J,MATCH(B178,'План ввода основ. ср-в'!B:B,0))),0,INDEX('План ввода основ. ср-в'!J:J,MATCH(B178,'План ввода основ. ср-в'!B:B,0)))","v":0},"",{"$f":"IF(ISNA(INDEX('План ввода основ. ср-в'!I:I,MATCH(B178,'План ввода основ. ср-в'!B:B,0))),0,INDEX('План ввода основ. ср-в'!I:I,MATCH(B178,'План ввода основ. ср-в'!B:B,0)))","v":0},{"$f":"IF(ISNA(INDEX('План ввода основ. ср-в'!L:L,MATCH(B178,'План ввода основ. ср-в'!B:B,0))),0,INDEX('План ввода основ. ср-в'!L:L,MATCH(B178,'План ввода основ. ср-в'!B:B,0)))","v":0},"",{"$f":"IF(ISNA(INDEX('План ввода основ. ср-в'!K:K,MATCH(B178,'План ввода основ. ср-в'!B:B,0))),0,INDEX('План ввода основ. ср-в'!K:K,MATCH(B178,'План ввода основ. ср-в'!B:B,0)))","v":0},0,"/",0,{"$f":"IF(ISNA(INDEX('План ввода основ. ср-в'!N:N,MATCH(B178,'План ввода основ. ср-в'!B:B,0))),0,INDEX('План ввода основ. ср-в'!N:N,MATCH(B178,'План ввода основ. ср-в'!B:B,0)))","v":0},"",{"$f":"IF(ISNA(INDEX('План ввода основ. ср-в'!M:M,MATCH(B178,'План ввода основ. ср-в'!B:B,0))),0,INDEX('План ввода основ. ср-в'!M:M,MATCH(B178,'План ввода основ. ср-в'!B:B,0)))","v":0},{"$f":"IF(ISNA(INDEX('План ввода основ. ср-в'!P:P,MATCH(B178,'План ввода основ. ср-в'!B:B,0))),0,INDEX('План ввода основ. ср-в'!P:P,MATCH(B178,'План ввода основ. ср-в'!B:B,0)))","v":0},"",{"$f":"IF(ISNA(INDEX('План ввода основ. ср-в'!O:O,MATCH(B178,'План ввода основ. ср-в'!B:B,0))),0,INDEX('План ввода основ. ср-в'!O:O,MATCH(B178,'План ввода основ. ср-в'!B:B,0)))","v":0},{"$f":"IF(ISNA(INDEX('План ввода основ. ср-в'!R:R,MATCH(B178,'План ввода основ. ср-в'!B:B,0))),0,INDEX('План ввода основ. ср-в'!R:R,MATCH(B178,'План ввода основ. ср-в'!B:B,0)))","v":0},"",{"$f":"IF(ISNA(INDEX('План ввода основ. ср-в'!Q:Q,MATCH(B178,'План ввода основ. ср-в'!B:B,0))),0,INDEX('План ввода основ. ср-в'!Q:Q,MATCH(B178,'План ввода основ. ср-в'!B:B,0)))","v":0},{"$f":"IF(ISNA(INDEX('План ввода основ. ср-в'!T:T,MATCH(B178,'План ввода основ. ср-в'!B:B,0))),0,INDEX('План ввода основ. ср-в'!T:T,MATCH(B178,'План ввода основ. ср-в'!B:B,0)))","v":0.8},"/",{"$f":"IF(ISNA(INDEX('План ввода основ. ср-в'!S:S,MATCH(B178,'План ввода основ. ср-в'!B:B,0))),0,INDEX('План ввода основ. ср-в'!S:S,MATCH(B178,'План ввода основ. ср-в'!B:B,0)))","v":0.4},0.8,"/",0.4,{"$f":"IF(ISNA(INDEX('План ввода основ. ср-в'!V:V,MATCH(B178,'План ввода основ. ср-в'!B:B,0))),0,INDEX('План ввода основ. ср-в'!V:V,MATCH(B178,'План ввода основ. ср-в'!B:B,0)))","v":0},{"$f":"IF(ISNA(INDEX('План ввода основ. ср-в'!W:W,MATCH(B178,'План ввода основ. ср-в'!B:B,0))),0,INDEX('План ввода основ. ср-в'!W:W,MATCH(B178,'План ввода основ. ср-в'!B:B,0)))","v":0},{"$f":"IF(ISNA(INDEX('План ввода основ. ср-в'!X:X,MATCH(B178,'План ввода основ. ср-в'!B:B,0))),0,INDEX('План ввода основ. ср-в'!X:X,MATCH(B178,'План ввода основ. ср-в'!B:B,0)))","v":0},{"$f":"IF(ISNA(INDEX('План ввода основ. ср-в'!Y:Y,MATCH(B178,'План ввода основ. ср-в'!B:B,0))),0,INDEX('План ввода основ. ср-в'!Y:Y,MATCH(B178,'План ввода основ. ср-в'!B:B,0)))","v":0},0,{"$f":"IF(ISNA(INDEX('План ввода основ. ср-в'!Z:Z,MATCH(B178,'План ввода основ. ср-в'!B:B,0))),0,INDEX('План ввода основ. ср-в'!Z:Z,MATCH(B178,'План ввода основ. ср-в'!B:B,0)))","v":0},{"$f":"IF(ISNA(INDEX('План ввода основ. ср-в'!AA:AA,MATCH(B178,'План ввода основ. ср-в'!B:B,0))),0,INDEX('План ввода основ. ср-в'!AA:AA,MATCH(B178,'План ввода основ. ср-в'!B:B,0)))","v":0},{"$f":"IF(ISNA(INDEX('План ввода основ. ср-в'!AB:AB,MATCH(B178,'План ввода основ. ср-в'!B:B,0))),0,INDEX('План ввода основ. ср-в'!AB:AB,MATCH(B178,'План ввода основ. ср-в'!B:B,0)))","v":0},{"$f":"IF(ISNA(INDEX('План ввода основ. ср-в'!AC:AC,MATCH(B178,'План ввода основ. ср-в'!B:B,0))),0,INDEX('План ввода основ. ср-в'!AC:AC,MATCH(B178,'План ввода основ. ср-в'!B:B,0)))","v":2.9152542372881354},2.9152542372881354]
[157,"Приволжский район",null,null,null,null,null,null,0,{"$f":"IF(AND(I179=0,K179=0),\"\",\"/\")","v":""},0,0,{"$f":"IF(AND(L179=0,N179=0),\"\",\"/\")","v":""},0,0,{"$f":"IF(AND(O179=0,Q179=0),\"\",\"/\")","v":""},0,0,{"$f":"IF(AND(R179=0,T179=0),\"\",\"/\")","v":""},0,0,{"$f":"IF(AND(U179=0,W179=0),\"\",\"/\")","v":""},0,0,"/",0,0,{"$f":"IF(ISNA(INDEX('План ввода основ. ср-в'!F:F,MATCH(B179,'План ввода основ. ср-в'!B:B,0))),0,INDEX('План ввода основ. ср-в'!F:F,MATCH(B179,'План ввода основ. ср-в'!B:B,0)))","v":0},{"$f":"IF(AND(AB179=0,AD179=0),\"\",\"/\")","v":""},{"$f":"IF(ISNA(INDEX('План ввода основ. ср-в'!E:E,MATCH(B179,'План ввода основ. ср-в'!B:B,0))),0,INDEX('План ввода основ. ср-в'!E:E,MATCH(B179,'План ввода основ. ср-в'!B:B,0)))","v":0},{"$f":"IF(ISNA(INDEX('План ввода основ. ср-в'!H:H,MATCH(B179,'План ввода основ. ср-в'!B:B,0))),0,INDEX('План ввода основ. ср-в'!H:H,MATCH(B179,'План ввода основ. ср-в'!B:B,0)))","v":0},{"$f":"IF(AND(AE179=0,AG179=0),\"\",\"/\")","v":""},{"$f":"IF(ISNA(INDEX('План ввода основ. ср-в'!G:G,MATCH(B179,'План ввода основ. ср-в'!B:B,0))),0,INDEX('План ввода основ. ср-в'!G:G,MATCH(B179,'План ввода основ. ср-в'!B:B,0)))","v":0},{"$f":"IF(ISNA(INDEX('План ввода основ. ср-в'!J:J,MATCH(B179,'План ввода основ. ср-в'!B:B,0))),0,INDEX('План ввода основ. ср-в'!J:J,MATCH(B179,'План ввода основ. ср-в'!B:B,0)))","v":0},{"$f":"IF(AND(AH179=0,AJ179=0),\"\",\"/\")","v":""},{"$f":"IF(ISNA(INDEX('План ввода основ. ср-в'!I:I,MATCH(B179,'План ввода основ. ср-в'!B:B,0))),0,INDEX('План ввода основ. ср-в'!I:I,MATCH(B179,'План ввода основ. ср-в'!B:B,0)))","v":0},{"$f":"IF(ISNA(INDEX('План ввода основ. ср-в'!L:L,MATCH(B179,'План ввода основ. ср-в'!B:B,0))),0,INDEX('План ввода основ. ср-в'!L:L,MATCH(B179,'План ввода основ. ср-в'!B:B,0)))","v":0},{"$f":"IF(AND(AK179=0,AM179=0),\"\",\"/\")","v":""},{"$f":"IF(ISNA(INDEX('План ввода основ. ср-в'!K:K,MATCH(B179,'План ввода основ. ср-в'!B:B,0))),0,INDEX('План ввода основ. ср-в'!K:K,MATCH(B179,'План ввода основ. ср-в'!B:B,0)))","v":0},0,"/",0,{"$f":"IF(ISNA(INDEX('План ввода основ. ср-в'!N:N,MATCH(B179,'План ввода основ. ср-в'!B:B,0))),0,INDEX('План ввода основ. ср-в'!N:N,MATCH(B179,'План ввода основ. ср-в'!B:B,0)))","v":0},{"$f":"IF(AND(AQ179=0,AS179=0),\"\",\"/\")","v":""},{"$f":"IF(ISNA(INDEX('План ввода основ. ср-в'!M:M,MATCH(B179,'План ввода основ. ср-в'!B:B,0))),0,INDEX('План ввода основ. ср-в'!M:M,MATCH(B179,'План ввода основ. ср-в'!B:B,0)))","v":0},{"$f":"IF(ISNA(INDEX('План ввода основ. ср-в'!P:P,MATCH(B179,'План ввода основ. ср-в'!B:B,0))),0,INDEX('План ввода основ. ср-в'!P:P,MATCH(B179,'План ввода основ. ср-в'!B:B,0)))","v":0},{"$f":"IF(AND(AT179=0,AV179=0),\"\",\"/\")","v":""},{"$f":"IF(ISNA(INDEX('План ввода основ. ср-в'!O:O,MATCH(B179,'План ввода основ. ср-в'!B:B,0))),0,INDEX('План ввода основ. ср-в'!O:O,MATCH(B179,'План ввода основ. ср-в'!B:B,0)))","v":0},{"$f":"IF(ISNA(INDEX('План ввода основ. ср-в'!R:R,MATCH(B179,'План ввода основ. ср-в'!B:B,0))),0,INDEX('План ввода основ. ср-в'!R:R,MATCH(B179,'План ввода основ. ср-в'!B:B,0)))","v":0},{"$f":"IF(AND(AW179=0,AY179=0),\"\",\"/\")","v":""},{"$f":"IF(ISNA(INDEX('План ввода основ. ср-в'!Q:Q,MATCH(B179,'План ввода основ. ср-в'!B:B,0))),0,INDEX('План ввода основ. ср-в'!Q:Q,MATCH(B179,'План ввода основ. ср-в'!B:B,0)))","v":0},{"$f":"IF(ISNA(INDEX('План ввода основ. ср-в'!T:T,MATCH(B179,'План ввода основ. ср-в'!B:B,0))),0,INDEX('План ввода основ. ср-в'!T:T,MATCH(B179,'План ввода основ. ср-в'!B:B,0)))","v":0},{"$f":"IF(AND(AZ179=0,BB179=0),\"\",\"/\")","v":""},{"$f":"IF(ISNA(INDEX('План ввода основ. ср-в'!S:S,MATCH(B179,'План ввода основ. ср-в'!B:B,0))),0,INDEX('План ввода основ. ср-в'!S:S,MATCH(B179,'План ввода основ. ср-в'!B:B,0)))","v":0},0,"/",0,{"$f":"IF(ISNA(INDEX('План ввода основ. ср-в'!V:V,MATCH(B179,'План ввода основ. ср-в'!B:B,0))),0,INDEX('План ввода основ. ср-в'!V:V,MATCH(B179,'План ввода основ. ср-в'!B:B,0)))","v":0},{"$f":"IF(ISNA(INDEX('План ввода основ. ср-в'!W:W,MATCH(B179,'План ввода основ. ср-в'!B:B,0))),0,INDEX('План ввода основ. ср-в'!W:W,MATCH(B179,'План ввода основ. ср-в'!B:B,0)))","v":0},{"$f":"IF(ISNA(INDEX('План ввода основ. ср-в'!X:X,MATCH(B179,'План ввода основ. ср-в'!B:B,0))),0,INDEX('План ввода основ. ср-в'!X:X,MATCH(B179,'План ввода основ. ср-в'!B:B,0)))","v":0},{"$f":"IF(ISNA(INDEX('План ввода основ. ср-в'!Y:Y,MATCH(B179,'План ввода основ. ср-в'!B:B,0))),0,INDEX('План ввода основ. ср-в'!Y:Y,MATCH(B179,'План ввода основ. ср-в'!B:B,0)))","v":0},0,{"$f":"IF(ISNA(INDEX('План ввода основ. ср-в'!Z:Z,MATCH(B179,'План ввода основ. ср-в'!B:B,0))),0,INDEX('План ввода основ. ср-в'!Z:Z,MATCH(B179,'План ввода основ. ср-в'!B:B,0)))","v":0},{"$f":"IF(ISNA(INDEX('План ввода основ. ср-в'!AA:AA,MATCH(B179,'План ввода основ. ср-в'!B:B,0))),0,INDEX('План ввода основ. ср-в'!AA:AA,MATCH(B179,'План ввода основ. ср-в'!B:B,0)))","v":0},{"$f":"IF(ISNA(INDEX('План ввода основ. ср-в'!AB:AB,MATCH(B179,'План ввода основ. ср-в'!B:B,0))),0,INDEX('План ввода основ. ср-в'!AB:AB,MATCH(B179,'План ввода основ. ср-в'!B:B,0)))","v":0},{"$f":"IF(ISNA(INDEX('План ввода основ. ср-в'!AC:AC,MATCH(B179,'План ввода основ. ср-в'!B:B,0))),0,INDEX('План ввода основ. ср-в'!AC:AC,MATCH(B179,'План ввода основ. ср-в'!B:B,0)))","v":0},0]
[158,"Реконструкция ВЛ-0,4 кВ от  ЗТП Пр 222/160 кВА с заменой ЗТП на КТП 250 кВА",null,null,null,null,null,null,1.65,"/",0.16,0,"",0,0,"",0,0,"",0,0,"",0,1.65,"/",0.16,5.5762711864406782,{"$f":"IF(ISNA(INDEX('План ввода основ. ср-в'!F:F,MATCH(B180,'План ввода основ. ср-в'!B:B,0))),0,INDEX('План ввода основ. ср-в'!F:F,MATCH(B180,'План ввода основ. ср-в'!B:B,0)))","v":0},"",{"$f":"IF(ISNA(INDEX('План ввода основ. ср-в'!E:E,MATCH(B180,'План ввода основ. ср-в'!B:B,0))),0,INDEX('План ввода основ. ср-в'!E:E,MATCH(B180,'План ввода основ. ср-в'!B:B,0)))","v":0},{"$f":"IF(ISNA(INDEX('План ввода основ. ср-в'!H:H,MATCH(B180,'План ввода основ. ср-в'!B:B,0))),0,INDEX('План ввода основ. ср-в'!H:H,MATCH(B180,'План ввода основ. ср-в'!B:B,0)))","v":0},"",{"$f":"IF(ISNA(INDEX('План ввода основ. ср-в'!G:G,MATCH(B180,'План ввода основ. ср-в'!B:B,0))),0,INDEX('План ввода основ. ср-в'!G:G,MATCH(B180,'План ввода основ. ср-в'!B:B,0)))","v":0},{"$f":"IF(ISNA(INDEX('План ввода основ. ср-в'!J:J,MATCH(B180,'План ввода основ. ср-в'!B:B,0))),0,INDEX('План ввода основ. ср-в'!J:J,MATCH(B180,'План ввода основ. ср-в'!B:B,0)))","v":0},"",{"$f":"IF(ISNA(INDEX('План ввода основ. ср-в'!I:I,MATCH(B180,'План ввода основ. ср-в'!B:B,0))),0,INDEX('План ввода основ. ср-в'!I:I,MATCH(B180,'План ввода основ. ср-в'!B:B,0)))","v":0},{"$f":"IF(ISNA(INDEX('План ввода основ. ср-в'!L:L,MATCH(B180,'План ввода основ. ср-в'!B:B,0))),0,INDEX('План ввода основ. ср-в'!L:L,MATCH(B180,'План ввода основ. ср-в'!B:B,0)))","v":1.65},"/",{"$f":"IF(ISNA(INDEX('План ввода основ. ср-в'!K:K,MATCH(B180,'План ввода основ. ср-в'!B:B,0))),0,INDEX('План ввода основ. ср-в'!K:K,MATCH(B180,'План ввода основ. ср-в'!B:B,0)))","v":0.25},1.65,"/",0.25,{"$f":"IF(ISNA(INDEX('План ввода основ. ср-в'!N:N,MATCH(B180,'План ввода основ. ср-в'!B:B,0))),0,INDEX('План ввода основ. ср-в'!N:N,MATCH(B180,'План ввода основ. ср-в'!B:B,0)))","v":0},"",{"$f":"IF(ISNA(INDEX('План ввода основ. ср-в'!M:M,MATCH(B180,'План ввода основ. ср-в'!B:B,0))),0,INDEX('План ввода основ. ср-в'!M:M,MATCH(B180,'План ввода основ. ср-в'!B:B,0)))","v":0},{"$f":"IF(ISNA(INDEX('План ввода основ. ср-в'!P:P,MATCH(B180,'План ввода основ. ср-в'!B:B,0))),0,INDEX('План ввода основ. ср-в'!P:P,MATCH(B180,'План ввода основ. ср-в'!B:B,0)))","v":0},"",{"$f":"IF(ISNA(INDEX('План ввода основ. ср-в'!O:O,MATCH(B180,'План ввода основ. ср-в'!B:B,0))),0,INDEX('План ввода основ. ср-в'!O:O,MATCH(B180,'План ввода основ. ср-в'!B:B,0)))","v":0},{"$f":"IF(ISNA(INDEX('План ввода основ. ср-в'!R:R,MATCH(B180,'План ввода основ. ср-в'!B:B,0))),0,INDEX('План ввода основ. ср-в'!R:R,MATCH(B180,'План ввода основ. ср-в'!B:B,0)))","v":0},"",{"$f":"IF(ISNA(INDEX('План ввода основ. ср-в'!Q:Q,MATCH(B180,'План ввода основ. ср-в'!B:B,0))),0,INDEX('План ввода основ. ср-в'!Q:Q,MATCH(B180,'План ввода основ. ср-в'!B:B,0)))","v":0},{"$f":"IF(ISNA(INDEX('План ввода основ. ср-в'!T:T,MATCH(B180,'План ввода основ. ср-в'!B:B,0))),0,INDEX('План ввода основ. ср-в'!T:T,MATCH(B180,'План ввода основ. ср-в'!B:B,0)))","v":0},"",{"$f":"IF(ISNA(INDEX('План ввода основ. ср-в'!S:S,MATCH(B180,'План ввода основ. ср-в'!B:B,0))),0,INDEX('План ввода основ. ср-в'!S:S,MATCH(B180,'План ввода основ. ср-в'!B:B,0)))","v":0},1.65,"/",0.25,{"$f":"IF(ISNA(INDEX('План ввода основ. ср-в'!V:V,MATCH(B180,'План ввода основ. ср-в'!B:B,0))),0,INDEX('План ввода основ. ср-в'!V:V,MATCH(B180,'План ввода основ. ср-в'!B:B,0)))","v":0},{"$f":"IF(ISNA(INDEX('План ввода основ. ср-в'!W:W,MATCH(B180,'План ввода основ. ср-в'!B:B,0))),0,INDEX('План ввода основ. ср-в'!W:W,MATCH(B180,'План ввода основ. ср-в'!B:B,0)))","v":0.83644067796610166},{"$f":"IF(ISNA(INDEX('План ввода основ. ср-в'!X:X,MATCH(B180,'План ввода основ. ср-в'!B:B,0))),0,INDEX('План ввода основ. ср-в'!X:X,MATCH(B180,'План ввода основ. ср-в'!B:B,0)))","v":1.9516949152542373},{"$f":"IF(ISNA(INDEX('План ввода основ. ср-в'!Y:Y,MATCH(B180,'План ввода основ. ср-в'!B:B,0))),0,INDEX('План ввода основ. ср-в'!Y:Y,MATCH(B180,'План ввода основ. ср-в'!B:B,0)))","v":2.7881355932203391},5.5762711864406782,{"$f":"IF(ISNA(INDEX('План ввода основ. ср-в'!Z:Z,MATCH(B180,'План ввода основ. ср-в'!B:B,0))),0,INDEX('План ввода основ. ср-в'!Z:Z,MATCH(B180,'План ввода основ. ср-в'!B:B,0)))","v":0},{"$f":"IF(ISNA(INDEX('План ввода основ. ср-в'!AA:AA,MATCH(B180,'План ввода основ. ср-в'!B:B,0))),0,INDEX('План ввода основ. ср-в'!AA:AA,MATCH(B180,'План ввода основ. ср-в'!B:B,0)))","v":0},{"$f":"IF(ISNA(INDEX('План ввода основ. ср-в'!AB:AB,MATCH(B180,'План ввода основ. ср-в'!B:B,0))),0,INDEX('План ввода основ. ср-в'!AB:AB,MATCH(B180,'План ввода основ. ср-в'!B:B,0)))","v":0},{"$f":"IF(ISNA(INDEX('План ввода основ. ср-в'!AC:AC,MATCH(B180,'План ввода основ. ср-в'!B:B,0))),0,INDEX('План ввода основ. ср-в'!AC:AC,MATCH(B180,'План ввода основ. ср-в'!B:B,0)))","v":0},5.5762711864406782]
[159,"Реконструкция ВЛ-0,4 кВ от  КТП Пр 202/250 кВА с заменой КТП",null,null,null,null,null,null,1.45,null,0.25,0,null,0,null,null,null,0,null,0,0,null,0,1.45,null,0.25,5.0338983050847457,{"$f":"IF(ISNA(INDEX('План ввода основ. ср-в'!F:F,MATCH(B181,'План ввода основ. ср-в'!B:B,0))),0,INDEX('План ввода основ. ср-в'!F:F,MATCH(B181,'План ввода основ. ср-в'!B:B,0)))","v":0},null,{"$f":"IF(ISNA(INDEX('План ввода основ. ср-в'!E:E,MATCH(B181,'План ввода основ. ср-в'!B:B,0))),0,INDEX('План ввода основ. ср-в'!E:E,MATCH(B181,'План ввода основ. ср-в'!B:B,0)))","v":0},{"$f":"IF(ISNA(INDEX('План ввода основ. ср-в'!H:H,MATCH(B181,'План ввода основ. ср-в'!B:B,0))),0,INDEX('План ввода основ. ср-в'!H:H,MATCH(B181,'План ввода основ. ср-в'!B:B,0)))","v":0},null,{"$f":"IF(ISNA(INDEX('План ввода основ. ср-в'!G:G,MATCH(B181,'План ввода основ. ср-в'!B:B,0))),0,INDEX('План ввода основ. ср-в'!G:G,MATCH(B181,'План ввода основ. ср-в'!B:B,0)))","v":0},{"$f":"IF(ISNA(INDEX('План ввода основ. ср-в'!J:J,MATCH(B181,'План ввода основ. ср-в'!B:B,0))),0,INDEX('План ввода основ. ср-в'!J:J,MATCH(B181,'План ввода основ. ср-в'!B:B,0)))","v":0},null,{"$f":"IF(ISNA(INDEX('План ввода основ. ср-в'!I:I,MATCH(B181,'План ввода основ. ср-в'!B:B,0))),0,INDEX('План ввода основ. ср-в'!I:I,MATCH(B181,'План ввода основ. ср-в'!B:B,0)))","v":0},{"$f":"IF(ISNA(INDEX('План ввода основ. ср-в'!L:L,MATCH(B181,'План ввода основ. ср-в'!B:B,0))),0,INDEX('План ввода основ. ср-в'!L:L,MATCH(B181,'План ввода основ. ср-в'!B:B,0)))","v":1.45},null,{"$f":"IF(ISNA(INDEX('План ввода основ. ср-в'!K:K,MATCH(B181,'План ввода основ. ср-в'!B:B,0))),0,INDEX('План ввода основ. ср-в'!K:K,MATCH(B181,'План ввода основ. ср-в'!B:B,0)))","v":0.25},1.45,null,0.25,{"$f":"IF(ISNA(INDEX('План ввода основ. ср-в'!N:N,MATCH(B181,'План ввода основ. ср-в'!B:B,0))),0,INDEX('План ввода основ. ср-в'!N:N,MATCH(B181,'План ввода основ. ср-в'!B:B,0)))","v":0},null,{"$f":"IF(ISNA(INDEX('План ввода основ. ср-в'!M:M,MATCH(B181,'План ввода основ. ср-в'!B:B,0))),0,INDEX('План ввода основ. ср-в'!M:M,MATCH(B181,'План ввода основ. ср-в'!B:B,0)))","v":0},{"$f":"IF(ISNA(INDEX('План ввода основ. ср-в'!P:P,MATCH(B181,'План ввода основ. ср-в'!B:B,0))),0,INDEX('План ввода основ. ср-в'!P:P,MATCH(B181,'План ввода основ. ср-в'!B:B,0)))","v":0},null,{"$f":"IF(ISNA(INDEX('План ввода основ. ср-в'!O:O,MATCH(B181,'План ввода основ. ср-в'!B:B,0))),0,INDEX('План ввода основ. ср-в'!O:O,MATCH(B181,'План ввода основ. ср-в'!B:B,0)))","v":0},{"$f":"IF(ISNA(INDEX('План ввода основ. ср-в'!R:R,MATCH(B181,'План ввода основ. ср-в'!B:B,0))),0,INDEX('План ввода основ. ср-в'!R:R,MATCH(B181,'План ввода основ. ср-в'!B:B,0)))","v":0},null,{"$f":"IF(ISNA(INDEX('План ввода основ. ср-в'!Q:Q,MATCH(B181,'План ввода основ. ср-в'!B:B,0))),0,INDEX('План ввода основ. ср-в'!Q:Q,MATCH(B181,'План ввода основ. ср-в'!B:B,0)))","v":0},{"$f":"IF(ISNA(INDEX('План ввода основ. ср-в'!T:T,MATCH(B181,'План ввода основ. ср-в'!B:B,0))),0,INDEX('План ввода основ. ср-в'!T:T,MATCH(B181,'План ввода основ. ср-в'!B:B,0)))","v":0},null,{"$f":"IF(ISNA(INDEX('План ввода основ. ср-в'!S:S,MATCH(B181,'План ввода основ. ср-в'!B:B,0))),0,INDEX('План ввода основ. ср-в'!S:S,MATCH(B181,'План ввода основ. ср-в'!B:B,0)))","v":0},1.45,null,0.25,null,{"$f":"IF(ISNA(INDEX('План ввода основ. ср-в'!W:W,MATCH(B181,'План ввода основ. ср-в'!B:B,0))),0,INDEX('План ввода основ. ср-в'!W:W,MATCH(B181,'План ввода основ. ср-в'!B:B,0)))","v":0.75508474576271178},{"$f":"IF(ISNA(INDEX('План ввода основ. ср-в'!X:X,MATCH(B181,'План ввода основ. ср-в'!B:B,0))),0,INDEX('План ввода основ. ср-в'!X:X,MATCH(B181,'План ввода основ. ср-в'!B:B,0)))","v":1.7618644067796609},{"$f":"IF(ISNA(INDEX('План ввода основ. ср-в'!Y:Y,MATCH(B181,'План ввода основ. ср-в'!B:B,0))),0,INDEX('План ввода основ. ср-в'!Y:Y,MATCH(B181,'План ввода основ. ср-в'!B:B,0)))","v":2.5169491525423728},5.0338983050847457,{"$f":"IF(ISNA(INDEX('План ввода основ. ср-в'!Z:Z,MATCH(B181,'План ввода основ. ср-в'!B:B,0))),0,INDEX('План ввода основ. ср-в'!Z:Z,MATCH(B181,'План ввода основ. ср-в'!B:B,0)))","v":0},{"$f":"IF(ISNA(INDEX('План ввода основ. ср-в'!AA:AA,MATCH(B181,'План ввода основ. ср-в'!B:B,0))),0,INDEX('План ввода основ. ср-в'!AA:AA,MATCH(B181,'План ввода основ. ср-в'!B:B,0)))","v":0},{"$f":"IF(ISNA(INDEX('План ввода основ. ср-в'!AB:AB,MATCH(B181,'План ввода основ. ср-в'!B:B,0))),0,INDEX('План ввода основ. ср-в'!AB:AB,MATCH(B181,'План ввода основ. ср-в'!B:B,0)))","v":0},{"$f":"IF(ISNA(INDEX('План ввода основ. ср-в'!AC:AC,MATCH(B181,'План ввода основ. ср-в'!B:B,0))),0,INDEX('План ввода основ. ср-в'!AC:AC,MATCH(B181,'План ввода основ. ср-в'!B:B,0)))","v":0},5.0338983050847457]
[160,"Реконструкция ВЛ-0,4 кВ от  КТП Пр 205/250 кВА с заменой КТП ",null,null,null,null,null,null,2.61,{"$f":"IF(AND(I182=0,K182=0),\"\",\"/\")","v":"/"},0.25,0,{"$f":"IF(AND(L182=0,N182=0),\"\",\"/\")","v":""},0,0,{"$f":"IF(AND(O182=0,Q182=0),\"\",\"/\")","v":""},0,0,{"$f":"IF(AND(R182=0,T182=0),\"\",\"/\")","v":""},0,0,{"$f":"IF(AND(U182=0,W182=0),\"\",\"/\")","v":""},0,2.61,"/",0.25,8.1796610169491508,{"$f":"IF(ISNA(INDEX('План ввода основ. ср-в'!F:F,MATCH(B182,'План ввода основ. ср-в'!B:B,0))),0,INDEX('План ввода основ. ср-в'!F:F,MATCH(B182,'План ввода основ. ср-в'!B:B,0)))","v":0},{"$f":"IF(AND(AB182=0,AD182=0),\"\",\"/\")","v":""},{"$f":"IF(ISNA(INDEX('План ввода основ. ср-в'!E:E,MATCH(B182,'План ввода основ. ср-в'!B:B,0))),0,INDEX('План ввода основ. ср-в'!E:E,MATCH(B182,'План ввода основ. ср-в'!B:B,0)))","v":0},{"$f":"IF(ISNA(INDEX('План ввода основ. ср-в'!H:H,MATCH(B182,'План ввода основ. ср-в'!B:B,0))),0,INDEX('План ввода основ. ср-в'!H:H,MATCH(B182,'План ввода основ. ср-в'!B:B,0)))","v":0},{"$f":"IF(AND(AE182=0,AG182=0),\"\",\"/\")","v":""},{"$f":"IF(ISNA(INDEX('План ввода основ. ср-в'!G:G,MATCH(B182,'План ввода основ. ср-в'!B:B,0))),0,INDEX('План ввода основ. ср-в'!G:G,MATCH(B182,'План ввода основ. ср-в'!B:B,0)))","v":0},{"$f":"IF(ISNA(INDEX('План ввода основ. ср-в'!J:J,MATCH(B182,'План ввода основ. ср-в'!B:B,0))),0,INDEX('План ввода основ. ср-в'!J:J,MATCH(B182,'План ввода основ. ср-в'!B:B,0)))","v":0},{"$f":"IF(AND(AH182=0,AJ182=0),\"\",\"/\")","v":""},{"$f":"IF(ISNA(INDEX('План ввода основ. ср-в'!I:I,MATCH(B182,'План ввода основ. ср-в'!B:B,0))),0,INDEX('План ввода основ. ср-в'!I:I,MATCH(B182,'План ввода основ. ср-в'!B:B,0)))","v":0},{"$f":"IF(ISNA(INDEX('План ввода основ. ср-в'!L:L,MATCH(B182,'План ввода основ. ср-в'!B:B,0))),0,INDEX('План ввода основ. ср-в'!L:L,MATCH(B182,'План ввода основ. ср-в'!B:B,0)))","v":2.61},{"$f":"IF(AND(AK182=0,AM182=0),\"\",\"/\")","v":"/"},{"$f":"IF(ISNA(INDEX('План ввода основ. ср-в'!K:K,MATCH(B182,'План ввода основ. ср-в'!B:B,0))),0,INDEX('План ввода основ. ср-в'!K:K,MATCH(B182,'План ввода основ. ср-в'!B:B,0)))","v":0.25},2.61,"/",0.25,{"$f":"IF(ISNA(INDEX('План ввода основ. ср-в'!N:N,MATCH(B182,'План ввода основ. ср-в'!B:B,0))),0,INDEX('План ввода основ. ср-в'!N:N,MATCH(B182,'План ввода основ. ср-в'!B:B,0)))","v":0},{"$f":"IF(AND(AQ182=0,AS182=0),\"\",\"/\")","v":""},{"$f":"IF(ISNA(INDEX('План ввода основ. ср-в'!M:M,MATCH(B182,'План ввода основ. ср-в'!B:B,0))),0,INDEX('План ввода основ. ср-в'!M:M,MATCH(B182,'План ввода основ. ср-в'!B:B,0)))","v":0},{"$f":"IF(ISNA(INDEX('План ввода основ. ср-в'!P:P,MATCH(B182,'План ввода основ. ср-в'!B:B,0))),0,INDEX('План ввода основ. ср-в'!P:P,MATCH(B182,'План ввода основ. ср-в'!B:B,0)))","v":0},{"$f":"IF(AND(AT182=0,AV182=0),\"\",\"/\")","v":""},{"$f":"IF(ISNA(INDEX('План ввода основ. ср-в'!O:O,MATCH(B182,'План ввода основ. ср-в'!B:B,0))),0,INDEX('План ввода основ. ср-в'!O:O,MATCH(B182,'План ввода основ. ср-в'!B:B,0)))","v":0},{"$f":"IF(ISNA(INDEX('План ввода основ. ср-в'!R:R,MATCH(B182,'План ввода основ. ср-в'!B:B,0))),0,INDEX('План ввода основ. ср-в'!R:R,MATCH(B182,'План ввода основ. ср-в'!B:B,0)))","v":0},{"$f":"IF(AND(AW182=0,AY182=0),\"\",\"/\")","v":""},{"$f":"IF(ISNA(INDEX('План ввода основ. ср-в'!Q:Q,MATCH(B182,'План ввода основ. ср-в'!B:B,0))),0,INDEX('План ввода основ. ср-в'!Q:Q,MATCH(B182,'План ввода основ. ср-в'!B:B,0)))","v":0},{"$f":"IF(ISNA(INDEX('План ввода основ. ср-в'!T:T,MATCH(B182,'План ввода основ. ср-в'!B:B,0))),0,INDEX('План ввода основ. ср-в'!T:T,MATCH(B182,'План ввода основ. ср-в'!B:B,0)))","v":0},{"$f":"IF(AND(AZ182=0,BB182=0),\"\",\"/\")","v":""},{"$f":"IF(ISNA(INDEX('План ввода основ. ср-в'!S:S,MATCH(B182,'План ввода основ. ср-в'!B:B,0))),0,INDEX('План ввода основ. ср-в'!S:S,MATCH(B182,'План ввода основ. ср-в'!B:B,0)))","v":0},2.61,"/",0.25,{"$f":"IF(ISNA(INDEX('План ввода основ. ср-в'!V:V,MATCH(B182,'План ввода основ. ср-в'!B:B,0))),0,INDEX('План ввода основ. ср-в'!V:V,MATCH(B182,'План ввода основ. ср-в'!B:B,0)))","v":0},{"$f":"IF(ISNA(INDEX('План ввода основ. ср-в'!W:W,MATCH(B182,'План ввода основ. ср-в'!B:B,0))),0,INDEX('План ввода основ. ср-в'!W:W,MATCH(B182,'План ввода основ. ср-в'!B:B,0)))","v":1.2269491525423728},{"$f":"IF(ISNA(INDEX('План ввода основ. ср-в'!X:X,MATCH(B182,'План ввода основ. ср-в'!B:B,0))),0,INDEX('План ввода основ. ср-в'!X:X,MATCH(B182,'План ввода основ. ср-в'!B:B,0)))","v":2.8628813559322031},{"$f":"IF(ISNA(INDEX('План ввода основ. ср-в'!Y:Y,MATCH(B182,'План ввода основ. ср-в'!B:B,0))),0,INDEX('План ввода основ. ср-в'!Y:Y,MATCH(B182,'План ввода основ. ср-в'!B:B,0)))","v":4.0898305084745763},8.1796610169491508,{"$f":"IF(ISNA(INDEX('План ввода основ. ср-в'!Z:Z,MATCH(B182,'План ввода основ. ср-в'!B:B,0))),0,INDEX('План ввода основ. ср-в'!Z:Z,MATCH(B182,'План ввода основ. ср-в'!B:B,0)))","v":0},{"$f":"IF(ISNA(INDEX('План ввода основ. ср-в'!AA:AA,MATCH(B182,'План ввода основ. ср-в'!B:B,0))),0,INDEX('План ввода основ. ср-в'!AA:AA,MATCH(B182,'План ввода основ. ср-в'!B:B,0)))","v":0},{"$f":"IF(ISNA(INDEX('План ввода основ. ср-в'!AB:AB,MATCH(B182,'План ввода основ. ср-в'!B:B,0))),0,INDEX('План ввода основ. ср-в'!AB:AB,MATCH(B182,'План ввода основ. ср-в'!B:B,0)))","v":0},{"$f":"IF(ISNA(INDEX('План ввода основ. ср-в'!AC:AC,MATCH(B182,'План ввода основ. ср-в'!B:B,0))),0,INDEX('План ввода основ. ср-в'!AC:AC,MATCH(B182,'План ввода основ. ср-в'!B:B,0)))","v":0},8.1796610169491508]
[161,"Реконструкция ВЛ-0,4 кВ от  ЗТП Об 1208/160 кВА с заменой КТП ",null,null,null,null,null,null,0,"",0,1.43,"/",0.16,0,"",0,0,"",0,0,"",0,1.43,"/",0.16,4.4101694915254237,{"$f":"IF(ISNA(INDEX('План ввода основ. ср-в'!F:F,MATCH(B183,'План ввода основ. ср-в'!B:B,0))),0,INDEX('План ввода основ. ср-в'!F:F,MATCH(B183,'План ввода основ. ср-в'!B:B,0)))","v":0},"",{"$f":"IF(ISNA(INDEX('План ввода основ. ср-в'!E:E,MATCH(B183,'План ввода основ. ср-в'!B:B,0))),0,INDEX('План ввода основ. ср-в'!E:E,MATCH(B183,'План ввода основ. ср-в'!B:B,0)))","v":0},{"$f":"IF(ISNA(INDEX('План ввода основ. ср-в'!H:H,MATCH(B183,'План ввода основ. ср-в'!B:B,0))),0,INDEX('План ввода основ. ср-в'!H:H,MATCH(B183,'План ввода основ. ср-в'!B:B,0)))","v":0},"",{"$f":"IF(ISNA(INDEX('План ввода основ. ср-в'!G:G,MATCH(B183,'План ввода основ. ср-в'!B:B,0))),0,INDEX('План ввода основ. ср-в'!G:G,MATCH(B183,'План ввода основ. ср-в'!B:B,0)))","v":0},{"$f":"IF(ISNA(INDEX('План ввода основ. ср-в'!J:J,MATCH(B183,'План ввода основ. ср-в'!B:B,0))),0,INDEX('План ввода основ. ср-в'!J:J,MATCH(B183,'План ввода основ. ср-в'!B:B,0)))","v":0},"",{"$f":"IF(ISNA(INDEX('План ввода основ. ср-в'!I:I,MATCH(B183,'План ввода основ. ср-в'!B:B,0))),0,INDEX('План ввода основ. ср-в'!I:I,MATCH(B183,'План ввода основ. ср-в'!B:B,0)))","v":0},{"$f":"IF(ISNA(INDEX('План ввода основ. ср-в'!L:L,MATCH(B183,'План ввода основ. ср-в'!B:B,0))),0,INDEX('План ввода основ. ср-в'!L:L,MATCH(B183,'План ввода основ. ср-в'!B:B,0)))","v":0},"",{"$f":"IF(ISNA(INDEX('План ввода основ. ср-в'!K:K,MATCH(B183,'План ввода основ. ср-в'!B:B,0))),0,INDEX('План ввода основ. ср-в'!K:K,MATCH(B183,'План ввода основ. ср-в'!B:B,0)))","v":0},0,"/",0,{"$f":"IF(ISNA(INDEX('План ввода основ. ср-в'!N:N,MATCH(B183,'План ввода основ. ср-в'!B:B,0))),0,INDEX('План ввода основ. ср-в'!N:N,MATCH(B183,'План ввода основ. ср-в'!B:B,0)))","v":1.43},"/",{"$f":"IF(ISNA(INDEX('План ввода основ. ср-в'!M:M,MATCH(B183,'План ввода основ. ср-в'!B:B,0))),0,INDEX('План ввода основ. ср-в'!M:M,MATCH(B183,'План ввода основ. ср-в'!B:B,0)))","v":0.16},{"$f":"IF(ISNA(INDEX('План ввода основ. ср-в'!P:P,MATCH(B183,'План ввода основ. ср-в'!B:B,0))),0,INDEX('План ввода основ. ср-в'!P:P,MATCH(B183,'План ввода основ. ср-в'!B:B,0)))","v":0},"",{"$f":"IF(ISNA(INDEX('План ввода основ. ср-в'!O:O,MATCH(B183,'План ввода основ. ср-в'!B:B,0))),0,INDEX('План ввода основ. ср-в'!O:O,MATCH(B183,'План ввода основ. ср-в'!B:B,0)))","v":0},{"$f":"IF(ISNA(INDEX('План ввода основ. ср-в'!R:R,MATCH(B183,'План ввода основ. ср-в'!B:B,0))),0,INDEX('План ввода основ. ср-в'!R:R,MATCH(B183,'План ввода основ. ср-в'!B:B,0)))","v":0},"",{"$f":"IF(ISNA(INDEX('План ввода основ. ср-в'!Q:Q,MATCH(B183,'План ввода основ. ср-в'!B:B,0))),0,INDEX('План ввода основ. ср-в'!Q:Q,MATCH(B183,'План ввода основ. ср-в'!B:B,0)))","v":0},{"$f":"IF(ISNA(INDEX('План ввода основ. ср-в'!T:T,MATCH(B183,'План ввода основ. ср-в'!B:B,0))),0,INDEX('План ввода основ. ср-в'!T:T,MATCH(B183,'План ввода основ. ср-в'!B:B,0)))","v":0},"",{"$f":"IF(ISNA(INDEX('План ввода основ. ср-в'!S:S,MATCH(B183,'План ввода основ. ср-в'!B:B,0))),0,INDEX('План ввода основ. ср-в'!S:S,MATCH(B183,'План ввода основ. ср-в'!B:B,0)))","v":0},1.43,"/",0.16,{"$f":"IF(ISNA(INDEX('План ввода основ. ср-в'!V:V,MATCH(B183,'План ввода основ. ср-в'!B:B,0))),0,INDEX('План ввода основ. ср-в'!V:V,MATCH(B183,'План ввода основ. ср-в'!B:B,0)))","v":0},{"$f":"IF(ISNA(INDEX('План ввода основ. ср-в'!W:W,MATCH(B183,'План ввода основ. ср-в'!B:B,0))),0,INDEX('План ввода основ. ср-в'!W:W,MATCH(B183,'План ввода основ. ср-в'!B:B,0)))","v":0},{"$f":"IF(ISNA(INDEX('План ввода основ. ср-в'!X:X,MATCH(B183,'План ввода основ. ср-в'!B:B,0))),0,INDEX('План ввода основ. ср-в'!X:X,MATCH(B183,'План ввода основ. ср-в'!B:B,0)))","v":0},{"$f":"IF(ISNA(INDEX('План ввода основ. ср-в'!Y:Y,MATCH(B183,'План ввода основ. ср-в'!B:B,0))),0,INDEX('План ввода основ. ср-в'!Y:Y,MATCH(B183,'План ввода основ. ср-в'!B:B,0)))","v":0},0,{"$f":"IF(ISNA(INDEX('План ввода основ. ср-в'!Z:Z,MATCH(B183,'План ввода основ. ср-в'!B:B,0))),0,INDEX('План ввода основ. ср-в'!Z:Z,MATCH(B183,'План ввода основ. ср-в'!B:B,0)))","v":4.4101694915254237},{"$f":"IF(ISNA(INDEX('План ввода основ. ср-в'!AA:AA,MATCH(B183,'План ввода основ. ср-в'!B:B,0))),0,INDEX('План ввода основ. ср-в'!AA:AA,MATCH(B183,'План ввода основ. ср-в'!B:B,0)))","v":0},{"$f":"IF(ISNA(INDEX('План ввода основ. ср-в'!AB:AB,MATCH(B183,'План ввода основ. ср-в'!B:B,0))),0,INDEX('План ввода основ. ср-в'!AB:AB,MATCH(B183,'План ввода основ. ср-в'!B:B,0)))","v":0},{"$f":"IF(ISNA(INDEX('План ввода основ. ср-в'!AC:AC,MATCH(B183,'План ввода основ. ср-в'!B:B,0))),0,INDEX('План ввода основ. ср-в'!AC:AC,MATCH(B183,'План ввода основ. ср-в'!B:B,0)))","v":0},4.4101694915254237]
[162,"Реконструкция ВЛ-0,4 кВ от  КТП Ек 111/100 кВА с заменой КТП ",null,null,null,null,null,null,0,"",0,0.9,"/",0.1,0,"",0,0,"",0,0,"",0,0.9,"/",0.1,3.152542372881356,{"$f":"IF(ISNA(INDEX('План ввода основ. ср-в'!F:F,MATCH(B184,'План ввода основ. ср-в'!B:B,0))),0,INDEX('План ввода основ. ср-в'!F:F,MATCH(B184,'План ввода основ. ср-в'!B:B,0)))","v":0},"",{"$f":"IF(ISNA(INDEX('План ввода основ. ср-в'!E:E,MATCH(B184,'План ввода основ. ср-в'!B:B,0))),0,INDEX('План ввода основ. ср-в'!E:E,MATCH(B184,'План ввода основ. ср-в'!B:B,0)))","v":0},{"$f":"IF(ISNA(INDEX('План ввода основ. ср-в'!H:H,MATCH(B184,'План ввода основ. ср-в'!B:B,0))),0,INDEX('План ввода основ. ср-в'!H:H,MATCH(B184,'План ввода основ. ср-в'!B:B,0)))","v":0},"",{"$f":"IF(ISNA(INDEX('План ввода основ. ср-в'!G:G,MATCH(B184,'План ввода основ. ср-в'!B:B,0))),0,INDEX('План ввода основ. ср-в'!G:G,MATCH(B184,'План ввода основ. ср-в'!B:B,0)))","v":0},{"$f":"IF(ISNA(INDEX('План ввода основ. ср-в'!J:J,MATCH(B184,'План ввода основ. ср-в'!B:B,0))),0,INDEX('План ввода основ. ср-в'!J:J,MATCH(B184,'План ввода основ. ср-в'!B:B,0)))","v":0},"",{"$f":"IF(ISNA(INDEX('План ввода основ. ср-в'!I:I,MATCH(B184,'План ввода основ. ср-в'!B:B,0))),0,INDEX('План ввода основ. ср-в'!I:I,MATCH(B184,'План ввода основ. ср-в'!B:B,0)))","v":0},{"$f":"IF(ISNA(INDEX('План ввода основ. ср-в'!L:L,MATCH(B184,'План ввода основ. ср-в'!B:B,0))),0,INDEX('План ввода основ. ср-в'!L:L,MATCH(B184,'План ввода основ. ср-в'!B:B,0)))","v":0},"",{"$f":"IF(ISNA(INDEX('План ввода основ. ср-в'!K:K,MATCH(B184,'План ввода основ. ср-в'!B:B,0))),0,INDEX('План ввода основ. ср-в'!K:K,MATCH(B184,'План ввода основ. ср-в'!B:B,0)))","v":0},0,"/",0,{"$f":"IF(ISNA(INDEX('План ввода основ. ср-в'!N:N,MATCH(B184,'План ввода основ. ср-в'!B:B,0))),0,INDEX('План ввода основ. ср-в'!N:N,MATCH(B184,'План ввода основ. ср-в'!B:B,0)))","v":0.9},"/",{"$f":"IF(ISNA(INDEX('План ввода основ. ср-в'!M:M,MATCH(B184,'План ввода основ. ср-в'!B:B,0))),0,INDEX('План ввода основ. ср-в'!M:M,MATCH(B184,'План ввода основ. ср-в'!B:B,0)))","v":0.1},{"$f":"IF(ISNA(INDEX('План ввода основ. ср-в'!P:P,MATCH(B184,'План ввода основ. ср-в'!B:B,0))),0,INDEX('План ввода основ. ср-в'!P:P,MATCH(B184,'План ввода основ. ср-в'!B:B,0)))","v":0},"",{"$f":"IF(ISNA(INDEX('План ввода основ. ср-в'!O:O,MATCH(B184,'План ввода основ. ср-в'!B:B,0))),0,INDEX('План ввода основ. ср-в'!O:O,MATCH(B184,'План ввода основ. ср-в'!B:B,0)))","v":0},{"$f":"IF(ISNA(INDEX('План ввода основ. ср-в'!R:R,MATCH(B184,'План ввода основ. ср-в'!B:B,0))),0,INDEX('План ввода основ. ср-в'!R:R,MATCH(B184,'План ввода основ. ср-в'!B:B,0)))","v":0},"",{"$f":"IF(ISNA(INDEX('План ввода основ. ср-в'!Q:Q,MATCH(B184,'План ввода основ. ср-в'!B:B,0))),0,INDEX('План ввода основ. ср-в'!Q:Q,MATCH(B184,'План ввода основ. ср-в'!B:B,0)))","v":0},{"$f":"IF(ISNA(INDEX('План ввода основ. ср-в'!T:T,MATCH(B184,'План ввода основ. ср-в'!B:B,0))),0,INDEX('План ввода основ. ср-в'!T:T,MATCH(B184,'План ввода основ. ср-в'!B:B,0)))","v":0},"",{"$f":"IF(ISNA(INDEX('План ввода основ. ср-в'!S:S,MATCH(B184,'План ввода основ. ср-в'!B:B,0))),0,INDEX('План ввода основ. ср-в'!S:S,MATCH(B184,'План ввода основ. ср-в'!B:B,0)))","v":0},0.9,"/",0.1,{"$f":"IF(ISNA(INDEX('План ввода основ. ср-в'!V:V,MATCH(B184,'План ввода основ. ср-в'!B:B,0))),0,INDEX('План ввода основ. ср-в'!V:V,MATCH(B184,'План ввода основ. ср-в'!B:B,0)))","v":0},{"$f":"IF(ISNA(INDEX('План ввода основ. ср-в'!W:W,MATCH(B184,'План ввода основ. ср-в'!B:B,0))),0,INDEX('План ввода основ. ср-в'!W:W,MATCH(B184,'План ввода основ. ср-в'!B:B,0)))","v":0},{"$f":"IF(ISNA(INDEX('План ввода основ. ср-в'!X:X,MATCH(B184,'План ввода основ. ср-в'!B:B,0))),0,INDEX('План ввода основ. ср-в'!X:X,MATCH(B184,'План ввода основ. ср-в'!B:B,0)))","v":0},{"$f":"IF(ISNA(INDEX('План ввода основ. ср-в'!Y:Y,MATCH(B184,'План ввода основ. ср-в'!B:B,0))),0,INDEX('План ввода основ. ср-в'!Y:Y,MATCH(B184,'План ввода основ. ср-в'!B:B,0)))","v":0},0,{"$f":"IF(ISNA(INDEX('План ввода основ. ср-в'!Z:Z,MATCH(B184,'План ввода основ. ср-в'!B:B,0))),0,INDEX('План ввода основ. ср-в'!Z:Z,MATCH(B184,'План ввода основ. ср-в'!B:B,0)))","v":3.152542372881356},{"$f":"IF(ISNA(INDEX('План ввода основ. ср-в'!AA:AA,MATCH(B184,'План ввода основ. ср-в'!B:B,0))),0,INDEX('План ввода основ. ср-в'!AA:AA,MATCH(B184,'План ввода основ. ср-в'!B:B,0)))","v":0},{"$f":"IF(ISNA(INDEX('План ввода основ. ср-в'!AB:AB,MATCH(B184,'План ввода основ. ср-в'!B:B,0))),0,INDEX('План ввода основ. ср-в'!AB:AB,MATCH(B184,'План ввода основ. ср-в'!B:B,0)))","v":0},{"$f":"IF(ISNA(INDEX('План ввода основ. ср-в'!AC:AC,MATCH(B184,'План ввода основ. ср-в'!B:B,0))),0,INDEX('План ввода основ. ср-в'!AC:AC,MATCH(B184,'План ввода основ. ср-в'!B:B,0)))","v":0},3.152542372881356]
[163,"Реконструкция ВЛ-0,4 кВ от  КТП  Нсп 502/160 кВА с заменой КТП ",null,null,null,null,null,null,0,{"$f":"IF(AND(I185=0,K185=0),\"\",\"/\")","v":""},0,0,{"$f":"IF(AND(L185=0,N185=0),\"\",\"/\")","v":""},0,1.08,{"$f":"IF(AND(O185=0,Q185=0),\"\",\"/\")","v":"/"},0.16,0,{"$f":"IF(AND(R185=0,T185=0),\"\",\"/\")","v":""},0,0,{"$f":"IF(AND(U185=0,W185=0),\"\",\"/\")","v":""},0,1.08,"/",0.16,3.579661016949153,{"$f":"IF(ISNA(INDEX('План ввода основ. ср-в'!F:F,MATCH(B185,'План ввода основ. ср-в'!B:B,0))),0,INDEX('План ввода основ. ср-в'!F:F,MATCH(B185,'План ввода основ. ср-в'!B:B,0)))","v":0},{"$f":"IF(AND(AB185=0,AD185=0),\"\",\"/\")","v":""},{"$f":"IF(ISNA(INDEX('План ввода основ. ср-в'!E:E,MATCH(B185,'План ввода основ. ср-в'!B:B,0))),0,INDEX('План ввода основ. ср-в'!E:E,MATCH(B185,'План ввода основ. ср-в'!B:B,0)))","v":0},{"$f":"IF(ISNA(INDEX('План ввода основ. ср-в'!H:H,MATCH(B185,'План ввода основ. ср-в'!B:B,0))),0,INDEX('План ввода основ. ср-в'!H:H,MATCH(B185,'План ввода основ. ср-в'!B:B,0)))","v":0},{"$f":"IF(AND(AE185=0,AG185=0),\"\",\"/\")","v":""},{"$f":"IF(ISNA(INDEX('План ввода основ. ср-в'!G:G,MATCH(B185,'План ввода основ. ср-в'!B:B,0))),0,INDEX('План ввода основ. ср-в'!G:G,MATCH(B185,'План ввода основ. ср-в'!B:B,0)))","v":0},{"$f":"IF(ISNA(INDEX('План ввода основ. ср-в'!J:J,MATCH(B185,'План ввода основ. ср-в'!B:B,0))),0,INDEX('План ввода основ. ср-в'!J:J,MATCH(B185,'План ввода основ. ср-в'!B:B,0)))","v":0},{"$f":"IF(AND(AH185=0,AJ185=0),\"\",\"/\")","v":""},{"$f":"IF(ISNA(INDEX('План ввода основ. ср-в'!I:I,MATCH(B185,'План ввода основ. ср-в'!B:B,0))),0,INDEX('План ввода основ. ср-в'!I:I,MATCH(B185,'План ввода основ. ср-в'!B:B,0)))","v":0},{"$f":"IF(ISNA(INDEX('План ввода основ. ср-в'!L:L,MATCH(B185,'План ввода основ. ср-в'!B:B,0))),0,INDEX('План ввода основ. ср-в'!L:L,MATCH(B185,'План ввода основ. ср-в'!B:B,0)))","v":0},{"$f":"IF(AND(AK185=0,AM185=0),\"\",\"/\")","v":""},{"$f":"IF(ISNA(INDEX('План ввода основ. ср-в'!K:K,MATCH(B185,'План ввода основ. ср-в'!B:B,0))),0,INDEX('План ввода основ. ср-в'!K:K,MATCH(B185,'План ввода основ. ср-в'!B:B,0)))","v":0},0,"/",0,{"$f":"IF(ISNA(INDEX('План ввода основ. ср-в'!N:N,MATCH(B185,'План ввода основ. ср-в'!B:B,0))),0,INDEX('План ввода основ. ср-в'!N:N,MATCH(B185,'План ввода основ. ср-в'!B:B,0)))","v":0},{"$f":"IF(AND(AQ185=0,AS185=0),\"\",\"/\")","v":""},{"$f":"IF(ISNA(INDEX('План ввода основ. ср-в'!M:M,MATCH(B185,'План ввода основ. ср-в'!B:B,0))),0,INDEX('План ввода основ. ср-в'!M:M,MATCH(B185,'План ввода основ. ср-в'!B:B,0)))","v":0},{"$f":"IF(ISNA(INDEX('План ввода основ. ср-в'!P:P,MATCH(B185,'План ввода основ. ср-в'!B:B,0))),0,INDEX('План ввода основ. ср-в'!P:P,MATCH(B185,'План ввода основ. ср-в'!B:B,0)))","v":1.08},{"$f":"IF(AND(AT185=0,AV185=0),\"\",\"/\")","v":"/"},{"$f":"IF(ISNA(INDEX('План ввода основ. ср-в'!O:O,MATCH(B185,'План ввода основ. ср-в'!B:B,0))),0,INDEX('План ввода основ. ср-в'!O:O,MATCH(B185,'План ввода основ. ср-в'!B:B,0)))","v":0.16},{"$f":"IF(ISNA(INDEX('План ввода основ. ср-в'!R:R,MATCH(B185,'План ввода основ. ср-в'!B:B,0))),0,INDEX('План ввода основ. ср-в'!R:R,MATCH(B185,'План ввода основ. ср-в'!B:B,0)))","v":0},{"$f":"IF(AND(AW185=0,AY185=0),\"\",\"/\")","v":""},{"$f":"IF(ISNA(INDEX('План ввода основ. ср-в'!Q:Q,MATCH(B185,'План ввода основ. ср-в'!B:B,0))),0,INDEX('План ввода основ. ср-в'!Q:Q,MATCH(B185,'План ввода основ. ср-в'!B:B,0)))","v":0},{"$f":"IF(ISNA(INDEX('План ввода основ. ср-в'!T:T,MATCH(B185,'План ввода основ. ср-в'!B:B,0))),0,INDEX('План ввода основ. ср-в'!T:T,MATCH(B185,'План ввода основ. ср-в'!B:B,0)))","v":0},{"$f":"IF(AND(AZ185=0,BB185=0),\"\",\"/\")","v":""},{"$f":"IF(ISNA(INDEX('План ввода основ. ср-в'!S:S,MATCH(B185,'План ввода основ. ср-в'!B:B,0))),0,INDEX('План ввода основ. ср-в'!S:S,MATCH(B185,'План ввода основ. ср-в'!B:B,0)))","v":0},1.08,"/",0.16,{"$f":"IF(ISNA(INDEX('План ввода основ. ср-в'!V:V,MATCH(B185,'План ввода основ. ср-в'!B:B,0))),0,INDEX('План ввода основ. ср-в'!V:V,MATCH(B185,'План ввода основ. ср-в'!B:B,0)))","v":0},{"$f":"IF(ISNA(INDEX('План ввода основ. ср-в'!W:W,MATCH(B185,'План ввода основ. ср-в'!B:B,0))),0,INDEX('План ввода основ. ср-в'!W:W,MATCH(B185,'План ввода основ. ср-в'!B:B,0)))","v":0},{"$f":"IF(ISNA(INDEX('План ввода основ. ср-в'!X:X,MATCH(B185,'План ввода основ. ср-в'!B:B,0))),0,INDEX('План ввода основ. ср-в'!X:X,MATCH(B185,'План ввода основ. ср-в'!B:B,0)))","v":0},{"$f":"IF(ISNA(INDEX('План ввода основ. ср-в'!Y:Y,MATCH(B185,'План ввода основ. ср-в'!B:B,0))),0,INDEX('План ввода основ. ср-в'!Y:Y,MATCH(B185,'План ввода основ. ср-в'!B:B,0)))","v":0},0,{"$f":"IF(ISNA(INDEX('План ввода основ. ср-в'!Z:Z,MATCH(B185,'План ввода основ. ср-в'!B:B,0))),0,INDEX('План ввода основ. ср-в'!Z:Z,MATCH(B185,'План ввода основ. ср-в'!B:B,0)))","v":0},{"$f":"IF(ISNA(INDEX('План ввода основ. ср-в'!AA:AA,MATCH(B185,'План ввода основ. ср-в'!B:B,0))),0,INDEX('План ввода основ. ср-в'!AA:AA,MATCH(B185,'План ввода основ. ср-в'!B:B,0)))","v":3.579661016949153},{"$f":"IF(ISNA(INDEX('План ввода основ. ср-в'!AB:AB,MATCH(B185,'План ввода основ. ср-в'!B:B,0))),0,INDEX('План ввода основ. ср-в'!AB:AB,MATCH(B185,'План ввода основ. ср-в'!B:B,0)))","v":0},{"$f":"IF(ISNA(INDEX('План ввода основ. ср-в'!AC:AC,MATCH(B185,'План ввода основ. ср-в'!B:B,0))),0,INDEX('План ввода основ. ср-в'!AC:AC,MATCH(B185,'План ввода основ. ср-в'!B:B,0)))","v":0},3.579661016949153]
[164,"Реконструкция ВЛ-0,4 кВ от  ЗТП Пр 222/160 кВА с заменой КТП ",null,null,null,null,null,null,0,"",0,0,"",0,1.64,"/",0.16,0,"",0,0,"",0,1.64,"/",0.16,4.9084745762711863,{"$f":"IF(ISNA(INDEX('План ввода основ. ср-в'!F:F,MATCH(B186,'План ввода основ. ср-в'!B:B,0))),0,INDEX('План ввода основ. ср-в'!F:F,MATCH(B186,'План ввода основ. ср-в'!B:B,0)))","v":0},"",{"$f":"IF(ISNA(INDEX('План ввода основ. ср-в'!E:E,MATCH(B186,'План ввода основ. ср-в'!B:B,0))),0,INDEX('План ввода основ. ср-в'!E:E,MATCH(B186,'План ввода основ. ср-в'!B:B,0)))","v":0},{"$f":"IF(ISNA(INDEX('План ввода основ. ср-в'!H:H,MATCH(B186,'План ввода основ. ср-в'!B:B,0))),0,INDEX('План ввода основ. ср-в'!H:H,MATCH(B186,'План ввода основ. ср-в'!B:B,0)))","v":0},"",{"$f":"IF(ISNA(INDEX('План ввода основ. ср-в'!G:G,MATCH(B186,'План ввода основ. ср-в'!B:B,0))),0,INDEX('План ввода основ. ср-в'!G:G,MATCH(B186,'План ввода основ. ср-в'!B:B,0)))","v":0},{"$f":"IF(ISNA(INDEX('План ввода основ. ср-в'!J:J,MATCH(B186,'План ввода основ. ср-в'!B:B,0))),0,INDEX('План ввода основ. ср-в'!J:J,MATCH(B186,'План ввода основ. ср-в'!B:B,0)))","v":0},"",{"$f":"IF(ISNA(INDEX('План ввода основ. ср-в'!I:I,MATCH(B186,'План ввода основ. ср-в'!B:B,0))),0,INDEX('План ввода основ. ср-в'!I:I,MATCH(B186,'План ввода основ. ср-в'!B:B,0)))","v":0},{"$f":"IF(ISNA(INDEX('План ввода основ. ср-в'!L:L,MATCH(B186,'План ввода основ. ср-в'!B:B,0))),0,INDEX('План ввода основ. ср-в'!L:L,MATCH(B186,'План ввода основ. ср-в'!B:B,0)))","v":0},"",{"$f":"IF(ISNA(INDEX('План ввода основ. ср-в'!K:K,MATCH(B186,'План ввода основ. ср-в'!B:B,0))),0,INDEX('План ввода основ. ср-в'!K:K,MATCH(B186,'План ввода основ. ср-в'!B:B,0)))","v":0},0,"/",0,{"$f":"IF(ISNA(INDEX('План ввода основ. ср-в'!N:N,MATCH(B186,'План ввода основ. ср-в'!B:B,0))),0,INDEX('План ввода основ. ср-в'!N:N,MATCH(B186,'План ввода основ. ср-в'!B:B,0)))","v":0},"",{"$f":"IF(ISNA(INDEX('План ввода основ. ср-в'!M:M,MATCH(B186,'План ввода основ. ср-в'!B:B,0))),0,INDEX('План ввода основ. ср-в'!M:M,MATCH(B186,'План ввода основ. ср-в'!B:B,0)))","v":0},{"$f":"IF(ISNA(INDEX('План ввода основ. ср-в'!P:P,MATCH(B186,'План ввода основ. ср-в'!B:B,0))),0,INDEX('План ввода основ. ср-в'!P:P,MATCH(B186,'План ввода основ. ср-в'!B:B,0)))","v":1.64},"/",{"$f":"IF(ISNA(INDEX('План ввода основ. ср-в'!O:O,MATCH(B186,'План ввода основ. ср-в'!B:B,0))),0,INDEX('План ввода основ. ср-в'!O:O,MATCH(B186,'План ввода основ. ср-в'!B:B,0)))","v":0.16},{"$f":"IF(ISNA(INDEX('План ввода основ. ср-в'!R:R,MATCH(B186,'План ввода основ. ср-в'!B:B,0))),0,INDEX('План ввода основ. ср-в'!R:R,MATCH(B186,'План ввода основ. ср-в'!B:B,0)))","v":0},"",{"$f":"IF(ISNA(INDEX('План ввода основ. ср-в'!Q:Q,MATCH(B186,'План ввода основ. ср-в'!B:B,0))),0,INDEX('План ввода основ. ср-в'!Q:Q,MATCH(B186,'План ввода основ. ср-в'!B:B,0)))","v":0},{"$f":"IF(ISNA(INDEX('План ввода основ. ср-в'!T:T,MATCH(B186,'План ввода основ. ср-в'!B:B,0))),0,INDEX('План ввода основ. ср-в'!T:T,MATCH(B186,'План ввода основ. ср-в'!B:B,0)))","v":0},"",{"$f":"IF(ISNA(INDEX('План ввода основ. ср-в'!S:S,MATCH(B186,'План ввода основ. ср-в'!B:B,0))),0,INDEX('План ввода основ. ср-в'!S:S,MATCH(B186,'План ввода основ. ср-в'!B:B,0)))","v":0},1.64,"/",0.16,{"$f":"IF(ISNA(INDEX('План ввода основ. ср-в'!V:V,MATCH(B186,'План ввода основ. ср-в'!B:B,0))),0,INDEX('План ввода основ. ср-в'!V:V,MATCH(B186,'План ввода основ. ср-в'!B:B,0)))","v":0},{"$f":"IF(ISNA(INDEX('План ввода основ. ср-в'!W:W,MATCH(B186,'План ввода основ. ср-в'!B:B,0))),0,INDEX('План ввода основ. ср-в'!W:W,MATCH(B186,'План ввода основ. ср-в'!B:B,0)))","v":0},{"$f":"IF(ISNA(INDEX('План ввода основ. ср-в'!X:X,MATCH(B186,'План ввода основ. ср-в'!B:B,0))),0,INDEX('План ввода основ. ср-в'!X:X,MATCH(B186,'План ввода основ. ср-в'!B:B,0)))","v":0},{"$f":"IF(ISNA(INDEX('План ввода основ. ср-в'!Y:Y,MATCH(B186,'План ввода основ. ср-в'!B:B,0))),0,INDEX('План ввода основ. ср-в'!Y:Y,MATCH(B186,'План ввода основ. ср-в'!B:B,0)))","v":0},0,{"$f":"IF(ISNA(INDEX('План ввода основ. ср-в'!Z:Z,MATCH(B186,'План ввода основ. ср-в'!B:B,0))),0,INDEX('План ввода основ. ср-в'!Z:Z,MATCH(B186,'План ввода основ. ср-в'!B:B,0)))","v":0},{"$f":"IF(ISNA(INDEX('План ввода основ. ср-в'!AA:AA,MATCH(B186,'План ввода основ. ср-в'!B:B,0))),0,INDEX('План ввода основ. ср-в'!AA:AA,MATCH(B186,'План ввода основ. ср-в'!B:B,0)))","v":4.9084745762711863},{"$f":"IF(ISNA(INDEX('План ввода основ. ср-в'!AB:AB,MATCH(B186,'План ввода основ. ср-в'!B:B,0))),0,INDEX('План ввода основ. ср-в'!AB:AB,MATCH(B186,'План ввода основ. ср-в'!B:B,0)))","v":0},{"$f":"IF(ISNA(INDEX('План ввода основ. ср-в'!AC:AC,MATCH(B186,'План ввода основ. ср-в'!B:B,0))),0,INDEX('План ввода основ. ср-в'!AC:AC,MATCH(B186,'План ввода основ. ср-в'!B:B,0)))","v":0},4.9084745762711863]
[165,"Реконструкция ВЛ-0,4 кВ от КТП Об 1213-813/2х250 кВА с заменой КТП ",null,null,null,null,null,null,0,"",0,0,"",0,0,"",0,1.2,"/",0.5,0,"",0,1.2,"/",0.5,3.8644067796610169,{"$f":"IF(ISNA(INDEX('План ввода основ. ср-в'!F:F,MATCH(B187,'План ввода основ. ср-в'!B:B,0))),0,INDEX('План ввода основ. ср-в'!F:F,MATCH(B187,'План ввода основ. ср-в'!B:B,0)))","v":0},"",{"$f":"IF(ISNA(INDEX('План ввода основ. ср-в'!E:E,MATCH(B187,'План ввода основ. ср-в'!B:B,0))),0,INDEX('План ввода основ. ср-в'!E:E,MATCH(B187,'План ввода основ. ср-в'!B:B,0)))","v":0},{"$f":"IF(ISNA(INDEX('План ввода основ. ср-в'!H:H,MATCH(B187,'План ввода основ. ср-в'!B:B,0))),0,INDEX('План ввода основ. ср-в'!H:H,MATCH(B187,'План ввода основ. ср-в'!B:B,0)))","v":0},"",{"$f":"IF(ISNA(INDEX('План ввода основ. ср-в'!G:G,MATCH(B187,'План ввода основ. ср-в'!B:B,0))),0,INDEX('План ввода основ. ср-в'!G:G,MATCH(B187,'План ввода основ. ср-в'!B:B,0)))","v":0},{"$f":"IF(ISNA(INDEX('План ввода основ. ср-в'!J:J,MATCH(B187,'План ввода основ. ср-в'!B:B,0))),0,INDEX('План ввода основ. ср-в'!J:J,MATCH(B187,'План ввода основ. ср-в'!B:B,0)))","v":0},"",{"$f":"IF(ISNA(INDEX('План ввода основ. ср-в'!I:I,MATCH(B187,'План ввода основ. ср-в'!B:B,0))),0,INDEX('План ввода основ. ср-в'!I:I,MATCH(B187,'План ввода основ. ср-в'!B:B,0)))","v":0},{"$f":"IF(ISNA(INDEX('План ввода основ. ср-в'!L:L,MATCH(B187,'План ввода основ. ср-в'!B:B,0))),0,INDEX('План ввода основ. ср-в'!L:L,MATCH(B187,'План ввода основ. ср-в'!B:B,0)))","v":0},"",{"$f":"IF(ISNA(INDEX('План ввода основ. ср-в'!K:K,MATCH(B187,'План ввода основ. ср-в'!B:B,0))),0,INDEX('План ввода основ. ср-в'!K:K,MATCH(B187,'План ввода основ. ср-в'!B:B,0)))","v":0},0,"/",0,{"$f":"IF(ISNA(INDEX('План ввода основ. ср-в'!N:N,MATCH(B187,'План ввода основ. ср-в'!B:B,0))),0,INDEX('План ввода основ. ср-в'!N:N,MATCH(B187,'План ввода основ. ср-в'!B:B,0)))","v":0},"",{"$f":"IF(ISNA(INDEX('План ввода основ. ср-в'!M:M,MATCH(B187,'План ввода основ. ср-в'!B:B,0))),0,INDEX('План ввода основ. ср-в'!M:M,MATCH(B187,'План ввода основ. ср-в'!B:B,0)))","v":0},{"$f":"IF(ISNA(INDEX('План ввода основ. ср-в'!P:P,MATCH(B187,'План ввода основ. ср-в'!B:B,0))),0,INDEX('План ввода основ. ср-в'!P:P,MATCH(B187,'План ввода основ. ср-в'!B:B,0)))","v":0},"",{"$f":"IF(ISNA(INDEX('План ввода основ. ср-в'!O:O,MATCH(B187,'План ввода основ. ср-в'!B:B,0))),0,INDEX('План ввода основ. ср-в'!O:O,MATCH(B187,'План ввода основ. ср-в'!B:B,0)))","v":0},{"$f":"IF(ISNA(INDEX('План ввода основ. ср-в'!R:R,MATCH(B187,'План ввода основ. ср-в'!B:B,0))),0,INDEX('План ввода основ. ср-в'!R:R,MATCH(B187,'План ввода основ. ср-в'!B:B,0)))","v":1.2},"/",{"$f":"IF(ISNA(INDEX('План ввода основ. ср-в'!Q:Q,MATCH(B187,'План ввода основ. ср-в'!B:B,0))),0,INDEX('План ввода основ. ср-в'!Q:Q,MATCH(B187,'План ввода основ. ср-в'!B:B,0)))","v":0.5},{"$f":"IF(ISNA(INDEX('План ввода основ. ср-в'!T:T,MATCH(B187,'План ввода основ. ср-в'!B:B,0))),0,INDEX('План ввода основ. ср-в'!T:T,MATCH(B187,'План ввода основ. ср-в'!B:B,0)))","v":0},"",{"$f":"IF(ISNA(INDEX('План ввода основ. ср-в'!S:S,MATCH(B187,'План ввода основ. ср-в'!B:B,0))),0,INDEX('План ввода основ. ср-в'!S:S,MATCH(B187,'План ввода основ. ср-в'!B:B,0)))","v":0},1.2,"/",0.5,{"$f":"IF(ISNA(INDEX('План ввода основ. ср-в'!V:V,MATCH(B187,'План ввода основ. ср-в'!B:B,0))),0,INDEX('План ввода основ. ср-в'!V:V,MATCH(B187,'План ввода основ. ср-в'!B:B,0)))","v":0},{"$f":"IF(ISNA(INDEX('План ввода основ. ср-в'!W:W,MATCH(B187,'План ввода основ. ср-в'!B:B,0))),0,INDEX('План ввода основ. ср-в'!W:W,MATCH(B187,'План ввода основ. ср-в'!B:B,0)))","v":0},{"$f":"IF(ISNA(INDEX('План ввода основ. ср-в'!X:X,MATCH(B187,'План ввода основ. ср-в'!B:B,0))),0,INDEX('План ввода основ. ср-в'!X:X,MATCH(B187,'План ввода основ. ср-в'!B:B,0)))","v":0},{"$f":"IF(ISNA(INDEX('План ввода основ. ср-в'!Y:Y,MATCH(B187,'План ввода основ. ср-в'!B:B,0))),0,INDEX('План ввода основ. ср-в'!Y:Y,MATCH(B187,'План ввода основ. ср-в'!B:B,0)))","v":0},0,{"$f":"IF(ISNA(INDEX('План ввода основ. ср-в'!Z:Z,MATCH(B187,'План ввода основ. ср-в'!B:B,0))),0,INDEX('План ввода основ. ср-в'!Z:Z,MATCH(B187,'План ввода основ. ср-в'!B:B,0)))","v":0},{"$f":"IF(ISNA(INDEX('План ввода основ. ср-в'!AA:AA,MATCH(B187,'План ввода основ. ср-в'!B:B,0))),0,INDEX('План ввода основ. ср-в'!AA:AA,MATCH(B187,'План ввода основ. ср-в'!B:B,0)))","v":0},{"$f":"IF(ISNA(INDEX('План ввода основ. ср-в'!AB:AB,MATCH(B187,'План ввода основ. ср-в'!B:B,0))),0,INDEX('План ввода основ. ср-в'!AB:AB,MATCH(B187,'План ввода основ. ср-в'!B:B,0)))","v":3.8644067796610169},{"$f":"IF(ISNA(INDEX('План ввода основ. ср-в'!AC:AC,MATCH(B187,'План ввода основ. ср-в'!B:B,0))),0,INDEX('План ввода основ. ср-в'!AC:AC,MATCH(B187,'План ввода основ. ср-в'!B:B,0)))","v":0},3.8644067796610169]
[166,"Реконструкция ВЛ-0,4 кВ от  ЗТП Об 1211-811/250 кВА с заменой КТП ",null,null,null,null,null,null,0,{"$f":"IF(AND(I188=0,K188=0),\"\",\"/\")","v":""},0,0,{"$f":"IF(AND(L188=0,N188=0),\"\",\"/\")","v":""},0,0,{"$f":"IF(AND(O188=0,Q188=0),\"\",\"/\")","v":""},0,0,{"$f":"IF(AND(R188=0,T188=0),\"\",\"/\")","v":""},0,2.34,{"$f":"IF(AND(U188=0,W188=0),\"\",\"/\")","v":"/"},0.25,2.34,"/",0.25,6.5694915254237287,{"$f":"IF(ISNA(INDEX('План ввода основ. ср-в'!F:F,MATCH(B188,'План ввода основ. ср-в'!B:B,0))),0,INDEX('План ввода основ. ср-в'!F:F,MATCH(B188,'План ввода основ. ср-в'!B:B,0)))","v":0},{"$f":"IF(AND(AB188=0,AD188=0),\"\",\"/\")","v":""},{"$f":"IF(ISNA(INDEX('План ввода основ. ср-в'!E:E,MATCH(B188,'План ввода основ. ср-в'!B:B,0))),0,INDEX('План ввода основ. ср-в'!E:E,MATCH(B188,'План ввода основ. ср-в'!B:B,0)))","v":0},{"$f":"IF(ISNA(INDEX('План ввода основ. ср-в'!H:H,MATCH(B188,'План ввода основ. ср-в'!B:B,0))),0,INDEX('План ввода основ. ср-в'!H:H,MATCH(B188,'План ввода основ. ср-в'!B:B,0)))","v":0},{"$f":"IF(AND(AE188=0,AG188=0),\"\",\"/\")","v":""},{"$f":"IF(ISNA(INDEX('План ввода основ. ср-в'!G:G,MATCH(B188,'План ввода основ. ср-в'!B:B,0))),0,INDEX('План ввода основ. ср-в'!G:G,MATCH(B188,'План ввода основ. ср-в'!B:B,0)))","v":0},{"$f":"IF(ISNA(INDEX('План ввода основ. ср-в'!J:J,MATCH(B188,'План ввода основ. ср-в'!B:B,0))),0,INDEX('План ввода основ. ср-в'!J:J,MATCH(B188,'План ввода основ. ср-в'!B:B,0)))","v":0},{"$f":"IF(AND(AH188=0,AJ188=0),\"\",\"/\")","v":""},{"$f":"IF(ISNA(INDEX('План ввода основ. ср-в'!I:I,MATCH(B188,'План ввода основ. ср-в'!B:B,0))),0,INDEX('План ввода основ. ср-в'!I:I,MATCH(B188,'План ввода основ. ср-в'!B:B,0)))","v":0},{"$f":"IF(ISNA(INDEX('План ввода основ. ср-в'!L:L,MATCH(B188,'План ввода основ. ср-в'!B:B,0))),0,INDEX('План ввода основ. ср-в'!L:L,MATCH(B188,'План ввода основ. ср-в'!B:B,0)))","v":0},{"$f":"IF(AND(AK188=0,AM188=0),\"\",\"/\")","v":""},{"$f":"IF(ISNA(INDEX('План ввода основ. ср-в'!K:K,MATCH(B188,'План ввода основ. ср-в'!B:B,0))),0,INDEX('План ввода основ. ср-в'!K:K,MATCH(B188,'План ввода основ. ср-в'!B:B,0)))","v":0},0,"/",0,{"$f":"IF(ISNA(INDEX('План ввода основ. ср-в'!N:N,MATCH(B188,'План ввода основ. ср-в'!B:B,0))),0,INDEX('План ввода основ. ср-в'!N:N,MATCH(B188,'План ввода основ. ср-в'!B:B,0)))","v":0},{"$f":"IF(AND(AQ188=0,AS188=0),\"\",\"/\")","v":""},{"$f":"IF(ISNA(INDEX('План ввода основ. ср-в'!M:M,MATCH(B188,'План ввода основ. ср-в'!B:B,0))),0,INDEX('План ввода основ. ср-в'!M:M,MATCH(B188,'План ввода основ. ср-в'!B:B,0)))","v":0},{"$f":"IF(ISNA(INDEX('План ввода основ. ср-в'!P:P,MATCH(B188,'План ввода основ. ср-в'!B:B,0))),0,INDEX('План ввода основ. ср-в'!P:P,MATCH(B188,'План ввода основ. ср-в'!B:B,0)))","v":0},{"$f":"IF(AND(AT188=0,AV188=0),\"\",\"/\")","v":""},{"$f":"IF(ISNA(INDEX('План ввода основ. ср-в'!O:O,MATCH(B188,'План ввода основ. ср-в'!B:B,0))),0,INDEX('План ввода основ. ср-в'!O:O,MATCH(B188,'План ввода основ. ср-в'!B:B,0)))","v":0},{"$f":"IF(ISNA(INDEX('План ввода основ. ср-в'!R:R,MATCH(B188,'План ввода основ. ср-в'!B:B,0))),0,INDEX('План ввода основ. ср-в'!R:R,MATCH(B188,'План ввода основ. ср-в'!B:B,0)))","v":0},{"$f":"IF(AND(AW188=0,AY188=0),\"\",\"/\")","v":""},{"$f":"IF(ISNA(INDEX('План ввода основ. ср-в'!Q:Q,MATCH(B188,'План ввода основ. ср-в'!B:B,0))),0,INDEX('План ввода основ. ср-в'!Q:Q,MATCH(B188,'План ввода основ. ср-в'!B:B,0)))","v":0},{"$f":"IF(ISNA(INDEX('План ввода основ. ср-в'!T:T,MATCH(B188,'План ввода основ. ср-в'!B:B,0))),0,INDEX('План ввода основ. ср-в'!T:T,MATCH(B188,'План ввода основ. ср-в'!B:B,0)))","v":2.34},{"$f":"IF(AND(AZ188=0,BB188=0),\"\",\"/\")","v":"/"},{"$f":"IF(ISNA(INDEX('План ввода основ. ср-в'!S:S,MATCH(B188,'План ввода основ. ср-в'!B:B,0))),0,INDEX('План ввода основ. ср-в'!S:S,MATCH(B188,'План ввода основ. ср-в'!B:B,0)))","v":0.25},2.34,"/",0.25,{"$f":"IF(ISNA(INDEX('План ввода основ. ср-в'!V:V,MATCH(B188,'План ввода основ. ср-в'!B:B,0))),0,INDEX('План ввода основ. ср-в'!V:V,MATCH(B188,'План ввода основ. ср-в'!B:B,0)))","v":0},{"$f":"IF(ISNA(INDEX('План ввода основ. ср-в'!W:W,MATCH(B188,'План ввода основ. ср-в'!B:B,0))),0,INDEX('План ввода основ. ср-в'!W:W,MATCH(B188,'План ввода основ. ср-в'!B:B,0)))","v":0},{"$f":"IF(ISNA(INDEX('План ввода основ. ср-в'!X:X,MATCH(B188,'План ввода основ. ср-в'!B:B,0))),0,INDEX('План ввода основ. ср-в'!X:X,MATCH(B188,'План ввода основ. ср-в'!B:B,0)))","v":0},{"$f":"IF(ISNA(INDEX('План ввода основ. ср-в'!Y:Y,MATCH(B188,'План ввода основ. ср-в'!B:B,0))),0,INDEX('План ввода основ. ср-в'!Y:Y,MATCH(B188,'План ввода основ. ср-в'!B:B,0)))","v":0},0,{"$f":"IF(ISNA(INDEX('План ввода основ. ср-в'!Z:Z,MATCH(B188,'План ввода основ. ср-в'!B:B,0))),0,INDEX('План ввода основ. ср-в'!Z:Z,MATCH(B188,'План ввода основ. ср-в'!B:B,0)))","v":0},{"$f":"IF(ISNA(INDEX('План ввода основ. ср-в'!AA:AA,MATCH(B188,'План ввода основ. ср-в'!B:B,0))),0,INDEX('План ввода основ. ср-в'!AA:AA,MATCH(B188,'План ввода основ. ср-в'!B:B,0)))","v":0},{"$f":"IF(ISNA(INDEX('План ввода основ. ср-в'!AB:AB,MATCH(B188,'План ввода основ. ср-в'!B:B,0))),0,INDEX('План ввода основ. ср-в'!AB:AB,MATCH(B188,'План ввода основ. ср-в'!B:B,0)))","v":0},{"$f":"IF(ISNA(INDEX('План ввода основ. ср-в'!AC:AC,MATCH(B188,'План ввода основ. ср-в'!B:B,0))),0,INDEX('План ввода основ. ср-в'!AC:AC,MATCH(B188,'План ввода основ. ср-в'!B:B,0)))","v":6.5694915254237287},6.5694915254237287]
[167,"г.Самара",null,null,null,null,null,null,0,"",0,0,"",0,0,"",0,0,"",0,0,"",0,0,"/",0,0,{"$f":"IF(ISNA(INDEX('План ввода основ. ср-в'!F:F,MATCH(B189,'План ввода основ. ср-в'!B:B,0))),0,INDEX('План ввода основ. ср-в'!F:F,MATCH(B189,'План ввода основ. ср-в'!B:B,0)))","v":0},"",{"$f":"IF(ISNA(INDEX('План ввода основ. ср-в'!E:E,MATCH(B189,'План ввода основ. ср-в'!B:B,0))),0,INDEX('План ввода основ. ср-в'!E:E,MATCH(B189,'План ввода основ. ср-в'!B:B,0)))","v":0},{"$f":"IF(ISNA(INDEX('План ввода основ. ср-в'!H:H,MATCH(B189,'План ввода основ. ср-в'!B:B,0))),0,INDEX('План ввода основ. ср-в'!H:H,MATCH(B189,'План ввода основ. ср-в'!B:B,0)))","v":0},"",{"$f":"IF(ISNA(INDEX('План ввода основ. ср-в'!G:G,MATCH(B189,'План ввода основ. ср-в'!B:B,0))),0,INDEX('План ввода основ. ср-в'!G:G,MATCH(B189,'План ввода основ. ср-в'!B:B,0)))","v":0},{"$f":"IF(ISNA(INDEX('План ввода основ. ср-в'!J:J,MATCH(B189,'План ввода основ. ср-в'!B:B,0))),0,INDEX('План ввода основ. ср-в'!J:J,MATCH(B189,'План ввода основ. ср-в'!B:B,0)))","v":0},"",{"$f":"IF(ISNA(INDEX('План ввода основ. ср-в'!I:I,MATCH(B189,'План ввода основ. ср-в'!B:B,0))),0,INDEX('План ввода основ. ср-в'!I:I,MATCH(B189,'План ввода основ. ср-в'!B:B,0)))","v":0},{"$f":"IF(ISNA(INDEX('План ввода основ. ср-в'!L:L,MATCH(B189,'План ввода основ. ср-в'!B:B,0))),0,INDEX('План ввода основ. ср-в'!L:L,MATCH(B189,'План ввода основ. ср-в'!B:B,0)))","v":0},"",{"$f":"IF(ISNA(INDEX('План ввода основ. ср-в'!K:K,MATCH(B189,'План ввода основ. ср-в'!B:B,0))),0,INDEX('План ввода основ. ср-в'!K:K,MATCH(B189,'План ввода основ. ср-в'!B:B,0)))","v":0},0,"/",0,{"$f":"IF(ISNA(INDEX('План ввода основ. ср-в'!N:N,MATCH(B189,'План ввода основ. ср-в'!B:B,0))),0,INDEX('План ввода основ. ср-в'!N:N,MATCH(B189,'План ввода основ. ср-в'!B:B,0)))","v":0},"",{"$f":"IF(ISNA(INDEX('План ввода основ. ср-в'!M:M,MATCH(B189,'План ввода основ. ср-в'!B:B,0))),0,INDEX('План ввода основ. ср-в'!M:M,MATCH(B189,'План ввода основ. ср-в'!B:B,0)))","v":0},{"$f":"IF(ISNA(INDEX('План ввода основ. ср-в'!P:P,MATCH(B189,'План ввода основ. ср-в'!B:B,0))),0,INDEX('План ввода основ. ср-в'!P:P,MATCH(B189,'План ввода основ. ср-в'!B:B,0)))","v":0},"",{"$f":"IF(ISNA(INDEX('План ввода основ. ср-в'!O:O,MATCH(B189,'План ввода основ. ср-в'!B:B,0))),0,INDEX('План ввода основ. ср-в'!O:O,MATCH(B189,'План ввода основ. ср-в'!B:B,0)))","v":0},{"$f":"IF(ISNA(INDEX('План ввода основ. ср-в'!R:R,MATCH(B189,'План ввода основ. ср-в'!B:B,0))),0,INDEX('План ввода основ. ср-в'!R:R,MATCH(B189,'План ввода основ. ср-в'!B:B,0)))","v":0},"",{"$f":"IF(ISNA(INDEX('План ввода основ. ср-в'!Q:Q,MATCH(B189,'План ввода основ. ср-в'!B:B,0))),0,INDEX('План ввода основ. ср-в'!Q:Q,MATCH(B189,'План ввода основ. ср-в'!B:B,0)))","v":0},{"$f":"IF(ISNA(INDEX('План ввода основ. ср-в'!T:T,MATCH(B189,'План ввода основ. ср-в'!B:B,0))),0,INDEX('План ввода основ. ср-в'!T:T,MATCH(B189,'План ввода основ. ср-в'!B:B,0)))","v":0},"",{"$f":"IF(ISNA(INDEX('План ввода основ. ср-в'!S:S,MATCH(B189,'План ввода основ. ср-в'!B:B,0))),0,INDEX('План ввода основ. ср-в'!S:S,MATCH(B189,'План ввода основ. ср-в'!B:B,0)))","v":0},0,"/",0,{"$f":"IF(ISNA(INDEX('План ввода основ. ср-в'!V:V,MATCH(B189,'План ввода основ. ср-в'!B:B,0))),0,INDEX('План ввода основ. ср-в'!V:V,MATCH(B189,'План ввода основ. ср-в'!B:B,0)))","v":0},{"$f":"IF(ISNA(INDEX('План ввода основ. ср-в'!W:W,MATCH(B189,'План ввода основ. ср-в'!B:B,0))),0,INDEX('План ввода основ. ср-в'!W:W,MATCH(B189,'План ввода основ. ср-в'!B:B,0)))","v":0},{"$f":"IF(ISNA(INDEX('План ввода основ. ср-в'!X:X,MATCH(B189,'План ввода основ. ср-в'!B:B,0))),0,INDEX('План ввода основ. ср-в'!X:X,MATCH(B189,'План ввода основ. ср-в'!B:B,0)))","v":0},{"$f":"IF(ISNA(INDEX('План ввода основ. ср-в'!Y:Y,MATCH(B189,'План ввода основ. ср-в'!B:B,0))),0,INDEX('План ввода основ. ср-в'!Y:Y,MATCH(B189,'План ввода основ. ср-в'!B:B,0)))","v":0},0,{"$f":"IF(ISNA(INDEX('План ввода основ. ср-в'!Z:Z,MATCH(B189,'План ввода основ. ср-в'!B:B,0))),0,INDEX('План ввода основ. ср-в'!Z:Z,MATCH(B189,'План ввода основ. ср-в'!B:B,0)))","v":0},{"$f":"IF(ISNA(INDEX('План ввода основ. ср-в'!AA:AA,MATCH(B189,'План ввода основ. ср-в'!B:B,0))),0,INDEX('План ввода основ. ср-в'!AA:AA,MATCH(B189,'План ввода основ. ср-в'!B:B,0)))","v":0},{"$f":"IF(ISNA(INDEX('План ввода основ. ср-в'!AB:AB,MATCH(B189,'План ввода основ. ср-в'!B:B,0))),0,INDEX('План ввода основ. ср-в'!AB:AB,MATCH(B189,'План ввода основ. ср-в'!B:B,0)))","v":0},{"$f":"IF(ISNA(INDEX('План ввода основ. ср-в'!AC:AC,MATCH(B189,'План ввода основ. ср-в'!B:B,0))),0,INDEX('План ввода основ. ср-в'!AC:AC,MATCH(B189,'План ввода основ. ср-в'!B:B,0)))","v":0},0]
[168,"Электроснабжение инфраструктуры объектов электросетевого хозяйства в г.о. Самара (в районе радиоцентра №3), в т.ч. I, II, III, IV этап",null,null,null,null,null,null,11.08,null,0,0,null,0,null,null,null,0,null,0,0,null,0,11.08,null,0,384.84237288135591,{"$f":"IF(ISNA(INDEX('План ввода основ. ср-в'!F:F,MATCH(B190,'План ввода основ. ср-в'!B:B,0))),0,INDEX('План ввода основ. ср-в'!F:F,MATCH(B190,'План ввода основ. ср-в'!B:B,0)))","v":0},null,{"$f":"IF(ISNA(INDEX('План ввода основ. ср-в'!E:E,MATCH(B190,'План ввода основ. ср-в'!B:B,0))),0,INDEX('План ввода основ. ср-в'!E:E,MATCH(B190,'План ввода основ. ср-в'!B:B,0)))","v":0},{"$f":"IF(ISNA(INDEX('План ввода основ. ср-в'!H:H,MATCH(B190,'План ввода основ. ср-в'!B:B,0))),0,INDEX('План ввода основ. ср-в'!H:H,MATCH(B190,'План ввода основ. ср-в'!B:B,0)))","v":0},null,{"$f":"IF(ISNA(INDEX('План ввода основ. ср-в'!G:G,MATCH(B190,'План ввода основ. ср-в'!B:B,0))),0,INDEX('План ввода основ. ср-в'!G:G,MATCH(B190,'План ввода основ. ср-в'!B:B,0)))","v":0},{"$f":"IF(ISNA(INDEX('План ввода основ. ср-в'!J:J,MATCH(B190,'План ввода основ. ср-в'!B:B,0))),0,INDEX('План ввода основ. ср-в'!J:J,MATCH(B190,'План ввода основ. ср-в'!B:B,0)))","v":0},null,{"$f":"IF(ISNA(INDEX('План ввода основ. ср-в'!I:I,MATCH(B190,'План ввода основ. ср-в'!B:B,0))),0,INDEX('План ввода основ. ср-в'!I:I,MATCH(B190,'План ввода основ. ср-в'!B:B,0)))","v":0},{"$f":"IF(ISNA(INDEX('План ввода основ. ср-в'!L:L,MATCH(B190,'План ввода основ. ср-в'!B:B,0))),0,INDEX('План ввода основ. ср-в'!L:L,MATCH(B190,'План ввода основ. ср-в'!B:B,0)))","v":11.08},null,{"$f":"IF(ISNA(INDEX('План ввода основ. ср-в'!K:K,MATCH(B190,'План ввода основ. ср-в'!B:B,0))),0,INDEX('План ввода основ. ср-в'!K:K,MATCH(B190,'План ввода основ. ср-в'!B:B,0)))","v":9.26},11.08,null,9.26,{"$f":"IF(ISNA(INDEX('План ввода основ. ср-в'!N:N,MATCH(B190,'План ввода основ. ср-в'!B:B,0))),0,INDEX('План ввода основ. ср-в'!N:N,MATCH(B190,'План ввода основ. ср-в'!B:B,0)))","v":0},null,{"$f":"IF(ISNA(INDEX('План ввода основ. ср-в'!M:M,MATCH(B190,'План ввода основ. ср-в'!B:B,0))),0,INDEX('План ввода основ. ср-в'!M:M,MATCH(B190,'План ввода основ. ср-в'!B:B,0)))","v":0},{"$f":"IF(ISNA(INDEX('План ввода основ. ср-в'!P:P,MATCH(B190,'План ввода основ. ср-в'!B:B,0))),0,INDEX('План ввода основ. ср-в'!P:P,MATCH(B190,'План ввода основ. ср-в'!B:B,0)))","v":0},null,{"$f":"IF(ISNA(INDEX('План ввода основ. ср-в'!O:O,MATCH(B190,'План ввода основ. ср-в'!B:B,0))),0,INDEX('План ввода основ. ср-в'!O:O,MATCH(B190,'План ввода основ. ср-в'!B:B,0)))","v":0},{"$f":"IF(ISNA(INDEX('План ввода основ. ср-в'!R:R,MATCH(B190,'План ввода основ. ср-в'!B:B,0))),0,INDEX('План ввода основ. ср-в'!R:R,MATCH(B190,'План ввода основ. ср-в'!B:B,0)))","v":0},null,{"$f":"IF(ISNA(INDEX('План ввода основ. ср-в'!Q:Q,MATCH(B190,'План ввода основ. ср-в'!B:B,0))),0,INDEX('План ввода основ. ср-в'!Q:Q,MATCH(B190,'План ввода основ. ср-в'!B:B,0)))","v":0},{"$f":"IF(ISNA(INDEX('План ввода основ. ср-в'!T:T,MATCH(B190,'План ввода основ. ср-в'!B:B,0))),0,INDEX('План ввода основ. ср-в'!T:T,MATCH(B190,'План ввода основ. ср-в'!B:B,0)))","v":0},null,{"$f":"IF(ISNA(INDEX('План ввода основ. ср-в'!S:S,MATCH(B190,'План ввода основ. ср-в'!B:B,0))),0,INDEX('План ввода основ. ср-в'!S:S,MATCH(B190,'План ввода основ. ср-в'!B:B,0)))","v":0},11.08,null,9.26,{"$f":"IF(ISNA(INDEX('План ввода основ. ср-в'!V:V,MATCH(B190,'План ввода основ. ср-в'!B:B,0))),0,INDEX('План ввода основ. ср-в'!V:V,MATCH(B190,'План ввода основ. ср-в'!B:B,0)))","v":0},{"$f":"IF(ISNA(INDEX('План ввода основ. ср-в'!W:W,MATCH(B190,'План ввода основ. ср-в'!B:B,0))),0,INDEX('План ввода основ. ср-в'!W:W,MATCH(B190,'План ввода основ. ср-в'!B:B,0)))","v":57.726355932203383},{"$f":"IF(ISNA(INDEX('План ввода основ. ср-в'!X:X,MATCH(B190,'План ввода основ. ср-в'!B:B,0))),0,INDEX('План ввода основ. ср-в'!X:X,MATCH(B190,'План ввода основ. ср-в'!B:B,0)))","v":134.69483050847455},{"$f":"IF(ISNA(INDEX('План ввода основ. ср-в'!Y:Y,MATCH(B190,'План ввода основ. ср-в'!B:B,0))),0,INDEX('План ввода основ. ср-в'!Y:Y,MATCH(B190,'План ввода основ. ср-в'!B:B,0)))","v":192.42118644067796},384.84237288135591,{"$f":"IF(ISNA(INDEX('План ввода основ. ср-в'!Z:Z,MATCH(B190,'План ввода основ. ср-в'!B:B,0))),0,INDEX('План ввода основ. ср-в'!Z:Z,MATCH(B190,'План ввода основ. ср-в'!B:B,0)))","v":0},{"$f":"IF(ISNA(INDEX('План ввода основ. ср-в'!AA:AA,MATCH(B190,'План ввода основ. ср-в'!B:B,0))),0,INDEX('План ввода основ. ср-в'!AA:AA,MATCH(B190,'План ввода основ. ср-в'!B:B,0)))","v":0},{"$f":"IF(ISNA(INDEX('План ввода основ. ср-в'!AB:AB,MATCH(B190,'План ввода основ. ср-в'!B:B,0))),0,INDEX('План ввода основ. ср-в'!AB:AB,MATCH(B190,'План ввода основ. ср-в'!B:B,0)))","v":0},{"$f":"IF(ISNA(INDEX('План ввода основ. ср-в'!AC:AC,MATCH(B190,'План ввода основ. ср-в'!B:B,0))),0,INDEX('План ввода основ. ср-в'!AC:AC,MATCH(B190,'План ввода основ. ср-в'!B:B,0)))","v":0},384.84237288135591]
[169,"Реконструкция КЛ-10 кВ от ТП 6096 до КТПН 6036 с переводом ТП 6124 на 10 кВ\" г.о. Самара ул. Ташкентская, Московское шоссе ",null,null,null,null,null,null,1.05,null,0,0,null,0,null,null,null,0,null,0,0,null,0,1.05,null,0,55.528813559322032,{"$f":"IF(ISNA(INDEX('План ввода основ. ср-в'!F:F,MATCH(B191,'План ввода основ. ср-в'!B:B,0))),0,INDEX('План ввода основ. ср-в'!F:F,MATCH(B191,'План ввода основ. ср-в'!B:B,0)))","v":0},null,{"$f":"IF(ISNA(INDEX('План ввода основ. ср-в'!E:E,MATCH(B191,'План ввода основ. ср-в'!B:B,0))),0,INDEX('План ввода основ. ср-в'!E:E,MATCH(B191,'План ввода основ. ср-в'!B:B,0)))","v":0},{"$f":"IF(ISNA(INDEX('План ввода основ. ср-в'!H:H,MATCH(B191,'План ввода основ. ср-в'!B:B,0))),0,INDEX('План ввода основ. ср-в'!H:H,MATCH(B191,'План ввода основ. ср-в'!B:B,0)))","v":0},null,{"$f":"IF(ISNA(INDEX('План ввода основ. ср-в'!G:G,MATCH(B191,'План ввода основ. ср-в'!B:B,0))),0,INDEX('План ввода основ. ср-в'!G:G,MATCH(B191,'План ввода основ. ср-в'!B:B,0)))","v":0},{"$f":"IF(ISNA(INDEX('План ввода основ. ср-в'!J:J,MATCH(B191,'План ввода основ. ср-в'!B:B,0))),0,INDEX('План ввода основ. ср-в'!J:J,MATCH(B191,'План ввода основ. ср-в'!B:B,0)))","v":0},null,{"$f":"IF(ISNA(INDEX('План ввода основ. ср-в'!I:I,MATCH(B191,'План ввода основ. ср-в'!B:B,0))),0,INDEX('План ввода основ. ср-в'!I:I,MATCH(B191,'План ввода основ. ср-в'!B:B,0)))","v":0},{"$f":"IF(ISNA(INDEX('План ввода основ. ср-в'!L:L,MATCH(B191,'План ввода основ. ср-в'!B:B,0))),0,INDEX('План ввода основ. ср-в'!L:L,MATCH(B191,'План ввода основ. ср-в'!B:B,0)))","v":1.05},null,{"$f":"IF(ISNA(INDEX('План ввода основ. ср-в'!K:K,MATCH(B191,'План ввода основ. ср-в'!B:B,0))),0,INDEX('План ввода основ. ср-в'!K:K,MATCH(B191,'План ввода основ. ср-в'!B:B,0)))","v":0},1.05,null,0,{"$f":"IF(ISNA(INDEX('План ввода основ. ср-в'!N:N,MATCH(B191,'План ввода основ. ср-в'!B:B,0))),0,INDEX('План ввода основ. ср-в'!N:N,MATCH(B191,'План ввода основ. ср-в'!B:B,0)))","v":0},null,{"$f":"IF(ISNA(INDEX('План ввода основ. ср-в'!M:M,MATCH(B191,'План ввода основ. ср-в'!B:B,0))),0,INDEX('План ввода основ. ср-в'!M:M,MATCH(B191,'План ввода основ. ср-в'!B:B,0)))","v":0},{"$f":"IF(ISNA(INDEX('План ввода основ. ср-в'!P:P,MATCH(B191,'План ввода основ. ср-в'!B:B,0))),0,INDEX('План ввода основ. ср-в'!P:P,MATCH(B191,'План ввода основ. ср-в'!B:B,0)))","v":0},null,{"$f":"IF(ISNA(INDEX('План ввода основ. ср-в'!O:O,MATCH(B191,'План ввода основ. ср-в'!B:B,0))),0,INDEX('План ввода основ. ср-в'!O:O,MATCH(B191,'План ввода основ. ср-в'!B:B,0)))","v":0},{"$f":"IF(ISNA(INDEX('План ввода основ. ср-в'!R:R,MATCH(B191,'План ввода основ. ср-в'!B:B,0))),0,INDEX('План ввода основ. ср-в'!R:R,MATCH(B191,'План ввода основ. ср-в'!B:B,0)))","v":0},null,{"$f":"IF(ISNA(INDEX('План ввода основ. ср-в'!Q:Q,MATCH(B191,'План ввода основ. ср-в'!B:B,0))),0,INDEX('План ввода основ. ср-в'!Q:Q,MATCH(B191,'План ввода основ. ср-в'!B:B,0)))","v":0},{"$f":"IF(ISNA(INDEX('План ввода основ. ср-в'!T:T,MATCH(B191,'План ввода основ. ср-в'!B:B,0))),0,INDEX('План ввода основ. ср-в'!T:T,MATCH(B191,'План ввода основ. ср-в'!B:B,0)))","v":0},null,{"$f":"IF(ISNA(INDEX('План ввода основ. ср-в'!S:S,MATCH(B191,'План ввода основ. ср-в'!B:B,0))),0,INDEX('План ввода основ. ср-в'!S:S,MATCH(B191,'План ввода основ. ср-в'!B:B,0)))","v":0},1.05,null,0,{"$f":"IF(ISNA(INDEX('План ввода основ. ср-в'!V:V,MATCH(B191,'План ввода основ. ср-в'!B:B,0))),0,INDEX('План ввода основ. ср-в'!V:V,MATCH(B191,'План ввода основ. ср-в'!B:B,0)))","v":0},{"$f":"IF(ISNA(INDEX('План ввода основ. ср-в'!W:W,MATCH(B191,'План ввода основ. ср-в'!B:B,0))),0,INDEX('План ввода основ. ср-в'!W:W,MATCH(B191,'План ввода основ. ср-в'!B:B,0)))","v":8.3293220338983058},{"$f":"IF(ISNA(INDEX('План ввода основ. ср-в'!X:X,MATCH(B191,'План ввода основ. ср-в'!B:B,0))),0,INDEX('План ввода основ. ср-в'!X:X,MATCH(B191,'План ввода основ. ср-в'!B:B,0)))","v":19.435084745762712},{"$f":"IF(ISNA(INDEX('План ввода основ. ср-в'!Y:Y,MATCH(B191,'План ввода основ. ср-в'!B:B,0))),0,INDEX('План ввода основ. ср-в'!Y:Y,MATCH(B191,'План ввода основ. ср-в'!B:B,0)))","v":27.764406779661019},55.528813559322032,{"$f":"IF(ISNA(INDEX('План ввода основ. ср-в'!Z:Z,MATCH(B191,'План ввода основ. ср-в'!B:B,0))),0,INDEX('План ввода основ. ср-в'!Z:Z,MATCH(B191,'План ввода основ. ср-в'!B:B,0)))","v":0},{"$f":"IF(ISNA(INDEX('План ввода основ. ср-в'!AA:AA,MATCH(B191,'План ввода основ. ср-в'!B:B,0))),0,INDEX('План ввода основ. ср-в'!AA:AA,MATCH(B191,'План ввода основ. ср-в'!B:B,0)))","v":0},{"$f":"IF(ISNA(INDEX('План ввода основ. ср-в'!AB:AB,MATCH(B191,'План ввода основ. ср-в'!B:B,0))),0,INDEX('План ввода основ. ср-в'!AB:AB,MATCH(B191,'План ввода основ. ср-в'!B:B,0)))","v":0},{"$f":"IF(ISNA(INDEX('План ввода основ. ср-в'!AC:AC,MATCH(B191,'План ввода основ. ср-в'!B:B,0))),0,INDEX('План ввода основ. ср-в'!AC:AC,MATCH(B191,'План ввода основ. ср-в'!B:B,0)))","v":0},55.528813559322032]
[170,"Электроснабжение объектов в районе улиц Ташкентская, Демократическая, Московское шоссе г.о. Самара",null,null,null,null,null,null,16.14,null,0,0,null,0,null,null,null,0,null,0,0,null,0,16.14,null,0,86.694915254237287,{"$f":"IF(ISNA(INDEX('План ввода основ. ср-в'!F:F,MATCH(B192,'План ввода основ. ср-в'!B:B,0))),0,INDEX('План ввода основ. ср-в'!F:F,MATCH(B192,'План ввода основ. ср-в'!B:B,0)))","v":0},null,{"$f":"IF(ISNA(INDEX('План ввода основ. ср-в'!E:E,MATCH(B192,'План ввода основ. ср-в'!B:B,0))),0,INDEX('План ввода основ. ср-в'!E:E,MATCH(B192,'План ввода основ. ср-в'!B:B,0)))","v":0},{"$f":"IF(ISNA(INDEX('План ввода основ. ср-в'!H:H,MATCH(B192,'План ввода основ. ср-в'!B:B,0))),0,INDEX('План ввода основ. ср-в'!H:H,MATCH(B192,'План ввода основ. ср-в'!B:B,0)))","v":0},null,{"$f":"IF(ISNA(INDEX('План ввода основ. ср-в'!G:G,MATCH(B192,'План ввода основ. ср-в'!B:B,0))),0,INDEX('План ввода основ. ср-в'!G:G,MATCH(B192,'План ввода основ. ср-в'!B:B,0)))","v":0},{"$f":"IF(ISNA(INDEX('План ввода основ. ср-в'!J:J,MATCH(B192,'План ввода основ. ср-в'!B:B,0))),0,INDEX('План ввода основ. ср-в'!J:J,MATCH(B192,'План ввода основ. ср-в'!B:B,0)))","v":0},null,{"$f":"IF(ISNA(INDEX('План ввода основ. ср-в'!I:I,MATCH(B192,'План ввода основ. ср-в'!B:B,0))),0,INDEX('План ввода основ. ср-в'!I:I,MATCH(B192,'План ввода основ. ср-в'!B:B,0)))","v":0},{"$f":"IF(ISNA(INDEX('План ввода основ. ср-в'!L:L,MATCH(B192,'План ввода основ. ср-в'!B:B,0))),0,INDEX('План ввода основ. ср-в'!L:L,MATCH(B192,'План ввода основ. ср-в'!B:B,0)))","v":16.14},null,{"$f":"IF(ISNA(INDEX('План ввода основ. ср-в'!K:K,MATCH(B192,'План ввода основ. ср-в'!B:B,0))),0,INDEX('План ввода основ. ср-в'!K:K,MATCH(B192,'План ввода основ. ср-в'!B:B,0)))","v":0},16.14,null,0,{"$f":"IF(ISNA(INDEX('План ввода основ. ср-в'!N:N,MATCH(B192,'План ввода основ. ср-в'!B:B,0))),0,INDEX('План ввода основ. ср-в'!N:N,MATCH(B192,'План ввода основ. ср-в'!B:B,0)))","v":0},null,{"$f":"IF(ISNA(INDEX('План ввода основ. ср-в'!M:M,MATCH(B192,'План ввода основ. ср-в'!B:B,0))),0,INDEX('План ввода основ. ср-в'!M:M,MATCH(B192,'План ввода основ. ср-в'!B:B,0)))","v":0},{"$f":"IF(ISNA(INDEX('План ввода основ. ср-в'!P:P,MATCH(B192,'План ввода основ. ср-в'!B:B,0))),0,INDEX('План ввода основ. ср-в'!P:P,MATCH(B192,'План ввода основ. ср-в'!B:B,0)))","v":0},null,{"$f":"IF(ISNA(INDEX('План ввода основ. ср-в'!O:O,MATCH(B192,'План ввода основ. ср-в'!B:B,0))),0,INDEX('План ввода основ. ср-в'!O:O,MATCH(B192,'План ввода основ. ср-в'!B:B,0)))","v":0},{"$f":"IF(ISNA(INDEX('План ввода основ. ср-в'!R:R,MATCH(B192,'План ввода основ. ср-в'!B:B,0))),0,INDEX('План ввода основ. ср-в'!R:R,MATCH(B192,'План ввода основ. ср-в'!B:B,0)))","v":0},null,{"$f":"IF(ISNA(INDEX('План ввода основ. ср-в'!Q:Q,MATCH(B192,'План ввода основ. ср-в'!B:B,0))),0,INDEX('План ввода основ. ср-в'!Q:Q,MATCH(B192,'План ввода основ. ср-в'!B:B,0)))","v":0},{"$f":"IF(ISNA(INDEX('План ввода основ. ср-в'!T:T,MATCH(B192,'План ввода основ. ср-в'!B:B,0))),0,INDEX('План ввода основ. ср-в'!T:T,MATCH(B192,'План ввода основ. ср-в'!B:B,0)))","v":0},null,{"$f":"IF(ISNA(INDEX('План ввода основ. ср-в'!S:S,MATCH(B192,'План ввода основ. ср-в'!B:B,0))),0,INDEX('План ввода основ. ср-в'!S:S,MATCH(B192,'План ввода основ. ср-в'!B:B,0)))","v":0},16.14,null,0,{"$f":"IF(ISNA(INDEX('План ввода основ. ср-в'!V:V,MATCH(B192,'План ввода основ. ср-в'!B:B,0))),0,INDEX('План ввода основ. ср-в'!V:V,MATCH(B192,'План ввода основ. ср-в'!B:B,0)))","v":0},{"$f":"IF(ISNA(INDEX('План ввода основ. ср-в'!W:W,MATCH(B192,'План ввода основ. ср-в'!B:B,0))),0,INDEX('План ввода основ. ср-в'!W:W,MATCH(B192,'План ввода основ. ср-в'!B:B,0)))","v":13.004237288135593},{"$f":"IF(ISNA(INDEX('План ввода основ. ср-в'!X:X,MATCH(B192,'План ввода основ. ср-в'!B:B,0))),0,INDEX('План ввода основ. ср-в'!X:X,MATCH(B192,'План ввода основ. ср-в'!B:B,0)))","v":30.343220338983048},{"$f":"IF(ISNA(INDEX('План ввода основ. ср-в'!Y:Y,MATCH(B192,'План ввода основ. ср-в'!B:B,0))),0,INDEX('План ввода основ. ср-в'!Y:Y,MATCH(B192,'План ввода основ. ср-в'!B:B,0)))","v":43.347457627118644},86.694915254237287,{"$f":"IF(ISNA(INDEX('План ввода основ. ср-в'!Z:Z,MATCH(B192,'План ввода основ. ср-в'!B:B,0))),0,INDEX('План ввода основ. ср-в'!Z:Z,MATCH(B192,'План ввода основ. ср-в'!B:B,0)))","v":0},{"$f":"IF(ISNA(INDEX('План ввода основ. ср-в'!AA:AA,MATCH(B192,'План ввода основ. ср-в'!B:B,0))),0,INDEX('План ввода основ. ср-в'!AA:AA,MATCH(B192,'План ввода основ. ср-в'!B:B,0)))","v":0},{"$f":"IF(ISNA(INDEX('План ввода основ. ср-в'!AB:AB,MATCH(B192,'План ввода основ. ср-в'!B:B,0))),0,INDEX('План ввода основ. ср-в'!AB:AB,MATCH(B192,'План ввода основ. ср-в'!B:B,0)))","v":0},{"$f":"IF(ISNA(INDEX('План ввода основ. ср-в'!AC:AC,MATCH(B192,'План ввода основ. ср-в'!B:B,0))),0,INDEX('План ввода основ. ср-в'!AC:AC,MATCH(B192,'План ввода основ. ср-в'!B:B,0)))","v":0},86.694915254237287]
[171,"Реконструкция ТП-1875 г.о. Самара",null,null,null,null,null,null,0,null,1.26,0,null,0,null,null,null,0,null,0,0,null,0,0,null,1.26,7.5866080762711867,{"$f":"IF(ISNA(INDEX('План ввода основ. ср-в'!F:F,MATCH(B193,'План ввода основ. ср-в'!B:B,0))),0,INDEX('План ввода основ. ср-в'!F:F,MATCH(B193,'План ввода основ. ср-в'!B:B,0)))","v":0},null,{"$f":"IF(ISNA(INDEX('План ввода основ. ср-в'!E:E,MATCH(B193,'План ввода основ. ср-в'!B:B,0))),0,INDEX('План ввода основ. ср-в'!E:E,MATCH(B193,'План ввода основ. ср-в'!B:B,0)))","v":0},{"$f":"IF(ISNA(INDEX('План ввода основ. ср-в'!H:H,MATCH(B193,'План ввода основ. ср-в'!B:B,0))),0,INDEX('План ввода основ. ср-в'!H:H,MATCH(B193,'План ввода основ. ср-в'!B:B,0)))","v":0},null,{"$f":"IF(ISNA(INDEX('План ввода основ. ср-в'!G:G,MATCH(B193,'План ввода основ. ср-в'!B:B,0))),0,INDEX('План ввода основ. ср-в'!G:G,MATCH(B193,'План ввода основ. ср-в'!B:B,0)))","v":0},{"$f":"IF(ISNA(INDEX('План ввода основ. ср-в'!J:J,MATCH(B193,'План ввода основ. ср-в'!B:B,0))),0,INDEX('План ввода основ. ср-в'!J:J,MATCH(B193,'План ввода основ. ср-в'!B:B,0)))","v":0},null,{"$f":"IF(ISNA(INDEX('План ввода основ. ср-в'!I:I,MATCH(B193,'План ввода основ. ср-в'!B:B,0))),0,INDEX('План ввода основ. ср-в'!I:I,MATCH(B193,'План ввода основ. ср-в'!B:B,0)))","v":0},{"$f":"IF(ISNA(INDEX('План ввода основ. ср-в'!L:L,MATCH(B193,'План ввода основ. ср-в'!B:B,0))),0,INDEX('План ввода основ. ср-в'!L:L,MATCH(B193,'План ввода основ. ср-в'!B:B,0)))","v":0},null,{"$f":"IF(ISNA(INDEX('План ввода основ. ср-в'!K:K,MATCH(B193,'План ввода основ. ср-в'!B:B,0))),0,INDEX('План ввода основ. ср-в'!K:K,MATCH(B193,'План ввода основ. ср-в'!B:B,0)))","v":1.26},0,null,1.26,{"$f":"IF(ISNA(INDEX('План ввода основ. ср-в'!N:N,MATCH(B193,'План ввода основ. ср-в'!B:B,0))),0,INDEX('План ввода основ. ср-в'!N:N,MATCH(B193,'План ввода основ. ср-в'!B:B,0)))","v":0},null,{"$f":"IF(ISNA(INDEX('План ввода основ. ср-в'!M:M,MATCH(B193,'План ввода основ. ср-в'!B:B,0))),0,INDEX('План ввода основ. ср-в'!M:M,MATCH(B193,'План ввода основ. ср-в'!B:B,0)))","v":0},{"$f":"IF(ISNA(INDEX('План ввода основ. ср-в'!P:P,MATCH(B193,'План ввода основ. ср-в'!B:B,0))),0,INDEX('План ввода основ. ср-в'!P:P,MATCH(B193,'План ввода основ. ср-в'!B:B,0)))","v":0},null,{"$f":"IF(ISNA(INDEX('План ввода основ. ср-в'!O:O,MATCH(B193,'План ввода основ. ср-в'!B:B,0))),0,INDEX('План ввода основ. ср-в'!O:O,MATCH(B193,'План ввода основ. ср-в'!B:B,0)))","v":0},{"$f":"IF(ISNA(INDEX('План ввода основ. ср-в'!R:R,MATCH(B193,'План ввода основ. ср-в'!B:B,0))),0,INDEX('План ввода основ. ср-в'!R:R,MATCH(B193,'План ввода основ. ср-в'!B:B,0)))","v":0},null,{"$f":"IF(ISNA(INDEX('План ввода основ. ср-в'!Q:Q,MATCH(B193,'План ввода основ. ср-в'!B:B,0))),0,INDEX('План ввода основ. ср-в'!Q:Q,MATCH(B193,'План ввода основ. ср-в'!B:B,0)))","v":0},{"$f":"IF(ISNA(INDEX('План ввода основ. ср-в'!T:T,MATCH(B193,'План ввода основ. ср-в'!B:B,0))),0,INDEX('План ввода основ. ср-в'!T:T,MATCH(B193,'План ввода основ. ср-в'!B:B,0)))","v":0},null,{"$f":"IF(ISNA(INDEX('План ввода основ. ср-в'!S:S,MATCH(B193,'План ввода основ. ср-в'!B:B,0))),0,INDEX('План ввода основ. ср-в'!S:S,MATCH(B193,'План ввода основ. ср-в'!B:B,0)))","v":0},0,null,1.26,{"$f":"IF(ISNA(INDEX('План ввода основ. ср-в'!V:V,MATCH(B193,'План ввода основ. ср-в'!B:B,0))),0,INDEX('План ввода основ. ср-в'!V:V,MATCH(B193,'План ввода основ. ср-в'!B:B,0)))","v":0},{"$f":"IF(ISNA(INDEX('План ввода основ. ср-в'!W:W,MATCH(B193,'План ввода основ. ср-в'!B:B,0))),0,INDEX('План ввода основ. ср-в'!W:W,MATCH(B193,'План ввода основ. ср-в'!B:B,0)))","v":1.1379912114406781},{"$f":"IF(ISNA(INDEX('План ввода основ. ср-в'!X:X,MATCH(B193,'План ввода основ. ср-в'!B:B,0))),0,INDEX('План ввода основ. ср-в'!X:X,MATCH(B193,'План ввода основ. ср-в'!B:B,0)))","v":2.6553128266949151},{"$f":"IF(ISNA(INDEX('План ввода основ. ср-в'!Y:Y,MATCH(B193,'План ввода основ. ср-в'!B:B,0))),0,INDEX('План ввода основ. ср-в'!Y:Y,MATCH(B193,'План ввода основ. ср-в'!B:B,0)))","v":3.7933040381355934},7.5866080762711867,{"$f":"IF(ISNA(INDEX('План ввода основ. ср-в'!Z:Z,MATCH(B193,'План ввода основ. ср-в'!B:B,0))),0,INDEX('План ввода основ. ср-в'!Z:Z,MATCH(B193,'План ввода основ. ср-в'!B:B,0)))","v":0},{"$f":"IF(ISNA(INDEX('План ввода основ. ср-в'!AA:AA,MATCH(B193,'План ввода основ. ср-в'!B:B,0))),0,INDEX('План ввода основ. ср-в'!AA:AA,MATCH(B193,'План ввода основ. ср-в'!B:B,0)))","v":0},{"$f":"IF(ISNA(INDEX('План ввода основ. ср-в'!AB:AB,MATCH(B193,'План ввода основ. ср-в'!B:B,0))),0,INDEX('План ввода основ. ср-в'!AB:AB,MATCH(B193,'План ввода основ. ср-в'!B:B,0)))","v":0},{"$f":"IF(ISNA(INDEX('План ввода основ. ср-в'!AC:AC,MATCH(B193,'План ввода основ. ср-в'!B:B,0))),0,INDEX('План ввода основ. ср-в'!AC:AC,MATCH(B193,'План ввода основ. ср-в'!B:B,0)))","v":0},7.5866080762711867]
[172,"Реконструкция ТП-2092 г.о. Самара",null,null,null,null,null,null,0,null,1.26,0,null,0,null,null,null,0,null,0,0,null,0,0,null,1.26,3.0172663135593223,{"$f":"IF(ISNA(INDEX('План ввода основ. ср-в'!F:F,MATCH(B194,'План ввода основ. ср-в'!B:B,0))),0,INDEX('План ввода основ. ср-в'!F:F,MATCH(B194,'План ввода основ. ср-в'!B:B,0)))","v":0},null,{"$f":"IF(ISNA(INDEX('План ввода основ. ср-в'!E:E,MATCH(B194,'План ввода основ. ср-в'!B:B,0))),0,INDEX('План ввода основ. ср-в'!E:E,MATCH(B194,'План ввода основ. ср-в'!B:B,0)))","v":0},{"$f":"IF(ISNA(INDEX('План ввода основ. ср-в'!H:H,MATCH(B194,'План ввода основ. ср-в'!B:B,0))),0,INDEX('План ввода основ. ср-в'!H:H,MATCH(B194,'План ввода основ. ср-в'!B:B,0)))","v":0},null,{"$f":"IF(ISNA(INDEX('План ввода основ. ср-в'!G:G,MATCH(B194,'План ввода основ. ср-в'!B:B,0))),0,INDEX('План ввода основ. ср-в'!G:G,MATCH(B194,'План ввода основ. ср-в'!B:B,0)))","v":0},{"$f":"IF(ISNA(INDEX('План ввода основ. ср-в'!J:J,MATCH(B194,'План ввода основ. ср-в'!B:B,0))),0,INDEX('План ввода основ. ср-в'!J:J,MATCH(B194,'План ввода основ. ср-в'!B:B,0)))","v":0},null,{"$f":"IF(ISNA(INDEX('План ввода основ. ср-в'!I:I,MATCH(B194,'План ввода основ. ср-в'!B:B,0))),0,INDEX('План ввода основ. ср-в'!I:I,MATCH(B194,'План ввода основ. ср-в'!B:B,0)))","v":0},{"$f":"IF(ISNA(INDEX('План ввода основ. ср-в'!L:L,MATCH(B194,'План ввода основ. ср-в'!B:B,0))),0,INDEX('План ввода основ. ср-в'!L:L,MATCH(B194,'План ввода основ. ср-в'!B:B,0)))","v":0},null,{"$f":"IF(ISNA(INDEX('План ввода основ. ср-в'!K:K,MATCH(B194,'План ввода основ. ср-в'!B:B,0))),0,INDEX('План ввода основ. ср-в'!K:K,MATCH(B194,'План ввода основ. ср-в'!B:B,0)))","v":1.26},0,null,1.26,{"$f":"IF(ISNA(INDEX('План ввода основ. ср-в'!N:N,MATCH(B194,'План ввода основ. ср-в'!B:B,0))),0,INDEX('План ввода основ. ср-в'!N:N,MATCH(B194,'План ввода основ. ср-в'!B:B,0)))","v":0},null,{"$f":"IF(ISNA(INDEX('План ввода основ. ср-в'!M:M,MATCH(B194,'План ввода основ. ср-в'!B:B,0))),0,INDEX('План ввода основ. ср-в'!M:M,MATCH(B194,'План ввода основ. ср-в'!B:B,0)))","v":0},{"$f":"IF(ISNA(INDEX('План ввода основ. ср-в'!P:P,MATCH(B194,'План ввода основ. ср-в'!B:B,0))),0,INDEX('План ввода основ. ср-в'!P:P,MATCH(B194,'План ввода основ. ср-в'!B:B,0)))","v":0},null,{"$f":"IF(ISNA(INDEX('План ввода основ. ср-в'!O:O,MATCH(B194,'План ввода основ. ср-в'!B:B,0))),0,INDEX('План ввода основ. ср-в'!O:O,MATCH(B194,'План ввода основ. ср-в'!B:B,0)))","v":0},{"$f":"IF(ISNA(INDEX('План ввода основ. ср-в'!R:R,MATCH(B194,'План ввода основ. ср-в'!B:B,0))),0,INDEX('План ввода основ. ср-в'!R:R,MATCH(B194,'План ввода основ. ср-в'!B:B,0)))","v":0},null,{"$f":"IF(ISNA(INDEX('План ввода основ. ср-в'!Q:Q,MATCH(B194,'План ввода основ. ср-в'!B:B,0))),0,INDEX('План ввода основ. ср-в'!Q:Q,MATCH(B194,'План ввода основ. ср-в'!B:B,0)))","v":0},{"$f":"IF(ISNA(INDEX('План ввода основ. ср-в'!T:T,MATCH(B194,'План ввода основ. ср-в'!B:B,0))),0,INDEX('План ввода основ. ср-в'!T:T,MATCH(B194,'План ввода основ. ср-в'!B:B,0)))","v":0},null,{"$f":"IF(ISNA(INDEX('План ввода основ. ср-в'!S:S,MATCH(B194,'План ввода основ. ср-в'!B:B,0))),0,INDEX('План ввода основ. ср-в'!S:S,MATCH(B194,'План ввода основ. ср-в'!B:B,0)))","v":0},0,null,1.26,{"$f":"IF(ISNA(INDEX('План ввода основ. ср-в'!V:V,MATCH(B194,'План ввода основ. ср-в'!B:B,0))),0,INDEX('План ввода основ. ср-в'!V:V,MATCH(B194,'План ввода основ. ср-в'!B:B,0)))","v":0},{"$f":"IF(ISNA(INDEX('План ввода основ. ср-в'!W:W,MATCH(B194,'План ввода основ. ср-в'!B:B,0))),0,INDEX('План ввода основ. ср-в'!W:W,MATCH(B194,'План ввода основ. ср-в'!B:B,0)))","v":0.45258994703389832},{"$f":"IF(ISNA(INDEX('План ввода основ. ср-в'!X:X,MATCH(B194,'План ввода основ. ср-в'!B:B,0))),0,INDEX('План ввода основ. ср-в'!X:X,MATCH(B194,'План ввода основ. ср-в'!B:B,0)))","v":1.0560432097457628},{"$f":"IF(ISNA(INDEX('План ввода основ. ср-в'!Y:Y,MATCH(B194,'План ввода основ. ср-в'!B:B,0))),0,INDEX('План ввода основ. ср-в'!Y:Y,MATCH(B194,'План ввода основ. ср-в'!B:B,0)))","v":1.5086331567796611},3.0172663135593223,{"$f":"IF(ISNA(INDEX('План ввода основ. ср-в'!Z:Z,MATCH(B194,'План ввода основ. ср-в'!B:B,0))),0,INDEX('План ввода основ. ср-в'!Z:Z,MATCH(B194,'План ввода основ. ср-в'!B:B,0)))","v":0},{"$f":"IF(ISNA(INDEX('План ввода основ. ср-в'!AA:AA,MATCH(B194,'План ввода основ. ср-в'!B:B,0))),0,INDEX('План ввода основ. ср-в'!AA:AA,MATCH(B194,'План ввода основ. ср-в'!B:B,0)))","v":0},{"$f":"IF(ISNA(INDEX('План ввода основ. ср-в'!AB:AB,MATCH(B194,'План ввода основ. ср-в'!B:B,0))),0,INDEX('План ввода основ. ср-в'!AB:AB,MATCH(B194,'План ввода основ. ср-в'!B:B,0)))","v":0},{"$f":"IF(ISNA(INDEX('План ввода основ. ср-в'!AC:AC,MATCH(B194,'План ввода основ. ср-в'!B:B,0))),0,INDEX('План ввода основ. ср-в'!AC:AC,MATCH(B194,'План ввода основ. ср-в'!B:B,0)))","v":0},3.0172663135593223]
[173,"Реконструкция РП-129 г.о. Самара",null,null,null,null,null,null,0,null,0,0,null,0,null,null,null,0,null,0,0,null,0,0,null,0,30.463718855932207,{"$f":"IF(ISNA(INDEX('План ввода основ. ср-в'!F:F,MATCH(B195,'План ввода основ. ср-в'!B:B,0))),0,INDEX('План ввода основ. ср-в'!F:F,MATCH(B195,'План ввода основ. ср-в'!B:B,0)))","v":0},null,{"$f":"IF(ISNA(INDEX('План ввода основ. ср-в'!E:E,MATCH(B195,'План ввода основ. ср-в'!B:B,0))),0,INDEX('План ввода основ. ср-в'!E:E,MATCH(B195,'План ввода основ. ср-в'!B:B,0)))","v":0},{"$f":"IF(ISNA(INDEX('План ввода основ. ср-в'!H:H,MATCH(B195,'План ввода основ. ср-в'!B:B,0))),0,INDEX('План ввода основ. ср-в'!H:H,MATCH(B195,'План ввода основ. ср-в'!B:B,0)))","v":0},null,{"$f":"IF(ISNA(INDEX('План ввода основ. ср-в'!G:G,MATCH(B195,'План ввода основ. ср-в'!B:B,0))),0,INDEX('План ввода основ. ср-в'!G:G,MATCH(B195,'План ввода основ. ср-в'!B:B,0)))","v":0},{"$f":"IF(ISNA(INDEX('План ввода основ. ср-в'!J:J,MATCH(B195,'План ввода основ. ср-в'!B:B,0))),0,INDEX('План ввода основ. ср-в'!J:J,MATCH(B195,'План ввода основ. ср-в'!B:B,0)))","v":0},null,{"$f":"IF(ISNA(INDEX('План ввода основ. ср-в'!I:I,MATCH(B195,'План ввода основ. ср-в'!B:B,0))),0,INDEX('План ввода основ. ср-в'!I:I,MATCH(B195,'План ввода основ. ср-в'!B:B,0)))","v":0},{"$f":"IF(ISNA(INDEX('План ввода основ. ср-в'!L:L,MATCH(B195,'План ввода основ. ср-в'!B:B,0))),0,INDEX('План ввода основ. ср-в'!L:L,MATCH(B195,'План ввода основ. ср-в'!B:B,0)))","v":0},null,{"$f":"IF(ISNA(INDEX('План ввода основ. ср-в'!K:K,MATCH(B195,'План ввода основ. ср-в'!B:B,0))),0,INDEX('План ввода основ. ср-в'!K:K,MATCH(B195,'План ввода основ. ср-в'!B:B,0)))","v":0},0,null,0,{"$f":"IF(ISNA(INDEX('План ввода основ. ср-в'!N:N,MATCH(B195,'План ввода основ. ср-в'!B:B,0))),0,INDEX('План ввода основ. ср-в'!N:N,MATCH(B195,'План ввода основ. ср-в'!B:B,0)))","v":0},null,{"$f":"IF(ISNA(INDEX('План ввода основ. ср-в'!M:M,MATCH(B195,'План ввода основ. ср-в'!B:B,0))),0,INDEX('План ввода основ. ср-в'!M:M,MATCH(B195,'План ввода основ. ср-в'!B:B,0)))","v":0},{"$f":"IF(ISNA(INDEX('План ввода основ. ср-в'!P:P,MATCH(B195,'План ввода основ. ср-в'!B:B,0))),0,INDEX('План ввода основ. ср-в'!P:P,MATCH(B195,'План ввода основ. ср-в'!B:B,0)))","v":0},null,{"$f":"IF(ISNA(INDEX('План ввода основ. ср-в'!O:O,MATCH(B195,'План ввода основ. ср-в'!B:B,0))),0,INDEX('План ввода основ. ср-в'!O:O,MATCH(B195,'План ввода основ. ср-в'!B:B,0)))","v":0},{"$f":"IF(ISNA(INDEX('План ввода основ. ср-в'!R:R,MATCH(B195,'План ввода основ. ср-в'!B:B,0))),0,INDEX('План ввода основ. ср-в'!R:R,MATCH(B195,'План ввода основ. ср-в'!B:B,0)))","v":0},null,{"$f":"IF(ISNA(INDEX('План ввода основ. ср-в'!Q:Q,MATCH(B195,'План ввода основ. ср-в'!B:B,0))),0,INDEX('План ввода основ. ср-в'!Q:Q,MATCH(B195,'План ввода основ. ср-в'!B:B,0)))","v":0},{"$f":"IF(ISNA(INDEX('План ввода основ. ср-в'!T:T,MATCH(B195,'План ввода основ. ср-в'!B:B,0))),0,INDEX('План ввода основ. ср-в'!T:T,MATCH(B195,'План ввода основ. ср-в'!B:B,0)))","v":0},null,{"$f":"IF(ISNA(INDEX('План ввода основ. ср-в'!S:S,MATCH(B195,'План ввода основ. ср-в'!B:B,0))),0,INDEX('План ввода основ. ср-в'!S:S,MATCH(B195,'План ввода основ. ср-в'!B:B,0)))","v":0},0,null,0,{"$f":"IF(ISNA(INDEX('План ввода основ. ср-в'!V:V,MATCH(B195,'План ввода основ. ср-в'!B:B,0))),0,INDEX('План ввода основ. ср-в'!V:V,MATCH(B195,'План ввода основ. ср-в'!B:B,0)))","v":0},{"$f":"IF(ISNA(INDEX('План ввода основ. ср-в'!W:W,MATCH(B195,'План ввода основ. ср-в'!B:B,0))),0,INDEX('План ввода основ. ср-в'!W:W,MATCH(B195,'План ввода основ. ср-в'!B:B,0)))","v":4.569557828389831},{"$f":"IF(ISNA(INDEX('План ввода основ. ср-в'!X:X,MATCH(B195,'План ввода основ. ср-в'!B:B,0))),0,INDEX('План ввода основ. ср-в'!X:X,MATCH(B195,'План ввода основ. ср-в'!B:B,0)))","v":10.662301599576272},{"$f":"IF(ISNA(INDEX('План ввода основ. ср-в'!Y:Y,MATCH(B195,'План ввода основ. ср-в'!B:B,0))),0,INDEX('План ввода основ. ср-в'!Y:Y,MATCH(B195,'План ввода основ. ср-в'!B:B,0)))","v":15.231859427966103},30.463718855932207,{"$f":"IF(ISNA(INDEX('План ввода основ. ср-в'!Z:Z,MATCH(B195,'План ввода основ. ср-в'!B:B,0))),0,INDEX('План ввода основ. ср-в'!Z:Z,MATCH(B195,'План ввода основ. ср-в'!B:B,0)))","v":0},{"$f":"IF(ISNA(INDEX('План ввода основ. ср-в'!AA:AA,MATCH(B195,'План ввода основ. ср-в'!B:B,0))),0,INDEX('План ввода основ. ср-в'!AA:AA,MATCH(B195,'План ввода основ. ср-в'!B:B,0)))","v":0},{"$f":"IF(ISNA(INDEX('План ввода основ. ср-в'!AB:AB,MATCH(B195,'План ввода основ. ср-в'!B:B,0))),0,INDEX('План ввода основ. ср-в'!AB:AB,MATCH(B195,'План ввода основ. ср-в'!B:B,0)))","v":0},{"$f":"IF(ISNA(INDEX('План ввода основ. ср-в'!AC:AC,MATCH(B195,'План ввода основ. ср-в'!B:B,0))),0,INDEX('План ввода основ. ср-в'!AC:AC,MATCH(B195,'План ввода основ. ср-в'!B:B,0)))","v":0},30.463718855932207]
[174,"Реконструкция ТП-4641 г.о. Самара",null,null,null,null,null,null,0,null,0,0,null,0,null,null,null,0,null,0,0,null,0,0,null,0,1.3030524067796612,{"$f":"IF(ISNA(INDEX('План ввода основ. ср-в'!F:F,MATCH(B196,'План ввода основ. ср-в'!B:B,0))),0,INDEX('План ввода основ. ср-в'!F:F,MATCH(B196,'План ввода основ. ср-в'!B:B,0)))","v":0},null,{"$f":"IF(ISNA(INDEX('План ввода основ. ср-в'!E:E,MATCH(B196,'План ввода основ. ср-в'!B:B,0))),0,INDEX('План ввода основ. ср-в'!E:E,MATCH(B196,'План ввода основ. ср-в'!B:B,0)))","v":0},{"$f":"IF(ISNA(INDEX('План ввода основ. ср-в'!H:H,MATCH(B196,'План ввода основ. ср-в'!B:B,0))),0,INDEX('План ввода основ. ср-в'!H:H,MATCH(B196,'План ввода основ. ср-в'!B:B,0)))","v":0},null,{"$f":"IF(ISNA(INDEX('План ввода основ. ср-в'!G:G,MATCH(B196,'План ввода основ. ср-в'!B:B,0))),0,INDEX('План ввода основ. ср-в'!G:G,MATCH(B196,'План ввода основ. ср-в'!B:B,0)))","v":0},{"$f":"IF(ISNA(INDEX('План ввода основ. ср-в'!J:J,MATCH(B196,'План ввода основ. ср-в'!B:B,0))),0,INDEX('План ввода основ. ср-в'!J:J,MATCH(B196,'План ввода основ. ср-в'!B:B,0)))","v":0},null,{"$f":"IF(ISNA(INDEX('План ввода основ. ср-в'!I:I,MATCH(B196,'План ввода основ. ср-в'!B:B,0))),0,INDEX('План ввода основ. ср-в'!I:I,MATCH(B196,'План ввода основ. ср-в'!B:B,0)))","v":0},{"$f":"IF(ISNA(INDEX('План ввода основ. ср-в'!L:L,MATCH(B196,'План ввода основ. ср-в'!B:B,0))),0,INDEX('План ввода основ. ср-в'!L:L,MATCH(B196,'План ввода основ. ср-в'!B:B,0)))","v":0},null,{"$f":"IF(ISNA(INDEX('План ввода основ. ср-в'!K:K,MATCH(B196,'План ввода основ. ср-в'!B:B,0))),0,INDEX('План ввода основ. ср-в'!K:K,MATCH(B196,'План ввода основ. ср-в'!B:B,0)))","v":0},0,null,0,{"$f":"IF(ISNA(INDEX('План ввода основ. ср-в'!N:N,MATCH(B196,'План ввода основ. ср-в'!B:B,0))),0,INDEX('План ввода основ. ср-в'!N:N,MATCH(B196,'План ввода основ. ср-в'!B:B,0)))","v":0},null,{"$f":"IF(ISNA(INDEX('План ввода основ. ср-в'!M:M,MATCH(B196,'План ввода основ. ср-в'!B:B,0))),0,INDEX('План ввода основ. ср-в'!M:M,MATCH(B196,'План ввода основ. ср-в'!B:B,0)))","v":0},{"$f":"IF(ISNA(INDEX('План ввода основ. ср-в'!P:P,MATCH(B196,'План ввода основ. ср-в'!B:B,0))),0,INDEX('План ввода основ. ср-в'!P:P,MATCH(B196,'План ввода основ. ср-в'!B:B,0)))","v":0},null,{"$f":"IF(ISNA(INDEX('План ввода основ. ср-в'!O:O,MATCH(B196,'План ввода основ. ср-в'!B:B,0))),0,INDEX('План ввода основ. ср-в'!O:O,MATCH(B196,'План ввода основ. ср-в'!B:B,0)))","v":0},{"$f":"IF(ISNA(INDEX('План ввода основ. ср-в'!R:R,MATCH(B196,'План ввода основ. ср-в'!B:B,0))),0,INDEX('План ввода основ. ср-в'!R:R,MATCH(B196,'План ввода основ. ср-в'!B:B,0)))","v":0},null,{"$f":"IF(ISNA(INDEX('План ввода основ. ср-в'!Q:Q,MATCH(B196,'План ввода основ. ср-в'!B:B,0))),0,INDEX('План ввода основ. ср-в'!Q:Q,MATCH(B196,'План ввода основ. ср-в'!B:B,0)))","v":0},{"$f":"IF(ISNA(INDEX('План ввода основ. ср-в'!T:T,MATCH(B196,'План ввода основ. ср-в'!B:B,0))),0,INDEX('План ввода основ. ср-в'!T:T,MATCH(B196,'План ввода основ. ср-в'!B:B,0)))","v":0},null,{"$f":"IF(ISNA(INDEX('План ввода основ. ср-в'!S:S,MATCH(B196,'План ввода основ. ср-в'!B:B,0))),0,INDEX('План ввода основ. ср-в'!S:S,MATCH(B196,'План ввода основ. ср-в'!B:B,0)))","v":0},0,null,0,{"$f":"IF(ISNA(INDEX('План ввода основ. ср-в'!V:V,MATCH(B196,'План ввода основ. ср-в'!B:B,0))),0,INDEX('План ввода основ. ср-в'!V:V,MATCH(B196,'План ввода основ. ср-в'!B:B,0)))","v":0},{"$f":"IF(ISNA(INDEX('План ввода основ. ср-в'!W:W,MATCH(B196,'План ввода основ. ср-в'!B:B,0))),0,INDEX('План ввода основ. ср-в'!W:W,MATCH(B196,'План ввода основ. ср-в'!B:B,0)))","v":0.19545786101694917},{"$f":"IF(ISNA(INDEX('План ввода основ. ср-в'!X:X,MATCH(B196,'План ввода основ. ср-в'!B:B,0))),0,INDEX('План ввода основ. ср-в'!X:X,MATCH(B196,'План ввода основ. ср-в'!B:B,0)))","v":0.45606834237288135},{"$f":"IF(ISNA(INDEX('План ввода основ. ср-в'!Y:Y,MATCH(B196,'План ввода основ. ср-в'!B:B,0))),0,INDEX('План ввода основ. ср-в'!Y:Y,MATCH(B196,'План ввода основ. ср-в'!B:B,0)))","v":0.65152620338983058},1.3030524067796612,{"$f":"IF(ISNA(INDEX('План ввода основ. ср-в'!Z:Z,MATCH(B196,'План ввода основ. ср-в'!B:B,0))),0,INDEX('План ввода основ. ср-в'!Z:Z,MATCH(B196,'План ввода основ. ср-в'!B:B,0)))","v":0},{"$f":"IF(ISNA(INDEX('План ввода основ. ср-в'!AA:AA,MATCH(B196,'План ввода основ. ср-в'!B:B,0))),0,INDEX('План ввода основ. ср-в'!AA:AA,MATCH(B196,'План ввода основ. ср-в'!B:B,0)))","v":0},{"$f":"IF(ISNA(INDEX('План ввода основ. ср-в'!AB:AB,MATCH(B196,'План ввода основ. ср-в'!B:B,0))),0,INDEX('План ввода основ. ср-в'!AB:AB,MATCH(B196,'План ввода основ. ср-в'!B:B,0)))","v":0},{"$f":"IF(ISNA(INDEX('План ввода основ. ср-в'!AC:AC,MATCH(B196,'План ввода основ. ср-в'!B:B,0))),0,INDEX('План ввода основ. ср-в'!AC:AC,MATCH(B196,'План ввода основ. ср-в'!B:B,0)))","v":0},1.3030524067796612]
[175,"Реконструкция ТП-2522 г.о. Самара",null,null,null,null,null,null,0,null,1.26,0,null,0,null,null,null,0,null,0,0,null,0,0,null,1.26,11.378949372881355,{"$f":"IF(ISNA(INDEX('План ввода основ. ср-в'!F:F,MATCH(B197,'План ввода основ. ср-в'!B:B,0))),0,INDEX('План ввода основ. ср-в'!F:F,MATCH(B197,'План ввода основ. ср-в'!B:B,0)))","v":0},null,{"$f":"IF(ISNA(INDEX('План ввода основ. ср-в'!E:E,MATCH(B197,'План ввода основ. ср-в'!B:B,0))),0,INDEX('План ввода основ. ср-в'!E:E,MATCH(B197,'План ввода основ. ср-в'!B:B,0)))","v":0},{"$f":"IF(ISNA(INDEX('План ввода основ. ср-в'!H:H,MATCH(B197,'План ввода основ. ср-в'!B:B,0))),0,INDEX('План ввода основ. ср-в'!H:H,MATCH(B197,'План ввода основ. ср-в'!B:B,0)))","v":0},null,{"$f":"IF(ISNA(INDEX('План ввода основ. ср-в'!G:G,MATCH(B197,'План ввода основ. ср-в'!B:B,0))),0,INDEX('План ввода основ. ср-в'!G:G,MATCH(B197,'План ввода основ. ср-в'!B:B,0)))","v":0},{"$f":"IF(ISNA(INDEX('План ввода основ. ср-в'!J:J,MATCH(B197,'План ввода основ. ср-в'!B:B,0))),0,INDEX('План ввода основ. ср-в'!J:J,MATCH(B197,'План ввода основ. ср-в'!B:B,0)))","v":0},null,{"$f":"IF(ISNA(INDEX('План ввода основ. ср-в'!I:I,MATCH(B197,'План ввода основ. ср-в'!B:B,0))),0,INDEX('План ввода основ. ср-в'!I:I,MATCH(B197,'План ввода основ. ср-в'!B:B,0)))","v":0},{"$f":"IF(ISNA(INDEX('План ввода основ. ср-в'!L:L,MATCH(B197,'План ввода основ. ср-в'!B:B,0))),0,INDEX('План ввода основ. ср-в'!L:L,MATCH(B197,'План ввода основ. ср-в'!B:B,0)))","v":0},null,{"$f":"IF(ISNA(INDEX('План ввода основ. ср-в'!K:K,MATCH(B197,'План ввода основ. ср-в'!B:B,0))),0,INDEX('План ввода основ. ср-в'!K:K,MATCH(B197,'План ввода основ. ср-в'!B:B,0)))","v":1.26},0,null,1.26,{"$f":"IF(ISNA(INDEX('План ввода основ. ср-в'!N:N,MATCH(B197,'План ввода основ. ср-в'!B:B,0))),0,INDEX('План ввода основ. ср-в'!N:N,MATCH(B197,'План ввода основ. ср-в'!B:B,0)))","v":0},null,{"$f":"IF(ISNA(INDEX('План ввода основ. ср-в'!M:M,MATCH(B197,'План ввода основ. ср-в'!B:B,0))),0,INDEX('План ввода основ. ср-в'!M:M,MATCH(B197,'План ввода основ. ср-в'!B:B,0)))","v":0},{"$f":"IF(ISNA(INDEX('План ввода основ. ср-в'!P:P,MATCH(B197,'План ввода основ. ср-в'!B:B,0))),0,INDEX('План ввода основ. ср-в'!P:P,MATCH(B197,'План ввода основ. ср-в'!B:B,0)))","v":0},null,{"$f":"IF(ISNA(INDEX('План ввода основ. ср-в'!O:O,MATCH(B197,'План ввода основ. ср-в'!B:B,0))),0,INDEX('План ввода основ. ср-в'!O:O,MATCH(B197,'План ввода основ. ср-в'!B:B,0)))","v":0},{"$f":"IF(ISNA(INDEX('План ввода основ. ср-в'!R:R,MATCH(B197,'План ввода основ. ср-в'!B:B,0))),0,INDEX('План ввода основ. ср-в'!R:R,MATCH(B197,'План ввода основ. ср-в'!B:B,0)))","v":0},null,{"$f":"IF(ISNA(INDEX('План ввода основ. ср-в'!Q:Q,MATCH(B197,'План ввода основ. ср-в'!B:B,0))),0,INDEX('План ввода основ. ср-в'!Q:Q,MATCH(B197,'План ввода основ. ср-в'!B:B,0)))","v":0},{"$f":"IF(ISNA(INDEX('План ввода основ. ср-в'!T:T,MATCH(B197,'План ввода основ. ср-в'!B:B,0))),0,INDEX('План ввода основ. ср-в'!T:T,MATCH(B197,'План ввода основ. ср-в'!B:B,0)))","v":0},null,{"$f":"IF(ISNA(INDEX('План ввода основ. ср-в'!S:S,MATCH(B197,'План ввода основ. ср-в'!B:B,0))),0,INDEX('План ввода основ. ср-в'!S:S,MATCH(B197,'План ввода основ. ср-в'!B:B,0)))","v":0},0,null,1.26,{"$f":"IF(ISNA(INDEX('План ввода основ. ср-в'!V:V,MATCH(B197,'План ввода основ. ср-в'!B:B,0))),0,INDEX('План ввода основ. ср-в'!V:V,MATCH(B197,'План ввода основ. ср-в'!B:B,0)))","v":0},{"$f":"IF(ISNA(INDEX('План ввода основ. ср-в'!W:W,MATCH(B197,'План ввода основ. ср-в'!B:B,0))),0,INDEX('План ввода основ. ср-в'!W:W,MATCH(B197,'План ввода основ. ср-в'!B:B,0)))","v":1.7068424059322034},{"$f":"IF(ISNA(INDEX('План ввода основ. ср-в'!X:X,MATCH(B197,'План ввода основ. ср-в'!B:B,0))),0,INDEX('План ввода основ. ср-в'!X:X,MATCH(B197,'План ввода основ. ср-в'!B:B,0)))","v":3.9826322805084744},{"$f":"IF(ISNA(INDEX('План ввода основ. ср-в'!Y:Y,MATCH(B197,'План ввода основ. ср-в'!B:B,0))),0,INDEX('План ввода основ. ср-в'!Y:Y,MATCH(B197,'План ввода основ. ср-в'!B:B,0)))","v":5.6894746864406782},11.378949372881355,{"$f":"IF(ISNA(INDEX('План ввода основ. ср-в'!Z:Z,MATCH(B197,'План ввода основ. ср-в'!B:B,0))),0,INDEX('План ввода основ. ср-в'!Z:Z,MATCH(B197,'План ввода основ. ср-в'!B:B,0)))","v":0},{"$f":"IF(ISNA(INDEX('План ввода основ. ср-в'!AA:AA,MATCH(B197,'План ввода основ. ср-в'!B:B,0))),0,INDEX('План ввода основ. ср-в'!AA:AA,MATCH(B197,'План ввода основ. ср-в'!B:B,0)))","v":0},{"$f":"IF(ISNA(INDEX('План ввода основ. ср-в'!AB:AB,MATCH(B197,'План ввода основ. ср-в'!B:B,0))),0,INDEX('План ввода основ. ср-в'!AB:AB,MATCH(B197,'План ввода основ. ср-в'!B:B,0)))","v":0},{"$f":"IF(ISNA(INDEX('План ввода основ. ср-в'!AC:AC,MATCH(B197,'План ввода основ. ср-в'!B:B,0))),0,INDEX('План ввода основ. ср-в'!AC:AC,MATCH(B197,'План ввода основ. ср-в'!B:B,0)))","v":0},11.378949372881355]
[176,"Реконструкция  КТП-3058 с заменой на ГКТП 400/10,5/0,4 кВ г.о. Самара",null,null,null,null,null,null,0,null,0.4,0,null,0,null,null,null,0,null,0,0,null,0,0,null,0.4,5.5617057627118642,{"$f":"IF(ISNA(INDEX('План ввода основ. ср-в'!F:F,MATCH(B198,'План ввода основ. ср-в'!B:B,0))),0,INDEX('План ввода основ. ср-в'!F:F,MATCH(B198,'План ввода основ. ср-в'!B:B,0)))","v":0},null,{"$f":"IF(ISNA(INDEX('План ввода основ. ср-в'!E:E,MATCH(B198,'План ввода основ. ср-в'!B:B,0))),0,INDEX('План ввода основ. ср-в'!E:E,MATCH(B198,'План ввода основ. ср-в'!B:B,0)))","v":0},{"$f":"IF(ISNA(INDEX('План ввода основ. ср-в'!H:H,MATCH(B198,'План ввода основ. ср-в'!B:B,0))),0,INDEX('План ввода основ. ср-в'!H:H,MATCH(B198,'План ввода основ. ср-в'!B:B,0)))","v":0},null,{"$f":"IF(ISNA(INDEX('План ввода основ. ср-в'!G:G,MATCH(B198,'План ввода основ. ср-в'!B:B,0))),0,INDEX('План ввода основ. ср-в'!G:G,MATCH(B198,'План ввода основ. ср-в'!B:B,0)))","v":0},{"$f":"IF(ISNA(INDEX('План ввода основ. ср-в'!J:J,MATCH(B198,'План ввода основ. ср-в'!B:B,0))),0,INDEX('План ввода основ. ср-в'!J:J,MATCH(B198,'План ввода основ. ср-в'!B:B,0)))","v":0},null,{"$f":"IF(ISNA(INDEX('План ввода основ. ср-в'!I:I,MATCH(B198,'План ввода основ. ср-в'!B:B,0))),0,INDEX('План ввода основ. ср-в'!I:I,MATCH(B198,'План ввода основ. ср-в'!B:B,0)))","v":0},{"$f":"IF(ISNA(INDEX('План ввода основ. ср-в'!L:L,MATCH(B198,'План ввода основ. ср-в'!B:B,0))),0,INDEX('План ввода основ. ср-в'!L:L,MATCH(B198,'План ввода основ. ср-в'!B:B,0)))","v":0},null,{"$f":"IF(ISNA(INDEX('План ввода основ. ср-в'!K:K,MATCH(B198,'План ввода основ. ср-в'!B:B,0))),0,INDEX('План ввода основ. ср-в'!K:K,MATCH(B198,'План ввода основ. ср-в'!B:B,0)))","v":0.4},0,null,0.4,{"$f":"IF(ISNA(INDEX('План ввода основ. ср-в'!N:N,MATCH(B198,'План ввода основ. ср-в'!B:B,0))),0,INDEX('План ввода основ. ср-в'!N:N,MATCH(B198,'План ввода основ. ср-в'!B:B,0)))","v":0},null,{"$f":"IF(ISNA(INDEX('План ввода основ. ср-в'!M:M,MATCH(B198,'План ввода основ. ср-в'!B:B,0))),0,INDEX('План ввода основ. ср-в'!M:M,MATCH(B198,'План ввода основ. ср-в'!B:B,0)))","v":0},{"$f":"IF(ISNA(INDEX('План ввода основ. ср-в'!P:P,MATCH(B198,'План ввода основ. ср-в'!B:B,0))),0,INDEX('План ввода основ. ср-в'!P:P,MATCH(B198,'План ввода основ. ср-в'!B:B,0)))","v":0},null,{"$f":"IF(ISNA(INDEX('План ввода основ. ср-в'!O:O,MATCH(B198,'План ввода основ. ср-в'!B:B,0))),0,INDEX('План ввода основ. ср-в'!O:O,MATCH(B198,'План ввода основ. ср-в'!B:B,0)))","v":0},{"$f":"IF(ISNA(INDEX('План ввода основ. ср-в'!R:R,MATCH(B198,'План ввода основ. ср-в'!B:B,0))),0,INDEX('План ввода основ. ср-в'!R:R,MATCH(B198,'План ввода основ. ср-в'!B:B,0)))","v":0},null,{"$f":"IF(ISNA(INDEX('План ввода основ. ср-в'!Q:Q,MATCH(B198,'План ввода основ. ср-в'!B:B,0))),0,INDEX('План ввода основ. ср-в'!Q:Q,MATCH(B198,'План ввода основ. ср-в'!B:B,0)))","v":0},{"$f":"IF(ISNA(INDEX('План ввода основ. ср-в'!T:T,MATCH(B198,'План ввода основ. ср-в'!B:B,0))),0,INDEX('План ввода основ. ср-в'!T:T,MATCH(B198,'План ввода основ. ср-в'!B:B,0)))","v":0},null,{"$f":"IF(ISNA(INDEX('План ввода основ. ср-в'!S:S,MATCH(B198,'План ввода основ. ср-в'!B:B,0))),0,INDEX('План ввода основ. ср-в'!S:S,MATCH(B198,'План ввода основ. ср-в'!B:B,0)))","v":0},0,null,0.4,{"$f":"IF(ISNA(INDEX('План ввода основ. ср-в'!V:V,MATCH(B198,'План ввода основ. ср-в'!B:B,0))),0,INDEX('План ввода основ. ср-в'!V:V,MATCH(B198,'План ввода основ. ср-в'!B:B,0)))","v":0},{"$f":"IF(ISNA(INDEX('План ввода основ. ср-в'!W:W,MATCH(B198,'План ввода основ. ср-в'!B:B,0))),0,INDEX('План ввода основ. ср-в'!W:W,MATCH(B198,'План ввода основ. ср-в'!B:B,0)))","v":0.83425586440677957},{"$f":"IF(ISNA(INDEX('План ввода основ. ср-в'!X:X,MATCH(B198,'План ввода основ. ср-в'!B:B,0))),0,INDEX('План ввода основ. ср-в'!X:X,MATCH(B198,'План ввода основ. ср-в'!B:B,0)))","v":1.9465970169491524},{"$f":"IF(ISNA(INDEX('План ввода основ. ср-в'!Y:Y,MATCH(B198,'План ввода основ. ср-в'!B:B,0))),0,INDEX('План ввода основ. ср-в'!Y:Y,MATCH(B198,'План ввода основ. ср-в'!B:B,0)))","v":2.7808528813559321},5.5617057627118642,{"$f":"IF(ISNA(INDEX('План ввода основ. ср-в'!Z:Z,MATCH(B198,'План ввода основ. ср-в'!B:B,0))),0,INDEX('План ввода основ. ср-в'!Z:Z,MATCH(B198,'План ввода основ. ср-в'!B:B,0)))","v":0},{"$f":"IF(ISNA(INDEX('План ввода основ. ср-в'!AA:AA,MATCH(B198,'План ввода основ. ср-в'!B:B,0))),0,INDEX('План ввода основ. ср-в'!AA:AA,MATCH(B198,'План ввода основ. ср-в'!B:B,0)))","v":0},{"$f":"IF(ISNA(INDEX('План ввода основ. ср-в'!AB:AB,MATCH(B198,'План ввода основ. ср-в'!B:B,0))),0,INDEX('План ввода основ. ср-в'!AB:AB,MATCH(B198,'План ввода основ. ср-в'!B:B,0)))","v":0},{"$f":"IF(ISNA(INDEX('План ввода основ. ср-в'!AC:AC,MATCH(B198,'План ввода основ. ср-в'!B:B,0))),0,INDEX('План ввода основ. ср-в'!AC:AC,MATCH(B198,'План ввода основ. ср-в'!B:B,0)))","v":0},5.5617057627118642]
[177,"Реконструкция ТП-1440 г.о. Самара",null,null,null,null,null,null,0,null,2,0,null,0,null,null,null,0,null,0,0,null,0,0,null,2,2.5902412627118645,{"$f":"IF(ISNA(INDEX('План ввода основ. ср-в'!F:F,MATCH(B199,'План ввода основ. ср-в'!B:B,0))),0,INDEX('План ввода основ. ср-в'!F:F,MATCH(B199,'План ввода основ. ср-в'!B:B,0)))","v":0},null,{"$f":"IF(ISNA(INDEX('План ввода основ. ср-в'!E:E,MATCH(B199,'План ввода основ. ср-в'!B:B,0))),0,INDEX('План ввода основ. ср-в'!E:E,MATCH(B199,'План ввода основ. ср-в'!B:B,0)))","v":0},{"$f":"IF(ISNA(INDEX('План ввода основ. ср-в'!H:H,MATCH(B199,'План ввода основ. ср-в'!B:B,0))),0,INDEX('План ввода основ. ср-в'!H:H,MATCH(B199,'План ввода основ. ср-в'!B:B,0)))","v":0},null,{"$f":"IF(ISNA(INDEX('План ввода основ. ср-в'!G:G,MATCH(B199,'План ввода основ. ср-в'!B:B,0))),0,INDEX('План ввода основ. ср-в'!G:G,MATCH(B199,'План ввода основ. ср-в'!B:B,0)))","v":0},{"$f":"IF(ISNA(INDEX('План ввода основ. ср-в'!J:J,MATCH(B199,'План ввода основ. ср-в'!B:B,0))),0,INDEX('План ввода основ. ср-в'!J:J,MATCH(B199,'План ввода основ. ср-в'!B:B,0)))","v":0},null,{"$f":"IF(ISNA(INDEX('План ввода основ. ср-в'!I:I,MATCH(B199,'План ввода основ. ср-в'!B:B,0))),0,INDEX('План ввода основ. ср-в'!I:I,MATCH(B199,'План ввода основ. ср-в'!B:B,0)))","v":0},{"$f":"IF(ISNA(INDEX('План ввода основ. ср-в'!L:L,MATCH(B199,'План ввода основ. ср-в'!B:B,0))),0,INDEX('План ввода основ. ср-в'!L:L,MATCH(B199,'План ввода основ. ср-в'!B:B,0)))","v":0},null,{"$f":"IF(ISNA(INDEX('План ввода основ. ср-в'!K:K,MATCH(B199,'План ввода основ. ср-в'!B:B,0))),0,INDEX('План ввода основ. ср-в'!K:K,MATCH(B199,'План ввода основ. ср-в'!B:B,0)))","v":2},0,null,2,{"$f":"IF(ISNA(INDEX('План ввода основ. ср-в'!N:N,MATCH(B199,'План ввода основ. ср-в'!B:B,0))),0,INDEX('План ввода основ. ср-в'!N:N,MATCH(B199,'План ввода основ. ср-в'!B:B,0)))","v":0},null,{"$f":"IF(ISNA(INDEX('План ввода основ. ср-в'!M:M,MATCH(B199,'План ввода основ. ср-в'!B:B,0))),0,INDEX('План ввода основ. ср-в'!M:M,MATCH(B199,'План ввода основ. ср-в'!B:B,0)))","v":0},{"$f":"IF(ISNA(INDEX('План ввода основ. ср-в'!P:P,MATCH(B199,'План ввода основ. ср-в'!B:B,0))),0,INDEX('План ввода основ. ср-в'!P:P,MATCH(B199,'План ввода основ. ср-в'!B:B,0)))","v":0},null,{"$f":"IF(ISNA(INDEX('План ввода основ. ср-в'!O:O,MATCH(B199,'План ввода основ. ср-в'!B:B,0))),0,INDEX('План ввода основ. ср-в'!O:O,MATCH(B199,'План ввода основ. ср-в'!B:B,0)))","v":0},{"$f":"IF(ISNA(INDEX('План ввода основ. ср-в'!R:R,MATCH(B199,'План ввода основ. ср-в'!B:B,0))),0,INDEX('План ввода основ. ср-в'!R:R,MATCH(B199,'План ввода основ. ср-в'!B:B,0)))","v":0},null,{"$f":"IF(ISNA(INDEX('План ввода основ. ср-в'!Q:Q,MATCH(B199,'План ввода основ. ср-в'!B:B,0))),0,INDEX('План ввода основ. ср-в'!Q:Q,MATCH(B199,'План ввода основ. ср-в'!B:B,0)))","v":0},{"$f":"IF(ISNA(INDEX('План ввода основ. ср-в'!T:T,MATCH(B199,'План ввода основ. ср-в'!B:B,0))),0,INDEX('План ввода основ. ср-в'!T:T,MATCH(B199,'План ввода основ. ср-в'!B:B,0)))","v":0},null,{"$f":"IF(ISNA(INDEX('План ввода основ. ср-в'!S:S,MATCH(B199,'План ввода основ. ср-в'!B:B,0))),0,INDEX('План ввода основ. ср-в'!S:S,MATCH(B199,'План ввода основ. ср-в'!B:B,0)))","v":0},0,null,2,{"$f":"IF(ISNA(INDEX('План ввода основ. ср-в'!V:V,MATCH(B199,'План ввода основ. ср-в'!B:B,0))),0,INDEX('План ввода основ. ср-в'!V:V,MATCH(B199,'План ввода основ. ср-в'!B:B,0)))","v":0},{"$f":"IF(ISNA(INDEX('План ввода основ. ср-в'!W:W,MATCH(B199,'План ввода основ. ср-в'!B:B,0))),0,INDEX('План ввода основ. ср-в'!W:W,MATCH(B199,'План ввода основ. ср-в'!B:B,0)))","v":0.38853618940677964},{"$f":"IF(ISNA(INDEX('План ввода основ. ср-в'!X:X,MATCH(B199,'План ввода основ. ср-в'!B:B,0))),0,INDEX('План ввода основ. ср-в'!X:X,MATCH(B199,'План ввода основ. ср-в'!B:B,0)))","v":0.90658444194915255},{"$f":"IF(ISNA(INDEX('План ввода основ. ср-в'!Y:Y,MATCH(B199,'План ввода основ. ср-в'!B:B,0))),0,INDEX('План ввода основ. ср-в'!Y:Y,MATCH(B199,'План ввода основ. ср-в'!B:B,0)))","v":1.2951206313559323},2.5902412627118645,{"$f":"IF(ISNA(INDEX('План ввода основ. ср-в'!Z:Z,MATCH(B199,'План ввода основ. ср-в'!B:B,0))),0,INDEX('План ввода основ. ср-в'!Z:Z,MATCH(B199,'План ввода основ. ср-в'!B:B,0)))","v":0},{"$f":"IF(ISNA(INDEX('План ввода основ. ср-в'!AA:AA,MATCH(B199,'План ввода основ. ср-в'!B:B,0))),0,INDEX('План ввода основ. ср-в'!AA:AA,MATCH(B199,'План ввода основ. ср-в'!B:B,0)))","v":0},{"$f":"IF(ISNA(INDEX('План ввода основ. ср-в'!AB:AB,MATCH(B199,'План ввода основ. ср-в'!B:B,0))),0,INDEX('План ввода основ. ср-в'!AB:AB,MATCH(B199,'План ввода основ. ср-в'!B:B,0)))","v":0},{"$f":"IF(ISNA(INDEX('План ввода основ. ср-в'!AC:AC,MATCH(B199,'План ввода основ. ср-в'!B:B,0))),0,INDEX('План ввода основ. ср-в'!AC:AC,MATCH(B199,'План ввода основ. ср-в'!B:B,0)))","v":0},2.5902412627118645]
[178,"Энергоснабжение электросетевого комплекса по ул. Мориса Тореза г.о. Самара",null,null,null,null,null,null,0.1,null,0,0,null,0,null,null,null,0,null,0,0,null,0,0.1,null,0,0.50847457627118642,{"$f":"IF(ISNA(INDEX('План ввода основ. ср-в'!F:F,MATCH(B200,'План ввода основ. ср-в'!B:B,0))),0,INDEX('План ввода основ. ср-в'!F:F,MATCH(B200,'План ввода основ. ср-в'!B:B,0)))","v":0},null,{"$f":"IF(ISNA(INDEX('План ввода основ. ср-в'!E:E,MATCH(B200,'План ввода основ. ср-в'!B:B,0))),0,INDEX('План ввода основ. ср-в'!E:E,MATCH(B200,'План ввода основ. ср-в'!B:B,0)))","v":0},{"$f":"IF(ISNA(INDEX('План ввода основ. ср-в'!H:H,MATCH(B200,'План ввода основ. ср-в'!B:B,0))),0,INDEX('План ввода основ. ср-в'!H:H,MATCH(B200,'План ввода основ. ср-в'!B:B,0)))","v":0},null,{"$f":"IF(ISNA(INDEX('План ввода основ. ср-в'!G:G,MATCH(B200,'План ввода основ. ср-в'!B:B,0))),0,INDEX('План ввода основ. ср-в'!G:G,MATCH(B200,'План ввода основ. ср-в'!B:B,0)))","v":0},{"$f":"IF(ISNA(INDEX('План ввода основ. ср-в'!J:J,MATCH(B200,'План ввода основ. ср-в'!B:B,0))),0,INDEX('План ввода основ. ср-в'!J:J,MATCH(B200,'План ввода основ. ср-в'!B:B,0)))","v":0},null,{"$f":"IF(ISNA(INDEX('План ввода основ. ср-в'!I:I,MATCH(B200,'План ввода основ. ср-в'!B:B,0))),0,INDEX('План ввода основ. ср-в'!I:I,MATCH(B200,'План ввода основ. ср-в'!B:B,0)))","v":0},{"$f":"IF(ISNA(INDEX('План ввода основ. ср-в'!L:L,MATCH(B200,'План ввода основ. ср-в'!B:B,0))),0,INDEX('План ввода основ. ср-в'!L:L,MATCH(B200,'План ввода основ. ср-в'!B:B,0)))","v":0.1},null,{"$f":"IF(ISNA(INDEX('План ввода основ. ср-в'!K:K,MATCH(B200,'План ввода основ. ср-в'!B:B,0))),0,INDEX('План ввода основ. ср-в'!K:K,MATCH(B200,'План ввода основ. ср-в'!B:B,0)))","v":0},0.1,null,0,{"$f":"IF(ISNA(INDEX('План ввода основ. ср-в'!N:N,MATCH(B200,'План ввода основ. ср-в'!B:B,0))),0,INDEX('План ввода основ. ср-в'!N:N,MATCH(B200,'План ввода основ. ср-в'!B:B,0)))","v":0},null,{"$f":"IF(ISNA(INDEX('План ввода основ. ср-в'!M:M,MATCH(B200,'План ввода основ. ср-в'!B:B,0))),0,INDEX('План ввода основ. ср-в'!M:M,MATCH(B200,'План ввода основ. ср-в'!B:B,0)))","v":0},{"$f":"IF(ISNA(INDEX('План ввода основ. ср-в'!P:P,MATCH(B200,'План ввода основ. ср-в'!B:B,0))),0,INDEX('План ввода основ. ср-в'!P:P,MATCH(B200,'План ввода основ. ср-в'!B:B,0)))","v":0},null,{"$f":"IF(ISNA(INDEX('План ввода основ. ср-в'!O:O,MATCH(B200,'План ввода основ. ср-в'!B:B,0))),0,INDEX('План ввода основ. ср-в'!O:O,MATCH(B200,'План ввода основ. ср-в'!B:B,0)))","v":0},{"$f":"IF(ISNA(INDEX('План ввода основ. ср-в'!R:R,MATCH(B200,'План ввода основ. ср-в'!B:B,0))),0,INDEX('План ввода основ. ср-в'!R:R,MATCH(B200,'План ввода основ. ср-в'!B:B,0)))","v":0},null,{"$f":"IF(ISNA(INDEX('План ввода основ. ср-в'!Q:Q,MATCH(B200,'План ввода основ. ср-в'!B:B,0))),0,INDEX('План ввода основ. ср-в'!Q:Q,MATCH(B200,'План ввода основ. ср-в'!B:B,0)))","v":0},{"$f":"IF(ISNA(INDEX('План ввода основ. ср-в'!T:T,MATCH(B200,'План ввода основ. ср-в'!B:B,0))),0,INDEX('План ввода основ. ср-в'!T:T,MATCH(B200,'План ввода основ. ср-в'!B:B,0)))","v":0},null,{"$f":"IF(ISNA(INDEX('План ввода основ. ср-в'!S:S,MATCH(B200,'План ввода основ. ср-в'!B:B,0))),0,INDEX('План ввода основ. ср-в'!S:S,MATCH(B200,'План ввода основ. ср-в'!B:B,0)))","v":0},0.1,null,0,null,{"$f":"IF(ISNA(INDEX('План ввода основ. ср-в'!W:W,MATCH(B200,'План ввода основ. ср-в'!B:B,0))),0,INDEX('План ввода основ. ср-в'!W:W,MATCH(B200,'План ввода основ. ср-в'!B:B,0)))","v":7.6271186440677957E-2},{"$f":"IF(ISNA(INDEX('План ввода основ. ср-в'!X:X,MATCH(B200,'План ввода основ. ср-в'!B:B,0))),0,INDEX('План ввода основ. ср-в'!X:X,MATCH(B200,'План ввода основ. ср-в'!B:B,0)))","v":0.17796610169491522},{"$f":"IF(ISNA(INDEX('План ввода основ. ср-в'!Y:Y,MATCH(B200,'План ввода основ. ср-в'!B:B,0))),0,INDEX('План ввода основ. ср-в'!Y:Y,MATCH(B200,'План ввода основ. ср-в'!B:B,0)))","v":0.25423728813559321},0.50847457627118642,{"$f":"IF(ISNA(INDEX('План ввода основ. ср-в'!Z:Z,MATCH(B200,'План ввода основ. ср-в'!B:B,0))),0,INDEX('План ввода основ. ср-в'!Z:Z,MATCH(B200,'План ввода основ. ср-в'!B:B,0)))","v":0},{"$f":"IF(ISNA(INDEX('План ввода основ. ср-в'!AA:AA,MATCH(B200,'План ввода основ. ср-в'!B:B,0))),0,INDEX('План ввода основ. ср-в'!AA:AA,MATCH(B200,'План ввода основ. ср-в'!B:B,0)))","v":0},{"$f":"IF(ISNA(INDEX('План ввода основ. ср-в'!AB:AB,MATCH(B200,'План ввода основ. ср-в'!B:B,0))),0,INDEX('План ввода основ. ср-в'!AB:AB,MATCH(B200,'План ввода основ. ср-в'!B:B,0)))","v":0},{"$f":"IF(ISNA(INDEX('План ввода основ. ср-в'!AC:AC,MATCH(B200,'План ввода основ. ср-в'!B:B,0))),0,INDEX('План ввода основ. ср-в'!AC:AC,MATCH(B200,'План ввода основ. ср-в'!B:B,0)))","v":0},0.50847457627118642]
[179,"Энергоснабжение электросетевого комплекса по ул. Мяги г.о. Самара",null,null,null,null,null,null,0.23,null,0,0,null,0,null,null,null,0,null,0,0,null,0,0.23,null,0,1.4406779661016949,{"$f":"IF(ISNA(INDEX('План ввода основ. ср-в'!F:F,MATCH(B201,'План ввода основ. ср-в'!B:B,0))),0,INDEX('План ввода основ. ср-в'!F:F,MATCH(B201,'План ввода основ. ср-в'!B:B,0)))","v":0},null,{"$f":"IF(ISNA(INDEX('План ввода основ. ср-в'!E:E,MATCH(B201,'План ввода основ. ср-в'!B:B,0))),0,INDEX('План ввода основ. ср-в'!E:E,MATCH(B201,'План ввода основ. ср-в'!B:B,0)))","v":0},{"$f":"IF(ISNA(INDEX('План ввода основ. ср-в'!H:H,MATCH(B201,'План ввода основ. ср-в'!B:B,0))),0,INDEX('План ввода основ. ср-в'!H:H,MATCH(B201,'План ввода основ. ср-в'!B:B,0)))","v":0},null,{"$f":"IF(ISNA(INDEX('План ввода основ. ср-в'!G:G,MATCH(B201,'План ввода основ. ср-в'!B:B,0))),0,INDEX('План ввода основ. ср-в'!G:G,MATCH(B201,'План ввода основ. ср-в'!B:B,0)))","v":0},{"$f":"IF(ISNA(INDEX('План ввода основ. ср-в'!J:J,MATCH(B201,'План ввода основ. ср-в'!B:B,0))),0,INDEX('План ввода основ. ср-в'!J:J,MATCH(B201,'План ввода основ. ср-в'!B:B,0)))","v":0},null,{"$f":"IF(ISNA(INDEX('План ввода основ. ср-в'!I:I,MATCH(B201,'План ввода основ. ср-в'!B:B,0))),0,INDEX('План ввода основ. ср-в'!I:I,MATCH(B201,'План ввода основ. ср-в'!B:B,0)))","v":0},{"$f":"IF(ISNA(INDEX('План ввода основ. ср-в'!L:L,MATCH(B201,'План ввода основ. ср-в'!B:B,0))),0,INDEX('План ввода основ. ср-в'!L:L,MATCH(B201,'План ввода основ. ср-в'!B:B,0)))","v":0.23},null,{"$f":"IF(ISNA(INDEX('План ввода основ. ср-в'!K:K,MATCH(B201,'План ввода основ. ср-в'!B:B,0))),0,INDEX('План ввода основ. ср-в'!K:K,MATCH(B201,'План ввода основ. ср-в'!B:B,0)))","v":0},0.23,null,0,{"$f":"IF(ISNA(INDEX('План ввода основ. ср-в'!N:N,MATCH(B201,'План ввода основ. ср-в'!B:B,0))),0,INDEX('План ввода основ. ср-в'!N:N,MATCH(B201,'План ввода основ. ср-в'!B:B,0)))","v":0},null,{"$f":"IF(ISNA(INDEX('План ввода основ. ср-в'!M:M,MATCH(B201,'План ввода основ. ср-в'!B:B,0))),0,INDEX('План ввода основ. ср-в'!M:M,MATCH(B201,'План ввода основ. ср-в'!B:B,0)))","v":0},{"$f":"IF(ISNA(INDEX('План ввода основ. ср-в'!P:P,MATCH(B201,'План ввода основ. ср-в'!B:B,0))),0,INDEX('План ввода основ. ср-в'!P:P,MATCH(B201,'План ввода основ. ср-в'!B:B,0)))","v":0},null,{"$f":"IF(ISNA(INDEX('План ввода основ. ср-в'!O:O,MATCH(B201,'План ввода основ. ср-в'!B:B,0))),0,INDEX('План ввода основ. ср-в'!O:O,MATCH(B201,'План ввода основ. ср-в'!B:B,0)))","v":0},{"$f":"IF(ISNA(INDEX('План ввода основ. ср-в'!R:R,MATCH(B201,'План ввода основ. ср-в'!B:B,0))),0,INDEX('План ввода основ. ср-в'!R:R,MATCH(B201,'План ввода основ. ср-в'!B:B,0)))","v":0},null,{"$f":"IF(ISNA(INDEX('План ввода основ. ср-в'!Q:Q,MATCH(B201,'План ввода основ. ср-в'!B:B,0))),0,INDEX('План ввода основ. ср-в'!Q:Q,MATCH(B201,'План ввода основ. ср-в'!B:B,0)))","v":0},{"$f":"IF(ISNA(INDEX('План ввода основ. ср-в'!T:T,MATCH(B201,'План ввода основ. ср-в'!B:B,0))),0,INDEX('План ввода основ. ср-в'!T:T,MATCH(B201,'План ввода основ. ср-в'!B:B,0)))","v":0},null,{"$f":"IF(ISNA(INDEX('План ввода основ. ср-в'!S:S,MATCH(B201,'План ввода основ. ср-в'!B:B,0))),0,INDEX('План ввода основ. ср-в'!S:S,MATCH(B201,'План ввода основ. ср-в'!B:B,0)))","v":0},0.23,null,0,null,{"$f":"IF(ISNA(INDEX('План ввода основ. ср-в'!W:W,MATCH(B201,'План ввода основ. ср-в'!B:B,0))),0,INDEX('План ввода основ. ср-в'!W:W,MATCH(B201,'План ввода основ. ср-в'!B:B,0)))","v":0.21610169491525422},{"$f":"IF(ISNA(INDEX('План ввода основ. ср-в'!X:X,MATCH(B201,'План ввода основ. ср-в'!B:B,0))),0,INDEX('План ввода основ. ср-в'!X:X,MATCH(B201,'План ввода основ. ср-в'!B:B,0)))","v":0.50423728813559321},{"$f":"IF(ISNA(INDEX('План ввода основ. ср-в'!Y:Y,MATCH(B201,'План ввода основ. ср-в'!B:B,0))),0,INDEX('План ввода основ. ср-в'!Y:Y,MATCH(B201,'План ввода основ. ср-в'!B:B,0)))","v":0.72033898305084743},1.4406779661016949,{"$f":"IF(ISNA(INDEX('План ввода основ. ср-в'!Z:Z,MATCH(B201,'План ввода основ. ср-в'!B:B,0))),0,INDEX('План ввода основ. ср-в'!Z:Z,MATCH(B201,'План ввода основ. ср-в'!B:B,0)))","v":0},{"$f":"IF(ISNA(INDEX('План ввода основ. ср-в'!AA:AA,MATCH(B201,'План ввода основ. ср-в'!B:B,0))),0,INDEX('План ввода основ. ср-в'!AA:AA,MATCH(B201,'План ввода основ. ср-в'!B:B,0)))","v":0},{"$f":"IF(ISNA(INDEX('План ввода основ. ср-в'!AB:AB,MATCH(B201,'План ввода основ. ср-в'!B:B,0))),0,INDEX('План ввода основ. ср-в'!AB:AB,MATCH(B201,'План ввода основ. ср-в'!B:B,0)))","v":0},{"$f":"IF(ISNA(INDEX('План ввода основ. ср-в'!AC:AC,MATCH(B201,'План ввода основ. ср-в'!B:B,0))),0,INDEX('План ввода основ. ср-в'!AC:AC,MATCH(B201,'План ввода основ. ср-в'!B:B,0)))","v":0},1.4406779661016949]
[180,"Энергоснабжение электросетевого комплексса по ул. Партизанская г.о. Самара",null,null,null,null,null,null,0.3,null,0,0,null,0,null,null,null,0,null,0,0,null,0,0.3,null,0,1.8644067796610171,{"$f":"IF(ISNA(INDEX('План ввода основ. ср-в'!F:F,MATCH(B202,'План ввода основ. ср-в'!B:B,0))),0,INDEX('План ввода основ. ср-в'!F:F,MATCH(B202,'План ввода основ. ср-в'!B:B,0)))","v":0},null,{"$f":"IF(ISNA(INDEX('План ввода основ. ср-в'!E:E,MATCH(B202,'План ввода основ. ср-в'!B:B,0))),0,INDEX('План ввода основ. ср-в'!E:E,MATCH(B202,'План ввода основ. ср-в'!B:B,0)))","v":0},{"$f":"IF(ISNA(INDEX('План ввода основ. ср-в'!H:H,MATCH(B202,'План ввода основ. ср-в'!B:B,0))),0,INDEX('План ввода основ. ср-в'!H:H,MATCH(B202,'План ввода основ. ср-в'!B:B,0)))","v":0},null,{"$f":"IF(ISNA(INDEX('План ввода основ. ср-в'!G:G,MATCH(B202,'План ввода основ. ср-в'!B:B,0))),0,INDEX('План ввода основ. ср-в'!G:G,MATCH(B202,'План ввода основ. ср-в'!B:B,0)))","v":0},{"$f":"IF(ISNA(INDEX('План ввода основ. ср-в'!J:J,MATCH(B202,'План ввода основ. ср-в'!B:B,0))),0,INDEX('План ввода основ. ср-в'!J:J,MATCH(B202,'План ввода основ. ср-в'!B:B,0)))","v":0},null,{"$f":"IF(ISNA(INDEX('План ввода основ. ср-в'!I:I,MATCH(B202,'План ввода основ. ср-в'!B:B,0))),0,INDEX('План ввода основ. ср-в'!I:I,MATCH(B202,'План ввода основ. ср-в'!B:B,0)))","v":0},{"$f":"IF(ISNA(INDEX('План ввода основ. ср-в'!L:L,MATCH(B202,'План ввода основ. ср-в'!B:B,0))),0,INDEX('План ввода основ. ср-в'!L:L,MATCH(B202,'План ввода основ. ср-в'!B:B,0)))","v":0.3},null,{"$f":"IF(ISNA(INDEX('План ввода основ. ср-в'!K:K,MATCH(B202,'План ввода основ. ср-в'!B:B,0))),0,INDEX('План ввода основ. ср-в'!K:K,MATCH(B202,'План ввода основ. ср-в'!B:B,0)))","v":0},0.3,null,0,{"$f":"IF(ISNA(INDEX('План ввода основ. ср-в'!N:N,MATCH(B202,'План ввода основ. ср-в'!B:B,0))),0,INDEX('План ввода основ. ср-в'!N:N,MATCH(B202,'План ввода основ. ср-в'!B:B,0)))","v":0},null,{"$f":"IF(ISNA(INDEX('План ввода основ. ср-в'!M:M,MATCH(B202,'План ввода основ. ср-в'!B:B,0))),0,INDEX('План ввода основ. ср-в'!M:M,MATCH(B202,'План ввода основ. ср-в'!B:B,0)))","v":0},{"$f":"IF(ISNA(INDEX('План ввода основ. ср-в'!P:P,MATCH(B202,'План ввода основ. ср-в'!B:B,0))),0,INDEX('План ввода основ. ср-в'!P:P,MATCH(B202,'План ввода основ. ср-в'!B:B,0)))","v":0},null,{"$f":"IF(ISNA(INDEX('План ввода основ. ср-в'!O:O,MATCH(B202,'План ввода основ. ср-в'!B:B,0))),0,INDEX('План ввода основ. ср-в'!O:O,MATCH(B202,'План ввода основ. ср-в'!B:B,0)))","v":0},{"$f":"IF(ISNA(INDEX('План ввода основ. ср-в'!R:R,MATCH(B202,'План ввода основ. ср-в'!B:B,0))),0,INDEX('План ввода основ. ср-в'!R:R,MATCH(B202,'План ввода основ. ср-в'!B:B,0)))","v":0},null,{"$f":"IF(ISNA(INDEX('План ввода основ. ср-в'!Q:Q,MATCH(B202,'План ввода основ. ср-в'!B:B,0))),0,INDEX('План ввода основ. ср-в'!Q:Q,MATCH(B202,'План ввода основ. ср-в'!B:B,0)))","v":0},{"$f":"IF(ISNA(INDEX('План ввода основ. ср-в'!T:T,MATCH(B202,'План ввода основ. ср-в'!B:B,0))),0,INDEX('План ввода основ. ср-в'!T:T,MATCH(B202,'План ввода основ. ср-в'!B:B,0)))","v":0},null,{"$f":"IF(ISNA(INDEX('План ввода основ. ср-в'!S:S,MATCH(B202,'План ввода основ. ср-в'!B:B,0))),0,INDEX('План ввода основ. ср-в'!S:S,MATCH(B202,'План ввода основ. ср-в'!B:B,0)))","v":0},0.3,null,0,null,{"$f":"IF(ISNA(INDEX('План ввода основ. ср-в'!W:W,MATCH(B202,'План ввода основ. ср-в'!B:B,0))),0,INDEX('План ввода основ. ср-в'!W:W,MATCH(B202,'План ввода основ. ср-в'!B:B,0)))","v":0.27966101694915257},{"$f":"IF(ISNA(INDEX('План ввода основ. ср-в'!X:X,MATCH(B202,'План ввода основ. ср-в'!B:B,0))),0,INDEX('План ввода основ. ср-в'!X:X,MATCH(B202,'План ввода основ. ср-в'!B:B,0)))","v":0.65254237288135597},{"$f":"IF(ISNA(INDEX('План ввода основ. ср-в'!Y:Y,MATCH(B202,'План ввода основ. ср-в'!B:B,0))),0,INDEX('План ввода основ. ср-в'!Y:Y,MATCH(B202,'План ввода основ. ср-в'!B:B,0)))","v":0.93220338983050854},1.8644067796610171,{"$f":"IF(ISNA(INDEX('План ввода основ. ср-в'!Z:Z,MATCH(B202,'План ввода основ. ср-в'!B:B,0))),0,INDEX('План ввода основ. ср-в'!Z:Z,MATCH(B202,'План ввода основ. ср-в'!B:B,0)))","v":0},{"$f":"IF(ISNA(INDEX('План ввода основ. ср-в'!AA:AA,MATCH(B202,'План ввода основ. ср-в'!B:B,0))),0,INDEX('План ввода основ. ср-в'!AA:AA,MATCH(B202,'План ввода основ. ср-в'!B:B,0)))","v":0},{"$f":"IF(ISNA(INDEX('План ввода основ. ср-в'!AB:AB,MATCH(B202,'План ввода основ. ср-в'!B:B,0))),0,INDEX('План ввода основ. ср-в'!AB:AB,MATCH(B202,'План ввода основ. ср-в'!B:B,0)))","v":0},{"$f":"IF(ISNA(INDEX('План ввода основ. ср-в'!AC:AC,MATCH(B202,'План ввода основ. ср-в'!B:B,0))),0,INDEX('План ввода основ. ср-в'!AC:AC,MATCH(B202,'План ввода основ. ср-в'!B:B,0)))","v":0},1.8644067796610171]
[181,"Реконструкция электроснабжения г.о.Самара",null,null,null,null,null,null,11.799999999999999,null,0,0,null,0,null,null,null,0,null,0,0,null,0,11.799999999999999,null,0,60,{"$f":"IF(ISNA(INDEX('План ввода основ. ср-в'!F:F,MATCH(B203,'План ввода основ. ср-в'!B:B,0))),0,INDEX('План ввода основ. ср-в'!F:F,MATCH(B203,'План ввода основ. ср-в'!B:B,0)))","v":0},null,{"$f":"IF(ISNA(INDEX('План ввода основ. ср-в'!E:E,MATCH(B203,'План ввода основ. ср-в'!B:B,0))),0,INDEX('План ввода основ. ср-в'!E:E,MATCH(B203,'План ввода основ. ср-в'!B:B,0)))","v":0},{"$f":"IF(ISNA(INDEX('План ввода основ. ср-в'!H:H,MATCH(B203,'План ввода основ. ср-в'!B:B,0))),0,INDEX('План ввода основ. ср-в'!H:H,MATCH(B203,'План ввода основ. ср-в'!B:B,0)))","v":0},null,{"$f":"IF(ISNA(INDEX('План ввода основ. ср-в'!G:G,MATCH(B203,'План ввода основ. ср-в'!B:B,0))),0,INDEX('План ввода основ. ср-в'!G:G,MATCH(B203,'План ввода основ. ср-в'!B:B,0)))","v":0},{"$f":"IF(ISNA(INDEX('План ввода основ. ср-в'!J:J,MATCH(B203,'План ввода основ. ср-в'!B:B,0))),0,INDEX('План ввода основ. ср-в'!J:J,MATCH(B203,'План ввода основ. ср-в'!B:B,0)))","v":0},null,{"$f":"IF(ISNA(INDEX('План ввода основ. ср-в'!I:I,MATCH(B203,'План ввода основ. ср-в'!B:B,0))),0,INDEX('План ввода основ. ср-в'!I:I,MATCH(B203,'План ввода основ. ср-в'!B:B,0)))","v":0},{"$f":"IF(ISNA(INDEX('План ввода основ. ср-в'!L:L,MATCH(B203,'План ввода основ. ср-в'!B:B,0))),0,INDEX('План ввода основ. ср-в'!L:L,MATCH(B203,'План ввода основ. ср-в'!B:B,0)))","v":11.799999999999999},null,{"$f":"IF(ISNA(INDEX('План ввода основ. ср-в'!K:K,MATCH(B203,'План ввода основ. ср-в'!B:B,0))),0,INDEX('План ввода основ. ср-в'!K:K,MATCH(B203,'План ввода основ. ср-в'!B:B,0)))","v":0},11.799999999999999,null,0,{"$f":"IF(ISNA(INDEX('План ввода основ. ср-в'!N:N,MATCH(B203,'План ввода основ. ср-в'!B:B,0))),0,INDEX('План ввода основ. ср-в'!N:N,MATCH(B203,'План ввода основ. ср-в'!B:B,0)))","v":0},null,{"$f":"IF(ISNA(INDEX('План ввода основ. ср-в'!M:M,MATCH(B203,'План ввода основ. ср-в'!B:B,0))),0,INDEX('План ввода основ. ср-в'!M:M,MATCH(B203,'План ввода основ. ср-в'!B:B,0)))","v":0},{"$f":"IF(ISNA(INDEX('План ввода основ. ср-в'!P:P,MATCH(B203,'План ввода основ. ср-в'!B:B,0))),0,INDEX('План ввода основ. ср-в'!P:P,MATCH(B203,'План ввода основ. ср-в'!B:B,0)))","v":0},null,{"$f":"IF(ISNA(INDEX('План ввода основ. ср-в'!O:O,MATCH(B203,'План ввода основ. ср-в'!B:B,0))),0,INDEX('План ввода основ. ср-в'!O:O,MATCH(B203,'План ввода основ. ср-в'!B:B,0)))","v":0},{"$f":"IF(ISNA(INDEX('План ввода основ. ср-в'!R:R,MATCH(B203,'План ввода основ. ср-в'!B:B,0))),0,INDEX('План ввода основ. ср-в'!R:R,MATCH(B203,'План ввода основ. ср-в'!B:B,0)))","v":0},null,{"$f":"IF(ISNA(INDEX('План ввода основ. ср-в'!Q:Q,MATCH(B203,'План ввода основ. ср-в'!B:B,0))),0,INDEX('План ввода основ. ср-в'!Q:Q,MATCH(B203,'План ввода основ. ср-в'!B:B,0)))","v":0},{"$f":"IF(ISNA(INDEX('План ввода основ. ср-в'!T:T,MATCH(B203,'План ввода основ. ср-в'!B:B,0))),0,INDEX('План ввода основ. ср-в'!T:T,MATCH(B203,'План ввода основ. ср-в'!B:B,0)))","v":0},null,{"$f":"IF(ISNA(INDEX('План ввода основ. ср-в'!S:S,MATCH(B203,'План ввода основ. ср-в'!B:B,0))),0,INDEX('План ввода основ. ср-в'!S:S,MATCH(B203,'План ввода основ. ср-в'!B:B,0)))","v":0},11.799999999999999,null,0,null,{"$f":"IF(ISNA(INDEX('План ввода основ. ср-в'!W:W,MATCH(B203,'План ввода основ. ср-в'!B:B,0))),0,INDEX('План ввода основ. ср-в'!W:W,MATCH(B203,'План ввода основ. ср-в'!B:B,0)))","v":9},{"$f":"IF(ISNA(INDEX('План ввода основ. ср-в'!X:X,MATCH(B203,'План ввода основ. ср-в'!B:B,0))),0,INDEX('План ввода основ. ср-в'!X:X,MATCH(B203,'План ввода основ. ср-в'!B:B,0)))","v":21},{"$f":"IF(ISNA(INDEX('План ввода основ. ср-в'!Y:Y,MATCH(B203,'План ввода основ. ср-в'!B:B,0))),0,INDEX('План ввода основ. ср-в'!Y:Y,MATCH(B203,'План ввода основ. ср-в'!B:B,0)))","v":30},60,{"$f":"IF(ISNA(INDEX('План ввода основ. ср-в'!Z:Z,MATCH(B203,'План ввода основ. ср-в'!B:B,0))),0,INDEX('План ввода основ. ср-в'!Z:Z,MATCH(B203,'План ввода основ. ср-в'!B:B,0)))","v":0},{"$f":"IF(ISNA(INDEX('План ввода основ. ср-в'!AA:AA,MATCH(B203,'План ввода основ. ср-в'!B:B,0))),0,INDEX('План ввода основ. ср-в'!AA:AA,MATCH(B203,'План ввода основ. ср-в'!B:B,0)))","v":0},{"$f":"IF(ISNA(INDEX('План ввода основ. ср-в'!AB:AB,MATCH(B203,'План ввода основ. ср-в'!B:B,0))),0,INDEX('План ввода основ. ср-в'!AB:AB,MATCH(B203,'План ввода основ. ср-в'!B:B,0)))","v":0},{"$f":"IF(ISNA(INDEX('План ввода основ. ср-в'!AC:AC,MATCH(B203,'План ввода основ. ср-в'!B:B,0))),0,INDEX('План ввода основ. ср-в'!AC:AC,MATCH(B203,'План ввода основ. ср-в'!B:B,0)))","v":0},60]
[182,"Реконструкция сетей в Ленинском р-не г.о. Самара",null,null,null,null,null,null,2.5,null,2,0,null,0,null,null,null,0,null,0,0,null,0,2.5,null,2,70,null,null,null,{"$f":"IF(ISNA(INDEX('План ввода основ. ср-в'!H:H,MATCH(B204,'План ввода основ. ср-в'!B:B,0))),0,INDEX('План ввода основ. ср-в'!H:H,MATCH(B204,'План ввода основ. ср-в'!B:B,0)))","v":0},null,{"$f":"IF(ISNA(INDEX('План ввода основ. ср-в'!G:G,MATCH(B204,'План ввода основ. ср-в'!B:B,0))),0,INDEX('План ввода основ. ср-в'!G:G,MATCH(B204,'План ввода основ. ср-в'!B:B,0)))","v":0},{"$f":"IF(ISNA(INDEX('План ввода основ. ср-в'!J:J,MATCH(B204,'План ввода основ. ср-в'!B:B,0))),0,INDEX('План ввода основ. ср-в'!J:J,MATCH(B204,'План ввода основ. ср-в'!B:B,0)))","v":0},null,{"$f":"IF(ISNA(INDEX('План ввода основ. ср-в'!I:I,MATCH(B204,'План ввода основ. ср-в'!B:B,0))),0,INDEX('План ввода основ. ср-в'!I:I,MATCH(B204,'План ввода основ. ср-в'!B:B,0)))","v":0},{"$f":"IF(ISNA(INDEX('План ввода основ. ср-в'!L:L,MATCH(B204,'План ввода основ. ср-в'!B:B,0))),0,INDEX('План ввода основ. ср-в'!L:L,MATCH(B204,'План ввода основ. ср-в'!B:B,0)))","v":2.5},null,{"$f":"IF(ISNA(INDEX('План ввода основ. ср-в'!K:K,MATCH(B204,'План ввода основ. ср-в'!B:B,0))),0,INDEX('План ввода основ. ср-в'!K:K,MATCH(B204,'План ввода основ. ср-в'!B:B,0)))","v":2},2.5,null,2,{"$f":"IF(ISNA(INDEX('План ввода основ. ср-в'!N:N,MATCH(B204,'План ввода основ. ср-в'!B:B,0))),0,INDEX('План ввода основ. ср-в'!N:N,MATCH(B204,'План ввода основ. ср-в'!B:B,0)))","v":0},null,{"$f":"IF(ISNA(INDEX('План ввода основ. ср-в'!M:M,MATCH(B204,'План ввода основ. ср-в'!B:B,0))),0,INDEX('План ввода основ. ср-в'!M:M,MATCH(B204,'План ввода основ. ср-в'!B:B,0)))","v":0},{"$f":"IF(ISNA(INDEX('План ввода основ. ср-в'!P:P,MATCH(B204,'План ввода основ. ср-в'!B:B,0))),0,INDEX('План ввода основ. ср-в'!P:P,MATCH(B204,'План ввода основ. ср-в'!B:B,0)))","v":0},null,{"$f":"IF(ISNA(INDEX('План ввода основ. ср-в'!O:O,MATCH(B204,'План ввода основ. ср-в'!B:B,0))),0,INDEX('План ввода основ. ср-в'!O:O,MATCH(B204,'План ввода основ. ср-в'!B:B,0)))","v":0},{"$f":"IF(ISNA(INDEX('План ввода основ. ср-в'!R:R,MATCH(B204,'План ввода основ. ср-в'!B:B,0))),0,INDEX('План ввода основ. ср-в'!R:R,MATCH(B204,'План ввода основ. ср-в'!B:B,0)))","v":0},null,{"$f":"IF(ISNA(INDEX('План ввода основ. ср-в'!Q:Q,MATCH(B204,'План ввода основ. ср-в'!B:B,0))),0,INDEX('План ввода основ. ср-в'!Q:Q,MATCH(B204,'План ввода основ. ср-в'!B:B,0)))","v":0},{"$f":"IF(ISNA(INDEX('План ввода основ. ср-в'!T:T,MATCH(B204,'План ввода основ. ср-в'!B:B,0))),0,INDEX('План ввода основ. ср-в'!T:T,MATCH(B204,'План ввода основ. ср-в'!B:B,0)))","v":0},null,{"$f":"IF(ISNA(INDEX('План ввода основ. ср-в'!S:S,MATCH(B204,'План ввода основ. ср-в'!B:B,0))),0,INDEX('План ввода основ. ср-в'!S:S,MATCH(B204,'План ввода основ. ср-в'!B:B,0)))","v":0},2.5,null,2,null,{"$f":"IF(ISNA(INDEX('План ввода основ. ср-в'!W:W,MATCH(B204,'План ввода основ. ср-в'!B:B,0))),0,INDEX('План ввода основ. ср-в'!W:W,MATCH(B204,'План ввода основ. ср-в'!B:B,0)))","v":10.5},{"$f":"IF(ISNA(INDEX('План ввода основ. ср-в'!X:X,MATCH(B204,'План ввода основ. ср-в'!B:B,0))),0,INDEX('План ввода основ. ср-в'!X:X,MATCH(B204,'План ввода основ. ср-в'!B:B,0)))","v":24.5},{"$f":"IF(ISNA(INDEX('План ввода основ. ср-в'!Y:Y,MATCH(B204,'План ввода основ. ср-в'!B:B,0))),0,INDEX('План ввода основ. ср-в'!Y:Y,MATCH(B204,'План ввода основ. ср-в'!B:B,0)))","v":35},70,{"$f":"IF(ISNA(INDEX('План ввода основ. ср-в'!Z:Z,MATCH(B204,'План ввода основ. ср-в'!B:B,0))),0,INDEX('План ввода основ. ср-в'!Z:Z,MATCH(B204,'План ввода основ. ср-в'!B:B,0)))","v":0},{"$f":"IF(ISNA(INDEX('План ввода основ. ср-в'!AA:AA,MATCH(B204,'План ввода основ. ср-в'!B:B,0))),0,INDEX('План ввода основ. ср-в'!AA:AA,MATCH(B204,'План ввода основ. ср-в'!B:B,0)))","v":0},{"$f":"IF(ISNA(INDEX('План ввода основ. ср-в'!AB:AB,MATCH(B204,'План ввода основ. ср-в'!B:B,0))),0,INDEX('План ввода основ. ср-в'!AB:AB,MATCH(B204,'План ввода основ. ср-в'!B:B,0)))","v":0},{"$f":"IF(ISNA(INDEX('План ввода основ. ср-в'!AC:AC,MATCH(B204,'План ввода основ. ср-в'!B:B,0))),0,INDEX('План ввода основ. ср-в'!AC:AC,MATCH(B204,'План ввода основ. ср-в'!B:B,0)))","v":0},70]
[183,"ПИР Котельная в Куйбышевском р-не г.о. Самара",null,null,null,null,null,null,0,null,0,0,null,0,null,null,null,0,null,0,0,null,0,0,null,0,10.000000000000002,null,null,null,{"$f":"IF(ISNA(INDEX('План ввода основ. ср-в'!H:H,MATCH(B205,'План ввода основ. ср-в'!B:B,0))),0,INDEX('План ввода основ. ср-в'!H:H,MATCH(B205,'План ввода основ. ср-в'!B:B,0)))","v":0},null,{"$f":"IF(ISNA(INDEX('План ввода основ. ср-в'!G:G,MATCH(B205,'План ввода основ. ср-в'!B:B,0))),0,INDEX('План ввода основ. ср-в'!G:G,MATCH(B205,'План ввода основ. ср-в'!B:B,0)))","v":0},{"$f":"IF(ISNA(INDEX('План ввода основ. ср-в'!J:J,MATCH(B205,'План ввода основ. ср-в'!B:B,0))),0,INDEX('План ввода основ. ср-в'!J:J,MATCH(B205,'План ввода основ. ср-в'!B:B,0)))","v":0},null,{"$f":"IF(ISNA(INDEX('План ввода основ. ср-в'!I:I,MATCH(B205,'План ввода основ. ср-в'!B:B,0))),0,INDEX('План ввода основ. ср-в'!I:I,MATCH(B205,'План ввода основ. ср-в'!B:B,0)))","v":0},{"$f":"IF(ISNA(INDEX('План ввода основ. ср-в'!L:L,MATCH(B205,'План ввода основ. ср-в'!B:B,0))),0,INDEX('План ввода основ. ср-в'!L:L,MATCH(B205,'План ввода основ. ср-в'!B:B,0)))","v":0},null,{"$f":"IF(ISNA(INDEX('План ввода основ. ср-в'!K:K,MATCH(B205,'План ввода основ. ср-в'!B:B,0))),0,INDEX('План ввода основ. ср-в'!K:K,MATCH(B205,'План ввода основ. ср-в'!B:B,0)))","v":0},0,null,0,{"$f":"IF(ISNA(INDEX('План ввода основ. ср-в'!N:N,MATCH(B205,'План ввода основ. ср-в'!B:B,0))),0,INDEX('План ввода основ. ср-в'!N:N,MATCH(B205,'План ввода основ. ср-в'!B:B,0)))","v":0},null,{"$f":"IF(ISNA(INDEX('План ввода основ. ср-в'!M:M,MATCH(B205,'План ввода основ. ср-в'!B:B,0))),0,INDEX('План ввода основ. ср-в'!M:M,MATCH(B205,'План ввода основ. ср-в'!B:B,0)))","v":0},{"$f":"IF(ISNA(INDEX('План ввода основ. ср-в'!P:P,MATCH(B205,'План ввода основ. ср-в'!B:B,0))),0,INDEX('План ввода основ. ср-в'!P:P,MATCH(B205,'План ввода основ. ср-в'!B:B,0)))","v":0},null,{"$f":"IF(ISNA(INDEX('План ввода основ. ср-в'!O:O,MATCH(B205,'План ввода основ. ср-в'!B:B,0))),0,INDEX('План ввода основ. ср-в'!O:O,MATCH(B205,'План ввода основ. ср-в'!B:B,0)))","v":0},{"$f":"IF(ISNA(INDEX('План ввода основ. ср-в'!R:R,MATCH(B205,'План ввода основ. ср-в'!B:B,0))),0,INDEX('План ввода основ. ср-в'!R:R,MATCH(B205,'План ввода основ. ср-в'!B:B,0)))","v":0},null,{"$f":"IF(ISNA(INDEX('План ввода основ. ср-в'!Q:Q,MATCH(B205,'План ввода основ. ср-в'!B:B,0))),0,INDEX('План ввода основ. ср-в'!Q:Q,MATCH(B205,'План ввода основ. ср-в'!B:B,0)))","v":0},{"$f":"IF(ISNA(INDEX('План ввода основ. ср-в'!T:T,MATCH(B205,'План ввода основ. ср-в'!B:B,0))),0,INDEX('План ввода основ. ср-в'!T:T,MATCH(B205,'План ввода основ. ср-в'!B:B,0)))","v":0},null,{"$f":"IF(ISNA(INDEX('План ввода основ. ср-в'!S:S,MATCH(B205,'План ввода основ. ср-в'!B:B,0))),0,INDEX('План ввода основ. ср-в'!S:S,MATCH(B205,'План ввода основ. ср-в'!B:B,0)))","v":0},0,null,0,null,{"$f":"IF(ISNA(INDEX('План ввода основ. ср-в'!W:W,MATCH(B205,'План ввода основ. ср-в'!B:B,0))),0,INDEX('План ввода основ. ср-в'!W:W,MATCH(B205,'План ввода основ. ср-в'!B:B,0)))","v":1.5000000000000002},{"$f":"IF(ISNA(INDEX('План ввода основ. ср-в'!X:X,MATCH(B205,'План ввода основ. ср-в'!B:B,0))),0,INDEX('План ввода основ. ср-в'!X:X,MATCH(B205,'План ввода основ. ср-в'!B:B,0)))","v":3.5000000000000004},{"$f":"IF(ISNA(INDEX('План ввода основ. ср-в'!Y:Y,MATCH(B205,'План ввода основ. ср-в'!B:B,0))),0,INDEX('План ввода основ. ср-в'!Y:Y,MATCH(B205,'План ввода основ. ср-в'!B:B,0)))","v":5.0000000000000009},10.000000000000002,{"$f":"IF(ISNA(INDEX('План ввода основ. ср-в'!Z:Z,MATCH(B205,'План ввода основ. ср-в'!B:B,0))),0,INDEX('План ввода основ. ср-в'!Z:Z,MATCH(B205,'План ввода основ. ср-в'!B:B,0)))","v":0},{"$f":"IF(ISNA(INDEX('План ввода основ. ср-в'!AA:AA,MATCH(B205,'План ввода основ. ср-в'!B:B,0))),0,INDEX('План ввода основ. ср-в'!AA:AA,MATCH(B205,'План ввода основ. ср-в'!B:B,0)))","v":0},{"$f":"IF(ISNA(INDEX('План ввода основ. ср-в'!AB:AB,MATCH(B205,'План ввода основ. ср-в'!B:B,0))),0,INDEX('План ввода основ. ср-в'!AB:AB,MATCH(B205,'План ввода основ. ср-в'!B:B,0)))","v":0},{"$f":"IF(ISNA(INDEX('План ввода основ. ср-в'!AC:AC,MATCH(B205,'План ввода основ. ср-в'!B:B,0))),0,INDEX('План ввода основ. ср-в'!AC:AC,MATCH(B205,'План ввода основ. ср-в'!B:B,0)))","v":0},10.000000000000002]
[184,"ПИР ПС \"Кряж\"",null,null,null,null,null,null,0,null,0,0,null,0,null,null,null,0,null,0,0,null,0,0,null,0,105,null,null,null,{"$f":"IF(ISNA(INDEX('План ввода основ. ср-в'!H:H,MATCH(B206,'План ввода основ. ср-в'!B:B,0))),0,INDEX('План ввода основ. ср-в'!H:H,MATCH(B206,'План ввода основ. ср-в'!B:B,0)))","v":0},null,{"$f":"IF(ISNA(INDEX('План ввода основ. ср-в'!G:G,MATCH(B206,'План ввода основ. ср-в'!B:B,0))),0,INDEX('План ввода основ. ср-в'!G:G,MATCH(B206,'План ввода основ. ср-в'!B:B,0)))","v":0},{"$f":"IF(ISNA(INDEX('План ввода основ. ср-в'!J:J,MATCH(B206,'План ввода основ. ср-в'!B:B,0))),0,INDEX('План ввода основ. ср-в'!J:J,MATCH(B206,'План ввода основ. ср-в'!B:B,0)))","v":0},null,{"$f":"IF(ISNA(INDEX('План ввода основ. ср-в'!I:I,MATCH(B206,'План ввода основ. ср-в'!B:B,0))),0,INDEX('План ввода основ. ср-в'!I:I,MATCH(B206,'План ввода основ. ср-в'!B:B,0)))","v":0},{"$f":"IF(ISNA(INDEX('План ввода основ. ср-в'!L:L,MATCH(B206,'План ввода основ. ср-в'!B:B,0))),0,INDEX('План ввода основ. ср-в'!L:L,MATCH(B206,'План ввода основ. ср-в'!B:B,0)))","v":0},null,{"$f":"IF(ISNA(INDEX('План ввода основ. ср-в'!K:K,MATCH(B206,'План ввода основ. ср-в'!B:B,0))),0,INDEX('План ввода основ. ср-в'!K:K,MATCH(B206,'План ввода основ. ср-в'!B:B,0)))","v":0},0,null,0,{"$f":"IF(ISNA(INDEX('План ввода основ. ср-в'!N:N,MATCH(B206,'План ввода основ. ср-в'!B:B,0))),0,INDEX('План ввода основ. ср-в'!N:N,MATCH(B206,'План ввода основ. ср-в'!B:B,0)))","v":0},null,{"$f":"IF(ISNA(INDEX('План ввода основ. ср-в'!M:M,MATCH(B206,'План ввода основ. ср-в'!B:B,0))),0,INDEX('План ввода основ. ср-в'!M:M,MATCH(B206,'План ввода основ. ср-в'!B:B,0)))","v":0},{"$f":"IF(ISNA(INDEX('План ввода основ. ср-в'!P:P,MATCH(B206,'План ввода основ. ср-в'!B:B,0))),0,INDEX('План ввода основ. ср-в'!P:P,MATCH(B206,'План ввода основ. ср-в'!B:B,0)))","v":0},null,{"$f":"IF(ISNA(INDEX('План ввода основ. ср-в'!O:O,MATCH(B206,'План ввода основ. ср-в'!B:B,0))),0,INDEX('План ввода основ. ср-в'!O:O,MATCH(B206,'План ввода основ. ср-в'!B:B,0)))","v":0},{"$f":"IF(ISNA(INDEX('План ввода основ. ср-в'!R:R,MATCH(B206,'План ввода основ. ср-в'!B:B,0))),0,INDEX('План ввода основ. ср-в'!R:R,MATCH(B206,'План ввода основ. ср-в'!B:B,0)))","v":0},null,{"$f":"IF(ISNA(INDEX('План ввода основ. ср-в'!Q:Q,MATCH(B206,'План ввода основ. ср-в'!B:B,0))),0,INDEX('План ввода основ. ср-в'!Q:Q,MATCH(B206,'План ввода основ. ср-в'!B:B,0)))","v":0},{"$f":"IF(ISNA(INDEX('План ввода основ. ср-в'!T:T,MATCH(B206,'План ввода основ. ср-в'!B:B,0))),0,INDEX('План ввода основ. ср-в'!T:T,MATCH(B206,'План ввода основ. ср-в'!B:B,0)))","v":0},null,{"$f":"IF(ISNA(INDEX('План ввода основ. ср-в'!S:S,MATCH(B206,'План ввода основ. ср-в'!B:B,0))),0,INDEX('План ввода основ. ср-в'!S:S,MATCH(B206,'План ввода основ. ср-в'!B:B,0)))","v":0},0,null,0,null,{"$f":"IF(ISNA(INDEX('План ввода основ. ср-в'!W:W,MATCH(B206,'План ввода основ. ср-в'!B:B,0))),0,INDEX('План ввода основ. ср-в'!W:W,MATCH(B206,'План ввода основ. ср-в'!B:B,0)))","v":15.750000000000002},{"$f":"IF(ISNA(INDEX('План ввода основ. ср-в'!X:X,MATCH(B206,'План ввода основ. ср-в'!B:B,0))),0,INDEX('План ввода основ. ср-в'!X:X,MATCH(B206,'План ввода основ. ср-в'!B:B,0)))","v":36.75},{"$f":"IF(ISNA(INDEX('План ввода основ. ср-в'!Y:Y,MATCH(B206,'План ввода основ. ср-в'!B:B,0))),0,INDEX('План ввода основ. ср-в'!Y:Y,MATCH(B206,'План ввода основ. ср-в'!B:B,0)))","v":52.500000000000007},105,{"$f":"IF(ISNA(INDEX('План ввода основ. ср-в'!Z:Z,MATCH(B206,'План ввода основ. ср-в'!B:B,0))),0,INDEX('План ввода основ. ср-в'!Z:Z,MATCH(B206,'План ввода основ. ср-в'!B:B,0)))","v":0},{"$f":"IF(ISNA(INDEX('План ввода основ. ср-в'!AA:AA,MATCH(B206,'План ввода основ. ср-в'!B:B,0))),0,INDEX('План ввода основ. ср-в'!AA:AA,MATCH(B206,'План ввода основ. ср-в'!B:B,0)))","v":0},{"$f":"IF(ISNA(INDEX('План ввода основ. ср-в'!AB:AB,MATCH(B206,'План ввода основ. ср-в'!B:B,0))),0,INDEX('План ввода основ. ср-в'!AB:AB,MATCH(B206,'План ввода основ. ср-в'!B:B,0)))","v":0},{"$f":"IF(ISNA(INDEX('План ввода основ. ср-в'!AC:AC,MATCH(B206,'План ввода основ. ср-в'!B:B,0))),0,INDEX('План ввода основ. ср-в'!AC:AC,MATCH(B206,'План ввода основ. ср-в'!B:B,0)))","v":0},105]
[185,"Повышение надежности энергоснабжения г. Самара",null,null,null,null,null,null,0,"",0,0,"",0,0,"",0,0,"",0,0,"",0,0,"/",0,2363.9830508474579,{"$f":"IF(ISNA(INDEX('План ввода основ. ср-в'!F:F,MATCH(B207,'План ввода основ. ср-в'!B:B,0))),0,INDEX('План ввода основ. ср-в'!F:F,MATCH(B207,'План ввода основ. ср-в'!B:B,0)))","v":0},"",{"$f":"IF(ISNA(INDEX('План ввода основ. ср-в'!E:E,MATCH(B207,'План ввода основ. ср-в'!B:B,0))),0,INDEX('План ввода основ. ср-в'!E:E,MATCH(B207,'План ввода основ. ср-в'!B:B,0)))","v":0},{"$f":"IF(ISNA(INDEX('План ввода основ. ср-в'!H:H,MATCH(B207,'План ввода основ. ср-в'!B:B,0))),0,INDEX('План ввода основ. ср-в'!H:H,MATCH(B207,'План ввода основ. ср-в'!B:B,0)))","v":0},"",{"$f":"IF(ISNA(INDEX('План ввода основ. ср-в'!G:G,MATCH(B207,'План ввода основ. ср-в'!B:B,0))),0,INDEX('План ввода основ. ср-в'!G:G,MATCH(B207,'План ввода основ. ср-в'!B:B,0)))","v":0},{"$f":"IF(ISNA(INDEX('План ввода основ. ср-в'!J:J,MATCH(B207,'План ввода основ. ср-в'!B:B,0))),0,INDEX('План ввода основ. ср-в'!J:J,MATCH(B207,'План ввода основ. ср-в'!B:B,0)))","v":0},"",{"$f":"IF(ISNA(INDEX('План ввода основ. ср-в'!I:I,MATCH(B207,'План ввода основ. ср-в'!B:B,0))),0,INDEX('План ввода основ. ср-в'!I:I,MATCH(B207,'План ввода основ. ср-в'!B:B,0)))","v":0},{"$f":"IF(ISNA(INDEX('План ввода основ. ср-в'!L:L,MATCH(B207,'План ввода основ. ср-в'!B:B,0))),0,INDEX('План ввода основ. ср-в'!L:L,MATCH(B207,'План ввода основ. ср-в'!B:B,0)))","v":0},"",{"$f":"IF(ISNA(INDEX('План ввода основ. ср-в'!K:K,MATCH(B207,'План ввода основ. ср-в'!B:B,0))),0,INDEX('План ввода основ. ср-в'!K:K,MATCH(B207,'План ввода основ. ср-в'!B:B,0)))","v":0},0,"/",0,{"$f":"IF(ISNA(INDEX('План ввода основ. ср-в'!N:N,MATCH(B207,'План ввода основ. ср-в'!B:B,0))),0,INDEX('План ввода основ. ср-в'!N:N,MATCH(B207,'План ввода основ. ср-в'!B:B,0)))","v":69},"/",{"$f":"IF(ISNA(INDEX('План ввода основ. ср-в'!M:M,MATCH(B207,'План ввода основ. ср-в'!B:B,0))),0,INDEX('План ввода основ. ср-в'!M:M,MATCH(B207,'План ввода основ. ср-в'!B:B,0)))","v":0},{"$f":"IF(ISNA(INDEX('План ввода основ. ср-в'!P:P,MATCH(B207,'План ввода основ. ср-в'!B:B,0))),0,INDEX('План ввода основ. ср-в'!P:P,MATCH(B207,'План ввода основ. ср-в'!B:B,0)))","v":57.5},"/",{"$f":"IF(ISNA(INDEX('План ввода основ. ср-в'!O:O,MATCH(B207,'План ввода основ. ср-в'!B:B,0))),0,INDEX('План ввода основ. ср-в'!O:O,MATCH(B207,'План ввода основ. ср-в'!B:B,0)))","v":0},{"$f":"IF(ISNA(INDEX('План ввода основ. ср-в'!R:R,MATCH(B207,'План ввода основ. ср-в'!B:B,0))),0,INDEX('План ввода основ. ср-в'!R:R,MATCH(B207,'План ввода основ. ср-в'!B:B,0)))","v":61},"/",{"$f":"IF(ISNA(INDEX('План ввода основ. ср-в'!Q:Q,MATCH(B207,'План ввода основ. ср-в'!B:B,0))),0,INDEX('План ввода основ. ср-в'!Q:Q,MATCH(B207,'План ввода основ. ср-в'!B:B,0)))","v":0},{"$f":"IF(ISNA(INDEX('План ввода основ. ср-в'!T:T,MATCH(B207,'План ввода основ. ср-в'!B:B,0))),0,INDEX('План ввода основ. ср-в'!T:T,MATCH(B207,'План ввода основ. ср-в'!B:B,0)))","v":67},"/",{"$f":"IF(ISNA(INDEX('План ввода основ. ср-в'!S:S,MATCH(B207,'План ввода основ. ср-в'!B:B,0))),0,INDEX('План ввода основ. ср-в'!S:S,MATCH(B207,'План ввода основ. ср-в'!B:B,0)))","v":0},254.5,"/",0,{"$f":"IF(ISNA(INDEX('План ввода основ. ср-в'!V:V,MATCH(B207,'План ввода основ. ср-в'!B:B,0))),0,INDEX('План ввода основ. ср-в'!V:V,MATCH(B207,'План ввода основ. ср-в'!B:B,0)))","v":0},{"$f":"IF(ISNA(INDEX('План ввода основ. ср-в'!W:W,MATCH(B207,'План ввода основ. ср-в'!B:B,0))),0,INDEX('План ввода основ. ср-в'!W:W,MATCH(B207,'План ввода основ. ср-в'!B:B,0)))","v":0},{"$f":"IF(ISNA(INDEX('План ввода основ. ср-в'!X:X,MATCH(B207,'План ввода основ. ср-в'!B:B,0))),0,INDEX('План ввода основ. ср-в'!X:X,MATCH(B207,'План ввода основ. ср-в'!B:B,0)))","v":0},{"$f":"IF(ISNA(INDEX('План ввода основ. ср-в'!Y:Y,MATCH(B207,'План ввода основ. ср-в'!B:B,0))),0,INDEX('План ввода основ. ср-в'!Y:Y,MATCH(B207,'План ввода основ. ср-в'!B:B,0)))","v":0},0,{"$f":"IF(ISNA(INDEX('План ввода основ. ср-в'!Z:Z,MATCH(B207,'План ввода основ. ср-в'!B:B,0))),0,INDEX('План ввода основ. ср-в'!Z:Z,MATCH(B207,'План ввода основ. ср-в'!B:B,0)))","v":635},{"$f":"IF(ISNA(INDEX('План ввода основ. ср-в'!AA:AA,MATCH(B207,'План ввода основ. ср-в'!B:B,0))),0,INDEX('План ввода основ. ср-в'!AA:AA,MATCH(B207,'План ввода основ. ср-в'!B:B,0)))","v":540.00000000000011},{"$f":"IF(ISNA(INDEX('План ввода основ. ср-в'!AB:AB,MATCH(B207,'План ввода основ. ср-в'!B:B,0))),0,INDEX('План ввода основ. ср-в'!AB:AB,MATCH(B207,'План ввода основ. ср-в'!B:B,0)))","v":560},{"$f":"IF(ISNA(INDEX('План ввода основ. ср-в'!AC:AC,MATCH(B207,'План ввода основ. ср-в'!B:B,0))),0,INDEX('План ввода основ. ср-в'!AC:AC,MATCH(B207,'План ввода основ. ср-в'!B:B,0)))","v":628.98305084745766},2363.9830508474579]
[186,"Реконструкция существующей инфраструктуры объектов электрохозяйства в г.о. Самара, в целях обеспечения надежности ЭС спортивного комплексак ЧМ-2018",null,null,null,null,null,null,0,{"$f":"IF(AND(I208=0,K208=0),\"\",\"/\")","v":""},0,0,{"$f":"IF(AND(L208=0,N208=0),\"\",\"/\")","v":""},0,0,{"$f":"IF(AND(O208=0,Q208=0),\"\",\"/\")","v":""},0,0,{"$f":"IF(AND(R208=0,T208=0),\"\",\"/\")","v":""},0,0,{"$f":"IF(AND(U208=0,W208=0),\"\",\"/\")","v":""},0,0,"/",0,1294,{"$f":"IF(ISNA(INDEX('План ввода основ. ср-в'!F:F,MATCH(B208,'План ввода основ. ср-в'!B:B,0))),0,INDEX('План ввода основ. ср-в'!F:F,MATCH(B208,'План ввода основ. ср-в'!B:B,0)))","v":0},{"$f":"IF(AND(AB208=0,AD208=0),\"\",\"/\")","v":""},{"$f":"IF(ISNA(INDEX('План ввода основ. ср-в'!E:E,MATCH(B208,'План ввода основ. ср-в'!B:B,0))),0,INDEX('План ввода основ. ср-в'!E:E,MATCH(B208,'План ввода основ. ср-в'!B:B,0)))","v":0},{"$f":"IF(ISNA(INDEX('План ввода основ. ср-в'!H:H,MATCH(B208,'План ввода основ. ср-в'!B:B,0))),0,INDEX('План ввода основ. ср-в'!H:H,MATCH(B208,'План ввода основ. ср-в'!B:B,0)))","v":0},{"$f":"IF(AND(AE208=0,AG208=0),\"\",\"/\")","v":""},{"$f":"IF(ISNA(INDEX('План ввода основ. ср-в'!G:G,MATCH(B208,'План ввода основ. ср-в'!B:B,0))),0,INDEX('План ввода основ. ср-в'!G:G,MATCH(B208,'План ввода основ. ср-в'!B:B,0)))","v":0},{"$f":"IF(ISNA(INDEX('План ввода основ. ср-в'!J:J,MATCH(B208,'План ввода основ. ср-в'!B:B,0))),0,INDEX('План ввода основ. ср-в'!J:J,MATCH(B208,'План ввода основ. ср-в'!B:B,0)))","v":0},{"$f":"IF(AND(AH208=0,AJ208=0),\"\",\"/\")","v":""},{"$f":"IF(ISNA(INDEX('План ввода основ. ср-в'!I:I,MATCH(B208,'План ввода основ. ср-в'!B:B,0))),0,INDEX('План ввода основ. ср-в'!I:I,MATCH(B208,'План ввода основ. ср-в'!B:B,0)))","v":0},{"$f":"IF(ISNA(INDEX('План ввода основ. ср-в'!L:L,MATCH(B208,'План ввода основ. ср-в'!B:B,0))),0,INDEX('План ввода основ. ср-в'!L:L,MATCH(B208,'План ввода основ. ср-в'!B:B,0)))","v":0},{"$f":"IF(AND(AK208=0,AM208=0),\"\",\"/\")","v":""},{"$f":"IF(ISNA(INDEX('План ввода основ. ср-в'!K:K,MATCH(B208,'План ввода основ. ср-в'!B:B,0))),0,INDEX('План ввода основ. ср-в'!K:K,MATCH(B208,'План ввода основ. ср-в'!B:B,0)))","v":0},0,"/",0,{"$f":"IF(ISNA(INDEX('План ввода основ. ср-в'!N:N,MATCH(B208,'План ввода основ. ср-в'!B:B,0))),0,INDEX('План ввода основ. ср-в'!N:N,MATCH(B208,'План ввода основ. ср-в'!B:B,0)))","v":15},{"$f":"IF(AND(AQ208=0,AS208=0),\"\",\"/\")","v":"/"},{"$f":"IF(ISNA(INDEX('План ввода основ. ср-в'!M:M,MATCH(B208,'План ввода основ. ср-в'!B:B,0))),0,INDEX('План ввода основ. ср-в'!M:M,MATCH(B208,'План ввода основ. ср-в'!B:B,0)))","v":0},{"$f":"IF(ISNA(INDEX('План ввода основ. ср-в'!P:P,MATCH(B208,'План ввода основ. ср-в'!B:B,0))),0,INDEX('План ввода основ. ср-в'!P:P,MATCH(B208,'План ввода основ. ср-в'!B:B,0)))","v":28},{"$f":"IF(AND(AT208=0,AV208=0),\"\",\"/\")","v":"/"},{"$f":"IF(ISNA(INDEX('План ввода основ. ср-в'!O:O,MATCH(B208,'План ввода основ. ср-в'!B:B,0))),0,INDEX('План ввода основ. ср-в'!O:O,MATCH(B208,'План ввода основ. ср-в'!B:B,0)))","v":33.6},{"$f":"IF(ISNA(INDEX('План ввода основ. ср-в'!R:R,MATCH(B208,'План ввода основ. ср-в'!B:B,0))),0,INDEX('План ввода основ. ср-в'!R:R,MATCH(B208,'План ввода основ. ср-в'!B:B,0)))","v":54},{"$f":"IF(AND(AW208=0,AY208=0),\"\",\"/\")","v":"/"},{"$f":"IF(ISNA(INDEX('План ввода основ. ср-в'!Q:Q,MATCH(B208,'План ввода основ. ср-в'!B:B,0))),0,INDEX('План ввода основ. ср-в'!Q:Q,MATCH(B208,'План ввода основ. ср-в'!B:B,0)))","v":13.6},{"$f":"IF(ISNA(INDEX('План ввода основ. ср-в'!T:T,MATCH(B208,'План ввода основ. ср-в'!B:B,0))),0,INDEX('План ввода основ. ср-в'!T:T,MATCH(B208,'План ввода основ. ср-в'!B:B,0)))","v":34},{"$f":"IF(AND(AZ208=0,BB208=0),\"\",\"/\")","v":"/"},{"$f":"IF(ISNA(INDEX('План ввода основ. ср-в'!S:S,MATCH(B208,'План ввода основ. ср-в'!B:B,0))),0,INDEX('План ввода основ. ср-в'!S:S,MATCH(B208,'План ввода основ. ср-в'!B:B,0)))","v":23.8},131,"/",71,{"$f":"IF(ISNA(INDEX('План ввода основ. ср-в'!V:V,MATCH(B208,'План ввода основ. ср-в'!B:B,0))),0,INDEX('План ввода основ. ср-в'!V:V,MATCH(B208,'План ввода основ. ср-в'!B:B,0)))","v":0},{"$f":"IF(ISNA(INDEX('План ввода основ. ср-в'!W:W,MATCH(B208,'План ввода основ. ср-в'!B:B,0))),0,INDEX('План ввода основ. ср-в'!W:W,MATCH(B208,'План ввода основ. ср-в'!B:B,0)))","v":0},{"$f":"IF(ISNA(INDEX('План ввода основ. ср-в'!X:X,MATCH(B208,'План ввода основ. ср-в'!B:B,0))),0,INDEX('План ввода основ. ср-в'!X:X,MATCH(B208,'План ввода основ. ср-в'!B:B,0)))","v":0},{"$f":"IF(ISNA(INDEX('План ввода основ. ср-в'!Y:Y,MATCH(B208,'План ввода основ. ср-в'!B:B,0))),0,INDEX('План ввода основ. ср-в'!Y:Y,MATCH(B208,'План ввода основ. ср-в'!B:B,0)))","v":0},0,{"$f":"IF(ISNA(INDEX('План ввода основ. ср-в'!Z:Z,MATCH(B208,'План ввода основ. ср-в'!B:B,0))),0,INDEX('План ввода основ. ср-в'!Z:Z,MATCH(B208,'План ввода основ. ср-в'!B:B,0)))","v":139.00000000000003},{"$f":"IF(ISNA(INDEX('План ввода основ. ср-в'!AA:AA,MATCH(B208,'План ввода основ. ср-в'!B:B,0))),0,INDEX('План ввода основ. ср-в'!AA:AA,MATCH(B208,'План ввода основ. ср-в'!B:B,0)))","v":320.00000000000006},{"$f":"IF(ISNA(INDEX('План ввода основ. ср-в'!AB:AB,MATCH(B208,'План ввода основ. ср-в'!B:B,0))),0,INDEX('План ввода основ. ср-в'!AB:AB,MATCH(B208,'План ввода основ. ср-в'!B:B,0)))","v":485},{"$f":"IF(ISNA(INDEX('План ввода основ. ср-в'!AC:AC,MATCH(B208,'План ввода основ. ср-в'!B:B,0))),0,INDEX('План ввода основ. ср-в'!AC:AC,MATCH(B208,'План ввода основ. ср-в'!B:B,0)))","v":350},1294]
[187,"Реконструкция инфраструктуры объектов электрохозяйства в г.о. Самара в целях обеспечения надежности ЭС жилой застройки в районе площадки ЗИМ",null,null,null,null,null,null,0,"",0,0,"",0,0,"",0,0,"",0,0,"",0,0,"/",0,938.74220338983059,{"$f":"IF(ISNA(INDEX('План ввода основ. ср-в'!F:F,MATCH(B209,'План ввода основ. ср-в'!B:B,0))),0,INDEX('План ввода основ. ср-в'!F:F,MATCH(B209,'План ввода основ. ср-в'!B:B,0)))","v":0},"",{"$f":"IF(ISNA(INDEX('План ввода основ. ср-в'!E:E,MATCH(B209,'План ввода основ. ср-в'!B:B,0))),0,INDEX('План ввода основ. ср-в'!E:E,MATCH(B209,'План ввода основ. ср-в'!B:B,0)))","v":0},{"$f":"IF(ISNA(INDEX('План ввода основ. ср-в'!H:H,MATCH(B209,'План ввода основ. ср-в'!B:B,0))),0,INDEX('План ввода основ. ср-в'!H:H,MATCH(B209,'План ввода основ. ср-в'!B:B,0)))","v":0},"",{"$f":"IF(ISNA(INDEX('План ввода основ. ср-в'!G:G,MATCH(B209,'План ввода основ. ср-в'!B:B,0))),0,INDEX('План ввода основ. ср-в'!G:G,MATCH(B209,'План ввода основ. ср-в'!B:B,0)))","v":0},{"$f":"IF(ISNA(INDEX('План ввода основ. ср-в'!J:J,MATCH(B209,'План ввода основ. ср-в'!B:B,0))),0,INDEX('План ввода основ. ср-в'!J:J,MATCH(B209,'План ввода основ. ср-в'!B:B,0)))","v":0},"",{"$f":"IF(ISNA(INDEX('План ввода основ. ср-в'!I:I,MATCH(B209,'План ввода основ. ср-в'!B:B,0))),0,INDEX('План ввода основ. ср-в'!I:I,MATCH(B209,'План ввода основ. ср-в'!B:B,0)))","v":0},{"$f":"IF(ISNA(INDEX('План ввода основ. ср-в'!L:L,MATCH(B209,'План ввода основ. ср-в'!B:B,0))),0,INDEX('План ввода основ. ср-в'!L:L,MATCH(B209,'План ввода основ. ср-в'!B:B,0)))","v":0},"",{"$f":"IF(ISNA(INDEX('План ввода основ. ср-в'!K:K,MATCH(B209,'План ввода основ. ср-в'!B:B,0))),0,INDEX('План ввода основ. ср-в'!K:K,MATCH(B209,'План ввода основ. ср-в'!B:B,0)))","v":0},0,"/",0,{"$f":"IF(ISNA(INDEX('План ввода основ. ср-в'!N:N,MATCH(B209,'План ввода основ. ср-в'!B:B,0))),0,INDEX('План ввода основ. ср-в'!N:N,MATCH(B209,'План ввода основ. ср-в'!B:B,0)))","v":48.69},"/",{"$f":"IF(ISNA(INDEX('План ввода основ. ср-в'!M:M,MATCH(B209,'План ввода основ. ср-в'!B:B,0))),0,INDEX('План ввода основ. ср-в'!M:M,MATCH(B209,'План ввода основ. ср-в'!B:B,0)))","v":2.4},{"$f":"IF(ISNA(INDEX('План ввода основ. ср-в'!P:P,MATCH(B209,'План ввода основ. ср-в'!B:B,0))),0,INDEX('План ввода основ. ср-в'!P:P,MATCH(B209,'План ввода основ. ср-в'!B:B,0)))","v":48.09},"/",{"$f":"IF(ISNA(INDEX('План ввода основ. ср-в'!O:O,MATCH(B209,'План ввода основ. ср-в'!B:B,0))),0,INDEX('План ввода основ. ср-в'!O:O,MATCH(B209,'План ввода основ. ср-в'!B:B,0)))","v":2.4},{"$f":"IF(ISNA(INDEX('План ввода основ. ср-в'!R:R,MATCH(B209,'План ввода основ. ср-в'!B:B,0))),0,INDEX('План ввода основ. ср-в'!R:R,MATCH(B209,'План ввода основ. ср-в'!B:B,0)))","v":23.11},"/",{"$f":"IF(ISNA(INDEX('План ввода основ. ср-в'!Q:Q,MATCH(B209,'План ввода основ. ср-в'!B:B,0))),0,INDEX('План ввода основ. ср-в'!Q:Q,MATCH(B209,'План ввода основ. ср-в'!B:B,0)))","v":2.4},{"$f":"IF(ISNA(INDEX('План ввода основ. ср-в'!T:T,MATCH(B209,'План ввода основ. ср-в'!B:B,0))),0,INDEX('План ввода основ. ср-в'!T:T,MATCH(B209,'План ввода основ. ср-в'!B:B,0)))","v":41.97},"/",{"$f":"IF(ISNA(INDEX('План ввода основ. ср-в'!S:S,MATCH(B209,'План ввода основ. ср-в'!B:B,0))),0,INDEX('План ввода основ. ср-в'!S:S,MATCH(B209,'План ввода основ. ср-в'!B:B,0)))","v":7.2},161.86000000000001,"/",14.399999999999999,{"$f":"IF(ISNA(INDEX('План ввода основ. ср-в'!V:V,MATCH(B209,'План ввода основ. ср-в'!B:B,0))),0,INDEX('План ввода основ. ср-в'!V:V,MATCH(B209,'План ввода основ. ср-в'!B:B,0)))","v":0},{"$f":"IF(ISNA(INDEX('План ввода основ. ср-в'!W:W,MATCH(B209,'План ввода основ. ср-в'!B:B,0))),0,INDEX('План ввода основ. ср-в'!W:W,MATCH(B209,'План ввода основ. ср-в'!B:B,0)))","v":0},{"$f":"IF(ISNA(INDEX('План ввода основ. ср-в'!X:X,MATCH(B209,'План ввода основ. ср-в'!B:B,0))),0,INDEX('План ввода основ. ср-в'!X:X,MATCH(B209,'План ввода основ. ср-в'!B:B,0)))","v":0},{"$f":"IF(ISNA(INDEX('План ввода основ. ср-в'!Y:Y,MATCH(B209,'План ввода основ. ср-в'!B:B,0))),0,INDEX('План ввода основ. ср-в'!Y:Y,MATCH(B209,'План ввода основ. ср-в'!B:B,0)))","v":0},0,{"$f":"IF(ISNA(INDEX('План ввода основ. ср-в'!Z:Z,MATCH(B209,'План ввода основ. ср-в'!B:B,0))),0,INDEX('План ввода основ. ср-в'!Z:Z,MATCH(B209,'План ввода основ. ср-в'!B:B,0)))","v":257.3389830508475},{"$f":"IF(ISNA(INDEX('План ввода основ. ср-в'!AA:AA,MATCH(B209,'План ввода основ. ср-в'!B:B,0))),0,INDEX('План ввода основ. ср-в'!AA:AA,MATCH(B209,'План ввода основ. ср-в'!B:B,0)))","v":266.64050847457628},{"$f":"IF(ISNA(INDEX('План ввода основ. ср-в'!AB:AB,MATCH(B209,'План ввода основ. ср-в'!B:B,0))),0,INDEX('План ввода основ. ср-в'!AB:AB,MATCH(B209,'План ввода основ. ср-в'!B:B,0)))","v":116.10169491525424},{"$f":"IF(ISNA(INDEX('План ввода основ. ср-в'!AC:AC,MATCH(B209,'План ввода основ. ср-в'!B:B,0))),0,INDEX('План ввода основ. ср-в'!AC:AC,MATCH(B209,'План ввода основ. ср-в'!B:B,0)))","v":298.66101694915255},938.74220338983059]
[188,"Реконструкция инфраструктуры объектов электрхозяйства в г.о. Самара, в целях обеспечения надежности ЭС жилой застройке в районе ул.Комсомольской, ул.М.Горького, ул.Крупской, ул. Кутякова на берегу р.Волга",null,null,null,null,null,null,0,"",0,0,"",0,0,"",0,0,"",0,0,"",0,0,"/",0,885,{"$f":"IF(ISNA(INDEX('План ввода основ. ср-в'!F:F,MATCH(B210,'План ввода основ. ср-в'!B:B,0))),0,INDEX('План ввода основ. ср-в'!F:F,MATCH(B210,'План ввода основ. ср-в'!B:B,0)))","v":0},"",{"$f":"IF(ISNA(INDEX('План ввода основ. ср-в'!E:E,MATCH(B210,'План ввода основ. ср-в'!B:B,0))),0,INDEX('План ввода основ. ср-в'!E:E,MATCH(B210,'План ввода основ. ср-в'!B:B,0)))","v":0},{"$f":"IF(ISNA(INDEX('План ввода основ. ср-в'!H:H,MATCH(B210,'План ввода основ. ср-в'!B:B,0))),0,INDEX('План ввода основ. ср-в'!H:H,MATCH(B210,'План ввода основ. ср-в'!B:B,0)))","v":0},"",{"$f":"IF(ISNA(INDEX('План ввода основ. ср-в'!G:G,MATCH(B210,'План ввода основ. ср-в'!B:B,0))),0,INDEX('План ввода основ. ср-в'!G:G,MATCH(B210,'План ввода основ. ср-в'!B:B,0)))","v":0},{"$f":"IF(ISNA(INDEX('План ввода основ. ср-в'!J:J,MATCH(B210,'План ввода основ. ср-в'!B:B,0))),0,INDEX('План ввода основ. ср-в'!J:J,MATCH(B210,'План ввода основ. ср-в'!B:B,0)))","v":0},"",{"$f":"IF(ISNA(INDEX('План ввода основ. ср-в'!I:I,MATCH(B210,'План ввода основ. ср-в'!B:B,0))),0,INDEX('План ввода основ. ср-в'!I:I,MATCH(B210,'План ввода основ. ср-в'!B:B,0)))","v":0},{"$f":"IF(ISNA(INDEX('План ввода основ. ср-в'!L:L,MATCH(B210,'План ввода основ. ср-в'!B:B,0))),0,INDEX('План ввода основ. ср-в'!L:L,MATCH(B210,'План ввода основ. ср-в'!B:B,0)))","v":0},"",{"$f":"IF(ISNA(INDEX('План ввода основ. ср-в'!K:K,MATCH(B210,'План ввода основ. ср-в'!B:B,0))),0,INDEX('План ввода основ. ср-в'!K:K,MATCH(B210,'План ввода основ. ср-в'!B:B,0)))","v":0},0,"/",0,{"$f":"IF(ISNA(INDEX('План ввода основ. ср-в'!N:N,MATCH(B210,'План ввода основ. ср-в'!B:B,0))),0,INDEX('План ввода основ. ср-в'!N:N,MATCH(B210,'План ввода основ. ср-в'!B:B,0)))","v":15},"/",{"$f":"IF(ISNA(INDEX('План ввода основ. ср-в'!M:M,MATCH(B210,'План ввода основ. ср-в'!B:B,0))),0,INDEX('План ввода основ. ср-в'!M:M,MATCH(B210,'План ввода основ. ср-в'!B:B,0)))","v":0},{"$f":"IF(ISNA(INDEX('План ввода основ. ср-в'!P:P,MATCH(B210,'План ввода основ. ср-в'!B:B,0))),0,INDEX('План ввода основ. ср-в'!P:P,MATCH(B210,'План ввода основ. ср-в'!B:B,0)))","v":18},"/",{"$f":"IF(ISNA(INDEX('План ввода основ. ср-в'!O:O,MATCH(B210,'План ввода основ. ср-в'!B:B,0))),0,INDEX('План ввода основ. ср-в'!O:O,MATCH(B210,'План ввода основ. ср-в'!B:B,0)))","v":2},{"$f":"IF(ISNA(INDEX('План ввода основ. ср-в'!R:R,MATCH(B210,'План ввода основ. ср-в'!B:B,0))),0,INDEX('План ввода основ. ср-в'!R:R,MATCH(B210,'План ввода основ. ср-в'!B:B,0)))","v":26},"/",{"$f":"IF(ISNA(INDEX('План ввода основ. ср-в'!Q:Q,MATCH(B210,'План ввода основ. ср-в'!B:B,0))),0,INDEX('План ввода основ. ср-в'!Q:Q,MATCH(B210,'План ввода основ. ср-в'!B:B,0)))","v":6},{"$f":"IF(ISNA(INDEX('План ввода основ. ср-в'!T:T,MATCH(B210,'План ввода основ. ср-в'!B:B,0))),0,INDEX('План ввода основ. ср-в'!T:T,MATCH(B210,'План ввода основ. ср-в'!B:B,0)))","v":28},"/",{"$f":"IF(ISNA(INDEX('План ввода основ. ср-в'!S:S,MATCH(B210,'План ввода основ. ср-в'!B:B,0))),0,INDEX('План ввода основ. ср-в'!S:S,MATCH(B210,'План ввода основ. ср-в'!B:B,0)))","v":6},87,"/",14,{"$f":"IF(ISNA(INDEX('План ввода основ. ср-в'!V:V,MATCH(B210,'План ввода основ. ср-в'!B:B,0))),0,INDEX('План ввода основ. ср-в'!V:V,MATCH(B210,'План ввода основ. ср-в'!B:B,0)))","v":0},{"$f":"IF(ISNA(INDEX('План ввода основ. ср-в'!W:W,MATCH(B210,'План ввода основ. ср-в'!B:B,0))),0,INDEX('План ввода основ. ср-в'!W:W,MATCH(B210,'План ввода основ. ср-в'!B:B,0)))","v":0},{"$f":"IF(ISNA(INDEX('План ввода основ. ср-в'!X:X,MATCH(B210,'План ввода основ. ср-в'!B:B,0))),0,INDEX('План ввода основ. ср-в'!X:X,MATCH(B210,'План ввода основ. ср-в'!B:B,0)))","v":0},{"$f":"IF(ISNA(INDEX('План ввода основ. ср-в'!Y:Y,MATCH(B210,'План ввода основ. ср-в'!B:B,0))),0,INDEX('План ввода основ. ср-в'!Y:Y,MATCH(B210,'План ввода основ. ср-в'!B:B,0)))","v":0},0,{"$f":"IF(ISNA(INDEX('План ввода основ. ср-в'!Z:Z,MATCH(B210,'План ввода основ. ср-в'!B:B,0))),0,INDEX('План ввода основ. ср-в'!Z:Z,MATCH(B210,'План ввода основ. ср-в'!B:B,0)))","v":150},{"$f":"IF(ISNA(INDEX('План ввода основ. ср-в'!AA:AA,MATCH(B210,'План ввода основ. ср-в'!B:B,0))),0,INDEX('План ввода основ. ср-в'!AA:AA,MATCH(B210,'План ввода основ. ср-в'!B:B,0)))","v":180.00000000000003},{"$f":"IF(ISNA(INDEX('План ввода основ. ср-в'!AB:AB,MATCH(B210,'План ввода основ. ср-в'!B:B,0))),0,INDEX('План ввода основ. ср-в'!AB:AB,MATCH(B210,'План ввода основ. ср-в'!B:B,0)))","v":255},{"$f":"IF(ISNA(INDEX('План ввода основ. ср-в'!AC:AC,MATCH(B210,'План ввода основ. ср-в'!B:B,0))),0,INDEX('План ввода основ. ср-в'!AC:AC,MATCH(B210,'План ввода основ. ср-в'!B:B,0)))","v":300},885]
[189,"Реконструкция объектов элктрохозяйства в г.о. Самара, в целях обеспечения надежности ЭС объектов в границах ул. Ив.Булкина, Блюхера Энтузиастов и К.Маркса",null,null,null,null,null,null,0,"",0,0,"",0,0,"",0,0,"",0,0,"",0,0,"/",0,125,{"$f":"IF(ISNA(INDEX('План ввода основ. ср-в'!F:F,MATCH(B211,'План ввода основ. ср-в'!B:B,0))),0,INDEX('План ввода основ. ср-в'!F:F,MATCH(B211,'План ввода основ. ср-в'!B:B,0)))","v":0},"",{"$f":"IF(ISNA(INDEX('План ввода основ. ср-в'!E:E,MATCH(B211,'План ввода основ. ср-в'!B:B,0))),0,INDEX('План ввода основ. ср-в'!E:E,MATCH(B211,'План ввода основ. ср-в'!B:B,0)))","v":0},{"$f":"IF(ISNA(INDEX('План ввода основ. ср-в'!H:H,MATCH(B211,'План ввода основ. ср-в'!B:B,0))),0,INDEX('План ввода основ. ср-в'!H:H,MATCH(B211,'План ввода основ. ср-в'!B:B,0)))","v":0},"",{"$f":"IF(ISNA(INDEX('План ввода основ. ср-в'!G:G,MATCH(B211,'План ввода основ. ср-в'!B:B,0))),0,INDEX('План ввода основ. ср-в'!G:G,MATCH(B211,'План ввода основ. ср-в'!B:B,0)))","v":0},{"$f":"IF(ISNA(INDEX('План ввода основ. ср-в'!J:J,MATCH(B211,'План ввода основ. ср-в'!B:B,0))),0,INDEX('План ввода основ. ср-в'!J:J,MATCH(B211,'План ввода основ. ср-в'!B:B,0)))","v":0},"",{"$f":"IF(ISNA(INDEX('План ввода основ. ср-в'!I:I,MATCH(B211,'План ввода основ. ср-в'!B:B,0))),0,INDEX('План ввода основ. ср-в'!I:I,MATCH(B211,'План ввода основ. ср-в'!B:B,0)))","v":0},{"$f":"IF(ISNA(INDEX('План ввода основ. ср-в'!L:L,MATCH(B211,'План ввода основ. ср-в'!B:B,0))),0,INDEX('План ввода основ. ср-в'!L:L,MATCH(B211,'План ввода основ. ср-в'!B:B,0)))","v":0},"",{"$f":"IF(ISNA(INDEX('План ввода основ. ср-в'!K:K,MATCH(B211,'План ввода основ. ср-в'!B:B,0))),0,INDEX('План ввода основ. ср-в'!K:K,MATCH(B211,'План ввода основ. ср-в'!B:B,0)))","v":0},0,"/",0,{"$f":"IF(ISNA(INDEX('План ввода основ. ср-в'!N:N,MATCH(B211,'План ввода основ. ср-в'!B:B,0))),0,INDEX('План ввода основ. ср-в'!N:N,MATCH(B211,'План ввода основ. ср-в'!B:B,0)))","v":0},{"$f":"IF(AND(AQ211=0,AS211=0),\"\",\"/\")","v":""},{"$f":"IF(ISNA(INDEX('План ввода основ. ср-в'!M:M,MATCH(B211,'План ввода основ. ср-в'!B:B,0))),0,INDEX('План ввода основ. ср-в'!M:M,MATCH(B211,'План ввода основ. ср-в'!B:B,0)))","v":0},{"$f":"IF(ISNA(INDEX('План ввода основ. ср-в'!P:P,MATCH(B211,'План ввода основ. ср-в'!B:B,0))),0,INDEX('План ввода основ. ср-в'!P:P,MATCH(B211,'План ввода основ. ср-в'!B:B,0)))","v":0},{"$f":"IF(AND(AT211=0,AV211=0),\"\",\"/\")","v":""},{"$f":"IF(ISNA(INDEX('План ввода основ. ср-в'!O:O,MATCH(B211,'План ввода основ. ср-в'!B:B,0))),0,INDEX('План ввода основ. ср-в'!O:O,MATCH(B211,'План ввода основ. ср-в'!B:B,0)))","v":0},{"$f":"IF(ISNA(INDEX('План ввода основ. ср-в'!R:R,MATCH(B211,'План ввода основ. ср-в'!B:B,0))),0,INDEX('План ввода основ. ср-в'!R:R,MATCH(B211,'План ввода основ. ср-в'!B:B,0)))","v":4},{"$f":"IF(AND(AW211=0,AY211=0),\"\",\"/\")","v":"/"},{"$f":"IF(ISNA(INDEX('План ввода основ. ср-в'!Q:Q,MATCH(B211,'План ввода основ. ср-в'!B:B,0))),0,INDEX('План ввода основ. ср-в'!Q:Q,MATCH(B211,'План ввода основ. ср-в'!B:B,0)))","v":0},{"$f":"IF(ISNA(INDEX('План ввода основ. ср-в'!T:T,MATCH(B211,'План ввода основ. ср-в'!B:B,0))),0,INDEX('План ввода основ. ср-в'!T:T,MATCH(B211,'План ввода основ. ср-в'!B:B,0)))","v":8},{"$f":"IF(AND(AZ211=0,BB211=0),\"\",\"/\")","v":"/"},{"$f":"IF(ISNA(INDEX('План ввода основ. ср-в'!S:S,MATCH(B211,'План ввода основ. ср-в'!B:B,0))),0,INDEX('План ввода основ. ср-в'!S:S,MATCH(B211,'План ввода основ. ср-в'!B:B,0)))","v":4},12,"/",4,{"$f":"IF(ISNA(INDEX('План ввода основ. ср-в'!V:V,MATCH(B211,'План ввода основ. ср-в'!B:B,0))),0,INDEX('План ввода основ. ср-в'!V:V,MATCH(B211,'План ввода основ. ср-в'!B:B,0)))","v":0},{"$f":"IF(ISNA(INDEX('План ввода основ. ср-в'!W:W,MATCH(B211,'План ввода основ. ср-в'!B:B,0))),0,INDEX('План ввода основ. ср-в'!W:W,MATCH(B211,'План ввода основ. ср-в'!B:B,0)))","v":0},{"$f":"IF(ISNA(INDEX('План ввода основ. ср-в'!X:X,MATCH(B211,'План ввода основ. ср-в'!B:B,0))),0,INDEX('План ввода основ. ср-в'!X:X,MATCH(B211,'План ввода основ. ср-в'!B:B,0)))","v":0},{"$f":"IF(ISNA(INDEX('План ввода основ. ср-в'!Y:Y,MATCH(B211,'План ввода основ. ср-в'!B:B,0))),0,INDEX('План ввода основ. ср-в'!Y:Y,MATCH(B211,'План ввода основ. ср-в'!B:B,0)))","v":0},0,{"$f":"IF(ISNA(INDEX('План ввода основ. ср-в'!Z:Z,MATCH(B211,'План ввода основ. ср-в'!B:B,0))),0,INDEX('План ввода основ. ср-в'!Z:Z,MATCH(B211,'План ввода основ. ср-в'!B:B,0)))","v":0},{"$f":"IF(ISNA(INDEX('План ввода основ. ср-в'!AA:AA,MATCH(B211,'План ввода основ. ср-в'!B:B,0))),0,INDEX('План ввода основ. ср-в'!AA:AA,MATCH(B211,'План ввода основ. ср-в'!B:B,0)))","v":0},{"$f":"IF(ISNA(INDEX('План ввода основ. ср-в'!AB:AB,MATCH(B211,'План ввода основ. ср-в'!B:B,0))),0,INDEX('План ввода основ. ср-в'!AB:AB,MATCH(B211,'План ввода основ. ср-в'!B:B,0)))","v":40.000000000000007},{"$f":"IF(ISNA(INDEX('План ввода основ. ср-в'!AC:AC,MATCH(B211,'План ввода основ. ср-в'!B:B,0))),0,INDEX('План ввода основ. ср-в'!AC:AC,MATCH(B211,'План ввода основ. ср-в'!B:B,0)))","v":85},125]
[190,"Реконструкция инфраструктуры объектов элтрохозяйства в г.о. Самара , в целях обеспечения надежности ЭС объектов в границах ул. Дыбенко, Авроры, Энтузиастов и Луч. пер. ",null,null,null,null,null,null,0,"",0,0,"",0,0,"",0,0,"",0,0,"",0,0,"/",0,115,{"$f":"IF(ISNA(INDEX('План ввода основ. ср-в'!F:F,MATCH(B212,'План ввода основ. ср-в'!B:B,0))),0,INDEX('План ввода основ. ср-в'!F:F,MATCH(B212,'План ввода основ. ср-в'!B:B,0)))","v":0},"",{"$f":"IF(ISNA(INDEX('План ввода основ. ср-в'!E:E,MATCH(B212,'План ввода основ. ср-в'!B:B,0))),0,INDEX('План ввода основ. ср-в'!E:E,MATCH(B212,'План ввода основ. ср-в'!B:B,0)))","v":0},{"$f":"IF(ISNA(INDEX('План ввода основ. ср-в'!H:H,MATCH(B212,'План ввода основ. ср-в'!B:B,0))),0,INDEX('План ввода основ. ср-в'!H:H,MATCH(B212,'План ввода основ. ср-в'!B:B,0)))","v":0},"",{"$f":"IF(ISNA(INDEX('План ввода основ. ср-в'!G:G,MATCH(B212,'План ввода основ. ср-в'!B:B,0))),0,INDEX('План ввода основ. ср-в'!G:G,MATCH(B212,'План ввода основ. ср-в'!B:B,0)))","v":0},{"$f":"IF(ISNA(INDEX('План ввода основ. ср-в'!J:J,MATCH(B212,'План ввода основ. ср-в'!B:B,0))),0,INDEX('План ввода основ. ср-в'!J:J,MATCH(B212,'План ввода основ. ср-в'!B:B,0)))","v":0},"",{"$f":"IF(ISNA(INDEX('План ввода основ. ср-в'!I:I,MATCH(B212,'План ввода основ. ср-в'!B:B,0))),0,INDEX('План ввода основ. ср-в'!I:I,MATCH(B212,'План ввода основ. ср-в'!B:B,0)))","v":0},{"$f":"IF(ISNA(INDEX('План ввода основ. ср-в'!L:L,MATCH(B212,'План ввода основ. ср-в'!B:B,0))),0,INDEX('План ввода основ. ср-в'!L:L,MATCH(B212,'План ввода основ. ср-в'!B:B,0)))","v":0},"",{"$f":"IF(ISNA(INDEX('План ввода основ. ср-в'!K:K,MATCH(B212,'План ввода основ. ср-в'!B:B,0))),0,INDEX('План ввода основ. ср-в'!K:K,MATCH(B212,'План ввода основ. ср-в'!B:B,0)))","v":0},0,"/",0,{"$f":"IF(ISNA(INDEX('План ввода основ. ср-в'!N:N,MATCH(B212,'План ввода основ. ср-в'!B:B,0))),0,INDEX('План ввода основ. ср-в'!N:N,MATCH(B212,'План ввода основ. ср-в'!B:B,0)))","v":0},"",{"$f":"IF(ISNA(INDEX('План ввода основ. ср-в'!M:M,MATCH(B212,'План ввода основ. ср-в'!B:B,0))),0,INDEX('План ввода основ. ср-в'!M:M,MATCH(B212,'План ввода основ. ср-в'!B:B,0)))","v":0},{"$f":"IF(ISNA(INDEX('План ввода основ. ср-в'!P:P,MATCH(B212,'План ввода основ. ср-в'!B:B,0))),0,INDEX('План ввода основ. ср-в'!P:P,MATCH(B212,'План ввода основ. ср-в'!B:B,0)))","v":0},"",{"$f":"IF(ISNA(INDEX('План ввода основ. ср-в'!O:O,MATCH(B212,'План ввода основ. ср-в'!B:B,0))),0,INDEX('План ввода основ. ср-в'!O:O,MATCH(B212,'План ввода основ. ср-в'!B:B,0)))","v":0},{"$f":"IF(ISNA(INDEX('План ввода основ. ср-в'!R:R,MATCH(B212,'План ввода основ. ср-в'!B:B,0))),0,INDEX('План ввода основ. ср-в'!R:R,MATCH(B212,'План ввода основ. ср-в'!B:B,0)))","v":5},"/",{"$f":"IF(ISNA(INDEX('План ввода основ. ср-в'!Q:Q,MATCH(B212,'План ввода основ. ср-в'!B:B,0))),0,INDEX('План ввода основ. ср-в'!Q:Q,MATCH(B212,'План ввода основ. ср-в'!B:B,0)))","v":0},{"$f":"IF(ISNA(INDEX('План ввода основ. ср-в'!T:T,MATCH(B212,'План ввода основ. ср-в'!B:B,0))),0,INDEX('План ввода основ. ср-в'!T:T,MATCH(B212,'План ввода основ. ср-в'!B:B,0)))","v":6},"/",{"$f":"IF(ISNA(INDEX('План ввода основ. ср-в'!S:S,MATCH(B212,'План ввода основ. ср-в'!B:B,0))),0,INDEX('План ввода основ. ср-в'!S:S,MATCH(B212,'План ввода основ. ср-в'!B:B,0)))","v":4},11,"/",4,{"$f":"IF(ISNA(INDEX('План ввода основ. ср-в'!V:V,MATCH(B212,'План ввода основ. ср-в'!B:B,0))),0,INDEX('План ввода основ. ср-в'!V:V,MATCH(B212,'План ввода основ. ср-в'!B:B,0)))","v":0},{"$f":"IF(ISNA(INDEX('План ввода основ. ср-в'!W:W,MATCH(B212,'План ввода основ. ср-в'!B:B,0))),0,INDEX('План ввода основ. ср-в'!W:W,MATCH(B212,'План ввода основ. ср-в'!B:B,0)))","v":0},{"$f":"IF(ISNA(INDEX('План ввода основ. ср-в'!X:X,MATCH(B212,'План ввода основ. ср-в'!B:B,0))),0,INDEX('План ввода основ. ср-в'!X:X,MATCH(B212,'План ввода основ. ср-в'!B:B,0)))","v":0},{"$f":"IF(ISNA(INDEX('План ввода основ. ср-в'!Y:Y,MATCH(B212,'План ввода основ. ср-в'!B:B,0))),0,INDEX('План ввода основ. ср-в'!Y:Y,MATCH(B212,'План ввода основ. ср-в'!B:B,0)))","v":0},0,{"$f":"IF(ISNA(INDEX('План ввода основ. ср-в'!Z:Z,MATCH(B212,'План ввода основ. ср-в'!B:B,0))),0,INDEX('План ввода основ. ср-в'!Z:Z,MATCH(B212,'План ввода основ. ср-в'!B:B,0)))","v":0},{"$f":"IF(ISNA(INDEX('План ввода основ. ср-в'!AA:AA,MATCH(B212,'План ввода основ. ср-в'!B:B,0))),0,INDEX('План ввода основ. ср-в'!AA:AA,MATCH(B212,'План ввода основ. ср-в'!B:B,0)))","v":0},{"$f":"IF(ISNA(INDEX('План ввода основ. ср-в'!AB:AB,MATCH(B212,'План ввода основ. ср-в'!B:B,0))),0,INDEX('План ввода основ. ср-в'!AB:AB,MATCH(B212,'План ввода основ. ср-в'!B:B,0)))","v":40.000000000000007},{"$f":"IF(ISNA(INDEX('План ввода основ. ср-в'!AC:AC,MATCH(B212,'План ввода основ. ср-в'!B:B,0))),0,INDEX('План ввода основ. ср-в'!AC:AC,MATCH(B212,'План ввода основ. ср-в'!B:B,0)))","v":75},115]
[191,"Сергиевский район",null,null,null,null,null,null,0,null,0,0,null,0,null,null,null,0,null,0,0,null,0,0,null,0,0,{"$f":"IF(ISNA(INDEX('План ввода основ. ср-в'!F:F,MATCH(B213,'План ввода основ. ср-в'!B:B,0))),0,INDEX('План ввода основ. ср-в'!F:F,MATCH(B213,'План ввода основ. ср-в'!B:B,0)))","v":0},null,{"$f":"IF(ISNA(INDEX('План ввода основ. ср-в'!E:E,MATCH(B213,'План ввода основ. ср-в'!B:B,0))),0,INDEX('План ввода основ. ср-в'!E:E,MATCH(B213,'План ввода основ. ср-в'!B:B,0)))","v":0},{"$f":"IF(ISNA(INDEX('План ввода основ. ср-в'!H:H,MATCH(B213,'План ввода основ. ср-в'!B:B,0))),0,INDEX('План ввода основ. ср-в'!H:H,MATCH(B213,'План ввода основ. ср-в'!B:B,0)))","v":0},null,{"$f":"IF(ISNA(INDEX('План ввода основ. ср-в'!G:G,MATCH(B213,'План ввода основ. ср-в'!B:B,0))),0,INDEX('План ввода основ. ср-в'!G:G,MATCH(B213,'План ввода основ. ср-в'!B:B,0)))","v":0},{"$f":"IF(ISNA(INDEX('План ввода основ. ср-в'!J:J,MATCH(B213,'План ввода основ. ср-в'!B:B,0))),0,INDEX('План ввода основ. ср-в'!J:J,MATCH(B213,'План ввода основ. ср-в'!B:B,0)))","v":0},null,{"$f":"IF(ISNA(INDEX('План ввода основ. ср-в'!I:I,MATCH(B213,'План ввода основ. ср-в'!B:B,0))),0,INDEX('План ввода основ. ср-в'!I:I,MATCH(B213,'План ввода основ. ср-в'!B:B,0)))","v":0},{"$f":"IF(ISNA(INDEX('План ввода основ. ср-в'!L:L,MATCH(B213,'План ввода основ. ср-в'!B:B,0))),0,INDEX('План ввода основ. ср-в'!L:L,MATCH(B213,'План ввода основ. ср-в'!B:B,0)))","v":0},null,{"$f":"IF(ISNA(INDEX('План ввода основ. ср-в'!K:K,MATCH(B213,'План ввода основ. ср-в'!B:B,0))),0,INDEX('План ввода основ. ср-в'!K:K,MATCH(B213,'План ввода основ. ср-в'!B:B,0)))","v":0},0,null,0,{"$f":"IF(ISNA(INDEX('План ввода основ. ср-в'!N:N,MATCH(B213,'План ввода основ. ср-в'!B:B,0))),0,INDEX('План ввода основ. ср-в'!N:N,MATCH(B213,'План ввода основ. ср-в'!B:B,0)))","v":0},null,{"$f":"IF(ISNA(INDEX('План ввода основ. ср-в'!M:M,MATCH(B213,'План ввода основ. ср-в'!B:B,0))),0,INDEX('План ввода основ. ср-в'!M:M,MATCH(B213,'План ввода основ. ср-в'!B:B,0)))","v":0},{"$f":"IF(ISNA(INDEX('План ввода основ. ср-в'!P:P,MATCH(B213,'План ввода основ. ср-в'!B:B,0))),0,INDEX('План ввода основ. ср-в'!P:P,MATCH(B213,'План ввода основ. ср-в'!B:B,0)))","v":0},null,{"$f":"IF(ISNA(INDEX('План ввода основ. ср-в'!O:O,MATCH(B213,'План ввода основ. ср-в'!B:B,0))),0,INDEX('План ввода основ. ср-в'!O:O,MATCH(B213,'План ввода основ. ср-в'!B:B,0)))","v":0},{"$f":"IF(ISNA(INDEX('План ввода основ. ср-в'!R:R,MATCH(B213,'План ввода основ. ср-в'!B:B,0))),0,INDEX('План ввода основ. ср-в'!R:R,MATCH(B213,'План ввода основ. ср-в'!B:B,0)))","v":0},null,{"$f":"IF(ISNA(INDEX('План ввода основ. ср-в'!Q:Q,MATCH(B213,'План ввода основ. ср-в'!B:B,0))),0,INDEX('План ввода основ. ср-в'!Q:Q,MATCH(B213,'План ввода основ. ср-в'!B:B,0)))","v":0},{"$f":"IF(ISNA(INDEX('План ввода основ. ср-в'!T:T,MATCH(B213,'План ввода основ. ср-в'!B:B,0))),0,INDEX('План ввода основ. ср-в'!T:T,MATCH(B213,'План ввода основ. ср-в'!B:B,0)))","v":0},null,{"$f":"IF(ISNA(INDEX('План ввода основ. ср-в'!S:S,MATCH(B213,'План ввода основ. ср-в'!B:B,0))),0,INDEX('План ввода основ. ср-в'!S:S,MATCH(B213,'План ввода основ. ср-в'!B:B,0)))","v":0},0,null,0,null,{"$f":"IF(ISNA(INDEX('План ввода основ. ср-в'!W:W,MATCH(B213,'План ввода основ. ср-в'!B:B,0))),0,INDEX('План ввода основ. ср-в'!W:W,MATCH(B213,'План ввода основ. ср-в'!B:B,0)))","v":0},{"$f":"IF(ISNA(INDEX('План ввода основ. ср-в'!X:X,MATCH(B213,'План ввода основ. ср-в'!B:B,0))),0,INDEX('План ввода основ. ср-в'!X:X,MATCH(B213,'План ввода основ. ср-в'!B:B,0)))","v":0},{"$f":"IF(ISNA(INDEX('План ввода основ. ср-в'!Y:Y,MATCH(B213,'План ввода основ. ср-в'!B:B,0))),0,INDEX('План ввода основ. ср-в'!Y:Y,MATCH(B213,'План ввода основ. ср-в'!B:B,0)))","v":0},0,{"$f":"IF(ISNA(INDEX('План ввода основ. ср-в'!Z:Z,MATCH(B213,'План ввода основ. ср-в'!B:B,0))),0,INDEX('План ввода основ. ср-в'!Z:Z,MATCH(B213,'План ввода основ. ср-в'!B:B,0)))","v":0},{"$f":"IF(ISNA(INDEX('План ввода основ. ср-в'!AA:AA,MATCH(B213,'План ввода основ. ср-в'!B:B,0))),0,INDEX('План ввода основ. ср-в'!AA:AA,MATCH(B213,'План ввода основ. ср-в'!B:B,0)))","v":0},{"$f":"IF(ISNA(INDEX('План ввода основ. ср-в'!AB:AB,MATCH(B213,'План ввода основ. ср-в'!B:B,0))),0,INDEX('План ввода основ. ср-в'!AB:AB,MATCH(B213,'План ввода основ. ср-в'!B:B,0)))","v":0},{"$f":"IF(ISNA(INDEX('План ввода основ. ср-в'!AC:AC,MATCH(B213,'План ввода основ. ср-в'!B:B,0))),0,INDEX('План ввода основ. ср-в'!AC:AC,MATCH(B213,'План ввода основ. ср-в'!B:B,0)))","v":0},0]
[192,"Реконструкция ВЛ-6 кВ ОБШ-1",null,null,null,null,null,null,5.0999999999999996,null,0,0,null,0,null,null,null,0,null,0,0,null,0,5.0999999999999996,null,0,13.830508474576272,{"$f":"IF(ISNA(INDEX('План ввода основ. ср-в'!F:F,MATCH(B214,'План ввода основ. ср-в'!B:B,0))),0,INDEX('План ввода основ. ср-в'!F:F,MATCH(B214,'План ввода основ. ср-в'!B:B,0)))","v":0},null,{"$f":"IF(ISNA(INDEX('План ввода основ. ср-в'!E:E,MATCH(B214,'План ввода основ. ср-в'!B:B,0))),0,INDEX('План ввода основ. ср-в'!E:E,MATCH(B214,'План ввода основ. ср-в'!B:B,0)))","v":0},{"$f":"IF(ISNA(INDEX('План ввода основ. ср-в'!H:H,MATCH(B214,'План ввода основ. ср-в'!B:B,0))),0,INDEX('План ввода основ. ср-в'!H:H,MATCH(B214,'План ввода основ. ср-в'!B:B,0)))","v":0},null,{"$f":"IF(ISNA(INDEX('План ввода основ. ср-в'!G:G,MATCH(B214,'План ввода основ. ср-в'!B:B,0))),0,INDEX('План ввода основ. ср-в'!G:G,MATCH(B214,'План ввода основ. ср-в'!B:B,0)))","v":0},{"$f":"IF(ISNA(INDEX('План ввода основ. ср-в'!J:J,MATCH(B214,'План ввода основ. ср-в'!B:B,0))),0,INDEX('План ввода основ. ср-в'!J:J,MATCH(B214,'План ввода основ. ср-в'!B:B,0)))","v":0},null,{"$f":"IF(ISNA(INDEX('План ввода основ. ср-в'!I:I,MATCH(B214,'План ввода основ. ср-в'!B:B,0))),0,INDEX('План ввода основ. ср-в'!I:I,MATCH(B214,'План ввода основ. ср-в'!B:B,0)))","v":0},{"$f":"IF(ISNA(INDEX('План ввода основ. ср-в'!L:L,MATCH(B214,'План ввода основ. ср-в'!B:B,0))),0,INDEX('План ввода основ. ср-в'!L:L,MATCH(B214,'План ввода основ. ср-в'!B:B,0)))","v":5.0999999999999996},null,{"$f":"IF(ISNA(INDEX('План ввода основ. ср-в'!K:K,MATCH(B214,'План ввода основ. ср-в'!B:B,0))),0,INDEX('План ввода основ. ср-в'!K:K,MATCH(B214,'План ввода основ. ср-в'!B:B,0)))","v":0},5.0999999999999996,null,0,{"$f":"IF(ISNA(INDEX('План ввода основ. ср-в'!N:N,MATCH(B214,'План ввода основ. ср-в'!B:B,0))),0,INDEX('План ввода основ. ср-в'!N:N,MATCH(B214,'План ввода основ. ср-в'!B:B,0)))","v":0},null,{"$f":"IF(ISNA(INDEX('План ввода основ. ср-в'!M:M,MATCH(B214,'План ввода основ. ср-в'!B:B,0))),0,INDEX('План ввода основ. ср-в'!M:M,MATCH(B214,'План ввода основ. ср-в'!B:B,0)))","v":0},{"$f":"IF(ISNA(INDEX('План ввода основ. ср-в'!P:P,MATCH(B214,'План ввода основ. ср-в'!B:B,0))),0,INDEX('План ввода основ. ср-в'!P:P,MATCH(B214,'План ввода основ. ср-в'!B:B,0)))","v":0},null,{"$f":"IF(ISNA(INDEX('План ввода основ. ср-в'!O:O,MATCH(B214,'План ввода основ. ср-в'!B:B,0))),0,INDEX('План ввода основ. ср-в'!O:O,MATCH(B214,'План ввода основ. ср-в'!B:B,0)))","v":0},{"$f":"IF(ISNA(INDEX('План ввода основ. ср-в'!R:R,MATCH(B214,'План ввода основ. ср-в'!B:B,0))),0,INDEX('План ввода основ. ср-в'!R:R,MATCH(B214,'План ввода основ. ср-в'!B:B,0)))","v":0},null,{"$f":"IF(ISNA(INDEX('План ввода основ. ср-в'!Q:Q,MATCH(B214,'План ввода основ. ср-в'!B:B,0))),0,INDEX('План ввода основ. ср-в'!Q:Q,MATCH(B214,'План ввода основ. ср-в'!B:B,0)))","v":0},{"$f":"IF(ISNA(INDEX('План ввода основ. ср-в'!T:T,MATCH(B214,'План ввода основ. ср-в'!B:B,0))),0,INDEX('План ввода основ. ср-в'!T:T,MATCH(B214,'План ввода основ. ср-в'!B:B,0)))","v":0},null,{"$f":"IF(ISNA(INDEX('План ввода основ. ср-в'!S:S,MATCH(B214,'План ввода основ. ср-в'!B:B,0))),0,INDEX('План ввода основ. ср-в'!S:S,MATCH(B214,'План ввода основ. ср-в'!B:B,0)))","v":0},5.0999999999999996,null,0,null,{"$f":"IF(ISNA(INDEX('План ввода основ. ср-в'!W:W,MATCH(B214,'План ввода основ. ср-в'!B:B,0))),0,INDEX('План ввода основ. ср-в'!W:W,MATCH(B214,'План ввода основ. ср-в'!B:B,0)))","v":2.0745762711864408},{"$f":"IF(ISNA(INDEX('План ввода основ. ср-в'!X:X,MATCH(B214,'План ввода основ. ср-в'!B:B,0))),0,INDEX('План ввода основ. ср-в'!X:X,MATCH(B214,'План ввода основ. ср-в'!B:B,0)))","v":4.840677966101695},{"$f":"IF(ISNA(INDEX('План ввода основ. ср-в'!Y:Y,MATCH(B214,'План ввода основ. ср-в'!B:B,0))),0,INDEX('План ввода основ. ср-в'!Y:Y,MATCH(B214,'План ввода основ. ср-в'!B:B,0)))","v":6.9152542372881358},13.830508474576272,{"$f":"IF(ISNA(INDEX('План ввода основ. ср-в'!Z:Z,MATCH(B214,'План ввода основ. ср-в'!B:B,0))),0,INDEX('План ввода основ. ср-в'!Z:Z,MATCH(B214,'План ввода основ. ср-в'!B:B,0)))","v":0},{"$f":"IF(ISNA(INDEX('План ввода основ. ср-в'!AA:AA,MATCH(B214,'План ввода основ. ср-в'!B:B,0))),0,INDEX('План ввода основ. ср-в'!AA:AA,MATCH(B214,'План ввода основ. ср-в'!B:B,0)))","v":0},{"$f":"IF(ISNA(INDEX('План ввода основ. ср-в'!AB:AB,MATCH(B214,'План ввода основ. ср-в'!B:B,0))),0,INDEX('План ввода основ. ср-в'!AB:AB,MATCH(B214,'План ввода основ. ср-в'!B:B,0)))","v":0},{"$f":"IF(ISNA(INDEX('План ввода основ. ср-в'!AC:AC,MATCH(B214,'План ввода основ. ср-в'!B:B,0))),0,INDEX('План ввода основ. ср-в'!AC:AC,MATCH(B214,'План ввода основ. ср-в'!B:B,0)))","v":0},13.830508474576272]
[193,"Реконструкция ВЛ-10 кВ СВ9 от ЦРП-10 кВ",null,null,null,null,null,null,9.31,null,0,0,null,0,null,null,null,0,null,0,0,null,0,9.31,null,0,25.247457627118642,{"$f":"IF(ISNA(INDEX('План ввода основ. ср-в'!F:F,MATCH(B215,'План ввода основ. ср-в'!B:B,0))),0,INDEX('План ввода основ. ср-в'!F:F,MATCH(B215,'План ввода основ. ср-в'!B:B,0)))","v":0},null,{"$f":"IF(ISNA(INDEX('План ввода основ. ср-в'!E:E,MATCH(B215,'План ввода основ. ср-в'!B:B,0))),0,INDEX('План ввода основ. ср-в'!E:E,MATCH(B215,'План ввода основ. ср-в'!B:B,0)))","v":0},{"$f":"IF(ISNA(INDEX('План ввода основ. ср-в'!H:H,MATCH(B215,'План ввода основ. ср-в'!B:B,0))),0,INDEX('План ввода основ. ср-в'!H:H,MATCH(B215,'План ввода основ. ср-в'!B:B,0)))","v":0},null,{"$f":"IF(ISNA(INDEX('План ввода основ. ср-в'!G:G,MATCH(B215,'План ввода основ. ср-в'!B:B,0))),0,INDEX('План ввода основ. ср-в'!G:G,MATCH(B215,'План ввода основ. ср-в'!B:B,0)))","v":0},{"$f":"IF(ISNA(INDEX('План ввода основ. ср-в'!J:J,MATCH(B215,'План ввода основ. ср-в'!B:B,0))),0,INDEX('План ввода основ. ср-в'!J:J,MATCH(B215,'План ввода основ. ср-в'!B:B,0)))","v":0},null,{"$f":"IF(ISNA(INDEX('План ввода основ. ср-в'!I:I,MATCH(B215,'План ввода основ. ср-в'!B:B,0))),0,INDEX('План ввода основ. ср-в'!I:I,MATCH(B215,'План ввода основ. ср-в'!B:B,0)))","v":0},{"$f":"IF(ISNA(INDEX('План ввода основ. ср-в'!L:L,MATCH(B215,'План ввода основ. ср-в'!B:B,0))),0,INDEX('План ввода основ. ср-в'!L:L,MATCH(B215,'План ввода основ. ср-в'!B:B,0)))","v":9.31},null,{"$f":"IF(ISNA(INDEX('План ввода основ. ср-в'!K:K,MATCH(B215,'План ввода основ. ср-в'!B:B,0))),0,INDEX('План ввода основ. ср-в'!K:K,MATCH(B215,'План ввода основ. ср-в'!B:B,0)))","v":0},9.31,null,0,{"$f":"IF(ISNA(INDEX('План ввода основ. ср-в'!N:N,MATCH(B215,'План ввода основ. ср-в'!B:B,0))),0,INDEX('План ввода основ. ср-в'!N:N,MATCH(B215,'План ввода основ. ср-в'!B:B,0)))","v":0},null,{"$f":"IF(ISNA(INDEX('План ввода основ. ср-в'!M:M,MATCH(B215,'План ввода основ. ср-в'!B:B,0))),0,INDEX('План ввода основ. ср-в'!M:M,MATCH(B215,'План ввода основ. ср-в'!B:B,0)))","v":0},{"$f":"IF(ISNA(INDEX('План ввода основ. ср-в'!P:P,MATCH(B215,'План ввода основ. ср-в'!B:B,0))),0,INDEX('План ввода основ. ср-в'!P:P,MATCH(B215,'План ввода основ. ср-в'!B:B,0)))","v":0},null,{"$f":"IF(ISNA(INDEX('План ввода основ. ср-в'!O:O,MATCH(B215,'План ввода основ. ср-в'!B:B,0))),0,INDEX('План ввода основ. ср-в'!O:O,MATCH(B215,'План ввода основ. ср-в'!B:B,0)))","v":0},{"$f":"IF(ISNA(INDEX('План ввода основ. ср-в'!R:R,MATCH(B215,'План ввода основ. ср-в'!B:B,0))),0,INDEX('План ввода основ. ср-в'!R:R,MATCH(B215,'План ввода основ. ср-в'!B:B,0)))","v":0},null,{"$f":"IF(ISNA(INDEX('План ввода основ. ср-в'!Q:Q,MATCH(B215,'План ввода основ. ср-в'!B:B,0))),0,INDEX('План ввода основ. ср-в'!Q:Q,MATCH(B215,'План ввода основ. ср-в'!B:B,0)))","v":0},{"$f":"IF(ISNA(INDEX('План ввода основ. ср-в'!T:T,MATCH(B215,'План ввода основ. ср-в'!B:B,0))),0,INDEX('План ввода основ. ср-в'!T:T,MATCH(B215,'План ввода основ. ср-в'!B:B,0)))","v":0},null,{"$f":"IF(ISNA(INDEX('План ввода основ. ср-в'!S:S,MATCH(B215,'План ввода основ. ср-в'!B:B,0))),0,INDEX('План ввода основ. ср-в'!S:S,MATCH(B215,'План ввода основ. ср-в'!B:B,0)))","v":0},9.31,null,0,null,{"$f":"IF(ISNA(INDEX('План ввода основ. ср-в'!W:W,MATCH(B215,'План ввода основ. ср-в'!B:B,0))),0,INDEX('План ввода основ. ср-в'!W:W,MATCH(B215,'План ввода основ. ср-в'!B:B,0)))","v":3.7871186440677969},{"$f":"IF(ISNA(INDEX('План ввода основ. ср-в'!X:X,MATCH(B215,'План ввода основ. ср-в'!B:B,0))),0,INDEX('План ввода основ. ср-в'!X:X,MATCH(B215,'План ввода основ. ср-в'!B:B,0)))","v":8.8366101694915251},{"$f":"IF(ISNA(INDEX('План ввода основ. ср-в'!Y:Y,MATCH(B215,'План ввода основ. ср-в'!B:B,0))),0,INDEX('План ввода основ. ср-в'!Y:Y,MATCH(B215,'План ввода основ. ср-в'!B:B,0)))","v":12.623728813559323},25.247457627118642,{"$f":"IF(ISNA(INDEX('План ввода основ. ср-в'!Z:Z,MATCH(B215,'План ввода основ. ср-в'!B:B,0))),0,INDEX('План ввода основ. ср-в'!Z:Z,MATCH(B215,'План ввода основ. ср-в'!B:B,0)))","v":0},{"$f":"IF(ISNA(INDEX('План ввода основ. ср-в'!AA:AA,MATCH(B215,'План ввода основ. ср-в'!B:B,0))),0,INDEX('План ввода основ. ср-в'!AA:AA,MATCH(B215,'План ввода основ. ср-в'!B:B,0)))","v":0},{"$f":"IF(ISNA(INDEX('План ввода основ. ср-в'!AB:AB,MATCH(B215,'План ввода основ. ср-в'!B:B,0))),0,INDEX('План ввода основ. ср-в'!AB:AB,MATCH(B215,'План ввода основ. ср-в'!B:B,0)))","v":0},{"$f":"IF(ISNA(INDEX('План ввода основ. ср-в'!AC:AC,MATCH(B215,'План ввода основ. ср-в'!B:B,0))),0,INDEX('План ввода основ. ср-в'!AC:AC,MATCH(B215,'План ввода основ. ср-в'!B:B,0)))","v":0},25.247457627118642]
[194,"Реконструкция ВЛ-0,4 кВ от КТП СРГ 205/160 кВА ",null,null,null,null,null,null,3.1,null,0,0,null,0,null,null,null,0,null,0,0,null,0,{"$f":"SUM(I216+L216+O216+R216+U216)","v":3.1},null,0,8.4067796610169516,{"$f":"IF(ISNA(INDEX('План ввода основ. ср-в'!F:F,MATCH(B216,'План ввода основ. ср-в'!B:B,0))),0,INDEX('План ввода основ. ср-в'!F:F,MATCH(B216,'План ввода основ. ср-в'!B:B,0)))","v":0},null,{"$f":"IF(ISNA(INDEX('План ввода основ. ср-в'!E:E,MATCH(B216,'План ввода основ. ср-в'!B:B,0))),0,INDEX('План ввода основ. ср-в'!E:E,MATCH(B216,'План ввода основ. ср-в'!B:B,0)))","v":0},{"$f":"IF(ISNA(INDEX('План ввода основ. ср-в'!H:H,MATCH(B216,'План ввода основ. ср-в'!B:B,0))),0,INDEX('План ввода основ. ср-в'!H:H,MATCH(B216,'План ввода основ. ср-в'!B:B,0)))","v":0},null,{"$f":"IF(ISNA(INDEX('План ввода основ. ср-в'!G:G,MATCH(B216,'План ввода основ. ср-в'!B:B,0))),0,INDEX('План ввода основ. ср-в'!G:G,MATCH(B216,'План ввода основ. ср-в'!B:B,0)))","v":0},{"$f":"IF(ISNA(INDEX('План ввода основ. ср-в'!J:J,MATCH(B216,'План ввода основ. ср-в'!B:B,0))),0,INDEX('План ввода основ. ср-в'!J:J,MATCH(B216,'План ввода основ. ср-в'!B:B,0)))","v":0},null,{"$f":"IF(ISNA(INDEX('План ввода основ. ср-в'!I:I,MATCH(B216,'План ввода основ. ср-в'!B:B,0))),0,INDEX('План ввода основ. ср-в'!I:I,MATCH(B216,'План ввода основ. ср-в'!B:B,0)))","v":0},{"$f":"IF(ISNA(INDEX('План ввода основ. ср-в'!L:L,MATCH(B216,'План ввода основ. ср-в'!B:B,0))),0,INDEX('План ввода основ. ср-в'!L:L,MATCH(B216,'План ввода основ. ср-в'!B:B,0)))","v":3.1},null,{"$f":"IF(ISNA(INDEX('План ввода основ. ср-в'!K:K,MATCH(B216,'План ввода основ. ср-в'!B:B,0))),0,INDEX('План ввода основ. ср-в'!K:K,MATCH(B216,'План ввода основ. ср-в'!B:B,0)))","v":0},3.1,null,0,{"$f":"IF(ISNA(INDEX('План ввода основ. ср-в'!N:N,MATCH(B216,'План ввода основ. ср-в'!B:B,0))),0,INDEX('План ввода основ. ср-в'!N:N,MATCH(B216,'План ввода основ. ср-в'!B:B,0)))","v":0},null,{"$f":"IF(ISNA(INDEX('План ввода основ. ср-в'!M:M,MATCH(B216,'План ввода основ. ср-в'!B:B,0))),0,INDEX('План ввода основ. ср-в'!M:M,MATCH(B216,'План ввода основ. ср-в'!B:B,0)))","v":0},{"$f":"IF(ISNA(INDEX('План ввода основ. ср-в'!P:P,MATCH(B216,'План ввода основ. ср-в'!B:B,0))),0,INDEX('План ввода основ. ср-в'!P:P,MATCH(B216,'План ввода основ. ср-в'!B:B,0)))","v":0},null,{"$f":"IF(ISNA(INDEX('План ввода основ. ср-в'!O:O,MATCH(B216,'План ввода основ. ср-в'!B:B,0))),0,INDEX('План ввода основ. ср-в'!O:O,MATCH(B216,'План ввода основ. ср-в'!B:B,0)))","v":0},{"$f":"IF(ISNA(INDEX('План ввода основ. ср-в'!R:R,MATCH(B216,'План ввода основ. ср-в'!B:B,0))),0,INDEX('План ввода основ. ср-в'!R:R,MATCH(B216,'План ввода основ. ср-в'!B:B,0)))","v":0},null,{"$f":"IF(ISNA(INDEX('План ввода основ. ср-в'!Q:Q,MATCH(B216,'План ввода основ. ср-в'!B:B,0))),0,INDEX('План ввода основ. ср-в'!Q:Q,MATCH(B216,'План ввода основ. ср-в'!B:B,0)))","v":0},{"$f":"IF(ISNA(INDEX('План ввода основ. ср-в'!T:T,MATCH(B216,'План ввода основ. ср-в'!B:B,0))),0,INDEX('План ввода основ. ср-в'!T:T,MATCH(B216,'План ввода основ. ср-в'!B:B,0)))","v":0},null,{"$f":"IF(ISNA(INDEX('План ввода основ. ср-в'!S:S,MATCH(B216,'План ввода основ. ср-в'!B:B,0))),0,INDEX('План ввода основ. ср-в'!S:S,MATCH(B216,'План ввода основ. ср-в'!B:B,0)))","v":0},3.1,null,0,null,{"$f":"IF(ISNA(INDEX('План ввода основ. ср-в'!W:W,MATCH(B216,'План ввода основ. ср-в'!B:B,0))),0,INDEX('План ввода основ. ср-в'!W:W,MATCH(B216,'План ввода основ. ср-в'!B:B,0)))","v":1.2610169491525427},{"$f":"IF(ISNA(INDEX('План ввода основ. ср-в'!X:X,MATCH(B216,'План ввода основ. ср-в'!B:B,0))),0,INDEX('План ввода основ. ср-в'!X:X,MATCH(B216,'План ввода основ. ср-в'!B:B,0)))","v":2.9423728813559329},{"$f":"IF(ISNA(INDEX('План ввода основ. ср-в'!Y:Y,MATCH(B216,'План ввода основ. ср-в'!B:B,0))),0,INDEX('План ввода основ. ср-в'!Y:Y,MATCH(B216,'План ввода основ. ср-в'!B:B,0)))","v":4.2033898305084758},8.4067796610169516,{"$f":"IF(ISNA(INDEX('План ввода основ. ср-в'!Z:Z,MATCH(B216,'План ввода основ. ср-в'!B:B,0))),0,INDEX('План ввода основ. ср-в'!Z:Z,MATCH(B216,'План ввода основ. ср-в'!B:B,0)))","v":0},{"$f":"IF(ISNA(INDEX('План ввода основ. ср-в'!AA:AA,MATCH(B216,'План ввода основ. ср-в'!B:B,0))),0,INDEX('План ввода основ. ср-в'!AA:AA,MATCH(B216,'План ввода основ. ср-в'!B:B,0)))","v":0},{"$f":"IF(ISNA(INDEX('План ввода основ. ср-в'!AB:AB,MATCH(B216,'План ввода основ. ср-в'!B:B,0))),0,INDEX('План ввода основ. ср-в'!AB:AB,MATCH(B216,'План ввода основ. ср-в'!B:B,0)))","v":0},{"$f":"IF(ISNA(INDEX('План ввода основ. ср-в'!AC:AC,MATCH(B216,'План ввода основ. ср-в'!B:B,0))),0,INDEX('План ввода основ. ср-в'!AC:AC,MATCH(B216,'План ввода основ. ср-в'!B:B,0)))","v":0},8.4067796610169516]
[195,"Реконструкция ВЛ-0,4 кВ от КТП СВД 4207/160 кВА ",null,null,null,null,null,null,3.82,null,0,0,null,0,null,null,null,0,null,0,0,null,0,3.82,null,{"$f":"SUM(K217+N217+Q217+T217+W217)","v":0},10.359322033898305,{"$f":"IF(ISNA(INDEX('План ввода основ. ср-в'!F:F,MATCH(B217,'План ввода основ. ср-в'!B:B,0))),0,INDEX('План ввода основ. ср-в'!F:F,MATCH(B217,'План ввода основ. ср-в'!B:B,0)))","v":0},null,{"$f":"IF(ISNA(INDEX('План ввода основ. ср-в'!E:E,MATCH(B217,'План ввода основ. ср-в'!B:B,0))),0,INDEX('План ввода основ. ср-в'!E:E,MATCH(B217,'План ввода основ. ср-в'!B:B,0)))","v":0},{"$f":"IF(ISNA(INDEX('План ввода основ. ср-в'!H:H,MATCH(B217,'План ввода основ. ср-в'!B:B,0))),0,INDEX('План ввода основ. ср-в'!H:H,MATCH(B217,'План ввода основ. ср-в'!B:B,0)))","v":0},null,{"$f":"IF(ISNA(INDEX('План ввода основ. ср-в'!G:G,MATCH(B217,'План ввода основ. ср-в'!B:B,0))),0,INDEX('План ввода основ. ср-в'!G:G,MATCH(B217,'План ввода основ. ср-в'!B:B,0)))","v":0},{"$f":"IF(ISNA(INDEX('План ввода основ. ср-в'!J:J,MATCH(B217,'План ввода основ. ср-в'!B:B,0))),0,INDEX('План ввода основ. ср-в'!J:J,MATCH(B217,'План ввода основ. ср-в'!B:B,0)))","v":0},null,{"$f":"IF(ISNA(INDEX('План ввода основ. ср-в'!I:I,MATCH(B217,'План ввода основ. ср-в'!B:B,0))),0,INDEX('План ввода основ. ср-в'!I:I,MATCH(B217,'План ввода основ. ср-в'!B:B,0)))","v":0},{"$f":"IF(ISNA(INDEX('План ввода основ. ср-в'!L:L,MATCH(B217,'План ввода основ. ср-в'!B:B,0))),0,INDEX('План ввода основ. ср-в'!L:L,MATCH(B217,'План ввода основ. ср-в'!B:B,0)))","v":3.82},null,{"$f":"IF(ISNA(INDEX('План ввода основ. ср-в'!K:K,MATCH(B217,'План ввода основ. ср-в'!B:B,0))),0,INDEX('План ввода основ. ср-в'!K:K,MATCH(B217,'План ввода основ. ср-в'!B:B,0)))","v":0},3.82,null,0,{"$f":"IF(ISNA(INDEX('План ввода основ. ср-в'!N:N,MATCH(B217,'План ввода основ. ср-в'!B:B,0))),0,INDEX('План ввода основ. ср-в'!N:N,MATCH(B217,'План ввода основ. ср-в'!B:B,0)))","v":0},null,{"$f":"IF(ISNA(INDEX('План ввода основ. ср-в'!M:M,MATCH(B217,'План ввода основ. ср-в'!B:B,0))),0,INDEX('План ввода основ. ср-в'!M:M,MATCH(B217,'План ввода основ. ср-в'!B:B,0)))","v":0},{"$f":"IF(ISNA(INDEX('План ввода основ. ср-в'!P:P,MATCH(B217,'План ввода основ. ср-в'!B:B,0))),0,INDEX('План ввода основ. ср-в'!P:P,MATCH(B217,'План ввода основ. ср-в'!B:B,0)))","v":0},null,{"$f":"IF(ISNA(INDEX('План ввода основ. ср-в'!O:O,MATCH(B217,'План ввода основ. ср-в'!B:B,0))),0,INDEX('План ввода основ. ср-в'!O:O,MATCH(B217,'План ввода основ. ср-в'!B:B,0)))","v":0},{"$f":"IF(ISNA(INDEX('План ввода основ. ср-в'!R:R,MATCH(B217,'План ввода основ. ср-в'!B:B,0))),0,INDEX('План ввода основ. ср-в'!R:R,MATCH(B217,'План ввода основ. ср-в'!B:B,0)))","v":0},null,{"$f":"IF(ISNA(INDEX('План ввода основ. ср-в'!Q:Q,MATCH(B217,'План ввода основ. ср-в'!B:B,0))),0,INDEX('План ввода основ. ср-в'!Q:Q,MATCH(B217,'План ввода основ. ср-в'!B:B,0)))","v":0},{"$f":"IF(ISNA(INDEX('План ввода основ. ср-в'!T:T,MATCH(B217,'План ввода основ. ср-в'!B:B,0))),0,INDEX('План ввода основ. ср-в'!T:T,MATCH(B217,'План ввода основ. ср-в'!B:B,0)))","v":0},null,{"$f":"IF(ISNA(INDEX('План ввода основ. ср-в'!S:S,MATCH(B217,'План ввода основ. ср-в'!B:B,0))),0,INDEX('План ввода основ. ср-в'!S:S,MATCH(B217,'План ввода основ. ср-в'!B:B,0)))","v":0},3.82,null,0,null,{"$f":"IF(ISNA(INDEX('План ввода основ. ср-в'!W:W,MATCH(B217,'План ввода основ. ср-в'!B:B,0))),0,INDEX('План ввода основ. ср-в'!W:W,MATCH(B217,'План ввода основ. ср-в'!B:B,0)))","v":1.5538983050847457},{"$f":"IF(ISNA(INDEX('План ввода основ. ср-в'!X:X,MATCH(B217,'План ввода основ. ср-в'!B:B,0))),0,INDEX('План ввода основ. ср-в'!X:X,MATCH(B217,'План ввода основ. ср-в'!B:B,0)))","v":3.6257627118644065},{"$f":"IF(ISNA(INDEX('План ввода основ. ср-в'!Y:Y,MATCH(B217,'План ввода основ. ср-в'!B:B,0))),0,INDEX('План ввода основ. ср-в'!Y:Y,MATCH(B217,'План ввода основ. ср-в'!B:B,0)))","v":5.1796610169491526},10.359322033898305,{"$f":"IF(ISNA(INDEX('План ввода основ. ср-в'!Z:Z,MATCH(B217,'План ввода основ. ср-в'!B:B,0))),0,INDEX('План ввода основ. ср-в'!Z:Z,MATCH(B217,'План ввода основ. ср-в'!B:B,0)))","v":0},{"$f":"IF(ISNA(INDEX('План ввода основ. ср-в'!AA:AA,MATCH(B217,'План ввода основ. ср-в'!B:B,0))),0,INDEX('План ввода основ. ср-в'!AA:AA,MATCH(B217,'План ввода основ. ср-в'!B:B,0)))","v":0},{"$f":"IF(ISNA(INDEX('План ввода основ. ср-в'!AB:AB,MATCH(B217,'План ввода основ. ср-в'!B:B,0))),0,INDEX('План ввода основ. ср-в'!AB:AB,MATCH(B217,'План ввода основ. ср-в'!B:B,0)))","v":0},{"$f":"IF(ISNA(INDEX('План ввода основ. ср-в'!AC:AC,MATCH(B217,'План ввода основ. ср-в'!B:B,0))),0,INDEX('План ввода основ. ср-в'!AC:AC,MATCH(B217,'План ввода основ. ср-в'!B:B,0)))","v":0},10.359322033898305]
[196,"Реконструкция ВЛ-0,4 кВ от КТП СВ 907/400 кВА ",null,null,null,null,null,null,5.05,null,0,0,null,0,null,null,null,0,null,0,0,null,0,5.05,null,0,13.694915254237289,{"$f":"IF(ISNA(INDEX('План ввода основ. ср-в'!F:F,MATCH(B218,'План ввода основ. ср-в'!B:B,0))),0,INDEX('План ввода основ. ср-в'!F:F,MATCH(B218,'План ввода основ. ср-в'!B:B,0)))","v":0},null,{"$f":"IF(ISNA(INDEX('План ввода основ. ср-в'!E:E,MATCH(B218,'План ввода основ. ср-в'!B:B,0))),0,INDEX('План ввода основ. ср-в'!E:E,MATCH(B218,'План ввода основ. ср-в'!B:B,0)))","v":0},{"$f":"IF(ISNA(INDEX('План ввода основ. ср-в'!H:H,MATCH(B218,'План ввода основ. ср-в'!B:B,0))),0,INDEX('План ввода основ. ср-в'!H:H,MATCH(B218,'План ввода основ. ср-в'!B:B,0)))","v":0},null,{"$f":"IF(ISNA(INDEX('План ввода основ. ср-в'!G:G,MATCH(B218,'План ввода основ. ср-в'!B:B,0))),0,INDEX('План ввода основ. ср-в'!G:G,MATCH(B218,'План ввода основ. ср-в'!B:B,0)))","v":0},{"$f":"IF(ISNA(INDEX('План ввода основ. ср-в'!J:J,MATCH(B218,'План ввода основ. ср-в'!B:B,0))),0,INDEX('План ввода основ. ср-в'!J:J,MATCH(B218,'План ввода основ. ср-в'!B:B,0)))","v":0},null,{"$f":"IF(ISNA(INDEX('План ввода основ. ср-в'!I:I,MATCH(B218,'План ввода основ. ср-в'!B:B,0))),0,INDEX('План ввода основ. ср-в'!I:I,MATCH(B218,'План ввода основ. ср-в'!B:B,0)))","v":0},{"$f":"IF(ISNA(INDEX('План ввода основ. ср-в'!L:L,MATCH(B218,'План ввода основ. ср-в'!B:B,0))),0,INDEX('План ввода основ. ср-в'!L:L,MATCH(B218,'План ввода основ. ср-в'!B:B,0)))","v":5.05},null,{"$f":"IF(ISNA(INDEX('План ввода основ. ср-в'!K:K,MATCH(B218,'План ввода основ. ср-в'!B:B,0))),0,INDEX('План ввода основ. ср-в'!K:K,MATCH(B218,'План ввода основ. ср-в'!B:B,0)))","v":0},5.05,null,0,{"$f":"IF(ISNA(INDEX('План ввода основ. ср-в'!N:N,MATCH(B218,'План ввода основ. ср-в'!B:B,0))),0,INDEX('План ввода основ. ср-в'!N:N,MATCH(B218,'План ввода основ. ср-в'!B:B,0)))","v":0},null,{"$f":"IF(ISNA(INDEX('План ввода основ. ср-в'!M:M,MATCH(B218,'План ввода основ. ср-в'!B:B,0))),0,INDEX('План ввода основ. ср-в'!M:M,MATCH(B218,'План ввода основ. ср-в'!B:B,0)))","v":0},{"$f":"IF(ISNA(INDEX('План ввода основ. ср-в'!P:P,MATCH(B218,'План ввода основ. ср-в'!B:B,0))),0,INDEX('План ввода основ. ср-в'!P:P,MATCH(B218,'План ввода основ. ср-в'!B:B,0)))","v":0},null,{"$f":"IF(ISNA(INDEX('План ввода основ. ср-в'!O:O,MATCH(B218,'План ввода основ. ср-в'!B:B,0))),0,INDEX('План ввода основ. ср-в'!O:O,MATCH(B218,'План ввода основ. ср-в'!B:B,0)))","v":0},{"$f":"IF(ISNA(INDEX('План ввода основ. ср-в'!R:R,MATCH(B218,'План ввода основ. ср-в'!B:B,0))),0,INDEX('План ввода основ. ср-в'!R:R,MATCH(B218,'План ввода основ. ср-в'!B:B,0)))","v":0},null,{"$f":"IF(ISNA(INDEX('План ввода основ. ср-в'!Q:Q,MATCH(B218,'План ввода основ. ср-в'!B:B,0))),0,INDEX('План ввода основ. ср-в'!Q:Q,MATCH(B218,'План ввода основ. ср-в'!B:B,0)))","v":0},{"$f":"IF(ISNA(INDEX('План ввода основ. ср-в'!T:T,MATCH(B218,'План ввода основ. ср-в'!B:B,0))),0,INDEX('План ввода основ. ср-в'!T:T,MATCH(B218,'План ввода основ. ср-в'!B:B,0)))","v":0},null,{"$f":"IF(ISNA(INDEX('План ввода основ. ср-в'!S:S,MATCH(B218,'План ввода основ. ср-в'!B:B,0))),0,INDEX('План ввода основ. ср-в'!S:S,MATCH(B218,'План ввода основ. ср-в'!B:B,0)))","v":0},5.05,null,0,null,{"$f":"IF(ISNA(INDEX('План ввода основ. ср-в'!W:W,MATCH(B218,'План ввода основ. ср-в'!B:B,0))),0,INDEX('План ввода основ. ср-в'!W:W,MATCH(B218,'План ввода основ. ср-в'!B:B,0)))","v":2.0542372881355933},{"$f":"IF(ISNA(INDEX('План ввода основ. ср-в'!X:X,MATCH(B218,'План ввода основ. ср-в'!B:B,0))),0,INDEX('План ввода основ. ср-в'!X:X,MATCH(B218,'План ввода основ. ср-в'!B:B,0)))","v":4.7932203389830512},{"$f":"IF(ISNA(INDEX('План ввода основ. ср-в'!Y:Y,MATCH(B218,'План ввода основ. ср-в'!B:B,0))),0,INDEX('План ввода основ. ср-в'!Y:Y,MATCH(B218,'План ввода основ. ср-в'!B:B,0)))","v":6.8474576271186445},13.694915254237289,{"$f":"IF(ISNA(INDEX('План ввода основ. ср-в'!Z:Z,MATCH(B218,'План ввода основ. ср-в'!B:B,0))),0,INDEX('План ввода основ. ср-в'!Z:Z,MATCH(B218,'План ввода основ. ср-в'!B:B,0)))","v":0},{"$f":"IF(ISNA(INDEX('План ввода основ. ср-в'!AA:AA,MATCH(B218,'План ввода основ. ср-в'!B:B,0))),0,INDEX('План ввода основ. ср-в'!AA:AA,MATCH(B218,'План ввода основ. ср-в'!B:B,0)))","v":0},{"$f":"IF(ISNA(INDEX('План ввода основ. ср-в'!AB:AB,MATCH(B218,'План ввода основ. ср-в'!B:B,0))),0,INDEX('План ввода основ. ср-в'!AB:AB,MATCH(B218,'План ввода основ. ср-в'!B:B,0)))","v":0},{"$f":"IF(ISNA(INDEX('План ввода основ. ср-в'!AC:AC,MATCH(B218,'План ввода основ. ср-в'!B:B,0))),0,INDEX('План ввода основ. ср-в'!AC:AC,MATCH(B218,'План ввода основ. ср-в'!B:B,0)))","v":0},13.694915254237289]
[197,"Реконструкция ВЛ-0,4 кВ от КТП СРГ 204/160 кВА ",null,null,null,null,null,null,3.05,null,0,0,null,0,null,null,null,0,null,0,0,null,0,3.05,null,0,8.2711864406779672,{"$f":"IF(ISNA(INDEX('План ввода основ. ср-в'!F:F,MATCH(B219,'План ввода основ. ср-в'!B:B,0))),0,INDEX('План ввода основ. ср-в'!F:F,MATCH(B219,'План ввода основ. ср-в'!B:B,0)))","v":0},null,{"$f":"IF(ISNA(INDEX('План ввода основ. ср-в'!E:E,MATCH(B219,'План ввода основ. ср-в'!B:B,0))),0,INDEX('План ввода основ. ср-в'!E:E,MATCH(B219,'План ввода основ. ср-в'!B:B,0)))","v":0},{"$f":"IF(ISNA(INDEX('План ввода основ. ср-в'!H:H,MATCH(B219,'План ввода основ. ср-в'!B:B,0))),0,INDEX('План ввода основ. ср-в'!H:H,MATCH(B219,'План ввода основ. ср-в'!B:B,0)))","v":0},null,{"$f":"IF(ISNA(INDEX('План ввода основ. ср-в'!G:G,MATCH(B219,'План ввода основ. ср-в'!B:B,0))),0,INDEX('План ввода основ. ср-в'!G:G,MATCH(B219,'План ввода основ. ср-в'!B:B,0)))","v":0},{"$f":"IF(ISNA(INDEX('План ввода основ. ср-в'!J:J,MATCH(B219,'План ввода основ. ср-в'!B:B,0))),0,INDEX('План ввода основ. ср-в'!J:J,MATCH(B219,'План ввода основ. ср-в'!B:B,0)))","v":0},null,{"$f":"IF(ISNA(INDEX('План ввода основ. ср-в'!I:I,MATCH(B219,'План ввода основ. ср-в'!B:B,0))),0,INDEX('План ввода основ. ср-в'!I:I,MATCH(B219,'План ввода основ. ср-в'!B:B,0)))","v":0},{"$f":"IF(ISNA(INDEX('План ввода основ. ср-в'!L:L,MATCH(B219,'План ввода основ. ср-в'!B:B,0))),0,INDEX('План ввода основ. ср-в'!L:L,MATCH(B219,'План ввода основ. ср-в'!B:B,0)))","v":3.05},null,{"$f":"IF(ISNA(INDEX('План ввода основ. ср-в'!K:K,MATCH(B219,'План ввода основ. ср-в'!B:B,0))),0,INDEX('План ввода основ. ср-в'!K:K,MATCH(B219,'План ввода основ. ср-в'!B:B,0)))","v":0},3.05,null,0,{"$f":"IF(ISNA(INDEX('План ввода основ. ср-в'!N:N,MATCH(B219,'План ввода основ. ср-в'!B:B,0))),0,INDEX('План ввода основ. ср-в'!N:N,MATCH(B219,'План ввода основ. ср-в'!B:B,0)))","v":0},null,{"$f":"IF(ISNA(INDEX('План ввода основ. ср-в'!M:M,MATCH(B219,'План ввода основ. ср-в'!B:B,0))),0,INDEX('План ввода основ. ср-в'!M:M,MATCH(B219,'План ввода основ. ср-в'!B:B,0)))","v":0},{"$f":"IF(ISNA(INDEX('План ввода основ. ср-в'!P:P,MATCH(B219,'План ввода основ. ср-в'!B:B,0))),0,INDEX('План ввода основ. ср-в'!P:P,MATCH(B219,'План ввода основ. ср-в'!B:B,0)))","v":0},null,{"$f":"IF(ISNA(INDEX('План ввода основ. ср-в'!O:O,MATCH(B219,'План ввода основ. ср-в'!B:B,0))),0,INDEX('План ввода основ. ср-в'!O:O,MATCH(B219,'План ввода основ. ср-в'!B:B,0)))","v":0},{"$f":"IF(ISNA(INDEX('План ввода основ. ср-в'!R:R,MATCH(B219,'План ввода основ. ср-в'!B:B,0))),0,INDEX('План ввода основ. ср-в'!R:R,MATCH(B219,'План ввода основ. ср-в'!B:B,0)))","v":0},null,{"$f":"IF(ISNA(INDEX('План ввода основ. ср-в'!Q:Q,MATCH(B219,'План ввода основ. ср-в'!B:B,0))),0,INDEX('План ввода основ. ср-в'!Q:Q,MATCH(B219,'План ввода основ. ср-в'!B:B,0)))","v":0},{"$f":"IF(ISNA(INDEX('План ввода основ. ср-в'!T:T,MATCH(B219,'План ввода основ. ср-в'!B:B,0))),0,INDEX('План ввода основ. ср-в'!T:T,MATCH(B219,'План ввода основ. ср-в'!B:B,0)))","v":0},null,{"$f":"IF(ISNA(INDEX('План ввода основ. ср-в'!S:S,MATCH(B219,'План ввода основ. ср-в'!B:B,0))),0,INDEX('План ввода основ. ср-в'!S:S,MATCH(B219,'План ввода основ. ср-в'!B:B,0)))","v":0},3.05,null,0,null,{"$f":"IF(ISNA(INDEX('План ввода основ. ср-в'!W:W,MATCH(B219,'План ввода основ. ср-в'!B:B,0))),0,INDEX('План ввода основ. ср-в'!W:W,MATCH(B219,'План ввода основ. ср-в'!B:B,0)))","v":1.2406779661016951},{"$f":"IF(ISNA(INDEX('План ввода основ. ср-в'!X:X,MATCH(B219,'План ввода основ. ср-в'!B:B,0))),0,INDEX('План ввода основ. ср-в'!X:X,MATCH(B219,'План ввода основ. ср-в'!B:B,0)))","v":2.8949152542372882},{"$f":"IF(ISNA(INDEX('План ввода основ. ср-в'!Y:Y,MATCH(B219,'План ввода основ. ср-в'!B:B,0))),0,INDEX('План ввода основ. ср-в'!Y:Y,MATCH(B219,'План ввода основ. ср-в'!B:B,0)))","v":4.1355932203389836},8.2711864406779672,{"$f":"IF(ISNA(INDEX('План ввода основ. ср-в'!Z:Z,MATCH(B219,'План ввода основ. ср-в'!B:B,0))),0,INDEX('План ввода основ. ср-в'!Z:Z,MATCH(B219,'План ввода основ. ср-в'!B:B,0)))","v":0},{"$f":"IF(ISNA(INDEX('План ввода основ. ср-в'!AA:AA,MATCH(B219,'План ввода основ. ср-в'!B:B,0))),0,INDEX('План ввода основ. ср-в'!AA:AA,MATCH(B219,'План ввода основ. ср-в'!B:B,0)))","v":0},{"$f":"IF(ISNA(INDEX('План ввода основ. ср-в'!AB:AB,MATCH(B219,'План ввода основ. ср-в'!B:B,0))),0,INDEX('План ввода основ. ср-в'!AB:AB,MATCH(B219,'План ввода основ. ср-в'!B:B,0)))","v":0},{"$f":"IF(ISNA(INDEX('План ввода основ. ср-в'!AC:AC,MATCH(B219,'План ввода основ. ср-в'!B:B,0))),0,INDEX('План ввода основ. ср-в'!AC:AC,MATCH(B219,'План ввода основ. ср-в'!B:B,0)))","v":0},8.2711864406779672]
[198,"Реконструкция ВЛ-0,4 кВ от КТП ФНС 702/400 кВА ",null,null,null,null,null,null,5.7750000000000004,null,0,0,null,0,null,null,null,0,null,0,0,null,0,5.7750000000000004,null,0,15.661016949152543,{"$f":"IF(ISNA(INDEX('План ввода основ. ср-в'!F:F,MATCH(B220,'План ввода основ. ср-в'!B:B,0))),0,INDEX('План ввода основ. ср-в'!F:F,MATCH(B220,'План ввода основ. ср-в'!B:B,0)))","v":0},null,{"$f":"IF(ISNA(INDEX('План ввода основ. ср-в'!E:E,MATCH(B220,'План ввода основ. ср-в'!B:B,0))),0,INDEX('План ввода основ. ср-в'!E:E,MATCH(B220,'План ввода основ. ср-в'!B:B,0)))","v":0},{"$f":"IF(ISNA(INDEX('План ввода основ. ср-в'!H:H,MATCH(B220,'План ввода основ. ср-в'!B:B,0))),0,INDEX('План ввода основ. ср-в'!H:H,MATCH(B220,'План ввода основ. ср-в'!B:B,0)))","v":0},null,{"$f":"IF(ISNA(INDEX('План ввода основ. ср-в'!G:G,MATCH(B220,'План ввода основ. ср-в'!B:B,0))),0,INDEX('План ввода основ. ср-в'!G:G,MATCH(B220,'План ввода основ. ср-в'!B:B,0)))","v":0},{"$f":"IF(ISNA(INDEX('План ввода основ. ср-в'!J:J,MATCH(B220,'План ввода основ. ср-в'!B:B,0))),0,INDEX('План ввода основ. ср-в'!J:J,MATCH(B220,'План ввода основ. ср-в'!B:B,0)))","v":0},null,{"$f":"IF(ISNA(INDEX('План ввода основ. ср-в'!I:I,MATCH(B220,'План ввода основ. ср-в'!B:B,0))),0,INDEX('План ввода основ. ср-в'!I:I,MATCH(B220,'План ввода основ. ср-в'!B:B,0)))","v":0},{"$f":"IF(ISNA(INDEX('План ввода основ. ср-в'!L:L,MATCH(B220,'План ввода основ. ср-в'!B:B,0))),0,INDEX('План ввода основ. ср-в'!L:L,MATCH(B220,'План ввода основ. ср-в'!B:B,0)))","v":5.7750000000000004},null,{"$f":"IF(ISNA(INDEX('План ввода основ. ср-в'!K:K,MATCH(B220,'План ввода основ. ср-в'!B:B,0))),0,INDEX('План ввода основ. ср-в'!K:K,MATCH(B220,'План ввода основ. ср-в'!B:B,0)))","v":0},{"$f":"AB220+AE220+AH220+AK220","v":5.7750000000000004},null,{"$f":"AD220+AG220+AJ220+AM220","v":0},{"$f":"IF(ISNA(INDEX('План ввода основ. ср-в'!N:N,MATCH(B220,'План ввода основ. ср-в'!B:B,0))),0,INDEX('План ввода основ. ср-в'!N:N,MATCH(B220,'План ввода основ. ср-в'!B:B,0)))","v":0},null,{"$f":"IF(ISNA(INDEX('План ввода основ. ср-в'!M:M,MATCH(B220,'План ввода основ. ср-в'!B:B,0))),0,INDEX('План ввода основ. ср-в'!M:M,MATCH(B220,'План ввода основ. ср-в'!B:B,0)))","v":0},{"$f":"IF(ISNA(INDEX('План ввода основ. ср-в'!P:P,MATCH(B220,'План ввода основ. ср-в'!B:B,0))),0,INDEX('План ввода основ. ср-в'!P:P,MATCH(B220,'План ввода основ. ср-в'!B:B,0)))","v":0},null,{"$f":"IF(ISNA(INDEX('План ввода основ. ср-в'!O:O,MATCH(B220,'План ввода основ. ср-в'!B:B,0))),0,INDEX('План ввода основ. ср-в'!O:O,MATCH(B220,'План ввода основ. ср-в'!B:B,0)))","v":0},{"$f":"IF(ISNA(INDEX('План ввода основ. ср-в'!R:R,MATCH(B220,'План ввода основ. ср-в'!B:B,0))),0,INDEX('План ввода основ. ср-в'!R:R,MATCH(B220,'План ввода основ. ср-в'!B:B,0)))","v":0},null,{"$f":"IF(ISNA(INDEX('План ввода основ. ср-в'!Q:Q,MATCH(B220,'План ввода основ. ср-в'!B:B,0))),0,INDEX('План ввода основ. ср-в'!Q:Q,MATCH(B220,'План ввода основ. ср-в'!B:B,0)))","v":0},{"$f":"IF(ISNA(INDEX('План ввода основ. ср-в'!T:T,MATCH(B220,'План ввода основ. ср-в'!B:B,0))),0,INDEX('План ввода основ. ср-в'!T:T,MATCH(B220,'План ввода основ. ср-в'!B:B,0)))","v":0},null,{"$f":"IF(ISNA(INDEX('План ввода основ. ср-в'!S:S,MATCH(B220,'План ввода основ. ср-в'!B:B,0))),0,INDEX('План ввода основ. ср-в'!S:S,MATCH(B220,'План ввода основ. ср-в'!B:B,0)))","v":0},5.7750000000000004,null,{"$f":"AP220+AS220+AV220+AY220+BB220","v":0},null,{"$f":"IF(ISNA(INDEX('План ввода основ. ср-в'!W:W,MATCH(B220,'План ввода основ. ср-в'!B:B,0))),0,INDEX('План ввода основ. ср-в'!W:W,MATCH(B220,'План ввода основ. ср-в'!B:B,0)))","v":2.3491525423728814},{"$f":"IF(ISNA(INDEX('План ввода основ. ср-в'!X:X,MATCH(B220,'План ввода основ. ср-в'!B:B,0))),0,INDEX('План ввода основ. ср-в'!X:X,MATCH(B220,'План ввода основ. ср-в'!B:B,0)))","v":5.4813559322033898},{"$f":"IF(ISNA(INDEX('План ввода основ. ср-в'!Y:Y,MATCH(B220,'План ввода основ. ср-в'!B:B,0))),0,INDEX('План ввода основ. ср-в'!Y:Y,MATCH(B220,'План ввода основ. ср-в'!B:B,0)))","v":7.8305084745762716},{"$f":"SUM(BF220:BI220)","v":15.661016949152543},{"$f":"IF(ISNA(INDEX('План ввода основ. ср-в'!Z:Z,MATCH(B220,'План ввода основ. ср-в'!B:B,0))),0,INDEX('План ввода основ. ср-в'!Z:Z,MATCH(B220,'План ввода основ. ср-в'!B:B,0)))","v":0},{"$f":"IF(ISNA(INDEX('План ввода основ. ср-в'!AA:AA,MATCH(B220,'План ввода основ. ср-в'!B:B,0))),0,INDEX('План ввода основ. ср-в'!AA:AA,MATCH(B220,'План ввода основ. ср-в'!B:B,0)))","v":0},{"$f":"IF(ISNA(INDEX('План ввода основ. ср-в'!AB:AB,MATCH(B220,'План ввода основ. ср-в'!B:B,0))),0,INDEX('План ввода основ. ср-в'!AB:AB,MATCH(B220,'План ввода основ. ср-в'!B:B,0)))","v":0},{"$f":"IF(ISNA(INDEX('План ввода основ. ср-в'!AC:AC,MATCH(B220,'План ввода основ. ср-в'!B:B,0))),0,INDEX('План ввода основ. ср-в'!AC:AC,MATCH(B220,'План ввода основ. ср-в'!B:B,0)))","v":0},{"$f":"SUM(BJ220:BN220)","v":15.661016949152543}]
[199,"Ставропольский район",null,null,null,null,null,null,0,{"$f":"IF(AND(I221=0,K221=0),\"\",\"/\")","v":""},0,0,{"$f":"IF(AND(L221=0,N221=0),\"\",\"/\")","v":""},0,0,{"$f":"IF(AND(O221=0,Q221=0),\"\",\"/\")","v":""},0,0,{"$f":"IF(AND(R221=0,T221=0),\"\",\"/\")","v":""},0,0,{"$f":"IF(AND(U221=0,W221=0),\"\",\"/\")","v":""},0,0,"/",0,0,{"$f":"IF(ISNA(INDEX('План ввода основ. ср-в'!F:F,MATCH(B221,'План ввода основ. ср-в'!B:B,0))),0,INDEX('План ввода основ. ср-в'!F:F,MATCH(B221,'План ввода основ. ср-в'!B:B,0)))","v":0},{"$f":"IF(AND(AB221=0,AD221=0),\"\",\"/\")","v":""},{"$f":"IF(ISNA(INDEX('План ввода основ. ср-в'!E:E,MATCH(B221,'План ввода основ. ср-в'!B:B,0))),0,INDEX('План ввода основ. ср-в'!E:E,MATCH(B221,'План ввода основ. ср-в'!B:B,0)))","v":0},{"$f":"IF(ISNA(INDEX('План ввода основ. ср-в'!H:H,MATCH(B221,'План ввода основ. ср-в'!B:B,0))),0,INDEX('План ввода основ. ср-в'!H:H,MATCH(B221,'План ввода основ. ср-в'!B:B,0)))","v":0},{"$f":"IF(AND(AE221=0,AG221=0),\"\",\"/\")","v":""},{"$f":"IF(ISNA(INDEX('План ввода основ. ср-в'!G:G,MATCH(B221,'План ввода основ. ср-в'!B:B,0))),0,INDEX('План ввода основ. ср-в'!G:G,MATCH(B221,'План ввода основ. ср-в'!B:B,0)))","v":0},{"$f":"IF(ISNA(INDEX('План ввода основ. ср-в'!J:J,MATCH(B221,'План ввода основ. ср-в'!B:B,0))),0,INDEX('План ввода основ. ср-в'!J:J,MATCH(B221,'План ввода основ. ср-в'!B:B,0)))","v":0},{"$f":"IF(AND(AH221=0,AJ221=0),\"\",\"/\")","v":""},{"$f":"IF(ISNA(INDEX('План ввода основ. ср-в'!I:I,MATCH(B221,'План ввода основ. ср-в'!B:B,0))),0,INDEX('План ввода основ. ср-в'!I:I,MATCH(B221,'План ввода основ. ср-в'!B:B,0)))","v":0},{"$f":"IF(ISNA(INDEX('План ввода основ. ср-в'!L:L,MATCH(B221,'План ввода основ. ср-в'!B:B,0))),0,INDEX('План ввода основ. ср-в'!L:L,MATCH(B221,'План ввода основ. ср-в'!B:B,0)))","v":0},{"$f":"IF(AND(AK221=0,AM221=0),\"\",\"/\")","v":""},{"$f":"IF(ISNA(INDEX('План ввода основ. ср-в'!K:K,MATCH(B221,'План ввода основ. ср-в'!B:B,0))),0,INDEX('План ввода основ. ср-в'!K:K,MATCH(B221,'План ввода основ. ср-в'!B:B,0)))","v":0},0,"/",0,{"$f":"IF(ISNA(INDEX('План ввода основ. ср-в'!N:N,MATCH(B221,'План ввода основ. ср-в'!B:B,0))),0,INDEX('План ввода основ. ср-в'!N:N,MATCH(B221,'План ввода основ. ср-в'!B:B,0)))","v":0},"",{"$f":"IF(ISNA(INDEX('План ввода основ. ср-в'!M:M,MATCH(B221,'План ввода основ. ср-в'!B:B,0))),0,INDEX('План ввода основ. ср-в'!M:M,MATCH(B221,'План ввода основ. ср-в'!B:B,0)))","v":0},{"$f":"IF(ISNA(INDEX('План ввода основ. ср-в'!P:P,MATCH(B221,'План ввода основ. ср-в'!B:B,0))),0,INDEX('План ввода основ. ср-в'!P:P,MATCH(B221,'План ввода основ. ср-в'!B:B,0)))","v":0},"",{"$f":"IF(ISNA(INDEX('План ввода основ. ср-в'!O:O,MATCH(B221,'План ввода основ. ср-в'!B:B,0))),0,INDEX('План ввода основ. ср-в'!O:O,MATCH(B221,'План ввода основ. ср-в'!B:B,0)))","v":0},{"$f":"IF(ISNA(INDEX('План ввода основ. ср-в'!R:R,MATCH(B221,'План ввода основ. ср-в'!B:B,0))),0,INDEX('План ввода основ. ср-в'!R:R,MATCH(B221,'План ввода основ. ср-в'!B:B,0)))","v":0},"",{"$f":"IF(ISNA(INDEX('План ввода основ. ср-в'!Q:Q,MATCH(B221,'План ввода основ. ср-в'!B:B,0))),0,INDEX('План ввода основ. ср-в'!Q:Q,MATCH(B221,'План ввода основ. ср-в'!B:B,0)))","v":0},{"$f":"IF(ISNA(INDEX('План ввода основ. ср-в'!T:T,MATCH(B221,'План ввода основ. ср-в'!B:B,0))),0,INDEX('План ввода основ. ср-в'!T:T,MATCH(B221,'План ввода основ. ср-в'!B:B,0)))","v":0},"",{"$f":"IF(ISNA(INDEX('План ввода основ. ср-в'!S:S,MATCH(B221,'План ввода основ. ср-в'!B:B,0))),0,INDEX('План ввода основ. ср-в'!S:S,MATCH(B221,'План ввода основ. ср-в'!B:B,0)))","v":0},0,"/",0,{"$f":"IF(ISNA(INDEX('План ввода основ. ср-в'!V:V,MATCH(B221,'План ввода основ. ср-в'!B:B,0))),0,INDEX('План ввода основ. ср-в'!V:V,MATCH(B221,'План ввода основ. ср-в'!B:B,0)))","v":0},{"$f":"IF(ISNA(INDEX('План ввода основ. ср-в'!W:W,MATCH(B221,'План ввода основ. ср-в'!B:B,0))),0,INDEX('План ввода основ. ср-в'!W:W,MATCH(B221,'План ввода основ. ср-в'!B:B,0)))","v":0},{"$f":"IF(ISNA(INDEX('План ввода основ. ср-в'!X:X,MATCH(B221,'План ввода основ. ср-в'!B:B,0))),0,INDEX('План ввода основ. ср-в'!X:X,MATCH(B221,'План ввода основ. ср-в'!B:B,0)))","v":0},{"$f":"IF(ISNA(INDEX('План ввода основ. ср-в'!Y:Y,MATCH(B221,'План ввода основ. ср-в'!B:B,0))),0,INDEX('План ввода основ. ср-в'!Y:Y,MATCH(B221,'План ввода основ. ср-в'!B:B,0)))","v":0},0,{"$f":"IF(ISNA(INDEX('План ввода основ. ср-в'!Z:Z,MATCH(B221,'План ввода основ. ср-в'!B:B,0))),0,INDEX('План ввода основ. ср-в'!Z:Z,MATCH(B221,'План ввода основ. ср-в'!B:B,0)))","v":0},{"$f":"IF(ISNA(INDEX('План ввода основ. ср-в'!AA:AA,MATCH(B221,'План ввода основ. ср-в'!B:B,0))),0,INDEX('План ввода основ. ср-в'!AA:AA,MATCH(B221,'План ввода основ. ср-в'!B:B,0)))","v":0},{"$f":"IF(ISNA(INDEX('План ввода основ. ср-в'!AB:AB,MATCH(B221,'План ввода основ. ср-в'!B:B,0))),0,INDEX('План ввода основ. ср-в'!AB:AB,MATCH(B221,'План ввода основ. ср-в'!B:B,0)))","v":0},{"$f":"IF(ISNA(INDEX('План ввода основ. ср-в'!AC:AC,MATCH(B221,'План ввода основ. ср-в'!B:B,0))),0,INDEX('План ввода основ. ср-в'!AC:AC,MATCH(B221,'План ввода основ. ср-в'!B:B,0)))","v":0},0]
[200,"Реконструкция ВЛ-0,4 кВ от КТП Хщ 1902/400 кВА с заменой КТП и установкой дополнительной КТП 250 кВА",null,null,null,null,null,null,5.0999999999999996,"/",0.4,0,"",0,0,"",0,0,"",0,0,"",0,5.0999999999999996,"/",0.4,16.288135593220343,{"$f":"IF(ISNA(INDEX('План ввода основ. ср-в'!F:F,MATCH(B222,'План ввода основ. ср-в'!B:B,0))),0,INDEX('План ввода основ. ср-в'!F:F,MATCH(B222,'План ввода основ. ср-в'!B:B,0)))","v":0},"",{"$f":"IF(ISNA(INDEX('План ввода основ. ср-в'!E:E,MATCH(B222,'План ввода основ. ср-в'!B:B,0))),0,INDEX('План ввода основ. ср-в'!E:E,MATCH(B222,'План ввода основ. ср-в'!B:B,0)))","v":0},{"$f":"IF(ISNA(INDEX('План ввода основ. ср-в'!H:H,MATCH(B222,'План ввода основ. ср-в'!B:B,0))),0,INDEX('План ввода основ. ср-в'!H:H,MATCH(B222,'План ввода основ. ср-в'!B:B,0)))","v":0},"",{"$f":"IF(ISNA(INDEX('План ввода основ. ср-в'!G:G,MATCH(B222,'План ввода основ. ср-в'!B:B,0))),0,INDEX('План ввода основ. ср-в'!G:G,MATCH(B222,'План ввода основ. ср-в'!B:B,0)))","v":0},{"$f":"IF(ISNA(INDEX('План ввода основ. ср-в'!J:J,MATCH(B222,'План ввода основ. ср-в'!B:B,0))),0,INDEX('План ввода основ. ср-в'!J:J,MATCH(B222,'План ввода основ. ср-в'!B:B,0)))","v":0},"",{"$f":"IF(ISNA(INDEX('План ввода основ. ср-в'!I:I,MATCH(B222,'План ввода основ. ср-в'!B:B,0))),0,INDEX('План ввода основ. ср-в'!I:I,MATCH(B222,'План ввода основ. ср-в'!B:B,0)))","v":0},{"$f":"IF(ISNA(INDEX('План ввода основ. ср-в'!L:L,MATCH(B222,'План ввода основ. ср-в'!B:B,0))),0,INDEX('План ввода основ. ср-в'!L:L,MATCH(B222,'План ввода основ. ср-в'!B:B,0)))","v":5.0999999999999996},"/",{"$f":"IF(ISNA(INDEX('План ввода основ. ср-в'!K:K,MATCH(B222,'План ввода основ. ср-в'!B:B,0))),0,INDEX('План ввода основ. ср-в'!K:K,MATCH(B222,'План ввода основ. ср-в'!B:B,0)))","v":0.65},5.0999999999999996,"/",0.65,{"$f":"IF(ISNA(INDEX('План ввода основ. ср-в'!N:N,MATCH(B222,'План ввода основ. ср-в'!B:B,0))),0,INDEX('План ввода основ. ср-в'!N:N,MATCH(B222,'План ввода основ. ср-в'!B:B,0)))","v":0},"",{"$f":"IF(ISNA(INDEX('План ввода основ. ср-в'!M:M,MATCH(B222,'План ввода основ. ср-в'!B:B,0))),0,INDEX('План ввода основ. ср-в'!M:M,MATCH(B222,'План ввода основ. ср-в'!B:B,0)))","v":0},{"$f":"IF(ISNA(INDEX('План ввода основ. ср-в'!P:P,MATCH(B222,'План ввода основ. ср-в'!B:B,0))),0,INDEX('План ввода основ. ср-в'!P:P,MATCH(B222,'План ввода основ. ср-в'!B:B,0)))","v":0},"",{"$f":"IF(ISNA(INDEX('План ввода основ. ср-в'!O:O,MATCH(B222,'План ввода основ. ср-в'!B:B,0))),0,INDEX('План ввода основ. ср-в'!O:O,MATCH(B222,'План ввода основ. ср-в'!B:B,0)))","v":0},{"$f":"IF(ISNA(INDEX('План ввода основ. ср-в'!R:R,MATCH(B222,'План ввода основ. ср-в'!B:B,0))),0,INDEX('План ввода основ. ср-в'!R:R,MATCH(B222,'План ввода основ. ср-в'!B:B,0)))","v":0},"",{"$f":"IF(ISNA(INDEX('План ввода основ. ср-в'!Q:Q,MATCH(B222,'План ввода основ. ср-в'!B:B,0))),0,INDEX('План ввода основ. ср-в'!Q:Q,MATCH(B222,'План ввода основ. ср-в'!B:B,0)))","v":0},{"$f":"IF(ISNA(INDEX('План ввода основ. ср-в'!T:T,MATCH(B222,'План ввода основ. ср-в'!B:B,0))),0,INDEX('План ввода основ. ср-в'!T:T,MATCH(B222,'План ввода основ. ср-в'!B:B,0)))","v":0},"",{"$f":"IF(ISNA(INDEX('План ввода основ. ср-в'!S:S,MATCH(B222,'План ввода основ. ср-в'!B:B,0))),0,INDEX('План ввода основ. ср-в'!S:S,MATCH(B222,'План ввода основ. ср-в'!B:B,0)))","v":0},5.0999999999999996,"/",0.65,{"$f":"IF(ISNA(INDEX('План ввода основ. ср-в'!V:V,MATCH(B222,'План ввода основ. ср-в'!B:B,0))),0,INDEX('План ввода основ. ср-в'!V:V,MATCH(B222,'План ввода основ. ср-в'!B:B,0)))","v":0},{"$f":"IF(ISNA(INDEX('План ввода основ. ср-в'!W:W,MATCH(B222,'План ввода основ. ср-в'!B:B,0))),0,INDEX('План ввода основ. ср-в'!W:W,MATCH(B222,'План ввода основ. ср-в'!B:B,0)))","v":2.4432203389830511},{"$f":"IF(ISNA(INDEX('План ввода основ. ср-в'!X:X,MATCH(B222,'План ввода основ. ср-в'!B:B,0))),0,INDEX('План ввода основ. ср-в'!X:X,MATCH(B222,'План ввода основ. ср-в'!B:B,0)))","v":5.7008474576271198},{"$f":"IF(ISNA(INDEX('План ввода основ. ср-в'!Y:Y,MATCH(B222,'План ввода основ. ср-в'!B:B,0))),0,INDEX('План ввода основ. ср-в'!Y:Y,MATCH(B222,'План ввода основ. ср-в'!B:B,0)))","v":8.1440677966101713},16.288135593220343,{"$f":"IF(ISNA(INDEX('План ввода основ. ср-в'!Z:Z,MATCH(B222,'План ввода основ. ср-в'!B:B,0))),0,INDEX('План ввода основ. ср-в'!Z:Z,MATCH(B222,'План ввода основ. ср-в'!B:B,0)))","v":0},{"$f":"IF(ISNA(INDEX('План ввода основ. ср-в'!AA:AA,MATCH(B222,'План ввода основ. ср-в'!B:B,0))),0,INDEX('План ввода основ. ср-в'!AA:AA,MATCH(B222,'План ввода основ. ср-в'!B:B,0)))","v":0},{"$f":"IF(ISNA(INDEX('План ввода основ. ср-в'!AB:AB,MATCH(B222,'План ввода основ. ср-в'!B:B,0))),0,INDEX('План ввода основ. ср-в'!AB:AB,MATCH(B222,'План ввода основ. ср-в'!B:B,0)))","v":0},{"$f":"IF(ISNA(INDEX('План ввода основ. ср-в'!AC:AC,MATCH(B222,'План ввода основ. ср-в'!B:B,0))),0,INDEX('План ввода основ. ср-в'!AC:AC,MATCH(B222,'План ввода основ. ср-в'!B:B,0)))","v":0},16.288135593220343]
[201,"Реконструкция ВЛ-0,4 кВ от КТП С 2512/250 кВА с заменой КТП и установкой дополнительной КТП 250 кВА",null,null,null,null,null,null,2.6,"/",0.25,0,"",0,0,"",0,0,"",0,0,"",0,2.6,"/",0.25,9.2542372881355952,{"$f":"IF(ISNA(INDEX('План ввода основ. ср-в'!F:F,MATCH(B223,'План ввода основ. ср-в'!B:B,0))),0,INDEX('План ввода основ. ср-в'!F:F,MATCH(B223,'План ввода основ. ср-в'!B:B,0)))","v":0},"",{"$f":"IF(ISNA(INDEX('План ввода основ. ср-в'!E:E,MATCH(B223,'План ввода основ. ср-в'!B:B,0))),0,INDEX('План ввода основ. ср-в'!E:E,MATCH(B223,'План ввода основ. ср-в'!B:B,0)))","v":0},{"$f":"IF(ISNA(INDEX('План ввода основ. ср-в'!H:H,MATCH(B223,'План ввода основ. ср-в'!B:B,0))),0,INDEX('План ввода основ. ср-в'!H:H,MATCH(B223,'План ввода основ. ср-в'!B:B,0)))","v":0},"",{"$f":"IF(ISNA(INDEX('План ввода основ. ср-в'!G:G,MATCH(B223,'План ввода основ. ср-в'!B:B,0))),0,INDEX('План ввода основ. ср-в'!G:G,MATCH(B223,'План ввода основ. ср-в'!B:B,0)))","v":0},{"$f":"IF(ISNA(INDEX('План ввода основ. ср-в'!J:J,MATCH(B223,'План ввода основ. ср-в'!B:B,0))),0,INDEX('План ввода основ. ср-в'!J:J,MATCH(B223,'План ввода основ. ср-в'!B:B,0)))","v":0},"",{"$f":"IF(ISNA(INDEX('План ввода основ. ср-в'!I:I,MATCH(B223,'План ввода основ. ср-в'!B:B,0))),0,INDEX('План ввода основ. ср-в'!I:I,MATCH(B223,'План ввода основ. ср-в'!B:B,0)))","v":0},{"$f":"IF(ISNA(INDEX('План ввода основ. ср-в'!L:L,MATCH(B223,'План ввода основ. ср-в'!B:B,0))),0,INDEX('План ввода основ. ср-в'!L:L,MATCH(B223,'План ввода основ. ср-в'!B:B,0)))","v":2.6},"/",{"$f":"IF(ISNA(INDEX('План ввода основ. ср-в'!K:K,MATCH(B223,'План ввода основ. ср-в'!B:B,0))),0,INDEX('План ввода основ. ср-в'!K:K,MATCH(B223,'План ввода основ. ср-в'!B:B,0)))","v":0.5},2.6,"/",0.5,{"$f":"IF(ISNA(INDEX('План ввода основ. ср-в'!N:N,MATCH(B223,'План ввода основ. ср-в'!B:B,0))),0,INDEX('План ввода основ. ср-в'!N:N,MATCH(B223,'План ввода основ. ср-в'!B:B,0)))","v":0},"",{"$f":"IF(ISNA(INDEX('План ввода основ. ср-в'!M:M,MATCH(B223,'План ввода основ. ср-в'!B:B,0))),0,INDEX('План ввода основ. ср-в'!M:M,MATCH(B223,'План ввода основ. ср-в'!B:B,0)))","v":0},{"$f":"IF(ISNA(INDEX('План ввода основ. ср-в'!P:P,MATCH(B223,'План ввода основ. ср-в'!B:B,0))),0,INDEX('План ввода основ. ср-в'!P:P,MATCH(B223,'План ввода основ. ср-в'!B:B,0)))","v":0},"",{"$f":"IF(ISNA(INDEX('План ввода основ. ср-в'!O:O,MATCH(B223,'План ввода основ. ср-в'!B:B,0))),0,INDEX('План ввода основ. ср-в'!O:O,MATCH(B223,'План ввода основ. ср-в'!B:B,0)))","v":0},{"$f":"IF(ISNA(INDEX('План ввода основ. ср-в'!R:R,MATCH(B223,'План ввода основ. ср-в'!B:B,0))),0,INDEX('План ввода основ. ср-в'!R:R,MATCH(B223,'План ввода основ. ср-в'!B:B,0)))","v":0},"",{"$f":"IF(ISNA(INDEX('План ввода основ. ср-в'!Q:Q,MATCH(B223,'План ввода основ. ср-в'!B:B,0))),0,INDEX('План ввода основ. ср-в'!Q:Q,MATCH(B223,'План ввода основ. ср-в'!B:B,0)))","v":0},{"$f":"IF(ISNA(INDEX('План ввода основ. ср-в'!T:T,MATCH(B223,'План ввода основ. ср-в'!B:B,0))),0,INDEX('План ввода основ. ср-в'!T:T,MATCH(B223,'План ввода основ. ср-в'!B:B,0)))","v":0},"",{"$f":"IF(ISNA(INDEX('План ввода основ. ср-в'!S:S,MATCH(B223,'План ввода основ. ср-в'!B:B,0))),0,INDEX('План ввода основ. ср-в'!S:S,MATCH(B223,'План ввода основ. ср-в'!B:B,0)))","v":0},2.6,"/",0.5,{"$f":"IF(ISNA(INDEX('План ввода основ. ср-в'!V:V,MATCH(B223,'План ввода основ. ср-в'!B:B,0))),0,INDEX('План ввода основ. ср-в'!V:V,MATCH(B223,'План ввода основ. ср-в'!B:B,0)))","v":0},{"$f":"IF(ISNA(INDEX('План ввода основ. ср-в'!W:W,MATCH(B223,'План ввода основ. ср-в'!B:B,0))),0,INDEX('План ввода основ. ср-в'!W:W,MATCH(B223,'План ввода основ. ср-в'!B:B,0)))","v":1.3881355932203392},{"$f":"IF(ISNA(INDEX('План ввода основ. ср-в'!X:X,MATCH(B223,'План ввода основ. ср-в'!B:B,0))),0,INDEX('План ввода основ. ср-в'!X:X,MATCH(B223,'План ввода основ. ср-в'!B:B,0)))","v":3.238983050847458},{"$f":"IF(ISNA(INDEX('План ввода основ. ср-в'!Y:Y,MATCH(B223,'План ввода основ. ср-в'!B:B,0))),0,INDEX('План ввода основ. ср-в'!Y:Y,MATCH(B223,'План ввода основ. ср-в'!B:B,0)))","v":4.6271186440677976},9.2542372881355952,{"$f":"IF(ISNA(INDEX('План ввода основ. ср-в'!Z:Z,MATCH(B223,'План ввода основ. ср-в'!B:B,0))),0,INDEX('План ввода основ. ср-в'!Z:Z,MATCH(B223,'План ввода основ. ср-в'!B:B,0)))","v":0},{"$f":"IF(ISNA(INDEX('План ввода основ. ср-в'!AA:AA,MATCH(B223,'План ввода основ. ср-в'!B:B,0))),0,INDEX('План ввода основ. ср-в'!AA:AA,MATCH(B223,'План ввода основ. ср-в'!B:B,0)))","v":0},{"$f":"IF(ISNA(INDEX('План ввода основ. ср-в'!AB:AB,MATCH(B223,'План ввода основ. ср-в'!B:B,0))),0,INDEX('План ввода основ. ср-в'!AB:AB,MATCH(B223,'План ввода основ. ср-в'!B:B,0)))","v":0},{"$f":"IF(ISNA(INDEX('План ввода основ. ср-в'!AC:AC,MATCH(B223,'План ввода основ. ср-в'!B:B,0))),0,INDEX('План ввода основ. ср-в'!AC:AC,MATCH(B223,'План ввода основ. ср-в'!B:B,0)))","v":0},9.2542372881355952]
[202,"г.Сызрань",null,null,null,null,null,null,0,"",0,0,null,0,0,null,0,0,null,0,0,null,0,0,null,0,0,{"$f":"IF(ISNA(INDEX('План ввода основ. ср-в'!F:F,MATCH(B224,'План ввода основ. ср-в'!B:B,0))),0,INDEX('План ввода основ. ср-в'!F:F,MATCH(B224,'План ввода основ. ср-в'!B:B,0)))","v":0},null,{"$f":"IF(ISNA(INDEX('План ввода основ. ср-в'!E:E,MATCH(B224,'План ввода основ. ср-в'!B:B,0))),0,INDEX('План ввода основ. ср-в'!E:E,MATCH(B224,'План ввода основ. ср-в'!B:B,0)))","v":0},{"$f":"IF(ISNA(INDEX('План ввода основ. ср-в'!H:H,MATCH(B224,'План ввода основ. ср-в'!B:B,0))),0,INDEX('План ввода основ. ср-в'!H:H,MATCH(B224,'План ввода основ. ср-в'!B:B,0)))","v":0},null,{"$f":"IF(ISNA(INDEX('План ввода основ. ср-в'!G:G,MATCH(B224,'План ввода основ. ср-в'!B:B,0))),0,INDEX('План ввода основ. ср-в'!G:G,MATCH(B224,'План ввода основ. ср-в'!B:B,0)))","v":0},{"$f":"IF(ISNA(INDEX('План ввода основ. ср-в'!J:J,MATCH(B224,'План ввода основ. ср-в'!B:B,0))),0,INDEX('План ввода основ. ср-в'!J:J,MATCH(B224,'План ввода основ. ср-в'!B:B,0)))","v":0},null,{"$f":"IF(ISNA(INDEX('План ввода основ. ср-в'!I:I,MATCH(B224,'План ввода основ. ср-в'!B:B,0))),0,INDEX('План ввода основ. ср-в'!I:I,MATCH(B224,'План ввода основ. ср-в'!B:B,0)))","v":0},{"$f":"IF(ISNA(INDEX('План ввода основ. ср-в'!L:L,MATCH(B224,'План ввода основ. ср-в'!B:B,0))),0,INDEX('План ввода основ. ср-в'!L:L,MATCH(B224,'План ввода основ. ср-в'!B:B,0)))","v":0},"",{"$f":"IF(ISNA(INDEX('План ввода основ. ср-в'!K:K,MATCH(B224,'План ввода основ. ср-в'!B:B,0))),0,INDEX('План ввода основ. ср-в'!K:K,MATCH(B224,'План ввода основ. ср-в'!B:B,0)))","v":0},0,"/",0,{"$f":"IF(ISNA(INDEX('План ввода основ. ср-в'!N:N,MATCH(B224,'План ввода основ. ср-в'!B:B,0))),0,INDEX('План ввода основ. ср-в'!N:N,MATCH(B224,'План ввода основ. ср-в'!B:B,0)))","v":0},"",{"$f":"IF(ISNA(INDEX('План ввода основ. ср-в'!M:M,MATCH(B224,'План ввода основ. ср-в'!B:B,0))),0,INDEX('План ввода основ. ср-в'!M:M,MATCH(B224,'План ввода основ. ср-в'!B:B,0)))","v":0},{"$f":"IF(ISNA(INDEX('План ввода основ. ср-в'!P:P,MATCH(B224,'План ввода основ. ср-в'!B:B,0))),0,INDEX('План ввода основ. ср-в'!P:P,MATCH(B224,'План ввода основ. ср-в'!B:B,0)))","v":0},"",{"$f":"IF(ISNA(INDEX('План ввода основ. ср-в'!O:O,MATCH(B224,'План ввода основ. ср-в'!B:B,0))),0,INDEX('План ввода основ. ср-в'!O:O,MATCH(B224,'План ввода основ. ср-в'!B:B,0)))","v":0},{"$f":"IF(ISNA(INDEX('План ввода основ. ср-в'!R:R,MATCH(B224,'План ввода основ. ср-в'!B:B,0))),0,INDEX('План ввода основ. ср-в'!R:R,MATCH(B224,'План ввода основ. ср-в'!B:B,0)))","v":0},"",{"$f":"IF(ISNA(INDEX('План ввода основ. ср-в'!Q:Q,MATCH(B224,'План ввода основ. ср-в'!B:B,0))),0,INDEX('План ввода основ. ср-в'!Q:Q,MATCH(B224,'План ввода основ. ср-в'!B:B,0)))","v":0},{"$f":"IF(ISNA(INDEX('План ввода основ. ср-в'!T:T,MATCH(B224,'План ввода основ. ср-в'!B:B,0))),0,INDEX('План ввода основ. ср-в'!T:T,MATCH(B224,'План ввода основ. ср-в'!B:B,0)))","v":0},"",{"$f":"IF(ISNA(INDEX('План ввода основ. ср-в'!S:S,MATCH(B224,'План ввода основ. ср-в'!B:B,0))),0,INDEX('План ввода основ. ср-в'!S:S,MATCH(B224,'План ввода основ. ср-в'!B:B,0)))","v":0},0,"/",0,{"$f":"IF(ISNA(INDEX('План ввода основ. ср-в'!V:V,MATCH(B224,'План ввода основ. ср-в'!B:B,0))),0,INDEX('План ввода основ. ср-в'!V:V,MATCH(B224,'План ввода основ. ср-в'!B:B,0)))","v":0},{"$f":"IF(ISNA(INDEX('План ввода основ. ср-в'!W:W,MATCH(B224,'План ввода основ. ср-в'!B:B,0))),0,INDEX('План ввода основ. ср-в'!W:W,MATCH(B224,'План ввода основ. ср-в'!B:B,0)))","v":0},{"$f":"IF(ISNA(INDEX('План ввода основ. ср-в'!X:X,MATCH(B224,'План ввода основ. ср-в'!B:B,0))),0,INDEX('План ввода основ. ср-в'!X:X,MATCH(B224,'План ввода основ. ср-в'!B:B,0)))","v":0},{"$f":"IF(ISNA(INDEX('План ввода основ. ср-в'!Y:Y,MATCH(B224,'План ввода основ. ср-в'!B:B,0))),0,INDEX('План ввода основ. ср-в'!Y:Y,MATCH(B224,'План ввода основ. ср-в'!B:B,0)))","v":0},0,{"$f":"IF(ISNA(INDEX('План ввода основ. ср-в'!Z:Z,MATCH(B224,'План ввода основ. ср-в'!B:B,0))),0,INDEX('План ввода основ. ср-в'!Z:Z,MATCH(B224,'План ввода основ. ср-в'!B:B,0)))","v":0},{"$f":"IF(ISNA(INDEX('План ввода основ. ср-в'!AA:AA,MATCH(B224,'План ввода основ. ср-в'!B:B,0))),0,INDEX('План ввода основ. ср-в'!AA:AA,MATCH(B224,'План ввода основ. ср-в'!B:B,0)))","v":0},{"$f":"IF(ISNA(INDEX('План ввода основ. ср-в'!AB:AB,MATCH(B224,'План ввода основ. ср-в'!B:B,0))),0,INDEX('План ввода основ. ср-в'!AB:AB,MATCH(B224,'План ввода основ. ср-в'!B:B,0)))","v":0},{"$f":"IF(ISNA(INDEX('План ввода основ. ср-в'!AC:AC,MATCH(B224,'План ввода основ. ср-в'!B:B,0))),0,INDEX('План ввода основ. ср-в'!AC:AC,MATCH(B224,'План ввода основ. ср-в'!B:B,0)))","v":0},0]
[203,"Реконструкция электроснабжения г.о. Сызрань",null,null,null,null,null,null,11.76,null,1.72,0,null,0,null,null,null,0,null,0,0,null,0,11.76,null,1.72,40.95932203389831,{"$f":"IF(ISNA(INDEX('План ввода основ. ср-в'!F:F,MATCH(B225,'План ввода основ. ср-в'!B:B,0))),0,INDEX('План ввода основ. ср-в'!F:F,MATCH(B225,'План ввода основ. ср-в'!B:B,0)))","v":0},null,{"$f":"IF(ISNA(INDEX('План ввода основ. ср-в'!E:E,MATCH(B225,'План ввода основ. ср-в'!B:B,0))),0,INDEX('План ввода основ. ср-в'!E:E,MATCH(B225,'План ввода основ. ср-в'!B:B,0)))","v":0},{"$f":"IF(ISNA(INDEX('План ввода основ. ср-в'!H:H,MATCH(B225,'План ввода основ. ср-в'!B:B,0))),0,INDEX('План ввода основ. ср-в'!H:H,MATCH(B225,'План ввода основ. ср-в'!B:B,0)))","v":0},null,{"$f":"IF(ISNA(INDEX('План ввода основ. ср-в'!G:G,MATCH(B225,'План ввода основ. ср-в'!B:B,0))),0,INDEX('План ввода основ. ср-в'!G:G,MATCH(B225,'План ввода основ. ср-в'!B:B,0)))","v":0},{"$f":"IF(ISNA(INDEX('План ввода основ. ср-в'!J:J,MATCH(B225,'План ввода основ. ср-в'!B:B,0))),0,INDEX('План ввода основ. ср-в'!J:J,MATCH(B225,'План ввода основ. ср-в'!B:B,0)))","v":0},null,{"$f":"IF(ISNA(INDEX('План ввода основ. ср-в'!I:I,MATCH(B225,'План ввода основ. ср-в'!B:B,0))),0,INDEX('План ввода основ. ср-в'!I:I,MATCH(B225,'План ввода основ. ср-в'!B:B,0)))","v":0},{"$f":"IF(ISNA(INDEX('План ввода основ. ср-в'!L:L,MATCH(B225,'План ввода основ. ср-в'!B:B,0))),0,INDEX('План ввода основ. ср-в'!L:L,MATCH(B225,'План ввода основ. ср-в'!B:B,0)))","v":11.76},null,{"$f":"IF(ISNA(INDEX('План ввода основ. ср-в'!K:K,MATCH(B225,'План ввода основ. ср-в'!B:B,0))),0,INDEX('План ввода основ. ср-в'!K:K,MATCH(B225,'План ввода основ. ср-в'!B:B,0)))","v":1.72},11.76,null,1.72,{"$f":"IF(ISNA(INDEX('План ввода основ. ср-в'!N:N,MATCH(B225,'План ввода основ. ср-в'!B:B,0))),0,INDEX('План ввода основ. ср-в'!N:N,MATCH(B225,'План ввода основ. ср-в'!B:B,0)))","v":0},null,{"$f":"IF(ISNA(INDEX('План ввода основ. ср-в'!M:M,MATCH(B225,'План ввода основ. ср-в'!B:B,0))),0,INDEX('План ввода основ. ср-в'!M:M,MATCH(B225,'План ввода основ. ср-в'!B:B,0)))","v":0},{"$f":"IF(ISNA(INDEX('План ввода основ. ср-в'!P:P,MATCH(B225,'План ввода основ. ср-в'!B:B,0))),0,INDEX('План ввода основ. ср-в'!P:P,MATCH(B225,'План ввода основ. ср-в'!B:B,0)))","v":0},null,{"$f":"IF(ISNA(INDEX('План ввода основ. ср-в'!O:O,MATCH(B225,'План ввода основ. ср-в'!B:B,0))),0,INDEX('План ввода основ. ср-в'!O:O,MATCH(B225,'План ввода основ. ср-в'!B:B,0)))","v":0},{"$f":"IF(ISNA(INDEX('План ввода основ. ср-в'!R:R,MATCH(B225,'План ввода основ. ср-в'!B:B,0))),0,INDEX('План ввода основ. ср-в'!R:R,MATCH(B225,'План ввода основ. ср-в'!B:B,0)))","v":0},null,{"$f":"IF(ISNA(INDEX('План ввода основ. ср-в'!Q:Q,MATCH(B225,'План ввода основ. ср-в'!B:B,0))),0,INDEX('План ввода основ. ср-в'!Q:Q,MATCH(B225,'План ввода основ. ср-в'!B:B,0)))","v":0},{"$f":"IF(ISNA(INDEX('План ввода основ. ср-в'!T:T,MATCH(B225,'План ввода основ. ср-в'!B:B,0))),0,INDEX('План ввода основ. ср-в'!T:T,MATCH(B225,'План ввода основ. ср-в'!B:B,0)))","v":0},null,{"$f":"IF(ISNA(INDEX('План ввода основ. ср-в'!S:S,MATCH(B225,'План ввода основ. ср-в'!B:B,0))),0,INDEX('План ввода основ. ср-в'!S:S,MATCH(B225,'План ввода основ. ср-в'!B:B,0)))","v":0},11.76,null,1.72,null,{"$f":"IF(ISNA(INDEX('План ввода основ. ср-в'!W:W,MATCH(B225,'План ввода основ. ср-в'!B:B,0))),0,INDEX('План ввода основ. ср-в'!W:W,MATCH(B225,'План ввода основ. ср-в'!B:B,0)))","v":6.143898305084746},{"$f":"IF(ISNA(INDEX('План ввода основ. ср-в'!X:X,MATCH(B225,'План ввода основ. ср-в'!B:B,0))),0,INDEX('План ввода основ. ср-в'!X:X,MATCH(B225,'План ввода основ. ср-в'!B:B,0)))","v":14.335762711864408},{"$f":"IF(ISNA(INDEX('План ввода основ. ср-в'!Y:Y,MATCH(B225,'План ввода основ. ср-в'!B:B,0))),0,INDEX('План ввода основ. ср-в'!Y:Y,MATCH(B225,'План ввода основ. ср-в'!B:B,0)))","v":20.479661016949155},40.95932203389831,{"$f":"IF(ISNA(INDEX('План ввода основ. ср-в'!Z:Z,MATCH(B225,'План ввода основ. ср-в'!B:B,0))),0,INDEX('План ввода основ. ср-в'!Z:Z,MATCH(B225,'План ввода основ. ср-в'!B:B,0)))","v":0},{"$f":"IF(ISNA(INDEX('План ввода основ. ср-в'!AA:AA,MATCH(B225,'План ввода основ. ср-в'!B:B,0))),0,INDEX('План ввода основ. ср-в'!AA:AA,MATCH(B225,'План ввода основ. ср-в'!B:B,0)))","v":0},{"$f":"IF(ISNA(INDEX('План ввода основ. ср-в'!AB:AB,MATCH(B225,'План ввода основ. ср-в'!B:B,0))),0,INDEX('План ввода основ. ср-в'!AB:AB,MATCH(B225,'План ввода основ. ср-в'!B:B,0)))","v":0},{"$f":"IF(ISNA(INDEX('План ввода основ. ср-в'!AC:AC,MATCH(B225,'План ввода основ. ср-в'!B:B,0))),0,INDEX('План ввода основ. ср-в'!AC:AC,MATCH(B225,'План ввода основ. ср-в'!B:B,0)))","v":0},40.95932203389831]
[204,"Реконструкция ВЛ-0,4 кВ от КТП-НК 26.03 с заменой КТП",null,null,null,null,null,null,4.5199999999999996,"/",0.25,0,null,0,0,null,0,0,null,0,0,null,0,4.5199999999999996,"/",0.25,13.359322033898305,{"$f":"IF(ISNA(INDEX('План ввода основ. ср-в'!F:F,MATCH(B226,'План ввода основ. ср-в'!B:B,0))),0,INDEX('План ввода основ. ср-в'!F:F,MATCH(B226,'План ввода основ. ср-в'!B:B,0)))","v":0},null,{"$f":"IF(ISNA(INDEX('План ввода основ. ср-в'!E:E,MATCH(B226,'План ввода основ. ср-в'!B:B,0))),0,INDEX('План ввода основ. ср-в'!E:E,MATCH(B226,'План ввода основ. ср-в'!B:B,0)))","v":0},{"$f":"IF(ISNA(INDEX('План ввода основ. ср-в'!H:H,MATCH(B226,'План ввода основ. ср-в'!B:B,0))),0,INDEX('План ввода основ. ср-в'!H:H,MATCH(B226,'План ввода основ. ср-в'!B:B,0)))","v":0},null,{"$f":"IF(ISNA(INDEX('План ввода основ. ср-в'!G:G,MATCH(B226,'План ввода основ. ср-в'!B:B,0))),0,INDEX('План ввода основ. ср-в'!G:G,MATCH(B226,'План ввода основ. ср-в'!B:B,0)))","v":0},{"$f":"IF(ISNA(INDEX('План ввода основ. ср-в'!J:J,MATCH(B226,'План ввода основ. ср-в'!B:B,0))),0,INDEX('План ввода основ. ср-в'!J:J,MATCH(B226,'План ввода основ. ср-в'!B:B,0)))","v":0},null,{"$f":"IF(ISNA(INDEX('План ввода основ. ср-в'!I:I,MATCH(B226,'План ввода основ. ср-в'!B:B,0))),0,INDEX('План ввода основ. ср-в'!I:I,MATCH(B226,'План ввода основ. ср-в'!B:B,0)))","v":0},{"$f":"IF(ISNA(INDEX('План ввода основ. ср-в'!L:L,MATCH(B226,'План ввода основ. ср-в'!B:B,0))),0,INDEX('План ввода основ. ср-в'!L:L,MATCH(B226,'План ввода основ. ср-в'!B:B,0)))","v":4.5199999999999996},"/",{"$f":"IF(ISNA(INDEX('План ввода основ. ср-в'!K:K,MATCH(B226,'План ввода основ. ср-в'!B:B,0))),0,INDEX('План ввода основ. ср-в'!K:K,MATCH(B226,'План ввода основ. ср-в'!B:B,0)))","v":0.25},4.5199999999999996,null,0.25,{"$f":"IF(ISNA(INDEX('План ввода основ. ср-в'!N:N,MATCH(B226,'План ввода основ. ср-в'!B:B,0))),0,INDEX('План ввода основ. ср-в'!N:N,MATCH(B226,'План ввода основ. ср-в'!B:B,0)))","v":0},null,{"$f":"IF(ISNA(INDEX('План ввода основ. ср-в'!M:M,MATCH(B226,'План ввода основ. ср-в'!B:B,0))),0,INDEX('План ввода основ. ср-в'!M:M,MATCH(B226,'План ввода основ. ср-в'!B:B,0)))","v":0},{"$f":"IF(ISNA(INDEX('План ввода основ. ср-в'!P:P,MATCH(B226,'План ввода основ. ср-в'!B:B,0))),0,INDEX('План ввода основ. ср-в'!P:P,MATCH(B226,'План ввода основ. ср-в'!B:B,0)))","v":0},null,{"$f":"IF(ISNA(INDEX('План ввода основ. ср-в'!O:O,MATCH(B226,'План ввода основ. ср-в'!B:B,0))),0,INDEX('План ввода основ. ср-в'!O:O,MATCH(B226,'План ввода основ. ср-в'!B:B,0)))","v":0},{"$f":"IF(ISNA(INDEX('План ввода основ. ср-в'!R:R,MATCH(B226,'План ввода основ. ср-в'!B:B,0))),0,INDEX('План ввода основ. ср-в'!R:R,MATCH(B226,'План ввода основ. ср-в'!B:B,0)))","v":0},null,{"$f":"IF(ISNA(INDEX('План ввода основ. ср-в'!Q:Q,MATCH(B226,'План ввода основ. ср-в'!B:B,0))),0,INDEX('План ввода основ. ср-в'!Q:Q,MATCH(B226,'План ввода основ. ср-в'!B:B,0)))","v":0},{"$f":"IF(ISNA(INDEX('План ввода основ. ср-в'!T:T,MATCH(B226,'План ввода основ. ср-в'!B:B,0))),0,INDEX('План ввода основ. ср-в'!T:T,MATCH(B226,'План ввода основ. ср-в'!B:B,0)))","v":0},null,{"$f":"IF(ISNA(INDEX('План ввода основ. ср-в'!S:S,MATCH(B226,'План ввода основ. ср-в'!B:B,0))),0,INDEX('План ввода основ. ср-в'!S:S,MATCH(B226,'План ввода основ. ср-в'!B:B,0)))","v":0},4.5199999999999996,"/",0.25,null,{"$f":"IF(ISNA(INDEX('План ввода основ. ср-в'!W:W,MATCH(B226,'План ввода основ. ср-в'!B:B,0))),0,INDEX('План ввода основ. ср-в'!W:W,MATCH(B226,'План ввода основ. ср-в'!B:B,0)))","v":2.0038983050847459},{"$f":"IF(ISNA(INDEX('План ввода основ. ср-в'!X:X,MATCH(B226,'План ввода основ. ср-в'!B:B,0))),0,INDEX('План ввода основ. ср-в'!X:X,MATCH(B226,'План ввода основ. ср-в'!B:B,0)))","v":4.6757627118644063},{"$f":"IF(ISNA(INDEX('План ввода основ. ср-в'!Y:Y,MATCH(B226,'План ввода основ. ср-в'!B:B,0))),0,INDEX('План ввода основ. ср-в'!Y:Y,MATCH(B226,'План ввода основ. ср-в'!B:B,0)))","v":6.6796610169491526},13.359322033898305,{"$f":"IF(ISNA(INDEX('План ввода основ. ср-в'!Z:Z,MATCH(B226,'План ввода основ. ср-в'!B:B,0))),0,INDEX('План ввода основ. ср-в'!Z:Z,MATCH(B226,'План ввода основ. ср-в'!B:B,0)))","v":0},{"$f":"IF(ISNA(INDEX('План ввода основ. ср-в'!AA:AA,MATCH(B226,'План ввода основ. ср-в'!B:B,0))),0,INDEX('План ввода основ. ср-в'!AA:AA,MATCH(B226,'План ввода основ. ср-в'!B:B,0)))","v":0},{"$f":"IF(ISNA(INDEX('План ввода основ. ср-в'!AB:AB,MATCH(B226,'План ввода основ. ср-в'!B:B,0))),0,INDEX('План ввода основ. ср-в'!AB:AB,MATCH(B226,'План ввода основ. ср-в'!B:B,0)))","v":0},{"$f":"IF(ISNA(INDEX('План ввода основ. ср-в'!AC:AC,MATCH(B226,'План ввода основ. ср-в'!B:B,0))),0,INDEX('План ввода основ. ср-в'!AC:AC,MATCH(B226,'План ввода основ. ср-в'!B:B,0)))","v":0},13.359322033898305]
[205,"Реконструкция ВЛ-0,4 кВ от КТП-74/250 кВА с заменой КТП",null,null,null,null,null,null,1.3,"/",0.25,0,null,0,0,null,0,0,null,0,0,null,0,1.3,"/",0.25,{"$f":"BO227","v":4.6271186440677967},{"$f":"IF(ISNA(INDEX('План ввода основ. ср-в'!F:F,MATCH(B227,'План ввода основ. ср-в'!B:B,0))),0,INDEX('План ввода основ. ср-в'!F:F,MATCH(B227,'План ввода основ. ср-в'!B:B,0)))","v":0},null,{"$f":"IF(ISNA(INDEX('План ввода основ. ср-в'!E:E,MATCH(B227,'План ввода основ. ср-в'!B:B,0))),0,INDEX('План ввода основ. ср-в'!E:E,MATCH(B227,'План ввода основ. ср-в'!B:B,0)))","v":0},{"$f":"IF(ISNA(INDEX('План ввода основ. ср-в'!H:H,MATCH(B227,'План ввода основ. ср-в'!B:B,0))),0,INDEX('План ввода основ. ср-в'!H:H,MATCH(B227,'План ввода основ. ср-в'!B:B,0)))","v":0},null,{"$f":"IF(ISNA(INDEX('План ввода основ. ср-в'!G:G,MATCH(B227,'План ввода основ. ср-в'!B:B,0))),0,INDEX('План ввода основ. ср-в'!G:G,MATCH(B227,'План ввода основ. ср-в'!B:B,0)))","v":0},{"$f":"IF(ISNA(INDEX('План ввода основ. ср-в'!J:J,MATCH(B227,'План ввода основ. ср-в'!B:B,0))),0,INDEX('План ввода основ. ср-в'!J:J,MATCH(B227,'План ввода основ. ср-в'!B:B,0)))","v":0},null,{"$f":"IF(ISNA(INDEX('План ввода основ. ср-в'!I:I,MATCH(B227,'План ввода основ. ср-в'!B:B,0))),0,INDEX('План ввода основ. ср-в'!I:I,MATCH(B227,'План ввода основ. ср-в'!B:B,0)))","v":0},{"$f":"IF(ISNA(INDEX('План ввода основ. ср-в'!L:L,MATCH(B227,'План ввода основ. ср-в'!B:B,0))),0,INDEX('План ввода основ. ср-в'!L:L,MATCH(B227,'План ввода основ. ср-в'!B:B,0)))","v":1.3},"/",{"$f":"IF(ISNA(INDEX('План ввода основ. ср-в'!K:K,MATCH(B227,'План ввода основ. ср-в'!B:B,0))),0,INDEX('План ввода основ. ср-в'!K:K,MATCH(B227,'План ввода основ. ср-в'!B:B,0)))","v":0.25},1.3,null,0.25,{"$f":"IF(ISNA(INDEX('План ввода основ. ср-в'!N:N,MATCH(B227,'План ввода основ. ср-в'!B:B,0))),0,INDEX('План ввода основ. ср-в'!N:N,MATCH(B227,'План ввода основ. ср-в'!B:B,0)))","v":0},null,{"$f":"IF(ISNA(INDEX('План ввода основ. ср-в'!M:M,MATCH(B227,'План ввода основ. ср-в'!B:B,0))),0,INDEX('План ввода основ. ср-в'!M:M,MATCH(B227,'План ввода основ. ср-в'!B:B,0)))","v":0},{"$f":"IF(ISNA(INDEX('План ввода основ. ср-в'!P:P,MATCH(B227,'План ввода основ. ср-в'!B:B,0))),0,INDEX('План ввода основ. ср-в'!P:P,MATCH(B227,'План ввода основ. ср-в'!B:B,0)))","v":0},null,{"$f":"IF(ISNA(INDEX('План ввода основ. ср-в'!O:O,MATCH(B227,'План ввода основ. ср-в'!B:B,0))),0,INDEX('План ввода основ. ср-в'!O:O,MATCH(B227,'План ввода основ. ср-в'!B:B,0)))","v":0},{"$f":"IF(ISNA(INDEX('План ввода основ. ср-в'!R:R,MATCH(B227,'План ввода основ. ср-в'!B:B,0))),0,INDEX('План ввода основ. ср-в'!R:R,MATCH(B227,'План ввода основ. ср-в'!B:B,0)))","v":0},null,{"$f":"IF(ISNA(INDEX('План ввода основ. ср-в'!Q:Q,MATCH(B227,'План ввода основ. ср-в'!B:B,0))),0,INDEX('План ввода основ. ср-в'!Q:Q,MATCH(B227,'План ввода основ. ср-в'!B:B,0)))","v":0},{"$f":"IF(ISNA(INDEX('План ввода основ. ср-в'!T:T,MATCH(B227,'План ввода основ. ср-в'!B:B,0))),0,INDEX('План ввода основ. ср-в'!T:T,MATCH(B227,'План ввода основ. ср-в'!B:B,0)))","v":0},null,{"$f":"IF(ISNA(INDEX('План ввода основ. ср-в'!S:S,MATCH(B227,'План ввода основ. ср-в'!B:B,0))),0,INDEX('План ввода основ. ср-в'!S:S,MATCH(B227,'План ввода основ. ср-в'!B:B,0)))","v":0},{"$f":"AN227+AQ227+AT227+AW227+AZ227","v":1.3},"/",0.25,null,{"$f":"IF(ISNA(INDEX('План ввода основ. ср-в'!W:W,MATCH(B227,'План ввода основ. ср-в'!B:B,0))),0,INDEX('План ввода основ. ср-в'!W:W,MATCH(B227,'План ввода основ. ср-в'!B:B,0)))","v":0.69406779661016949},{"$f":"IF(ISNA(INDEX('План ввода основ. ср-в'!X:X,MATCH(B227,'План ввода основ. ср-в'!B:B,0))),0,INDEX('План ввода основ. ср-в'!X:X,MATCH(B227,'План ввода основ. ср-в'!B:B,0)))","v":1.6194915254237288},{"$f":"IF(ISNA(INDEX('План ввода основ. ср-в'!Y:Y,MATCH(B227,'План ввода основ. ср-в'!B:B,0))),0,INDEX('План ввода основ. ср-в'!Y:Y,MATCH(B227,'План ввода основ. ср-в'!B:B,0)))","v":2.3135593220338984},4.6271186440677967,{"$f":"IF(ISNA(INDEX('План ввода основ. ср-в'!Z:Z,MATCH(B227,'План ввода основ. ср-в'!B:B,0))),0,INDEX('План ввода основ. ср-в'!Z:Z,MATCH(B227,'План ввода основ. ср-в'!B:B,0)))","v":0},{"$f":"IF(ISNA(INDEX('План ввода основ. ср-в'!AA:AA,MATCH(B227,'План ввода основ. ср-в'!B:B,0))),0,INDEX('План ввода основ. ср-в'!AA:AA,MATCH(B227,'План ввода основ. ср-в'!B:B,0)))","v":0},{"$f":"IF(ISNA(INDEX('План ввода основ. ср-в'!AB:AB,MATCH(B227,'План ввода основ. ср-в'!B:B,0))),0,INDEX('План ввода основ. ср-в'!AB:AB,MATCH(B227,'План ввода основ. ср-в'!B:B,0)))","v":0},{"$f":"IF(ISNA(INDEX('План ввода основ. ср-в'!AC:AC,MATCH(B227,'План ввода основ. ср-в'!B:B,0))),0,INDEX('План ввода основ. ср-в'!AC:AC,MATCH(B227,'План ввода основ. ср-в'!B:B,0)))","v":0},4.6271186440677967]
[206,"Реконструкция ВЛ-0,4 кВ от КТП-31/250 кВА с заменой КТП",null,null,null,null,null,null,4.8,"/",0.25,0,null,0,0,null,0,0,null,0,0,null,0,4.8,"/",0.25,14.118644067796609,{"$f":"IF(ISNA(INDEX('План ввода основ. ср-в'!F:F,MATCH(B228,'План ввода основ. ср-в'!B:B,0))),0,INDEX('План ввода основ. ср-в'!F:F,MATCH(B228,'План ввода основ. ср-в'!B:B,0)))","v":0},null,{"$f":"IF(ISNA(INDEX('План ввода основ. ср-в'!E:E,MATCH(B228,'План ввода основ. ср-в'!B:B,0))),0,INDEX('План ввода основ. ср-в'!E:E,MATCH(B228,'План ввода основ. ср-в'!B:B,0)))","v":0},{"$f":"IF(ISNA(INDEX('План ввода основ. ср-в'!H:H,MATCH(B228,'План ввода основ. ср-в'!B:B,0))),0,INDEX('План ввода основ. ср-в'!H:H,MATCH(B228,'План ввода основ. ср-в'!B:B,0)))","v":0},null,{"$f":"IF(ISNA(INDEX('План ввода основ. ср-в'!G:G,MATCH(B228,'План ввода основ. ср-в'!B:B,0))),0,INDEX('План ввода основ. ср-в'!G:G,MATCH(B228,'План ввода основ. ср-в'!B:B,0)))","v":0},{"$f":"IF(ISNA(INDEX('План ввода основ. ср-в'!J:J,MATCH(B228,'План ввода основ. ср-в'!B:B,0))),0,INDEX('План ввода основ. ср-в'!J:J,MATCH(B228,'План ввода основ. ср-в'!B:B,0)))","v":0},null,{"$f":"IF(ISNA(INDEX('План ввода основ. ср-в'!I:I,MATCH(B228,'План ввода основ. ср-в'!B:B,0))),0,INDEX('План ввода основ. ср-в'!I:I,MATCH(B228,'План ввода основ. ср-в'!B:B,0)))","v":0},{"$f":"IF(ISNA(INDEX('План ввода основ. ср-в'!L:L,MATCH(B228,'План ввода основ. ср-в'!B:B,0))),0,INDEX('План ввода основ. ср-в'!L:L,MATCH(B228,'План ввода основ. ср-в'!B:B,0)))","v":4.8},"/",{"$f":"IF(ISNA(INDEX('План ввода основ. ср-в'!K:K,MATCH(B228,'План ввода основ. ср-в'!B:B,0))),0,INDEX('План ввода основ. ср-в'!K:K,MATCH(B228,'План ввода основ. ср-в'!B:B,0)))","v":0.25},4.8,null,0.25,{"$f":"IF(ISNA(INDEX('План ввода основ. ср-в'!N:N,MATCH(B228,'План ввода основ. ср-в'!B:B,0))),0,INDEX('План ввода основ. ср-в'!N:N,MATCH(B228,'План ввода основ. ср-в'!B:B,0)))","v":0},null,{"$f":"IF(ISNA(INDEX('План ввода основ. ср-в'!M:M,MATCH(B228,'План ввода основ. ср-в'!B:B,0))),0,INDEX('План ввода основ. ср-в'!M:M,MATCH(B228,'План ввода основ. ср-в'!B:B,0)))","v":0},{"$f":"IF(ISNA(INDEX('План ввода основ. ср-в'!P:P,MATCH(B228,'План ввода основ. ср-в'!B:B,0))),0,INDEX('План ввода основ. ср-в'!P:P,MATCH(B228,'План ввода основ. ср-в'!B:B,0)))","v":0},null,{"$f":"IF(ISNA(INDEX('План ввода основ. ср-в'!O:O,MATCH(B228,'План ввода основ. ср-в'!B:B,0))),0,INDEX('План ввода основ. ср-в'!O:O,MATCH(B228,'План ввода основ. ср-в'!B:B,0)))","v":0},{"$f":"IF(ISNA(INDEX('План ввода основ. ср-в'!R:R,MATCH(B228,'План ввода основ. ср-в'!B:B,0))),0,INDEX('План ввода основ. ср-в'!R:R,MATCH(B228,'План ввода основ. ср-в'!B:B,0)))","v":0},null,{"$f":"IF(ISNA(INDEX('План ввода основ. ср-в'!Q:Q,MATCH(B228,'План ввода основ. ср-в'!B:B,0))),0,INDEX('План ввода основ. ср-в'!Q:Q,MATCH(B228,'План ввода основ. ср-в'!B:B,0)))","v":0},{"$f":"IF(ISNA(INDEX('План ввода основ. ср-в'!T:T,MATCH(B228,'План ввода основ. ср-в'!B:B,0))),0,INDEX('План ввода основ. ср-в'!T:T,MATCH(B228,'План ввода основ. ср-в'!B:B,0)))","v":0},null,{"$f":"IF(ISNA(INDEX('План ввода основ. ср-в'!S:S,MATCH(B228,'План ввода основ. ср-в'!B:B,0))),0,INDEX('План ввода основ. ср-в'!S:S,MATCH(B228,'План ввода основ. ср-в'!B:B,0)))","v":0},4.8,"/",0.25,null,{"$f":"IF(ISNA(INDEX('План ввода основ. ср-в'!W:W,MATCH(B228,'План ввода основ. ср-в'!B:B,0))),0,INDEX('План ввода основ. ср-в'!W:W,MATCH(B228,'План ввода основ. ср-в'!B:B,0)))","v":2.1177966101694916},{"$f":"IF(ISNA(INDEX('План ввода основ. ср-в'!X:X,MATCH(B228,'План ввода основ. ср-в'!B:B,0))),0,INDEX('План ввода основ. ср-в'!X:X,MATCH(B228,'План ввода основ. ср-в'!B:B,0)))","v":4.9415254237288133},{"$f":"IF(ISNA(INDEX('План ввода основ. ср-в'!Y:Y,MATCH(B228,'План ввода основ. ср-в'!B:B,0))),0,INDEX('План ввода основ. ср-в'!Y:Y,MATCH(B228,'План ввода основ. ср-в'!B:B,0)))","v":7.0593220338983054},14.118644067796609,{"$f":"IF(ISNA(INDEX('План ввода основ. ср-в'!Z:Z,MATCH(B228,'План ввода основ. ср-в'!B:B,0))),0,INDEX('План ввода основ. ср-в'!Z:Z,MATCH(B228,'План ввода основ. ср-в'!B:B,0)))","v":0},{"$f":"IF(ISNA(INDEX('План ввода основ. ср-в'!AA:AA,MATCH(B228,'План ввода основ. ср-в'!B:B,0))),0,INDEX('План ввода основ. ср-в'!AA:AA,MATCH(B228,'План ввода основ. ср-в'!B:B,0)))","v":0},{"$f":"IF(ISNA(INDEX('План ввода основ. ср-в'!AB:AB,MATCH(B228,'План ввода основ. ср-в'!B:B,0))),0,INDEX('План ввода основ. ср-в'!AB:AB,MATCH(B228,'План ввода основ. ср-в'!B:B,0)))","v":0},{"$f":"IF(ISNA(INDEX('План ввода основ. ср-в'!AC:AC,MATCH(B228,'План ввода основ. ср-в'!B:B,0))),0,INDEX('План ввода основ. ср-в'!AC:AC,MATCH(B228,'План ввода основ. ср-в'!B:B,0)))","v":0},14.118644067796609]
[207,"Реконструкция ВЛ-0,4 кВ от КТП-ПБ 510/250 кВА с заменой КТП",null,null,null,null,null,null,4.09,"/",0.25,0,null,0,0,null,0,0,null,0,0,null,0,4.09,"/",0.25,12.193220338983053,{"$f":"IF(ISNA(INDEX('План ввода основ. ср-в'!F:F,MATCH(B229,'План ввода основ. ср-в'!B:B,0))),0,INDEX('План ввода основ. ср-в'!F:F,MATCH(B229,'План ввода основ. ср-в'!B:B,0)))","v":0},null,{"$f":"IF(ISNA(INDEX('План ввода основ. ср-в'!E:E,MATCH(B229,'План ввода основ. ср-в'!B:B,0))),0,INDEX('План ввода основ. ср-в'!E:E,MATCH(B229,'План ввода основ. ср-в'!B:B,0)))","v":0},{"$f":"IF(ISNA(INDEX('План ввода основ. ср-в'!H:H,MATCH(B229,'План ввода основ. ср-в'!B:B,0))),0,INDEX('План ввода основ. ср-в'!H:H,MATCH(B229,'План ввода основ. ср-в'!B:B,0)))","v":0},null,{"$f":"IF(ISNA(INDEX('План ввода основ. ср-в'!G:G,MATCH(B229,'План ввода основ. ср-в'!B:B,0))),0,INDEX('План ввода основ. ср-в'!G:G,MATCH(B229,'План ввода основ. ср-в'!B:B,0)))","v":0},{"$f":"IF(ISNA(INDEX('План ввода основ. ср-в'!J:J,MATCH(B229,'План ввода основ. ср-в'!B:B,0))),0,INDEX('План ввода основ. ср-в'!J:J,MATCH(B229,'План ввода основ. ср-в'!B:B,0)))","v":0},null,{"$f":"IF(ISNA(INDEX('План ввода основ. ср-в'!I:I,MATCH(B229,'План ввода основ. ср-в'!B:B,0))),0,INDEX('План ввода основ. ср-в'!I:I,MATCH(B229,'План ввода основ. ср-в'!B:B,0)))","v":0},{"$f":"IF(ISNA(INDEX('План ввода основ. ср-в'!L:L,MATCH(B229,'План ввода основ. ср-в'!B:B,0))),0,INDEX('План ввода основ. ср-в'!L:L,MATCH(B229,'План ввода основ. ср-в'!B:B,0)))","v":4.09},"/",{"$f":"IF(ISNA(INDEX('План ввода основ. ср-в'!K:K,MATCH(B229,'План ввода основ. ср-в'!B:B,0))),0,INDEX('План ввода основ. ср-в'!K:K,MATCH(B229,'План ввода основ. ср-в'!B:B,0)))","v":0.25},4.09,null,0.25,{"$f":"IF(ISNA(INDEX('План ввода основ. ср-в'!N:N,MATCH(B229,'План ввода основ. ср-в'!B:B,0))),0,INDEX('План ввода основ. ср-в'!N:N,MATCH(B229,'План ввода основ. ср-в'!B:B,0)))","v":0},null,{"$f":"IF(ISNA(INDEX('План ввода основ. ср-в'!M:M,MATCH(B229,'План ввода основ. ср-в'!B:B,0))),0,INDEX('План ввода основ. ср-в'!M:M,MATCH(B229,'План ввода основ. ср-в'!B:B,0)))","v":0},{"$f":"IF(ISNA(INDEX('План ввода основ. ср-в'!P:P,MATCH(B229,'План ввода основ. ср-в'!B:B,0))),0,INDEX('План ввода основ. ср-в'!P:P,MATCH(B229,'План ввода основ. ср-в'!B:B,0)))","v":0},null,{"$f":"IF(ISNA(INDEX('План ввода основ. ср-в'!O:O,MATCH(B229,'План ввода основ. ср-в'!B:B,0))),0,INDEX('План ввода основ. ср-в'!O:O,MATCH(B229,'План ввода основ. ср-в'!B:B,0)))","v":0},{"$f":"IF(ISNA(INDEX('План ввода основ. ср-в'!R:R,MATCH(B229,'План ввода основ. ср-в'!B:B,0))),0,INDEX('План ввода основ. ср-в'!R:R,MATCH(B229,'План ввода основ. ср-в'!B:B,0)))","v":0},null,{"$f":"IF(ISNA(INDEX('План ввода основ. ср-в'!Q:Q,MATCH(B229,'План ввода основ. ср-в'!B:B,0))),0,INDEX('План ввода основ. ср-в'!Q:Q,MATCH(B229,'План ввода основ. ср-в'!B:B,0)))","v":0},{"$f":"IF(ISNA(INDEX('План ввода основ. ср-в'!T:T,MATCH(B229,'План ввода основ. ср-в'!B:B,0))),0,INDEX('План ввода основ. ср-в'!T:T,MATCH(B229,'План ввода основ. ср-в'!B:B,0)))","v":0},null,{"$f":"IF(ISNA(INDEX('План ввода основ. ср-в'!S:S,MATCH(B229,'План ввода основ. ср-в'!B:B,0))),0,INDEX('План ввода основ. ср-в'!S:S,MATCH(B229,'План ввода основ. ср-в'!B:B,0)))","v":0},4.09,"/",0.25,null,{"$f":"IF(ISNA(INDEX('План ввода основ. ср-в'!W:W,MATCH(B229,'План ввода основ. ср-в'!B:B,0))),0,INDEX('План ввода основ. ср-в'!W:W,MATCH(B229,'План ввода основ. ср-в'!B:B,0)))","v":1.8289830508474578},{"$f":"IF(ISNA(INDEX('План ввода основ. ср-в'!X:X,MATCH(B229,'План ввода основ. ср-в'!B:B,0))),0,INDEX('План ввода основ. ср-в'!X:X,MATCH(B229,'План ввода основ. ср-в'!B:B,0)))","v":4.267627118644068},{"$f":"IF(ISNA(INDEX('План ввода основ. ср-в'!Y:Y,MATCH(B229,'План ввода основ. ср-в'!B:B,0))),0,INDEX('План ввода основ. ср-в'!Y:Y,MATCH(B229,'План ввода основ. ср-в'!B:B,0)))","v":6.0966101694915267},12.193220338983053,{"$f":"IF(ISNA(INDEX('План ввода основ. ср-в'!Z:Z,MATCH(B229,'План ввода основ. ср-в'!B:B,0))),0,INDEX('План ввода основ. ср-в'!Z:Z,MATCH(B229,'План ввода основ. ср-в'!B:B,0)))","v":0},{"$f":"IF(ISNA(INDEX('План ввода основ. ср-в'!AA:AA,MATCH(B229,'План ввода основ. ср-в'!B:B,0))),0,INDEX('План ввода основ. ср-в'!AA:AA,MATCH(B229,'План ввода основ. ср-в'!B:B,0)))","v":0},{"$f":"IF(ISNA(INDEX('План ввода основ. ср-в'!AB:AB,MATCH(B229,'План ввода основ. ср-в'!B:B,0))),0,INDEX('План ввода основ. ср-в'!AB:AB,MATCH(B229,'План ввода основ. ср-в'!B:B,0)))","v":0},{"$f":"IF(ISNA(INDEX('План ввода основ. ср-в'!AC:AC,MATCH(B229,'План ввода основ. ср-в'!B:B,0))),0,INDEX('План ввода основ. ср-в'!AC:AC,MATCH(B229,'План ввода основ. ср-в'!B:B,0)))","v":0},12.193220338983053]
[208,"Реконструкция ВЛ-0,4 кВ от КТП-НК 16.04 с заменой КТП",null,null,null,null,null,null,3,"/",0.25,0,null,0,0,null,0,0,null,0,0,null,0,3,"/",0.25,9.2372881355932233,{"$f":"IF(ISNA(INDEX('План ввода основ. ср-в'!F:F,MATCH(B230,'План ввода основ. ср-в'!B:B,0))),0,INDEX('План ввода основ. ср-в'!F:F,MATCH(B230,'План ввода основ. ср-в'!B:B,0)))","v":0},null,{"$f":"IF(ISNA(INDEX('План ввода основ. ср-в'!E:E,MATCH(B230,'План ввода основ. ср-в'!B:B,0))),0,INDEX('План ввода основ. ср-в'!E:E,MATCH(B230,'План ввода основ. ср-в'!B:B,0)))","v":0},{"$f":"IF(ISNA(INDEX('План ввода основ. ср-в'!H:H,MATCH(B230,'План ввода основ. ср-в'!B:B,0))),0,INDEX('План ввода основ. ср-в'!H:H,MATCH(B230,'План ввода основ. ср-в'!B:B,0)))","v":0},null,{"$f":"IF(ISNA(INDEX('План ввода основ. ср-в'!G:G,MATCH(B230,'План ввода основ. ср-в'!B:B,0))),0,INDEX('План ввода основ. ср-в'!G:G,MATCH(B230,'План ввода основ. ср-в'!B:B,0)))","v":0},{"$f":"IF(ISNA(INDEX('План ввода основ. ср-в'!J:J,MATCH(B230,'План ввода основ. ср-в'!B:B,0))),0,INDEX('План ввода основ. ср-в'!J:J,MATCH(B230,'План ввода основ. ср-в'!B:B,0)))","v":0},null,{"$f":"IF(ISNA(INDEX('План ввода основ. ср-в'!I:I,MATCH(B230,'План ввода основ. ср-в'!B:B,0))),0,INDEX('План ввода основ. ср-в'!I:I,MATCH(B230,'План ввода основ. ср-в'!B:B,0)))","v":0},{"$f":"IF(ISNA(INDEX('План ввода основ. ср-в'!L:L,MATCH(B230,'План ввода основ. ср-в'!B:B,0))),0,INDEX('План ввода основ. ср-в'!L:L,MATCH(B230,'План ввода основ. ср-в'!B:B,0)))","v":3},"/",{"$f":"IF(ISNA(INDEX('План ввода основ. ср-в'!K:K,MATCH(B230,'План ввода основ. ср-в'!B:B,0))),0,INDEX('План ввода основ. ср-в'!K:K,MATCH(B230,'План ввода основ. ср-в'!B:B,0)))","v":0.25},3,null,0.25,{"$f":"IF(ISNA(INDEX('План ввода основ. ср-в'!N:N,MATCH(B230,'План ввода основ. ср-в'!B:B,0))),0,INDEX('План ввода основ. ср-в'!N:N,MATCH(B230,'План ввода основ. ср-в'!B:B,0)))","v":0},null,{"$f":"IF(ISNA(INDEX('План ввода основ. ср-в'!M:M,MATCH(B230,'План ввода основ. ср-в'!B:B,0))),0,INDEX('План ввода основ. ср-в'!M:M,MATCH(B230,'План ввода основ. ср-в'!B:B,0)))","v":0},{"$f":"IF(ISNA(INDEX('План ввода основ. ср-в'!P:P,MATCH(B230,'План ввода основ. ср-в'!B:B,0))),0,INDEX('План ввода основ. ср-в'!P:P,MATCH(B230,'План ввода основ. ср-в'!B:B,0)))","v":0},null,{"$f":"IF(ISNA(INDEX('План ввода основ. ср-в'!O:O,MATCH(B230,'План ввода основ. ср-в'!B:B,0))),0,INDEX('План ввода основ. ср-в'!O:O,MATCH(B230,'План ввода основ. ср-в'!B:B,0)))","v":0},{"$f":"IF(ISNA(INDEX('План ввода основ. ср-в'!R:R,MATCH(B230,'План ввода основ. ср-в'!B:B,0))),0,INDEX('План ввода основ. ср-в'!R:R,MATCH(B230,'План ввода основ. ср-в'!B:B,0)))","v":0},null,{"$f":"IF(ISNA(INDEX('План ввода основ. ср-в'!Q:Q,MATCH(B230,'План ввода основ. ср-в'!B:B,0))),0,INDEX('План ввода основ. ср-в'!Q:Q,MATCH(B230,'План ввода основ. ср-в'!B:B,0)))","v":0},{"$f":"IF(ISNA(INDEX('План ввода основ. ср-в'!T:T,MATCH(B230,'План ввода основ. ср-в'!B:B,0))),0,INDEX('План ввода основ. ср-в'!T:T,MATCH(B230,'План ввода основ. ср-в'!B:B,0)))","v":0},null,{"$f":"IF(ISNA(INDEX('План ввода основ. ср-в'!S:S,MATCH(B230,'План ввода основ. ср-в'!B:B,0))),0,INDEX('План ввода основ. ср-в'!S:S,MATCH(B230,'План ввода основ. ср-в'!B:B,0)))","v":0},3,"/",0.25,null,{"$f":"IF(ISNA(INDEX('План ввода основ. ср-в'!W:W,MATCH(B230,'План ввода основ. ср-в'!B:B,0))),0,INDEX('План ввода основ. ср-в'!W:W,MATCH(B230,'План ввода основ. ср-в'!B:B,0)))","v":1.3855932203389834},{"$f":"IF(ISNA(INDEX('План ввода основ. ср-в'!X:X,MATCH(B230,'План ввода основ. ср-в'!B:B,0))),0,INDEX('План ввода основ. ср-в'!X:X,MATCH(B230,'План ввода основ. ср-в'!B:B,0)))","v":3.2330508474576281},{"$f":"IF(ISNA(INDEX('План ввода основ. ср-в'!Y:Y,MATCH(B230,'План ввода основ. ср-в'!B:B,0))),0,INDEX('План ввода основ. ср-в'!Y:Y,MATCH(B230,'План ввода основ. ср-в'!B:B,0)))","v":4.6186440677966116},9.2372881355932233,{"$f":"IF(ISNA(INDEX('План ввода основ. ср-в'!Z:Z,MATCH(B230,'План ввода основ. ср-в'!B:B,0))),0,INDEX('План ввода основ. ср-в'!Z:Z,MATCH(B230,'План ввода основ. ср-в'!B:B,0)))","v":0},{"$f":"IF(ISNA(INDEX('План ввода основ. ср-в'!AA:AA,MATCH(B230,'План ввода основ. ср-в'!B:B,0))),0,INDEX('План ввода основ. ср-в'!AA:AA,MATCH(B230,'План ввода основ. ср-в'!B:B,0)))","v":0},{"$f":"IF(ISNA(INDEX('План ввода основ. ср-в'!AB:AB,MATCH(B230,'План ввода основ. ср-в'!B:B,0))),0,INDEX('План ввода основ. ср-в'!AB:AB,MATCH(B230,'План ввода основ. ср-в'!B:B,0)))","v":0},{"$f":"IF(ISNA(INDEX('План ввода основ. ср-в'!AC:AC,MATCH(B230,'План ввода основ. ср-в'!B:B,0))),0,INDEX('План ввода основ. ср-в'!AC:AC,MATCH(B230,'План ввода основ. ср-в'!B:B,0)))","v":0},9.2372881355932233]
[209,"Повышение надежности энергоснабжения г. Сызрань",null,null,null,null,null,null,0,"",0,0,null,0,0,null,0,14,null,0,0,null,0,14,null,0,1533.2203389830511,{"$f":"IF(ISNA(INDEX('План ввода основ. ср-в'!F:F,MATCH(B231,'План ввода основ. ср-в'!B:B,0))),0,INDEX('План ввода основ. ср-в'!F:F,MATCH(B231,'План ввода основ. ср-в'!B:B,0)))","v":0},null,{"$f":"IF(ISNA(INDEX('План ввода основ. ср-в'!E:E,MATCH(B231,'План ввода основ. ср-в'!B:B,0))),0,INDEX('План ввода основ. ср-в'!E:E,MATCH(B231,'План ввода основ. ср-в'!B:B,0)))","v":0},{"$f":"IF(ISNA(INDEX('План ввода основ. ср-в'!H:H,MATCH(B231,'План ввода основ. ср-в'!B:B,0))),0,INDEX('План ввода основ. ср-в'!H:H,MATCH(B231,'План ввода основ. ср-в'!B:B,0)))","v":0},null,{"$f":"IF(ISNA(INDEX('План ввода основ. ср-в'!G:G,MATCH(B231,'План ввода основ. ср-в'!B:B,0))),0,INDEX('План ввода основ. ср-в'!G:G,MATCH(B231,'План ввода основ. ср-в'!B:B,0)))","v":0},{"$f":"IF(ISNA(INDEX('План ввода основ. ср-в'!J:J,MATCH(B231,'План ввода основ. ср-в'!B:B,0))),0,INDEX('План ввода основ. ср-в'!J:J,MATCH(B231,'План ввода основ. ср-в'!B:B,0)))","v":0},null,{"$f":"IF(ISNA(INDEX('План ввода основ. ср-в'!I:I,MATCH(B231,'План ввода основ. ср-в'!B:B,0))),0,INDEX('План ввода основ. ср-в'!I:I,MATCH(B231,'План ввода основ. ср-в'!B:B,0)))","v":0},{"$f":"IF(ISNA(INDEX('План ввода основ. ср-в'!L:L,MATCH(B231,'План ввода основ. ср-в'!B:B,0))),0,INDEX('План ввода основ. ср-в'!L:L,MATCH(B231,'План ввода основ. ср-в'!B:B,0)))","v":0},"",{"$f":"IF(ISNA(INDEX('План ввода основ. ср-в'!K:K,MATCH(B231,'План ввода основ. ср-в'!B:B,0))),0,INDEX('План ввода основ. ср-в'!K:K,MATCH(B231,'План ввода основ. ср-в'!B:B,0)))","v":0},0,"/",0,{"$f":"IF(ISNA(INDEX('План ввода основ. ср-в'!N:N,MATCH(B231,'План ввода основ. ср-в'!B:B,0))),0,INDEX('План ввода основ. ср-в'!N:N,MATCH(B231,'План ввода основ. ср-в'!B:B,0)))","v":27},"/",{"$f":"IF(ISNA(INDEX('План ввода основ. ср-в'!M:M,MATCH(B231,'План ввода основ. ср-в'!B:B,0))),0,INDEX('План ввода основ. ср-в'!M:M,MATCH(B231,'План ввода основ. ср-в'!B:B,0)))","v":0},{"$f":"IF(ISNA(INDEX('План ввода основ. ср-в'!P:P,MATCH(B231,'План ввода основ. ср-в'!B:B,0))),0,INDEX('План ввода основ. ср-в'!P:P,MATCH(B231,'План ввода основ. ср-в'!B:B,0)))","v":41},"/",{"$f":"IF(ISNA(INDEX('План ввода основ. ср-в'!O:O,MATCH(B231,'План ввода основ. ср-в'!B:B,0))),0,INDEX('План ввода основ. ср-в'!O:O,MATCH(B231,'План ввода основ. ср-в'!B:B,0)))","v":0},{"$f":"IF(ISNA(INDEX('План ввода основ. ср-в'!R:R,MATCH(B231,'План ввода основ. ср-в'!B:B,0))),0,INDEX('План ввода основ. ср-в'!R:R,MATCH(B231,'План ввода основ. ср-в'!B:B,0)))","v":45},"/",{"$f":"IF(ISNA(INDEX('План ввода основ. ср-в'!Q:Q,MATCH(B231,'План ввода основ. ср-в'!B:B,0))),0,INDEX('План ввода основ. ср-в'!Q:Q,MATCH(B231,'План ввода основ. ср-в'!B:B,0)))","v":0},{"$f":"IF(ISNA(INDEX('План ввода основ. ср-в'!T:T,MATCH(B231,'План ввода основ. ср-в'!B:B,0))),0,INDEX('План ввода основ. ср-в'!T:T,MATCH(B231,'План ввода основ. ср-в'!B:B,0)))","v":46},"/",{"$f":"IF(ISNA(INDEX('План ввода основ. ср-в'!S:S,MATCH(B231,'План ввода основ. ср-в'!B:B,0))),0,INDEX('План ввода основ. ср-в'!S:S,MATCH(B231,'План ввода основ. ср-в'!B:B,0)))","v":0},159,"/",0,{"$f":"IF(ISNA(INDEX('План ввода основ. ср-в'!V:V,MATCH(B231,'План ввода основ. ср-в'!B:B,0))),0,INDEX('План ввода основ. ср-в'!V:V,MATCH(B231,'План ввода основ. ср-в'!B:B,0)))","v":0},{"$f":"IF(ISNA(INDEX('План ввода основ. ср-в'!W:W,MATCH(B231,'План ввода основ. ср-в'!B:B,0))),0,INDEX('План ввода основ. ср-в'!W:W,MATCH(B231,'План ввода основ. ср-в'!B:B,0)))","v":0},{"$f":"IF(ISNA(INDEX('План ввода основ. ср-в'!X:X,MATCH(B231,'План ввода основ. ср-в'!B:B,0))),0,INDEX('План ввода основ. ср-в'!X:X,MATCH(B231,'План ввода основ. ср-в'!B:B,0)))","v":0},{"$f":"IF(ISNA(INDEX('План ввода основ. ср-в'!Y:Y,MATCH(B231,'План ввода основ. ср-в'!B:B,0))),0,INDEX('План ввода основ. ср-в'!Y:Y,MATCH(B231,'План ввода основ. ср-в'!B:B,0)))","v":0},0,{"$f":"IF(ISNA(INDEX('План ввода основ. ср-в'!Z:Z,MATCH(B231,'План ввода основ. ср-в'!B:B,0))),0,INDEX('План ввода основ. ср-в'!Z:Z,MATCH(B231,'План ввода основ. ср-в'!B:B,0)))","v":270.00000000000006},{"$f":"IF(ISNA(INDEX('План ввода основ. ср-в'!AA:AA,MATCH(B231,'План ввода основ. ср-в'!B:B,0))),0,INDEX('План ввода основ. ср-в'!AA:AA,MATCH(B231,'План ввода основ. ср-в'!B:B,0)))","v":396.61016949152543},{"$f":"IF(ISNA(INDEX('План ввода основ. ср-в'!AB:AB,MATCH(B231,'План ввода основ. ср-в'!B:B,0))),0,INDEX('План ввода основ. ср-в'!AB:AB,MATCH(B231,'План ввода основ. ср-в'!B:B,0)))","v":428.5593220338983},{"$f":"IF(ISNA(INDEX('План ввода основ. ср-в'!AC:AC,MATCH(B231,'План ввода основ. ср-в'!B:B,0))),0,INDEX('План ввода основ. ср-в'!AC:AC,MATCH(B231,'План ввода основ. ср-в'!B:B,0)))","v":438.05084745762713},1533.2203389830511]
[210,"г.Тольятти",null,null,null,null,null,null,0,"",0,0,null,0,0,null,0,0,null,0,0,null,0,0,null,0,0,{"$f":"IF(ISNA(INDEX('План ввода основ. ср-в'!F:F,MATCH(B232,'План ввода основ. ср-в'!B:B,0))),0,INDEX('План ввода основ. ср-в'!F:F,MATCH(B232,'План ввода основ. ср-в'!B:B,0)))","v":0},null,{"$f":"IF(ISNA(INDEX('План ввода основ. ср-в'!E:E,MATCH(B232,'План ввода основ. ср-в'!B:B,0))),0,INDEX('План ввода основ. ср-в'!E:E,MATCH(B232,'План ввода основ. ср-в'!B:B,0)))","v":0},{"$f":"IF(ISNA(INDEX('План ввода основ. ср-в'!H:H,MATCH(B232,'План ввода основ. ср-в'!B:B,0))),0,INDEX('План ввода основ. ср-в'!H:H,MATCH(B232,'План ввода основ. ср-в'!B:B,0)))","v":0},null,{"$f":"IF(ISNA(INDEX('План ввода основ. ср-в'!G:G,MATCH(B232,'План ввода основ. ср-в'!B:B,0))),0,INDEX('План ввода основ. ср-в'!G:G,MATCH(B232,'План ввода основ. ср-в'!B:B,0)))","v":0},{"$f":"IF(ISNA(INDEX('План ввода основ. ср-в'!J:J,MATCH(B232,'План ввода основ. ср-в'!B:B,0))),0,INDEX('План ввода основ. ср-в'!J:J,MATCH(B232,'План ввода основ. ср-в'!B:B,0)))","v":0},null,{"$f":"IF(ISNA(INDEX('План ввода основ. ср-в'!I:I,MATCH(B232,'План ввода основ. ср-в'!B:B,0))),0,INDEX('План ввода основ. ср-в'!I:I,MATCH(B232,'План ввода основ. ср-в'!B:B,0)))","v":0},{"$f":"IF(ISNA(INDEX('План ввода основ. ср-в'!L:L,MATCH(B232,'План ввода основ. ср-в'!B:B,0))),0,INDEX('План ввода основ. ср-в'!L:L,MATCH(B232,'План ввода основ. ср-в'!B:B,0)))","v":0},"",{"$f":"IF(ISNA(INDEX('План ввода основ. ср-в'!K:K,MATCH(B232,'План ввода основ. ср-в'!B:B,0))),0,INDEX('План ввода основ. ср-в'!K:K,MATCH(B232,'План ввода основ. ср-в'!B:B,0)))","v":0},0,"/",0,{"$f":"IF(ISNA(INDEX('План ввода основ. ср-в'!N:N,MATCH(B232,'План ввода основ. ср-в'!B:B,0))),0,INDEX('План ввода основ. ср-в'!N:N,MATCH(B232,'План ввода основ. ср-в'!B:B,0)))","v":0},"",{"$f":"IF(ISNA(INDEX('План ввода основ. ср-в'!M:M,MATCH(B232,'План ввода основ. ср-в'!B:B,0))),0,INDEX('План ввода основ. ср-в'!M:M,MATCH(B232,'План ввода основ. ср-в'!B:B,0)))","v":0},{"$f":"IF(ISNA(INDEX('План ввода основ. ср-в'!P:P,MATCH(B232,'План ввода основ. ср-в'!B:B,0))),0,INDEX('План ввода основ. ср-в'!P:P,MATCH(B232,'План ввода основ. ср-в'!B:B,0)))","v":0},"",{"$f":"IF(ISNA(INDEX('План ввода основ. ср-в'!O:O,MATCH(B232,'План ввода основ. ср-в'!B:B,0))),0,INDEX('План ввода основ. ср-в'!O:O,MATCH(B232,'План ввода основ. ср-в'!B:B,0)))","v":0},{"$f":"IF(ISNA(INDEX('План ввода основ. ср-в'!R:R,MATCH(B232,'План ввода основ. ср-в'!B:B,0))),0,INDEX('План ввода основ. ср-в'!R:R,MATCH(B232,'План ввода основ. ср-в'!B:B,0)))","v":0},"",{"$f":"IF(ISNA(INDEX('План ввода основ. ср-в'!Q:Q,MATCH(B232,'План ввода основ. ср-в'!B:B,0))),0,INDEX('План ввода основ. ср-в'!Q:Q,MATCH(B232,'План ввода основ. ср-в'!B:B,0)))","v":0},{"$f":"IF(ISNA(INDEX('План ввода основ. ср-в'!T:T,MATCH(B232,'План ввода основ. ср-в'!B:B,0))),0,INDEX('План ввода основ. ср-в'!T:T,MATCH(B232,'План ввода основ. ср-в'!B:B,0)))","v":0},"",{"$f":"IF(ISNA(INDEX('План ввода основ. ср-в'!S:S,MATCH(B232,'План ввода основ. ср-в'!B:B,0))),0,INDEX('План ввода основ. ср-в'!S:S,MATCH(B232,'План ввода основ. ср-в'!B:B,0)))","v":0},0,null,0,{"$f":"IF(ISNA(INDEX('План ввода основ. ср-в'!V:V,MATCH(B232,'План ввода основ. ср-в'!B:B,0))),0,INDEX('План ввода основ. ср-в'!V:V,MATCH(B232,'План ввода основ. ср-в'!B:B,0)))","v":0},{"$f":"IF(ISNA(INDEX('План ввода основ. ср-в'!W:W,MATCH(B232,'План ввода основ. ср-в'!B:B,0))),0,INDEX('План ввода основ. ср-в'!W:W,MATCH(B232,'План ввода основ. ср-в'!B:B,0)))","v":0},{"$f":"IF(ISNA(INDEX('План ввода основ. ср-в'!X:X,MATCH(B232,'План ввода основ. ср-в'!B:B,0))),0,INDEX('План ввода основ. ср-в'!X:X,MATCH(B232,'План ввода основ. ср-в'!B:B,0)))","v":0},{"$f":"IF(ISNA(INDEX('План ввода основ. ср-в'!Y:Y,MATCH(B232,'План ввода основ. ср-в'!B:B,0))),0,INDEX('План ввода основ. ср-в'!Y:Y,MATCH(B232,'План ввода основ. ср-в'!B:B,0)))","v":0},0,{"$f":"IF(ISNA(INDEX('План ввода основ. ср-в'!Z:Z,MATCH(B232,'План ввода основ. ср-в'!B:B,0))),0,INDEX('План ввода основ. ср-в'!Z:Z,MATCH(B232,'План ввода основ. ср-в'!B:B,0)))","v":0},{"$f":"IF(ISNA(INDEX('План ввода основ. ср-в'!AA:AA,MATCH(B232,'План ввода основ. ср-в'!B:B,0))),0,INDEX('План ввода основ. ср-в'!AA:AA,MATCH(B232,'План ввода основ. ср-в'!B:B,0)))","v":0},{"$f":"IF(ISNA(INDEX('План ввода основ. ср-в'!AB:AB,MATCH(B232,'План ввода основ. ср-в'!B:B,0))),0,INDEX('План ввода основ. ср-в'!AB:AB,MATCH(B232,'План ввода основ. ср-в'!B:B,0)))","v":0},{"$f":"IF(ISNA(INDEX('План ввода основ. ср-в'!AC:AC,MATCH(B232,'План ввода основ. ср-в'!B:B,0))),0,INDEX('План ввода основ. ср-в'!AC:AC,MATCH(B232,'План ввода основ. ср-в'!B:B,0)))","v":0},0]
[211,"Реконструкция электроснабжения г.о. Тольятти",null,null,null,null,null,null,18.029333333333334,null,0,0,null,0,0,null,0,0,null,0,0,null,0,18.029333333333334,null,0,91.673916271186442,{"$f":"IF(ISNA(INDEX('План ввода основ. ср-в'!F:F,MATCH(B233,'План ввода основ. ср-в'!B:B,0))),0,INDEX('План ввода основ. ср-в'!F:F,MATCH(B233,'План ввода основ. ср-в'!B:B,0)))","v":0},null,{"$f":"IF(ISNA(INDEX('План ввода основ. ср-в'!E:E,MATCH(B233,'План ввода основ. ср-в'!B:B,0))),0,INDEX('План ввода основ. ср-в'!E:E,MATCH(B233,'План ввода основ. ср-в'!B:B,0)))","v":0},{"$f":"IF(ISNA(INDEX('План ввода основ. ср-в'!H:H,MATCH(B233,'План ввода основ. ср-в'!B:B,0))),0,INDEX('План ввода основ. ср-в'!H:H,MATCH(B233,'План ввода основ. ср-в'!B:B,0)))","v":0},null,{"$f":"IF(ISNA(INDEX('План ввода основ. ср-в'!G:G,MATCH(B233,'План ввода основ. ср-в'!B:B,0))),0,INDEX('План ввода основ. ср-в'!G:G,MATCH(B233,'План ввода основ. ср-в'!B:B,0)))","v":0},{"$f":"IF(ISNA(INDEX('План ввода основ. ср-в'!J:J,MATCH(B233,'План ввода основ. ср-в'!B:B,0))),0,INDEX('План ввода основ. ср-в'!J:J,MATCH(B233,'План ввода основ. ср-в'!B:B,0)))","v":0},null,{"$f":"IF(ISNA(INDEX('План ввода основ. ср-в'!I:I,MATCH(B233,'План ввода основ. ср-в'!B:B,0))),0,INDEX('План ввода основ. ср-в'!I:I,MATCH(B233,'План ввода основ. ср-в'!B:B,0)))","v":0},{"$f":"IF(ISNA(INDEX('План ввода основ. ср-в'!L:L,MATCH(B233,'План ввода основ. ср-в'!B:B,0))),0,INDEX('План ввода основ. ср-в'!L:L,MATCH(B233,'План ввода основ. ср-в'!B:B,0)))","v":18.029333333333334},null,{"$f":"IF(ISNA(INDEX('План ввода основ. ср-в'!K:K,MATCH(B233,'План ввода основ. ср-в'!B:B,0))),0,INDEX('План ввода основ. ср-в'!K:K,MATCH(B233,'План ввода основ. ср-в'!B:B,0)))","v":0},18.029333333333334,null,0,{"$f":"IF(ISNA(INDEX('План ввода основ. ср-в'!N:N,MATCH(B233,'План ввода основ. ср-в'!B:B,0))),0,INDEX('План ввода основ. ср-в'!N:N,MATCH(B233,'План ввода основ. ср-в'!B:B,0)))","v":0},null,{"$f":"IF(ISNA(INDEX('План ввода основ. ср-в'!M:M,MATCH(B233,'План ввода основ. ср-в'!B:B,0))),0,INDEX('План ввода основ. ср-в'!M:M,MATCH(B233,'План ввода основ. ср-в'!B:B,0)))","v":0},{"$f":"IF(ISNA(INDEX('План ввода основ. ср-в'!P:P,MATCH(B233,'План ввода основ. ср-в'!B:B,0))),0,INDEX('План ввода основ. ср-в'!P:P,MATCH(B233,'План ввода основ. ср-в'!B:B,0)))","v":0},null,{"$f":"IF(ISNA(INDEX('План ввода основ. ср-в'!O:O,MATCH(B233,'План ввода основ. ср-в'!B:B,0))),0,INDEX('План ввода основ. ср-в'!O:O,MATCH(B233,'План ввода основ. ср-в'!B:B,0)))","v":0},{"$f":"IF(ISNA(INDEX('План ввода основ. ср-в'!R:R,MATCH(B233,'План ввода основ. ср-в'!B:B,0))),0,INDEX('План ввода основ. ср-в'!R:R,MATCH(B233,'План ввода основ. ср-в'!B:B,0)))","v":0},null,{"$f":"IF(ISNA(INDEX('План ввода основ. ср-в'!Q:Q,MATCH(B233,'План ввода основ. ср-в'!B:B,0))),0,INDEX('План ввода основ. ср-в'!Q:Q,MATCH(B233,'План ввода основ. ср-в'!B:B,0)))","v":0},{"$f":"IF(ISNA(INDEX('План ввода основ. ср-в'!T:T,MATCH(B233,'План ввода основ. ср-в'!B:B,0))),0,INDEX('План ввода основ. ср-в'!T:T,MATCH(B233,'План ввода основ. ср-в'!B:B,0)))","v":0},null,{"$f":"IF(ISNA(INDEX('План ввода основ. ср-в'!S:S,MATCH(B233,'План ввода основ. ср-в'!B:B,0))),0,INDEX('План ввода основ. ср-в'!S:S,MATCH(B233,'План ввода основ. ср-в'!B:B,0)))","v":0},18.029333333333334,null,0,null,{"$f":"IF(ISNA(INDEX('План ввода основ. ср-в'!W:W,MATCH(B233,'План ввода основ. ср-в'!B:B,0))),0,INDEX('План ввода основ. ср-в'!W:W,MATCH(B233,'План ввода основ. ср-в'!B:B,0)))","v":13.751087440677965},{"$f":"IF(ISNA(INDEX('План ввода основ. ср-в'!X:X,MATCH(B233,'План ввода основ. ср-в'!B:B,0))),0,INDEX('План ввода основ. ср-в'!X:X,MATCH(B233,'План ввода основ. ср-в'!B:B,0)))","v":32.085870694915251},{"$f":"IF(ISNA(INDEX('План ввода основ. ср-в'!Y:Y,MATCH(B233,'План ввода основ. ср-в'!B:B,0))),0,INDEX('План ввода основ. ср-в'!Y:Y,MATCH(B233,'План ввода основ. ср-в'!B:B,0)))","v":45.836958135593221},91.673916271186442,{"$f":"IF(ISNA(INDEX('План ввода основ. ср-в'!Z:Z,MATCH(B233,'План ввода основ. ср-в'!B:B,0))),0,INDEX('План ввода основ. ср-в'!Z:Z,MATCH(B233,'План ввода основ. ср-в'!B:B,0)))","v":0},{"$f":"IF(ISNA(INDEX('План ввода основ. ср-в'!AA:AA,MATCH(B233,'План ввода основ. ср-в'!B:B,0))),0,INDEX('План ввода основ. ср-в'!AA:AA,MATCH(B233,'План ввода основ. ср-в'!B:B,0)))","v":0},{"$f":"IF(ISNA(INDEX('План ввода основ. ср-в'!AB:AB,MATCH(B233,'План ввода основ. ср-в'!B:B,0))),0,INDEX('План ввода основ. ср-в'!AB:AB,MATCH(B233,'План ввода основ. ср-в'!B:B,0)))","v":0},{"$f":"IF(ISNA(INDEX('План ввода основ. ср-в'!AC:AC,MATCH(B233,'План ввода основ. ср-в'!B:B,0))),0,INDEX('План ввода основ. ср-в'!AC:AC,MATCH(B233,'План ввода основ. ср-в'!B:B,0)))","v":0},91.673916271186442]
[212,"Реконструкция электроснабжения с. Тимофеевка ",null,null,null,null,null,null,12,"/",0,0,null,0,0,null,0,0,null,0,0,null,0,12,null,0,50.847457627118644,{"$f":"IF(ISNA(INDEX('План ввода основ. ср-в'!F:F,MATCH(B234,'План ввода основ. ср-в'!B:B,0))),0,INDEX('План ввода основ. ср-в'!F:F,MATCH(B234,'План ввода основ. ср-в'!B:B,0)))","v":0},null,{"$f":"IF(ISNA(INDEX('План ввода основ. ср-в'!E:E,MATCH(B234,'План ввода основ. ср-в'!B:B,0))),0,INDEX('План ввода основ. ср-в'!E:E,MATCH(B234,'План ввода основ. ср-в'!B:B,0)))","v":0},{"$f":"IF(ISNA(INDEX('План ввода основ. ср-в'!H:H,MATCH(B234,'План ввода основ. ср-в'!B:B,0))),0,INDEX('План ввода основ. ср-в'!H:H,MATCH(B234,'План ввода основ. ср-в'!B:B,0)))","v":0},null,{"$f":"IF(ISNA(INDEX('План ввода основ. ср-в'!G:G,MATCH(B234,'План ввода основ. ср-в'!B:B,0))),0,INDEX('План ввода основ. ср-в'!G:G,MATCH(B234,'План ввода основ. ср-в'!B:B,0)))","v":0},{"$f":"IF(ISNA(INDEX('План ввода основ. ср-в'!J:J,MATCH(B234,'План ввода основ. ср-в'!B:B,0))),0,INDEX('План ввода основ. ср-в'!J:J,MATCH(B234,'План ввода основ. ср-в'!B:B,0)))","v":0},null,{"$f":"IF(ISNA(INDEX('План ввода основ. ср-в'!I:I,MATCH(B234,'План ввода основ. ср-в'!B:B,0))),0,INDEX('План ввода основ. ср-в'!I:I,MATCH(B234,'План ввода основ. ср-в'!B:B,0)))","v":0},{"$f":"IF(ISNA(INDEX('План ввода основ. ср-в'!L:L,MATCH(B234,'План ввода основ. ср-в'!B:B,0))),0,INDEX('План ввода основ. ср-в'!L:L,MATCH(B234,'План ввода основ. ср-в'!B:B,0)))","v":12},"/",{"$f":"IF(ISNA(INDEX('План ввода основ. ср-в'!K:K,MATCH(B234,'План ввода основ. ср-в'!B:B,0))),0,INDEX('План ввода основ. ср-в'!K:K,MATCH(B234,'План ввода основ. ср-в'!B:B,0)))","v":0},12,null,0,{"$f":"IF(ISNA(INDEX('План ввода основ. ср-в'!N:N,MATCH(B234,'План ввода основ. ср-в'!B:B,0))),0,INDEX('План ввода основ. ср-в'!N:N,MATCH(B234,'План ввода основ. ср-в'!B:B,0)))","v":0},null,{"$f":"IF(ISNA(INDEX('План ввода основ. ср-в'!M:M,MATCH(B234,'План ввода основ. ср-в'!B:B,0))),0,INDEX('План ввода основ. ср-в'!M:M,MATCH(B234,'План ввода основ. ср-в'!B:B,0)))","v":0},{"$f":"IF(ISNA(INDEX('План ввода основ. ср-в'!P:P,MATCH(B234,'План ввода основ. ср-в'!B:B,0))),0,INDEX('План ввода основ. ср-в'!P:P,MATCH(B234,'План ввода основ. ср-в'!B:B,0)))","v":0},null,{"$f":"IF(ISNA(INDEX('План ввода основ. ср-в'!O:O,MATCH(B234,'План ввода основ. ср-в'!B:B,0))),0,INDEX('План ввода основ. ср-в'!O:O,MATCH(B234,'План ввода основ. ср-в'!B:B,0)))","v":0},{"$f":"IF(ISNA(INDEX('План ввода основ. ср-в'!R:R,MATCH(B234,'План ввода основ. ср-в'!B:B,0))),0,INDEX('План ввода основ. ср-в'!R:R,MATCH(B234,'План ввода основ. ср-в'!B:B,0)))","v":0},null,{"$f":"IF(ISNA(INDEX('План ввода основ. ср-в'!Q:Q,MATCH(B234,'План ввода основ. ср-в'!B:B,0))),0,INDEX('План ввода основ. ср-в'!Q:Q,MATCH(B234,'План ввода основ. ср-в'!B:B,0)))","v":0},{"$f":"IF(ISNA(INDEX('План ввода основ. ср-в'!T:T,MATCH(B234,'План ввода основ. ср-в'!B:B,0))),0,INDEX('План ввода основ. ср-в'!T:T,MATCH(B234,'План ввода основ. ср-в'!B:B,0)))","v":0},null,{"$f":"IF(ISNA(INDEX('План ввода основ. ср-в'!S:S,MATCH(B234,'План ввода основ. ср-в'!B:B,0))),0,INDEX('План ввода основ. ср-в'!S:S,MATCH(B234,'План ввода основ. ср-в'!B:B,0)))","v":0},12,null,0,null,{"$f":"IF(ISNA(INDEX('План ввода основ. ср-в'!W:W,MATCH(B234,'План ввода основ. ср-в'!B:B,0))),0,INDEX('План ввода основ. ср-в'!W:W,MATCH(B234,'План ввода основ. ср-в'!B:B,0)))","v":7.6271186440677958},{"$f":"IF(ISNA(INDEX('План ввода основ. ср-в'!X:X,MATCH(B234,'План ввода основ. ср-в'!B:B,0))),0,INDEX('План ввода основ. ср-в'!X:X,MATCH(B234,'План ввода основ. ср-в'!B:B,0)))","v":17.796610169491522},{"$f":"IF(ISNA(INDEX('План ввода основ. ср-в'!Y:Y,MATCH(B234,'План ввода основ. ср-в'!B:B,0))),0,INDEX('План ввода основ. ср-в'!Y:Y,MATCH(B234,'План ввода основ. ср-в'!B:B,0)))","v":25.423728813559322},50.847457627118644,{"$f":"IF(ISNA(INDEX('План ввода основ. ср-в'!Z:Z,MATCH(B234,'План ввода основ. ср-в'!B:B,0))),0,INDEX('План ввода основ. ср-в'!Z:Z,MATCH(B234,'План ввода основ. ср-в'!B:B,0)))","v":0},{"$f":"IF(ISNA(INDEX('План ввода основ. ср-в'!AA:AA,MATCH(B234,'План ввода основ. ср-в'!B:B,0))),0,INDEX('План ввода основ. ср-в'!AA:AA,MATCH(B234,'План ввода основ. ср-в'!B:B,0)))","v":0},{"$f":"IF(ISNA(INDEX('План ввода основ. ср-в'!AB:AB,MATCH(B234,'План ввода основ. ср-в'!B:B,0))),0,INDEX('План ввода основ. ср-в'!AB:AB,MATCH(B234,'План ввода основ. ср-в'!B:B,0)))","v":0},{"$f":"IF(ISNA(INDEX('План ввода основ. ср-в'!AC:AC,MATCH(B234,'План ввода основ. ср-в'!B:B,0))),0,INDEX('План ввода основ. ср-в'!AC:AC,MATCH(B234,'План ввода основ. ср-в'!B:B,0)))","v":0},50.847457627118644]
[213,"Повышение надежности энергоснабжения г. Тольятти",null,null,null,null,null,null,0,"",0,0,null,0,0,null,0,22,null,0,0,null,0,22,null,0,1870.5391626303767,{"$f":"IF(ISNA(INDEX('План ввода основ. ср-в'!F:F,MATCH(B235,'План ввода основ. ср-в'!B:B,0))),0,INDEX('План ввода основ. ср-в'!F:F,MATCH(B235,'План ввода основ. ср-в'!B:B,0)))","v":0},null,{"$f":"IF(ISNA(INDEX('План ввода основ. ср-в'!E:E,MATCH(B235,'План ввода основ. ср-в'!B:B,0))),0,INDEX('План ввода основ. ср-в'!E:E,MATCH(B235,'План ввода основ. ср-в'!B:B,0)))","v":0},{"$f":"IF(ISNA(INDEX('План ввода основ. ср-в'!H:H,MATCH(B235,'План ввода основ. ср-в'!B:B,0))),0,INDEX('План ввода основ. ср-в'!H:H,MATCH(B235,'План ввода основ. ср-в'!B:B,0)))","v":0},null,{"$f":"IF(ISNA(INDEX('План ввода основ. ср-в'!G:G,MATCH(B235,'План ввода основ. ср-в'!B:B,0))),0,INDEX('План ввода основ. ср-в'!G:G,MATCH(B235,'План ввода основ. ср-в'!B:B,0)))","v":0},{"$f":"IF(ISNA(INDEX('План ввода основ. ср-в'!J:J,MATCH(B235,'План ввода основ. ср-в'!B:B,0))),0,INDEX('План ввода основ. ср-в'!J:J,MATCH(B235,'План ввода основ. ср-в'!B:B,0)))","v":0},null,{"$f":"IF(ISNA(INDEX('План ввода основ. ср-в'!I:I,MATCH(B235,'План ввода основ. ср-в'!B:B,0))),0,INDEX('План ввода основ. ср-в'!I:I,MATCH(B235,'План ввода основ. ср-в'!B:B,0)))","v":0},{"$f":"IF(ISNA(INDEX('План ввода основ. ср-в'!L:L,MATCH(B235,'План ввода основ. ср-в'!B:B,0))),0,INDEX('План ввода основ. ср-в'!L:L,MATCH(B235,'План ввода основ. ср-в'!B:B,0)))","v":0},"",{"$f":"IF(ISNA(INDEX('План ввода основ. ср-в'!K:K,MATCH(B235,'План ввода основ. ср-в'!B:B,0))),0,INDEX('План ввода основ. ср-в'!K:K,MATCH(B235,'План ввода основ. ср-в'!B:B,0)))","v":0},0,"/",0,{"$f":"IF(ISNA(INDEX('План ввода основ. ср-в'!N:N,MATCH(B235,'План ввода основ. ср-в'!B:B,0))),0,INDEX('План ввода основ. ср-в'!N:N,MATCH(B235,'План ввода основ. ср-в'!B:B,0)))","v":55.5},"/",{"$f":"IF(ISNA(INDEX('План ввода основ. ср-в'!M:M,MATCH(B235,'План ввода основ. ср-в'!B:B,0))),0,INDEX('План ввода основ. ср-в'!M:M,MATCH(B235,'План ввода основ. ср-в'!B:B,0)))","v":0},{"$f":"IF(ISNA(INDEX('План ввода основ. ср-в'!P:P,MATCH(B235,'План ввода основ. ср-в'!B:B,0))),0,INDEX('План ввода основ. ср-в'!P:P,MATCH(B235,'План ввода основ. ср-в'!B:B,0)))","v":41},"/",{"$f":"IF(ISNA(INDEX('План ввода основ. ср-в'!O:O,MATCH(B235,'План ввода основ. ср-в'!B:B,0))),0,INDEX('План ввода основ. ср-в'!O:O,MATCH(B235,'План ввода основ. ср-в'!B:B,0)))","v":0},{"$f":"IF(ISNA(INDEX('План ввода основ. ср-в'!R:R,MATCH(B235,'План ввода основ. ср-в'!B:B,0))),0,INDEX('План ввода основ. ср-в'!R:R,MATCH(B235,'План ввода основ. ср-в'!B:B,0)))","v":50},"/",{"$f":"IF(ISNA(INDEX('План ввода основ. ср-в'!Q:Q,MATCH(B235,'План ввода основ. ср-в'!B:B,0))),0,INDEX('План ввода основ. ср-в'!Q:Q,MATCH(B235,'План ввода основ. ср-в'!B:B,0)))","v":0},{"$f":"IF(ISNA(INDEX('План ввода основ. ср-в'!T:T,MATCH(B235,'План ввода основ. ср-в'!B:B,0))),0,INDEX('План ввода основ. ср-в'!T:T,MATCH(B235,'План ввода основ. ср-в'!B:B,0)))","v":56},"/",{"$f":"IF(ISNA(INDEX('План ввода основ. ср-в'!S:S,MATCH(B235,'План ввода основ. ср-в'!B:B,0))),0,INDEX('План ввода основ. ср-в'!S:S,MATCH(B235,'План ввода основ. ср-в'!B:B,0)))","v":0},202.5,null,0,{"$f":"IF(ISNA(INDEX('План ввода основ. ср-в'!V:V,MATCH(B235,'План ввода основ. ср-в'!B:B,0))),0,INDEX('План ввода основ. ср-в'!V:V,MATCH(B235,'План ввода основ. ср-в'!B:B,0)))","v":0},{"$f":"IF(ISNA(INDEX('План ввода основ. ср-в'!W:W,MATCH(B235,'План ввода основ. ср-в'!B:B,0))),0,INDEX('План ввода основ. ср-в'!W:W,MATCH(B235,'План ввода основ. ср-в'!B:B,0)))","v":0},{"$f":"IF(ISNA(INDEX('План ввода основ. ср-в'!X:X,MATCH(B235,'План ввода основ. ср-в'!B:B,0))),0,INDEX('План ввода основ. ср-в'!X:X,MATCH(B235,'План ввода основ. ср-в'!B:B,0)))","v":0},{"$f":"IF(ISNA(INDEX('План ввода основ. ср-в'!Y:Y,MATCH(B235,'План ввода основ. ср-в'!B:B,0))),0,INDEX('План ввода основ. ср-в'!Y:Y,MATCH(B235,'План ввода основ. ср-в'!B:B,0)))","v":0},0,{"$f":"IF(ISNA(INDEX('План ввода основ. ср-в'!Z:Z,MATCH(B235,'План ввода основ. ср-в'!B:B,0))),0,INDEX('План ввода основ. ср-в'!Z:Z,MATCH(B235,'План ввода основ. ср-в'!B:B,0)))","v":488.00000000000006},{"$f":"IF(ISNA(INDEX('План ввода основ. ср-в'!AA:AA,MATCH(B235,'План ввода основ. ср-в'!B:B,0))),0,INDEX('План ввода основ. ср-в'!AA:AA,MATCH(B235,'План ввода основ. ср-в'!B:B,0)))","v":382.70865415580016},{"$f":"IF(ISNA(INDEX('План ввода основ. ср-в'!AB:AB,MATCH(B235,'План ввода основ. ср-в'!B:B,0))),0,INDEX('План ввода основ. ср-в'!AB:AB,MATCH(B235,'План ввода основ. ср-в'!B:B,0)))","v":470.00000000000006},{"$f":"IF(ISNA(INDEX('План ввода основ. ср-в'!AC:AC,MATCH(B235,'План ввода основ. ср-в'!B:B,0))),0,INDEX('План ввода основ. ср-в'!AC:AC,MATCH(B235,'План ввода основ. ср-в'!B:B,0)))","v":529.83050847457639},1870.5391626303767]
[214,"Реконструкция КЛ 110кВ от ГПП-2000000 до ГПП-3000000 для повышения надежности электроснабжения Автозаводского района г.о. Тольятти",null,null,null,null,null,null,0,null,0,0,null,0,0,null,0,0,null,0,0,null,0,0,null,0,135.00000000000003,{"$f":"IF(ISNA(INDEX('План ввода основ. ср-в'!F:F,MATCH(B236,'План ввода основ. ср-в'!B:B,0))),0,INDEX('План ввода основ. ср-в'!F:F,MATCH(B236,'План ввода основ. ср-в'!B:B,0)))","v":0},null,{"$f":"IF(ISNA(INDEX('План ввода основ. ср-в'!E:E,MATCH(B236,'План ввода основ. ср-в'!B:B,0))),0,INDEX('План ввода основ. ср-в'!E:E,MATCH(B236,'План ввода основ. ср-в'!B:B,0)))","v":0},{"$f":"IF(ISNA(INDEX('План ввода основ. ср-в'!H:H,MATCH(B236,'План ввода основ. ср-в'!B:B,0))),0,INDEX('План ввода основ. ср-в'!H:H,MATCH(B236,'План ввода основ. ср-в'!B:B,0)))","v":0},null,{"$f":"IF(ISNA(INDEX('План ввода основ. ср-в'!G:G,MATCH(B236,'План ввода основ. ср-в'!B:B,0))),0,INDEX('План ввода основ. ср-в'!G:G,MATCH(B236,'План ввода основ. ср-в'!B:B,0)))","v":0},{"$f":"IF(ISNA(INDEX('План ввода основ. ср-в'!J:J,MATCH(B236,'План ввода основ. ср-в'!B:B,0))),0,INDEX('План ввода основ. ср-в'!J:J,MATCH(B236,'План ввода основ. ср-в'!B:B,0)))","v":0},null,{"$f":"IF(ISNA(INDEX('План ввода основ. ср-в'!I:I,MATCH(B236,'План ввода основ. ср-в'!B:B,0))),0,INDEX('План ввода основ. ср-в'!I:I,MATCH(B236,'План ввода основ. ср-в'!B:B,0)))","v":0},{"$f":"IF(ISNA(INDEX('План ввода основ. ср-в'!L:L,MATCH(B236,'План ввода основ. ср-в'!B:B,0))),0,INDEX('План ввода основ. ср-в'!L:L,MATCH(B236,'План ввода основ. ср-в'!B:B,0)))","v":0},null,{"$f":"IF(ISNA(INDEX('План ввода основ. ср-в'!K:K,MATCH(B236,'План ввода основ. ср-в'!B:B,0))),0,INDEX('План ввода основ. ср-в'!K:K,MATCH(B236,'План ввода основ. ср-в'!B:B,0)))","v":0},0,"/",0,{"$f":"IF(ISNA(INDEX('План ввода основ. ср-в'!N:N,MATCH(B236,'План ввода основ. ср-в'!B:B,0))),0,INDEX('План ввода основ. ср-в'!N:N,MATCH(B236,'План ввода основ. ср-в'!B:B,0)))","v":14},"/",{"$f":"IF(ISNA(INDEX('План ввода основ. ср-в'!M:M,MATCH(B236,'План ввода основ. ср-в'!B:B,0))),0,INDEX('План ввода основ. ср-в'!M:M,MATCH(B236,'План ввода основ. ср-в'!B:B,0)))","v":0},{"$f":"IF(ISNA(INDEX('План ввода основ. ср-в'!P:P,MATCH(B236,'План ввода основ. ср-в'!B:B,0))),0,INDEX('План ввода основ. ср-в'!P:P,MATCH(B236,'План ввода основ. ср-в'!B:B,0)))","v":0},"",{"$f":"IF(ISNA(INDEX('План ввода основ. ср-в'!O:O,MATCH(B236,'План ввода основ. ср-в'!B:B,0))),0,INDEX('План ввода основ. ср-в'!O:O,MATCH(B236,'План ввода основ. ср-в'!B:B,0)))","v":0},{"$f":"IF(ISNA(INDEX('План ввода основ. ср-в'!R:R,MATCH(B236,'План ввода основ. ср-в'!B:B,0))),0,INDEX('План ввода основ. ср-в'!R:R,MATCH(B236,'План ввода основ. ср-в'!B:B,0)))","v":0},"",{"$f":"IF(ISNA(INDEX('План ввода основ. ср-в'!Q:Q,MATCH(B236,'План ввода основ. ср-в'!B:B,0))),0,INDEX('План ввода основ. ср-в'!Q:Q,MATCH(B236,'План ввода основ. ср-в'!B:B,0)))","v":0},{"$f":"IF(ISNA(INDEX('План ввода основ. ср-в'!T:T,MATCH(B236,'План ввода основ. ср-в'!B:B,0))),0,INDEX('План ввода основ. ср-в'!T:T,MATCH(B236,'План ввода основ. ср-в'!B:B,0)))","v":0},"",{"$f":"IF(ISNA(INDEX('План ввода основ. ср-в'!S:S,MATCH(B236,'План ввода основ. ср-в'!B:B,0))),0,INDEX('План ввода основ. ср-в'!S:S,MATCH(B236,'План ввода основ. ср-в'!B:B,0)))","v":0},14,null,0,{"$f":"IF(ISNA(INDEX('План ввода основ. ср-в'!V:V,MATCH(B236,'План ввода основ. ср-в'!B:B,0))),0,INDEX('План ввода основ. ср-в'!V:V,MATCH(B236,'План ввода основ. ср-в'!B:B,0)))","v":0},{"$f":"IF(ISNA(INDEX('План ввода основ. ср-в'!W:W,MATCH(B236,'План ввода основ. ср-в'!B:B,0))),0,INDEX('План ввода основ. ср-в'!W:W,MATCH(B236,'План ввода основ. ср-в'!B:B,0)))","v":0},{"$f":"IF(ISNA(INDEX('План ввода основ. ср-в'!X:X,MATCH(B236,'План ввода основ. ср-в'!B:B,0))),0,INDEX('План ввода основ. ср-в'!X:X,MATCH(B236,'План ввода основ. ср-в'!B:B,0)))","v":0},{"$f":"IF(ISNA(INDEX('План ввода основ. ср-в'!Y:Y,MATCH(B236,'План ввода основ. ср-в'!B:B,0))),0,INDEX('План ввода основ. ср-в'!Y:Y,MATCH(B236,'План ввода основ. ср-в'!B:B,0)))","v":0},0,{"$f":"IF(ISNA(INDEX('План ввода основ. ср-в'!Z:Z,MATCH(B236,'План ввода основ. ср-в'!B:B,0))),0,INDEX('План ввода основ. ср-в'!Z:Z,MATCH(B236,'План ввода основ. ср-в'!B:B,0)))","v":135.00000000000003},{"$f":"IF(ISNA(INDEX('План ввода основ. ср-в'!AA:AA,MATCH(B236,'План ввода основ. ср-в'!B:B,0))),0,INDEX('План ввода основ. ср-в'!AA:AA,MATCH(B236,'План ввода основ. ср-в'!B:B,0)))","v":0},{"$f":"IF(ISNA(INDEX('План ввода основ. ср-в'!AB:AB,MATCH(B236,'План ввода основ. ср-в'!B:B,0))),0,INDEX('План ввода основ. ср-в'!AB:AB,MATCH(B236,'План ввода основ. ср-в'!B:B,0)))","v":0},{"$f":"IF(ISNA(INDEX('План ввода основ. ср-в'!AC:AC,MATCH(B236,'План ввода основ. ср-в'!B:B,0))),0,INDEX('План ввода основ. ср-в'!AC:AC,MATCH(B236,'План ввода основ. ср-в'!B:B,0)))","v":0},135.00000000000003]
[215,"Реконструкция ГПП-4000000 110/10кВ с заменой силовых трансформаторов на 2х63мВА",null,null,null,null,null,null,0,null,0,0,null,40,0,null,40,0,null,0,0,null,0,0,null,80,143,{"$f":"IF(ISNA(INDEX('План ввода основ. ср-в'!F:F,MATCH(B237,'План ввода основ. ср-в'!B:B,0))),0,INDEX('План ввода основ. ср-в'!F:F,MATCH(B237,'План ввода основ. ср-в'!B:B,0)))","v":0},null,{"$f":"IF(ISNA(INDEX('План ввода основ. ср-в'!E:E,MATCH(B237,'План ввода основ. ср-в'!B:B,0))),0,INDEX('План ввода основ. ср-в'!E:E,MATCH(B237,'План ввода основ. ср-в'!B:B,0)))","v":0},{"$f":"IF(ISNA(INDEX('План ввода основ. ср-в'!H:H,MATCH(B237,'План ввода основ. ср-в'!B:B,0))),0,INDEX('План ввода основ. ср-в'!H:H,MATCH(B237,'План ввода основ. ср-в'!B:B,0)))","v":0},null,{"$f":"IF(ISNA(INDEX('План ввода основ. ср-в'!G:G,MATCH(B237,'План ввода основ. ср-в'!B:B,0))),0,INDEX('План ввода основ. ср-в'!G:G,MATCH(B237,'План ввода основ. ср-в'!B:B,0)))","v":0},{"$f":"IF(ISNA(INDEX('План ввода основ. ср-в'!J:J,MATCH(B237,'План ввода основ. ср-в'!B:B,0))),0,INDEX('План ввода основ. ср-в'!J:J,MATCH(B237,'План ввода основ. ср-в'!B:B,0)))","v":0},null,{"$f":"IF(ISNA(INDEX('План ввода основ. ср-в'!I:I,MATCH(B237,'План ввода основ. ср-в'!B:B,0))),0,INDEX('План ввода основ. ср-в'!I:I,MATCH(B237,'План ввода основ. ср-в'!B:B,0)))","v":0},{"$f":"IF(ISNA(INDEX('План ввода основ. ср-в'!L:L,MATCH(B237,'План ввода основ. ср-в'!B:B,0))),0,INDEX('План ввода основ. ср-в'!L:L,MATCH(B237,'План ввода основ. ср-в'!B:B,0)))","v":0},null,{"$f":"IF(ISNA(INDEX('План ввода основ. ср-в'!K:K,MATCH(B237,'План ввода основ. ср-в'!B:B,0))),0,INDEX('План ввода основ. ср-в'!K:K,MATCH(B237,'План ввода основ. ср-в'!B:B,0)))","v":0},0,"/",0,{"$f":"IF(ISNA(INDEX('План ввода основ. ср-в'!N:N,MATCH(B237,'План ввода основ. ср-в'!B:B,0))),0,INDEX('План ввода основ. ср-в'!N:N,MATCH(B237,'План ввода основ. ср-в'!B:B,0)))","v":0},"/",{"$f":"IF(ISNA(INDEX('План ввода основ. ср-в'!M:M,MATCH(B237,'План ввода основ. ср-в'!B:B,0))),0,INDEX('План ввода основ. ср-в'!M:M,MATCH(B237,'План ввода основ. ср-в'!B:B,0)))","v":63},{"$f":"IF(ISNA(INDEX('План ввода основ. ср-в'!P:P,MATCH(B237,'План ввода основ. ср-в'!B:B,0))),0,INDEX('План ввода основ. ср-в'!P:P,MATCH(B237,'План ввода основ. ср-в'!B:B,0)))","v":0},"/",{"$f":"IF(ISNA(INDEX('План ввода основ. ср-в'!O:O,MATCH(B237,'План ввода основ. ср-в'!B:B,0))),0,INDEX('План ввода основ. ср-в'!O:O,MATCH(B237,'План ввода основ. ср-в'!B:B,0)))","v":63},{"$f":"IF(ISNA(INDEX('План ввода основ. ср-в'!R:R,MATCH(B237,'План ввода основ. ср-в'!B:B,0))),0,INDEX('План ввода основ. ср-в'!R:R,MATCH(B237,'План ввода основ. ср-в'!B:B,0)))","v":0},"",{"$f":"IF(ISNA(INDEX('План ввода основ. ср-в'!Q:Q,MATCH(B237,'План ввода основ. ср-в'!B:B,0))),0,INDEX('План ввода основ. ср-в'!Q:Q,MATCH(B237,'План ввода основ. ср-в'!B:B,0)))","v":0},{"$f":"IF(ISNA(INDEX('План ввода основ. ср-в'!T:T,MATCH(B237,'План ввода основ. ср-в'!B:B,0))),0,INDEX('План ввода основ. ср-в'!T:T,MATCH(B237,'План ввода основ. ср-в'!B:B,0)))","v":0},"",{"$f":"IF(ISNA(INDEX('План ввода основ. ср-в'!S:S,MATCH(B237,'План ввода основ. ср-в'!B:B,0))),0,INDEX('План ввода основ. ср-в'!S:S,MATCH(B237,'План ввода основ. ср-в'!B:B,0)))","v":0},0,null,126,{"$f":"IF(ISNA(INDEX('План ввода основ. ср-в'!V:V,MATCH(B237,'План ввода основ. ср-в'!B:B,0))),0,INDEX('План ввода основ. ср-в'!V:V,MATCH(B237,'План ввода основ. ср-в'!B:B,0)))","v":0},{"$f":"IF(ISNA(INDEX('План ввода основ. ср-в'!W:W,MATCH(B237,'План ввода основ. ср-в'!B:B,0))),0,INDEX('План ввода основ. ср-в'!W:W,MATCH(B237,'План ввода основ. ср-в'!B:B,0)))","v":0},{"$f":"IF(ISNA(INDEX('План ввода основ. ср-в'!X:X,MATCH(B237,'План ввода основ. ср-в'!B:B,0))),0,INDEX('План ввода основ. ср-в'!X:X,MATCH(B237,'План ввода основ. ср-в'!B:B,0)))","v":0},{"$f":"IF(ISNA(INDEX('План ввода основ. ср-в'!Y:Y,MATCH(B237,'План ввода основ. ср-в'!B:B,0))),0,INDEX('План ввода основ. ср-в'!Y:Y,MATCH(B237,'План ввода основ. ср-в'!B:B,0)))","v":0},0,{"$f":"IF(ISNA(INDEX('План ввода основ. ср-в'!Z:Z,MATCH(B237,'План ввода основ. ср-в'!B:B,0))),0,INDEX('План ввода основ. ср-в'!Z:Z,MATCH(B237,'План ввода основ. ср-в'!B:B,0)))","v":37},{"$f":"IF(ISNA(INDEX('План ввода основ. ср-в'!AA:AA,MATCH(B237,'План ввода основ. ср-в'!B:B,0))),0,INDEX('План ввода основ. ср-в'!AA:AA,MATCH(B237,'План ввода основ. ср-в'!B:B,0)))","v":106},{"$f":"IF(ISNA(INDEX('План ввода основ. ср-в'!AB:AB,MATCH(B237,'План ввода основ. ср-в'!B:B,0))),0,INDEX('План ввода основ. ср-в'!AB:AB,MATCH(B237,'План ввода основ. ср-в'!B:B,0)))","v":0},{"$f":"IF(ISNA(INDEX('План ввода основ. ср-в'!AC:AC,MATCH(B237,'План ввода основ. ср-в'!B:B,0))),0,INDEX('План ввода основ. ср-в'!AC:AC,MATCH(B237,'План ввода основ. ср-в'!B:B,0)))","v":0},143]
[216,"Реконструкция ГПП-2000000 со строительством блочного КРУ-10кВ модульного типа",null,null,null,null,null,null,0,null,0,0,null,0,0,null,0,0,null,0,0,null,0,0,null,0,25,{"$f":"IF(ISNA(INDEX('План ввода основ. ср-в'!F:F,MATCH(B238,'План ввода основ. ср-в'!B:B,0))),0,INDEX('План ввода основ. ср-в'!F:F,MATCH(B238,'План ввода основ. ср-в'!B:B,0)))","v":0},null,{"$f":"IF(ISNA(INDEX('План ввода основ. ср-в'!E:E,MATCH(B238,'План ввода основ. ср-в'!B:B,0))),0,INDEX('План ввода основ. ср-в'!E:E,MATCH(B238,'План ввода основ. ср-в'!B:B,0)))","v":0},{"$f":"IF(ISNA(INDEX('План ввода основ. ср-в'!H:H,MATCH(B238,'План ввода основ. ср-в'!B:B,0))),0,INDEX('План ввода основ. ср-в'!H:H,MATCH(B238,'План ввода основ. ср-в'!B:B,0)))","v":0},null,{"$f":"IF(ISNA(INDEX('План ввода основ. ср-в'!G:G,MATCH(B238,'План ввода основ. ср-в'!B:B,0))),0,INDEX('План ввода основ. ср-в'!G:G,MATCH(B238,'План ввода основ. ср-в'!B:B,0)))","v":0},{"$f":"IF(ISNA(INDEX('План ввода основ. ср-в'!J:J,MATCH(B238,'План ввода основ. ср-в'!B:B,0))),0,INDEX('План ввода основ. ср-в'!J:J,MATCH(B238,'План ввода основ. ср-в'!B:B,0)))","v":0},null,{"$f":"IF(ISNA(INDEX('План ввода основ. ср-в'!I:I,MATCH(B238,'План ввода основ. ср-в'!B:B,0))),0,INDEX('План ввода основ. ср-в'!I:I,MATCH(B238,'План ввода основ. ср-в'!B:B,0)))","v":0},{"$f":"IF(ISNA(INDEX('План ввода основ. ср-в'!L:L,MATCH(B238,'План ввода основ. ср-в'!B:B,0))),0,INDEX('План ввода основ. ср-в'!L:L,MATCH(B238,'План ввода основ. ср-в'!B:B,0)))","v":0},null,{"$f":"IF(ISNA(INDEX('План ввода основ. ср-в'!K:K,MATCH(B238,'План ввода основ. ср-в'!B:B,0))),0,INDEX('План ввода основ. ср-в'!K:K,MATCH(B238,'План ввода основ. ср-в'!B:B,0)))","v":0},0,"/",0,{"$f":"IF(ISNA(INDEX('План ввода основ. ср-в'!N:N,MATCH(B238,'План ввода основ. ср-в'!B:B,0))),0,INDEX('План ввода основ. ср-в'!N:N,MATCH(B238,'План ввода основ. ср-в'!B:B,0)))","v":0},"",{"$f":"IF(ISNA(INDEX('План ввода основ. ср-в'!M:M,MATCH(B238,'План ввода основ. ср-в'!B:B,0))),0,INDEX('План ввода основ. ср-в'!M:M,MATCH(B238,'План ввода основ. ср-в'!B:B,0)))","v":0},{"$f":"IF(ISNA(INDEX('План ввода основ. ср-в'!P:P,MATCH(B238,'План ввода основ. ср-в'!B:B,0))),0,INDEX('План ввода основ. ср-в'!P:P,MATCH(B238,'План ввода основ. ср-в'!B:B,0)))","v":0},"",{"$f":"IF(ISNA(INDEX('План ввода основ. ср-в'!O:O,MATCH(B238,'План ввода основ. ср-в'!B:B,0))),0,INDEX('План ввода основ. ср-в'!O:O,MATCH(B238,'План ввода основ. ср-в'!B:B,0)))","v":0},{"$f":"IF(ISNA(INDEX('План ввода основ. ср-в'!R:R,MATCH(B238,'План ввода основ. ср-в'!B:B,0))),0,INDEX('План ввода основ. ср-в'!R:R,MATCH(B238,'План ввода основ. ср-в'!B:B,0)))","v":0},"",{"$f":"IF(ISNA(INDEX('План ввода основ. ср-в'!Q:Q,MATCH(B238,'План ввода основ. ср-в'!B:B,0))),0,INDEX('План ввода основ. ср-в'!Q:Q,MATCH(B238,'План ввода основ. ср-в'!B:B,0)))","v":0},{"$f":"IF(ISNA(INDEX('План ввода основ. ср-в'!T:T,MATCH(B238,'План ввода основ. ср-в'!B:B,0))),0,INDEX('План ввода основ. ср-в'!T:T,MATCH(B238,'План ввода основ. ср-в'!B:B,0)))","v":0},"",{"$f":"IF(ISNA(INDEX('План ввода основ. ср-в'!S:S,MATCH(B238,'План ввода основ. ср-в'!B:B,0))),0,INDEX('План ввода основ. ср-в'!S:S,MATCH(B238,'План ввода основ. ср-в'!B:B,0)))","v":0},0,null,0,{"$f":"IF(ISNA(INDEX('План ввода основ. ср-в'!V:V,MATCH(B238,'План ввода основ. ср-в'!B:B,0))),0,INDEX('План ввода основ. ср-в'!V:V,MATCH(B238,'План ввода основ. ср-в'!B:B,0)))","v":0},{"$f":"IF(ISNA(INDEX('План ввода основ. ср-в'!W:W,MATCH(B238,'План ввода основ. ср-в'!B:B,0))),0,INDEX('План ввода основ. ср-в'!W:W,MATCH(B238,'План ввода основ. ср-в'!B:B,0)))","v":0},{"$f":"IF(ISNA(INDEX('План ввода основ. ср-в'!X:X,MATCH(B238,'План ввода основ. ср-в'!B:B,0))),0,INDEX('План ввода основ. ср-в'!X:X,MATCH(B238,'План ввода основ. ср-в'!B:B,0)))","v":0},{"$f":"IF(ISNA(INDEX('План ввода основ. ср-в'!Y:Y,MATCH(B238,'План ввода основ. ср-в'!B:B,0))),0,INDEX('План ввода основ. ср-в'!Y:Y,MATCH(B238,'План ввода основ. ср-в'!B:B,0)))","v":0},0,{"$f":"IF(ISNA(INDEX('План ввода основ. ср-в'!Z:Z,MATCH(B238,'План ввода основ. ср-в'!B:B,0))),0,INDEX('План ввода основ. ср-в'!Z:Z,MATCH(B238,'План ввода основ. ср-в'!B:B,0)))","v":25},{"$f":"IF(ISNA(INDEX('План ввода основ. ср-в'!AA:AA,MATCH(B238,'План ввода основ. ср-в'!B:B,0))),0,INDEX('План ввода основ. ср-в'!AA:AA,MATCH(B238,'План ввода основ. ср-в'!B:B,0)))","v":0},{"$f":"IF(ISNA(INDEX('План ввода основ. ср-в'!AB:AB,MATCH(B238,'План ввода основ. ср-в'!B:B,0))),0,INDEX('План ввода основ. ср-в'!AB:AB,MATCH(B238,'План ввода основ. ср-в'!B:B,0)))","v":0},{"$f":"IF(ISNA(INDEX('План ввода основ. ср-в'!AC:AC,MATCH(B238,'План ввода основ. ср-в'!B:B,0))),0,INDEX('План ввода основ. ср-в'!AC:AC,MATCH(B238,'План ввода основ. ср-в'!B:B,0)))","v":0},25]
[217,"Реконструкция системы электроснабжения 7 квартала от ГПП-1000000 до РП-2080700",null,null,null,null,null,null,0,null,0,15,null,0,0,null,0,0,null,0,0,null,0,15,null,0,88.000000000000014,{"$f":"IF(ISNA(INDEX('План ввода основ. ср-в'!F:F,MATCH(B239,'План ввода основ. ср-в'!B:B,0))),0,INDEX('План ввода основ. ср-в'!F:F,MATCH(B239,'План ввода основ. ср-в'!B:B,0)))","v":0},null,{"$f":"IF(ISNA(INDEX('План ввода основ. ср-в'!E:E,MATCH(B239,'План ввода основ. ср-в'!B:B,0))),0,INDEX('План ввода основ. ср-в'!E:E,MATCH(B239,'План ввода основ. ср-в'!B:B,0)))","v":0},{"$f":"IF(ISNA(INDEX('План ввода основ. ср-в'!H:H,MATCH(B239,'План ввода основ. ср-в'!B:B,0))),0,INDEX('План ввода основ. ср-в'!H:H,MATCH(B239,'План ввода основ. ср-в'!B:B,0)))","v":0},null,{"$f":"IF(ISNA(INDEX('План ввода основ. ср-в'!G:G,MATCH(B239,'План ввода основ. ср-в'!B:B,0))),0,INDEX('План ввода основ. ср-в'!G:G,MATCH(B239,'План ввода основ. ср-в'!B:B,0)))","v":0},{"$f":"IF(ISNA(INDEX('План ввода основ. ср-в'!J:J,MATCH(B239,'План ввода основ. ср-в'!B:B,0))),0,INDEX('План ввода основ. ср-в'!J:J,MATCH(B239,'План ввода основ. ср-в'!B:B,0)))","v":0},null,{"$f":"IF(ISNA(INDEX('План ввода основ. ср-в'!I:I,MATCH(B239,'План ввода основ. ср-в'!B:B,0))),0,INDEX('План ввода основ. ср-в'!I:I,MATCH(B239,'План ввода основ. ср-в'!B:B,0)))","v":0},{"$f":"IF(ISNA(INDEX('План ввода основ. ср-в'!L:L,MATCH(B239,'План ввода основ. ср-в'!B:B,0))),0,INDEX('План ввода основ. ср-в'!L:L,MATCH(B239,'План ввода основ. ср-в'!B:B,0)))","v":0},null,{"$f":"IF(ISNA(INDEX('План ввода основ. ср-в'!K:K,MATCH(B239,'План ввода основ. ср-в'!B:B,0))),0,INDEX('План ввода основ. ср-в'!K:K,MATCH(B239,'План ввода основ. ср-в'!B:B,0)))","v":0},0,"/",0,{"$f":"IF(ISNA(INDEX('План ввода основ. ср-в'!N:N,MATCH(B239,'План ввода основ. ср-в'!B:B,0))),0,INDEX('План ввода основ. ср-в'!N:N,MATCH(B239,'План ввода основ. ср-в'!B:B,0)))","v":15},"/",{"$f":"IF(ISNA(INDEX('План ввода основ. ср-в'!M:M,MATCH(B239,'План ввода основ. ср-в'!B:B,0))),0,INDEX('План ввода основ. ср-в'!M:M,MATCH(B239,'План ввода основ. ср-в'!B:B,0)))","v":0},{"$f":"IF(ISNA(INDEX('План ввода основ. ср-в'!P:P,MATCH(B239,'План ввода основ. ср-в'!B:B,0))),0,INDEX('План ввода основ. ср-в'!P:P,MATCH(B239,'План ввода основ. ср-в'!B:B,0)))","v":0},"",{"$f":"IF(ISNA(INDEX('План ввода основ. ср-в'!O:O,MATCH(B239,'План ввода основ. ср-в'!B:B,0))),0,INDEX('План ввода основ. ср-в'!O:O,MATCH(B239,'План ввода основ. ср-в'!B:B,0)))","v":0},{"$f":"IF(ISNA(INDEX('План ввода основ. ср-в'!R:R,MATCH(B239,'План ввода основ. ср-в'!B:B,0))),0,INDEX('План ввода основ. ср-в'!R:R,MATCH(B239,'План ввода основ. ср-в'!B:B,0)))","v":0},"",{"$f":"IF(ISNA(INDEX('План ввода основ. ср-в'!Q:Q,MATCH(B239,'План ввода основ. ср-в'!B:B,0))),0,INDEX('План ввода основ. ср-в'!Q:Q,MATCH(B239,'План ввода основ. ср-в'!B:B,0)))","v":0},{"$f":"IF(ISNA(INDEX('План ввода основ. ср-в'!T:T,MATCH(B239,'План ввода основ. ср-в'!B:B,0))),0,INDEX('План ввода основ. ср-в'!T:T,MATCH(B239,'План ввода основ. ср-в'!B:B,0)))","v":0},"",{"$f":"IF(ISNA(INDEX('План ввода основ. ср-в'!S:S,MATCH(B239,'План ввода основ. ср-в'!B:B,0))),0,INDEX('План ввода основ. ср-в'!S:S,MATCH(B239,'План ввода основ. ср-в'!B:B,0)))","v":0},15,null,0,{"$f":"IF(ISNA(INDEX('План ввода основ. ср-в'!V:V,MATCH(B239,'План ввода основ. ср-в'!B:B,0))),0,INDEX('План ввода основ. ср-в'!V:V,MATCH(B239,'План ввода основ. ср-в'!B:B,0)))","v":0},{"$f":"IF(ISNA(INDEX('План ввода основ. ср-в'!W:W,MATCH(B239,'План ввода основ. ср-в'!B:B,0))),0,INDEX('План ввода основ. ср-в'!W:W,MATCH(B239,'План ввода основ. ср-в'!B:B,0)))","v":0},{"$f":"IF(ISNA(INDEX('План ввода основ. ср-в'!X:X,MATCH(B239,'План ввода основ. ср-в'!B:B,0))),0,INDEX('План ввода основ. ср-в'!X:X,MATCH(B239,'План ввода основ. ср-в'!B:B,0)))","v":0},{"$f":"IF(ISNA(INDEX('План ввода основ. ср-в'!Y:Y,MATCH(B239,'План ввода основ. ср-в'!B:B,0))),0,INDEX('План ввода основ. ср-в'!Y:Y,MATCH(B239,'План ввода основ. ср-в'!B:B,0)))","v":0},0,{"$f":"IF(ISNA(INDEX('План ввода основ. ср-в'!Z:Z,MATCH(B239,'План ввода основ. ср-в'!B:B,0))),0,INDEX('План ввода основ. ср-в'!Z:Z,MATCH(B239,'План ввода основ. ср-в'!B:B,0)))","v":88.000000000000014},{"$f":"IF(ISNA(INDEX('План ввода основ. ср-в'!AA:AA,MATCH(B239,'План ввода основ. ср-в'!B:B,0))),0,INDEX('План ввода основ. ср-в'!AA:AA,MATCH(B239,'План ввода основ. ср-в'!B:B,0)))","v":0},{"$f":"IF(ISNA(INDEX('План ввода основ. ср-в'!AB:AB,MATCH(B239,'План ввода основ. ср-в'!B:B,0))),0,INDEX('План ввода основ. ср-в'!AB:AB,MATCH(B239,'План ввода основ. ср-в'!B:B,0)))","v":0},{"$f":"IF(ISNA(INDEX('План ввода основ. ср-в'!AC:AC,MATCH(B239,'План ввода основ. ср-в'!B:B,0))),0,INDEX('План ввода основ. ср-в'!AC:AC,MATCH(B239,'План ввода основ. ср-в'!B:B,0)))","v":0},88.000000000000014]
[218,"Реконструкция РП-10кВ, КЛ-10кв от ГПП-1000000 для электроснабжения застройки по Московскому проспекту",null,null,null,null,null,null,0,null,0,12,null,0,0,null,0,0,null,0,0,null,0,12,null,0,60,{"$f":"IF(ISNA(INDEX('План ввода основ. ср-в'!F:F,MATCH(B240,'План ввода основ. ср-в'!B:B,0))),0,INDEX('План ввода основ. ср-в'!F:F,MATCH(B240,'План ввода основ. ср-в'!B:B,0)))","v":0},null,{"$f":"IF(ISNA(INDEX('План ввода основ. ср-в'!E:E,MATCH(B240,'План ввода основ. ср-в'!B:B,0))),0,INDEX('План ввода основ. ср-в'!E:E,MATCH(B240,'План ввода основ. ср-в'!B:B,0)))","v":0},{"$f":"IF(ISNA(INDEX('План ввода основ. ср-в'!H:H,MATCH(B240,'План ввода основ. ср-в'!B:B,0))),0,INDEX('План ввода основ. ср-в'!H:H,MATCH(B240,'План ввода основ. ср-в'!B:B,0)))","v":0},null,{"$f":"IF(ISNA(INDEX('План ввода основ. ср-в'!G:G,MATCH(B240,'План ввода основ. ср-в'!B:B,0))),0,INDEX('План ввода основ. ср-в'!G:G,MATCH(B240,'План ввода основ. ср-в'!B:B,0)))","v":0},{"$f":"IF(ISNA(INDEX('План ввода основ. ср-в'!J:J,MATCH(B240,'План ввода основ. ср-в'!B:B,0))),0,INDEX('План ввода основ. ср-в'!J:J,MATCH(B240,'План ввода основ. ср-в'!B:B,0)))","v":0},null,{"$f":"IF(ISNA(INDEX('План ввода основ. ср-в'!I:I,MATCH(B240,'План ввода основ. ср-в'!B:B,0))),0,INDEX('План ввода основ. ср-в'!I:I,MATCH(B240,'План ввода основ. ср-в'!B:B,0)))","v":0},{"$f":"IF(ISNA(INDEX('План ввода основ. ср-в'!L:L,MATCH(B240,'План ввода основ. ср-в'!B:B,0))),0,INDEX('План ввода основ. ср-в'!L:L,MATCH(B240,'План ввода основ. ср-в'!B:B,0)))","v":0},null,{"$f":"IF(ISNA(INDEX('План ввода основ. ср-в'!K:K,MATCH(B240,'План ввода основ. ср-в'!B:B,0))),0,INDEX('План ввода основ. ср-в'!K:K,MATCH(B240,'План ввода основ. ср-в'!B:B,0)))","v":0},0,"/",0,{"$f":"IF(ISNA(INDEX('План ввода основ. ср-в'!N:N,MATCH(B240,'План ввода основ. ср-в'!B:B,0))),0,INDEX('План ввода основ. ср-в'!N:N,MATCH(B240,'План ввода основ. ср-в'!B:B,0)))","v":12},"/",{"$f":"IF(ISNA(INDEX('План ввода основ. ср-в'!M:M,MATCH(B240,'План ввода основ. ср-в'!B:B,0))),0,INDEX('План ввода основ. ср-в'!M:M,MATCH(B240,'План ввода основ. ср-в'!B:B,0)))","v":0},{"$f":"IF(ISNA(INDEX('План ввода основ. ср-в'!P:P,MATCH(B240,'План ввода основ. ср-в'!B:B,0))),0,INDEX('План ввода основ. ср-в'!P:P,MATCH(B240,'План ввода основ. ср-в'!B:B,0)))","v":0},"",{"$f":"IF(ISNA(INDEX('План ввода основ. ср-в'!O:O,MATCH(B240,'План ввода основ. ср-в'!B:B,0))),0,INDEX('План ввода основ. ср-в'!O:O,MATCH(B240,'План ввода основ. ср-в'!B:B,0)))","v":0},{"$f":"IF(ISNA(INDEX('План ввода основ. ср-в'!R:R,MATCH(B240,'План ввода основ. ср-в'!B:B,0))),0,INDEX('План ввода основ. ср-в'!R:R,MATCH(B240,'План ввода основ. ср-в'!B:B,0)))","v":0},"",{"$f":"IF(ISNA(INDEX('План ввода основ. ср-в'!Q:Q,MATCH(B240,'План ввода основ. ср-в'!B:B,0))),0,INDEX('План ввода основ. ср-в'!Q:Q,MATCH(B240,'План ввода основ. ср-в'!B:B,0)))","v":0},{"$f":"IF(ISNA(INDEX('План ввода основ. ср-в'!T:T,MATCH(B240,'План ввода основ. ср-в'!B:B,0))),0,INDEX('План ввода основ. ср-в'!T:T,MATCH(B240,'План ввода основ. ср-в'!B:B,0)))","v":0},"",{"$f":"IF(ISNA(INDEX('План ввода основ. ср-в'!S:S,MATCH(B240,'План ввода основ. ср-в'!B:B,0))),0,INDEX('План ввода основ. ср-в'!S:S,MATCH(B240,'План ввода основ. ср-в'!B:B,0)))","v":0},12,null,0,{"$f":"IF(ISNA(INDEX('План ввода основ. ср-в'!V:V,MATCH(B240,'План ввода основ. ср-в'!B:B,0))),0,INDEX('План ввода основ. ср-в'!V:V,MATCH(B240,'План ввода основ. ср-в'!B:B,0)))","v":0},{"$f":"IF(ISNA(INDEX('План ввода основ. ср-в'!W:W,MATCH(B240,'План ввода основ. ср-в'!B:B,0))),0,INDEX('План ввода основ. ср-в'!W:W,MATCH(B240,'План ввода основ. ср-в'!B:B,0)))","v":0},{"$f":"IF(ISNA(INDEX('План ввода основ. ср-в'!X:X,MATCH(B240,'План ввода основ. ср-в'!B:B,0))),0,INDEX('План ввода основ. ср-в'!X:X,MATCH(B240,'План ввода основ. ср-в'!B:B,0)))","v":0},{"$f":"IF(ISNA(INDEX('План ввода основ. ср-в'!Y:Y,MATCH(B240,'План ввода основ. ср-в'!B:B,0))),0,INDEX('План ввода основ. ср-в'!Y:Y,MATCH(B240,'План ввода основ. ср-в'!B:B,0)))","v":0},0,{"$f":"IF(ISNA(INDEX('План ввода основ. ср-в'!Z:Z,MATCH(B240,'План ввода основ. ср-в'!B:B,0))),0,INDEX('План ввода основ. ср-в'!Z:Z,MATCH(B240,'План ввода основ. ср-в'!B:B,0)))","v":60},{"$f":"IF(ISNA(INDEX('План ввода основ. ср-в'!AA:AA,MATCH(B240,'План ввода основ. ср-в'!B:B,0))),0,INDEX('План ввода основ. ср-в'!AA:AA,MATCH(B240,'План ввода основ. ср-в'!B:B,0)))","v":0},{"$f":"IF(ISNA(INDEX('План ввода основ. ср-в'!AB:AB,MATCH(B240,'План ввода основ. ср-в'!B:B,0))),0,INDEX('План ввода основ. ср-в'!AB:AB,MATCH(B240,'План ввода основ. ср-в'!B:B,0)))","v":0},{"$f":"IF(ISNA(INDEX('План ввода основ. ср-в'!AC:AC,MATCH(B240,'План ввода основ. ср-в'!B:B,0))),0,INDEX('План ввода основ. ср-в'!AC:AC,MATCH(B240,'План ввода основ. ср-в'!B:B,0)))","v":0},60]
[219,"Реконструкция  КЛ-110кВ от ГПП-1000000 до ГПП-2000000",null,null,null,null,null,null,0,null,0,0,null,0,12.8,null,0,25,null,0,0,null,0,37.799999999999997,null,0,258.98305084745766,{"$f":"IF(ISNA(INDEX('План ввода основ. ср-в'!F:F,MATCH(B241,'План ввода основ. ср-в'!B:B,0))),0,INDEX('План ввода основ. ср-в'!F:F,MATCH(B241,'План ввода основ. ср-в'!B:B,0)))","v":0},null,{"$f":"IF(ISNA(INDEX('План ввода основ. ср-в'!E:E,MATCH(B241,'План ввода основ. ср-в'!B:B,0))),0,INDEX('План ввода основ. ср-в'!E:E,MATCH(B241,'План ввода основ. ср-в'!B:B,0)))","v":0},{"$f":"IF(ISNA(INDEX('План ввода основ. ср-в'!H:H,MATCH(B241,'План ввода основ. ср-в'!B:B,0))),0,INDEX('План ввода основ. ср-в'!H:H,MATCH(B241,'План ввода основ. ср-в'!B:B,0)))","v":0},null,{"$f":"IF(ISNA(INDEX('План ввода основ. ср-в'!G:G,MATCH(B241,'План ввода основ. ср-в'!B:B,0))),0,INDEX('План ввода основ. ср-в'!G:G,MATCH(B241,'План ввода основ. ср-в'!B:B,0)))","v":0},{"$f":"IF(ISNA(INDEX('План ввода основ. ср-в'!J:J,MATCH(B241,'План ввода основ. ср-в'!B:B,0))),0,INDEX('План ввода основ. ср-в'!J:J,MATCH(B241,'План ввода основ. ср-в'!B:B,0)))","v":0},null,{"$f":"IF(ISNA(INDEX('План ввода основ. ср-в'!I:I,MATCH(B241,'План ввода основ. ср-в'!B:B,0))),0,INDEX('План ввода основ. ср-в'!I:I,MATCH(B241,'План ввода основ. ср-в'!B:B,0)))","v":0},{"$f":"IF(ISNA(INDEX('План ввода основ. ср-в'!L:L,MATCH(B241,'План ввода основ. ср-в'!B:B,0))),0,INDEX('План ввода основ. ср-в'!L:L,MATCH(B241,'План ввода основ. ср-в'!B:B,0)))","v":0},null,{"$f":"IF(ISNA(INDEX('План ввода основ. ср-в'!K:K,MATCH(B241,'План ввода основ. ср-в'!B:B,0))),0,INDEX('План ввода основ. ср-в'!K:K,MATCH(B241,'План ввода основ. ср-в'!B:B,0)))","v":0},0,"/",0,{"$f":"IF(ISNA(INDEX('План ввода основ. ср-в'!N:N,MATCH(B241,'План ввода основ. ср-в'!B:B,0))),0,INDEX('План ввода основ. ср-в'!N:N,MATCH(B241,'План ввода основ. ср-в'!B:B,0)))","v":0},"",{"$f":"IF(ISNA(INDEX('План ввода основ. ср-в'!M:M,MATCH(B241,'План ввода основ. ср-в'!B:B,0))),0,INDEX('План ввода основ. ср-в'!M:M,MATCH(B241,'План ввода основ. ср-в'!B:B,0)))","v":0},{"$f":"IF(ISNA(INDEX('План ввода основ. ср-в'!P:P,MATCH(B241,'План ввода основ. ср-в'!B:B,0))),0,INDEX('План ввода основ. ср-в'!P:P,MATCH(B241,'План ввода основ. ср-в'!B:B,0)))","v":12.8},"/",{"$f":"IF(ISNA(INDEX('План ввода основ. ср-в'!O:O,MATCH(B241,'План ввода основ. ср-в'!B:B,0))),0,INDEX('План ввода основ. ср-в'!O:O,MATCH(B241,'План ввода основ. ср-в'!B:B,0)))","v":0},{"$f":"IF(ISNA(INDEX('План ввода основ. ср-в'!R:R,MATCH(B241,'План ввода основ. ср-в'!B:B,0))),0,INDEX('План ввода основ. ср-в'!R:R,MATCH(B241,'План ввода основ. ср-в'!B:B,0)))","v":25},"/",{"$f":"IF(ISNA(INDEX('План ввода основ. ср-в'!Q:Q,MATCH(B241,'План ввода основ. ср-в'!B:B,0))),0,INDEX('План ввода основ. ср-в'!Q:Q,MATCH(B241,'План ввода основ. ср-в'!B:B,0)))","v":0},{"$f":"IF(ISNA(INDEX('План ввода основ. ср-в'!T:T,MATCH(B241,'План ввода основ. ср-в'!B:B,0))),0,INDEX('План ввода основ. ср-в'!T:T,MATCH(B241,'План ввода основ. ср-в'!B:B,0)))","v":0},"",{"$f":"IF(ISNA(INDEX('План ввода основ. ср-в'!S:S,MATCH(B241,'План ввода основ. ср-в'!B:B,0))),0,INDEX('План ввода основ. ср-в'!S:S,MATCH(B241,'План ввода основ. ср-в'!B:B,0)))","v":0},37.799999999999997,null,0,{"$f":"IF(ISNA(INDEX('План ввода основ. ср-в'!V:V,MATCH(B241,'План ввода основ. ср-в'!B:B,0))),0,INDEX('План ввода основ. ср-в'!V:V,MATCH(B241,'План ввода основ. ср-в'!B:B,0)))","v":0},{"$f":"IF(ISNA(INDEX('План ввода основ. ср-в'!W:W,MATCH(B241,'План ввода основ. ср-в'!B:B,0))),0,INDEX('План ввода основ. ср-в'!W:W,MATCH(B241,'План ввода основ. ср-в'!B:B,0)))","v":0},{"$f":"IF(ISNA(INDEX('План ввода основ. ср-в'!X:X,MATCH(B241,'План ввода основ. ср-в'!B:B,0))),0,INDEX('План ввода основ. ср-в'!X:X,MATCH(B241,'План ввода основ. ср-в'!B:B,0)))","v":0},{"$f":"IF(ISNA(INDEX('План ввода основ. ср-в'!Y:Y,MATCH(B241,'План ввода основ. ср-в'!B:B,0))),0,INDEX('План ввода основ. ср-в'!Y:Y,MATCH(B241,'План ввода основ. ср-в'!B:B,0)))","v":0},0,{"$f":"IF(ISNA(INDEX('План ввода основ. ср-в'!Z:Z,MATCH(B241,'План ввода основ. ср-в'!B:B,0))),0,INDEX('План ввода основ. ср-в'!Z:Z,MATCH(B241,'План ввода основ. ср-в'!B:B,0)))","v":0},{"$f":"IF(ISNA(INDEX('План ввода основ. ср-в'!AA:AA,MATCH(B241,'План ввода основ. ср-в'!B:B,0))),0,INDEX('План ввода основ. ср-в'!AA:AA,MATCH(B241,'План ввода основ. ср-в'!B:B,0)))","v":80.000000000000014},{"$f":"IF(ISNA(INDEX('План ввода основ. ср-в'!AB:AB,MATCH(B241,'План ввода основ. ср-в'!B:B,0))),0,INDEX('План ввода основ. ср-в'!AB:AB,MATCH(B241,'План ввода основ. ср-в'!B:B,0)))","v":178.98305084745763},{"$f":"IF(ISNA(INDEX('План ввода основ. ср-в'!AC:AC,MATCH(B241,'План ввода основ. ср-в'!B:B,0))),0,INDEX('План ввода основ. ср-в'!AC:AC,MATCH(B241,'План ввода основ. ср-в'!B:B,0)))","v":0},258.98305084745766]
[220,"Реконструкция РП-10кВ и КЛ-10кВ от ГПП-2000000 для электроснабжения застройки вдоль набережной Автозаводского р-на",null,null,null,null,null,null,0,null,0,0,null,0,12,null,0,0,null,0,0,null,0,12,null,0,95,{"$f":"IF(ISNA(INDEX('План ввода основ. ср-в'!F:F,MATCH(B242,'План ввода основ. ср-в'!B:B,0))),0,INDEX('План ввода основ. ср-в'!F:F,MATCH(B242,'План ввода основ. ср-в'!B:B,0)))","v":0},null,{"$f":"IF(ISNA(INDEX('План ввода основ. ср-в'!E:E,MATCH(B242,'План ввода основ. ср-в'!B:B,0))),0,INDEX('План ввода основ. ср-в'!E:E,MATCH(B242,'План ввода основ. ср-в'!B:B,0)))","v":0},{"$f":"IF(ISNA(INDEX('План ввода основ. ср-в'!H:H,MATCH(B242,'План ввода основ. ср-в'!B:B,0))),0,INDEX('План ввода основ. ср-в'!H:H,MATCH(B242,'План ввода основ. ср-в'!B:B,0)))","v":0},null,{"$f":"IF(ISNA(INDEX('План ввода основ. ср-в'!G:G,MATCH(B242,'План ввода основ. ср-в'!B:B,0))),0,INDEX('План ввода основ. ср-в'!G:G,MATCH(B242,'План ввода основ. ср-в'!B:B,0)))","v":0},{"$f":"IF(ISNA(INDEX('План ввода основ. ср-в'!J:J,MATCH(B242,'План ввода основ. ср-в'!B:B,0))),0,INDEX('План ввода основ. ср-в'!J:J,MATCH(B242,'План ввода основ. ср-в'!B:B,0)))","v":0},null,{"$f":"IF(ISNA(INDEX('План ввода основ. ср-в'!I:I,MATCH(B242,'План ввода основ. ср-в'!B:B,0))),0,INDEX('План ввода основ. ср-в'!I:I,MATCH(B242,'План ввода основ. ср-в'!B:B,0)))","v":0},{"$f":"IF(ISNA(INDEX('План ввода основ. ср-в'!L:L,MATCH(B242,'План ввода основ. ср-в'!B:B,0))),0,INDEX('План ввода основ. ср-в'!L:L,MATCH(B242,'План ввода основ. ср-в'!B:B,0)))","v":0},null,{"$f":"IF(ISNA(INDEX('План ввода основ. ср-в'!K:K,MATCH(B242,'План ввода основ. ср-в'!B:B,0))),0,INDEX('План ввода основ. ср-в'!K:K,MATCH(B242,'План ввода основ. ср-в'!B:B,0)))","v":0},0,"/",0,{"$f":"IF(ISNA(INDEX('План ввода основ. ср-в'!N:N,MATCH(B242,'План ввода основ. ср-в'!B:B,0))),0,INDEX('План ввода основ. ср-в'!N:N,MATCH(B242,'План ввода основ. ср-в'!B:B,0)))","v":0},"",{"$f":"IF(ISNA(INDEX('План ввода основ. ср-в'!M:M,MATCH(B242,'План ввода основ. ср-в'!B:B,0))),0,INDEX('План ввода основ. ср-в'!M:M,MATCH(B242,'План ввода основ. ср-в'!B:B,0)))","v":0},{"$f":"IF(ISNA(INDEX('План ввода основ. ср-в'!P:P,MATCH(B242,'План ввода основ. ср-в'!B:B,0))),0,INDEX('План ввода основ. ср-в'!P:P,MATCH(B242,'План ввода основ. ср-в'!B:B,0)))","v":12},"/",{"$f":"IF(ISNA(INDEX('План ввода основ. ср-в'!O:O,MATCH(B242,'План ввода основ. ср-в'!B:B,0))),0,INDEX('План ввода основ. ср-в'!O:O,MATCH(B242,'План ввода основ. ср-в'!B:B,0)))","v":0},{"$f":"IF(ISNA(INDEX('План ввода основ. ср-в'!R:R,MATCH(B242,'План ввода основ. ср-в'!B:B,0))),0,INDEX('План ввода основ. ср-в'!R:R,MATCH(B242,'План ввода основ. ср-в'!B:B,0)))","v":0},"",{"$f":"IF(ISNA(INDEX('План ввода основ. ср-в'!Q:Q,MATCH(B242,'План ввода основ. ср-в'!B:B,0))),0,INDEX('План ввода основ. ср-в'!Q:Q,MATCH(B242,'План ввода основ. ср-в'!B:B,0)))","v":0},{"$f":"IF(ISNA(INDEX('План ввода основ. ср-в'!T:T,MATCH(B242,'План ввода основ. ср-в'!B:B,0))),0,INDEX('План ввода основ. ср-в'!T:T,MATCH(B242,'План ввода основ. ср-в'!B:B,0)))","v":0},"",{"$f":"IF(ISNA(INDEX('План ввода основ. ср-в'!S:S,MATCH(B242,'План ввода основ. ср-в'!B:B,0))),0,INDEX('План ввода основ. ср-в'!S:S,MATCH(B242,'План ввода основ. ср-в'!B:B,0)))","v":0},12,null,0,{"$f":"IF(ISNA(INDEX('План ввода основ. ср-в'!V:V,MATCH(B242,'План ввода основ. ср-в'!B:B,0))),0,INDEX('План ввода основ. ср-в'!V:V,MATCH(B242,'План ввода основ. ср-в'!B:B,0)))","v":0},{"$f":"IF(ISNA(INDEX('План ввода основ. ср-в'!W:W,MATCH(B242,'План ввода основ. ср-в'!B:B,0))),0,INDEX('План ввода основ. ср-в'!W:W,MATCH(B242,'План ввода основ. ср-в'!B:B,0)))","v":0},{"$f":"IF(ISNA(INDEX('План ввода основ. ср-в'!X:X,MATCH(B242,'План ввода основ. ср-в'!B:B,0))),0,INDEX('План ввода основ. ср-в'!X:X,MATCH(B242,'План ввода основ. ср-в'!B:B,0)))","v":0},{"$f":"IF(ISNA(INDEX('План ввода основ. ср-в'!Y:Y,MATCH(B242,'План ввода основ. ср-в'!B:B,0))),0,INDEX('План ввода основ. ср-в'!Y:Y,MATCH(B242,'План ввода основ. ср-в'!B:B,0)))","v":0},0,{"$f":"IF(ISNA(INDEX('План ввода основ. ср-в'!Z:Z,MATCH(B242,'План ввода основ. ср-в'!B:B,0))),0,INDEX('План ввода основ. ср-в'!Z:Z,MATCH(B242,'План ввода основ. ср-в'!B:B,0)))","v":0},{"$f":"IF(ISNA(INDEX('План ввода основ. ср-в'!AA:AA,MATCH(B242,'План ввода основ. ср-в'!B:B,0))),0,INDEX('План ввода основ. ср-в'!AA:AA,MATCH(B242,'План ввода основ. ср-в'!B:B,0)))","v":95},{"$f":"IF(ISNA(INDEX('План ввода основ. ср-в'!AB:AB,MATCH(B242,'План ввода основ. ср-в'!B:B,0))),0,INDEX('План ввода основ. ср-в'!AB:AB,MATCH(B242,'План ввода основ. ср-в'!B:B,0)))","v":0},{"$f":"IF(ISNA(INDEX('План ввода основ. ср-в'!AC:AC,MATCH(B242,'План ввода основ. ср-в'!B:B,0))),0,INDEX('План ввода основ. ср-в'!AC:AC,MATCH(B242,'План ввода основ. ср-в'!B:B,0)))","v":0},95]
[221,"г.Чапаевск",null,null,null,null,null,null,0,null,0,0,null,0,0,null,0,0,null,0,0,null,0,0,null,0,0,{"$f":"IF(ISNA(INDEX('План ввода основ. ср-в'!F:F,MATCH(B243,'План ввода основ. ср-в'!B:B,0))),0,INDEX('План ввода основ. ср-в'!F:F,MATCH(B243,'План ввода основ. ср-в'!B:B,0)))","v":0},null,{"$f":"IF(ISNA(INDEX('План ввода основ. ср-в'!E:E,MATCH(B243,'План ввода основ. ср-в'!B:B,0))),0,INDEX('План ввода основ. ср-в'!E:E,MATCH(B243,'План ввода основ. ср-в'!B:B,0)))","v":0},{"$f":"IF(ISNA(INDEX('План ввода основ. ср-в'!H:H,MATCH(B243,'План ввода основ. ср-в'!B:B,0))),0,INDEX('План ввода основ. ср-в'!H:H,MATCH(B243,'План ввода основ. ср-в'!B:B,0)))","v":0},null,{"$f":"IF(ISNA(INDEX('План ввода основ. ср-в'!G:G,MATCH(B243,'План ввода основ. ср-в'!B:B,0))),0,INDEX('План ввода основ. ср-в'!G:G,MATCH(B243,'План ввода основ. ср-в'!B:B,0)))","v":0},{"$f":"IF(ISNA(INDEX('План ввода основ. ср-в'!J:J,MATCH(B243,'План ввода основ. ср-в'!B:B,0))),0,INDEX('План ввода основ. ср-в'!J:J,MATCH(B243,'План ввода основ. ср-в'!B:B,0)))","v":0},null,{"$f":"IF(ISNA(INDEX('План ввода основ. ср-в'!I:I,MATCH(B243,'План ввода основ. ср-в'!B:B,0))),0,INDEX('План ввода основ. ср-в'!I:I,MATCH(B243,'План ввода основ. ср-в'!B:B,0)))","v":0},{"$f":"IF(ISNA(INDEX('План ввода основ. ср-в'!L:L,MATCH(B243,'План ввода основ. ср-в'!B:B,0))),0,INDEX('План ввода основ. ср-в'!L:L,MATCH(B243,'План ввода основ. ср-в'!B:B,0)))","v":0},null,{"$f":"IF(ISNA(INDEX('План ввода основ. ср-в'!K:K,MATCH(B243,'План ввода основ. ср-в'!B:B,0))),0,INDEX('План ввода основ. ср-в'!K:K,MATCH(B243,'План ввода основ. ср-в'!B:B,0)))","v":0},0,"/",0,{"$f":"IF(ISNA(INDEX('План ввода основ. ср-в'!N:N,MATCH(B243,'План ввода основ. ср-в'!B:B,0))),0,INDEX('План ввода основ. ср-в'!N:N,MATCH(B243,'План ввода основ. ср-в'!B:B,0)))","v":0},"",{"$f":"IF(ISNA(INDEX('План ввода основ. ср-в'!M:M,MATCH(B243,'План ввода основ. ср-в'!B:B,0))),0,INDEX('План ввода основ. ср-в'!M:M,MATCH(B243,'План ввода основ. ср-в'!B:B,0)))","v":0},{"$f":"IF(ISNA(INDEX('План ввода основ. ср-в'!P:P,MATCH(B243,'План ввода основ. ср-в'!B:B,0))),0,INDEX('План ввода основ. ср-в'!P:P,MATCH(B243,'План ввода основ. ср-в'!B:B,0)))","v":0},"",{"$f":"IF(ISNA(INDEX('План ввода основ. ср-в'!O:O,MATCH(B243,'План ввода основ. ср-в'!B:B,0))),0,INDEX('План ввода основ. ср-в'!O:O,MATCH(B243,'План ввода основ. ср-в'!B:B,0)))","v":0},{"$f":"IF(ISNA(INDEX('План ввода основ. ср-в'!R:R,MATCH(B243,'План ввода основ. ср-в'!B:B,0))),0,INDEX('План ввода основ. ср-в'!R:R,MATCH(B243,'План ввода основ. ср-в'!B:B,0)))","v":0},"",{"$f":"IF(ISNA(INDEX('План ввода основ. ср-в'!Q:Q,MATCH(B243,'План ввода основ. ср-в'!B:B,0))),0,INDEX('План ввода основ. ср-в'!Q:Q,MATCH(B243,'План ввода основ. ср-в'!B:B,0)))","v":0},{"$f":"IF(ISNA(INDEX('План ввода основ. ср-в'!T:T,MATCH(B243,'План ввода основ. ср-в'!B:B,0))),0,INDEX('План ввода основ. ср-в'!T:T,MATCH(B243,'План ввода основ. ср-в'!B:B,0)))","v":0},"",{"$f":"IF(ISNA(INDEX('План ввода основ. ср-в'!S:S,MATCH(B243,'План ввода основ. ср-в'!B:B,0))),0,INDEX('План ввода основ. ср-в'!S:S,MATCH(B243,'План ввода основ. ср-в'!B:B,0)))","v":0},0,null,0,{"$f":"IF(ISNA(INDEX('План ввода основ. ср-в'!V:V,MATCH(B243,'План ввода основ. ср-в'!B:B,0))),0,INDEX('План ввода основ. ср-в'!V:V,MATCH(B243,'План ввода основ. ср-в'!B:B,0)))","v":0},{"$f":"IF(ISNA(INDEX('План ввода основ. ср-в'!W:W,MATCH(B243,'План ввода основ. ср-в'!B:B,0))),0,INDEX('План ввода основ. ср-в'!W:W,MATCH(B243,'План ввода основ. ср-в'!B:B,0)))","v":0},{"$f":"IF(ISNA(INDEX('План ввода основ. ср-в'!X:X,MATCH(B243,'План ввода основ. ср-в'!B:B,0))),0,INDEX('План ввода основ. ср-в'!X:X,MATCH(B243,'План ввода основ. ср-в'!B:B,0)))","v":0},{"$f":"IF(ISNA(INDEX('План ввода основ. ср-в'!Y:Y,MATCH(B243,'План ввода основ. ср-в'!B:B,0))),0,INDEX('План ввода основ. ср-в'!Y:Y,MATCH(B243,'План ввода основ. ср-в'!B:B,0)))","v":0},0,{"$f":"IF(ISNA(INDEX('План ввода основ. ср-в'!Z:Z,MATCH(B243,'План ввода основ. ср-в'!B:B,0))),0,INDEX('План ввода основ. ср-в'!Z:Z,MATCH(B243,'План ввода основ. ср-в'!B:B,0)))","v":0},{"$f":"IF(ISNA(INDEX('План ввода основ. ср-в'!AA:AA,MATCH(B243,'План ввода основ. ср-в'!B:B,0))),0,INDEX('План ввода основ. ср-в'!AA:AA,MATCH(B243,'План ввода основ. ср-в'!B:B,0)))","v":0},{"$f":"IF(ISNA(INDEX('План ввода основ. ср-в'!AB:AB,MATCH(B243,'План ввода основ. ср-в'!B:B,0))),0,INDEX('План ввода основ. ср-в'!AB:AB,MATCH(B243,'План ввода основ. ср-в'!B:B,0)))","v":0},{"$f":"IF(ISNA(INDEX('План ввода основ. ср-в'!AC:AC,MATCH(B243,'План ввода основ. ср-в'!B:B,0))),0,INDEX('План ввода основ. ср-в'!AC:AC,MATCH(B243,'План ввода основ. ср-в'!B:B,0)))","v":0},0]
[222,"Реконструкция КЛ-6кВ Ф-\"Насосная 2\"",null,null,null,null,null,null,0.7,null,0,0,null,0,0,null,0,0,null,0,0,null,0,0.7,null,0,7.6271186440677967,{"$f":"IF(ISNA(INDEX('План ввода основ. ср-в'!F:F,MATCH(B244,'План ввода основ. ср-в'!B:B,0))),0,INDEX('План ввода основ. ср-в'!F:F,MATCH(B244,'План ввода основ. ср-в'!B:B,0)))","v":0},null,{"$f":"IF(ISNA(INDEX('План ввода основ. ср-в'!E:E,MATCH(B244,'План ввода основ. ср-в'!B:B,0))),0,INDEX('План ввода основ. ср-в'!E:E,MATCH(B244,'План ввода основ. ср-в'!B:B,0)))","v":0},{"$f":"IF(ISNA(INDEX('План ввода основ. ср-в'!H:H,MATCH(B244,'План ввода основ. ср-в'!B:B,0))),0,INDEX('План ввода основ. ср-в'!H:H,MATCH(B244,'План ввода основ. ср-в'!B:B,0)))","v":0},null,{"$f":"IF(ISNA(INDEX('План ввода основ. ср-в'!G:G,MATCH(B244,'План ввода основ. ср-в'!B:B,0))),0,INDEX('План ввода основ. ср-в'!G:G,MATCH(B244,'План ввода основ. ср-в'!B:B,0)))","v":0},{"$f":"IF(ISNA(INDEX('План ввода основ. ср-в'!J:J,MATCH(B244,'План ввода основ. ср-в'!B:B,0))),0,INDEX('План ввода основ. ср-в'!J:J,MATCH(B244,'План ввода основ. ср-в'!B:B,0)))","v":0},null,{"$f":"IF(ISNA(INDEX('План ввода основ. ср-в'!I:I,MATCH(B244,'План ввода основ. ср-в'!B:B,0))),0,INDEX('План ввода основ. ср-в'!I:I,MATCH(B244,'План ввода основ. ср-в'!B:B,0)))","v":0},{"$f":"IF(ISNA(INDEX('План ввода основ. ср-в'!L:L,MATCH(B244,'План ввода основ. ср-в'!B:B,0))),0,INDEX('План ввода основ. ср-в'!L:L,MATCH(B244,'План ввода основ. ср-в'!B:B,0)))","v":0.7},"/",{"$f":"IF(ISNA(INDEX('План ввода основ. ср-в'!K:K,MATCH(B244,'План ввода основ. ср-в'!B:B,0))),0,INDEX('План ввода основ. ср-в'!K:K,MATCH(B244,'План ввода основ. ср-в'!B:B,0)))","v":0},0.7,"/",0,{"$f":"IF(ISNA(INDEX('План ввода основ. ср-в'!N:N,MATCH(B244,'План ввода основ. ср-в'!B:B,0))),0,INDEX('План ввода основ. ср-в'!N:N,MATCH(B244,'План ввода основ. ср-в'!B:B,0)))","v":0},"",{"$f":"IF(ISNA(INDEX('План ввода основ. ср-в'!M:M,MATCH(B244,'План ввода основ. ср-в'!B:B,0))),0,INDEX('План ввода основ. ср-в'!M:M,MATCH(B244,'План ввода основ. ср-в'!B:B,0)))","v":0},{"$f":"IF(ISNA(INDEX('План ввода основ. ср-в'!P:P,MATCH(B244,'План ввода основ. ср-в'!B:B,0))),0,INDEX('План ввода основ. ср-в'!P:P,MATCH(B244,'План ввода основ. ср-в'!B:B,0)))","v":0},"",{"$f":"IF(ISNA(INDEX('План ввода основ. ср-в'!O:O,MATCH(B244,'План ввода основ. ср-в'!B:B,0))),0,INDEX('План ввода основ. ср-в'!O:O,MATCH(B244,'План ввода основ. ср-в'!B:B,0)))","v":0},{"$f":"IF(ISNA(INDEX('План ввода основ. ср-в'!R:R,MATCH(B244,'План ввода основ. ср-в'!B:B,0))),0,INDEX('План ввода основ. ср-в'!R:R,MATCH(B244,'План ввода основ. ср-в'!B:B,0)))","v":0},"",{"$f":"IF(ISNA(INDEX('План ввода основ. ср-в'!Q:Q,MATCH(B244,'План ввода основ. ср-в'!B:B,0))),0,INDEX('План ввода основ. ср-в'!Q:Q,MATCH(B244,'План ввода основ. ср-в'!B:B,0)))","v":0},{"$f":"IF(ISNA(INDEX('План ввода основ. ср-в'!T:T,MATCH(B244,'План ввода основ. ср-в'!B:B,0))),0,INDEX('План ввода основ. ср-в'!T:T,MATCH(B244,'План ввода основ. ср-в'!B:B,0)))","v":0},"",{"$f":"IF(ISNA(INDEX('План ввода основ. ср-в'!S:S,MATCH(B244,'План ввода основ. ср-в'!B:B,0))),0,INDEX('План ввода основ. ср-в'!S:S,MATCH(B244,'План ввода основ. ср-в'!B:B,0)))","v":0},0.7,null,0,{"$f":"IF(ISNA(INDEX('План ввода основ. ср-в'!V:V,MATCH(B244,'План ввода основ. ср-в'!B:B,0))),0,INDEX('План ввода основ. ср-в'!V:V,MATCH(B244,'План ввода основ. ср-в'!B:B,0)))","v":0},{"$f":"IF(ISNA(INDEX('План ввода основ. ср-в'!W:W,MATCH(B244,'План ввода основ. ср-в'!B:B,0))),0,INDEX('План ввода основ. ср-в'!W:W,MATCH(B244,'План ввода основ. ср-в'!B:B,0)))","v":1.1440677966101696},{"$f":"IF(ISNA(INDEX('План ввода основ. ср-в'!X:X,MATCH(B244,'План ввода основ. ср-в'!B:B,0))),0,INDEX('План ввода основ. ср-в'!X:X,MATCH(B244,'План ввода основ. ср-в'!B:B,0)))","v":2.6694915254237288},{"$f":"IF(ISNA(INDEX('План ввода основ. ср-в'!Y:Y,MATCH(B244,'План ввода основ. ср-в'!B:B,0))),0,INDEX('План ввода основ. ср-в'!Y:Y,MATCH(B244,'План ввода основ. ср-в'!B:B,0)))","v":3.8135593220338984},7.6271186440677967,{"$f":"IF(ISNA(INDEX('План ввода основ. ср-в'!Z:Z,MATCH(B244,'План ввода основ. ср-в'!B:B,0))),0,INDEX('План ввода основ. ср-в'!Z:Z,MATCH(B244,'План ввода основ. ср-в'!B:B,0)))","v":0},{"$f":"IF(ISNA(INDEX('План ввода основ. ср-в'!AA:AA,MATCH(B244,'План ввода основ. ср-в'!B:B,0))),0,INDEX('План ввода основ. ср-в'!AA:AA,MATCH(B244,'План ввода основ. ср-в'!B:B,0)))","v":0},{"$f":"IF(ISNA(INDEX('План ввода основ. ср-в'!AB:AB,MATCH(B244,'План ввода основ. ср-в'!B:B,0))),0,INDEX('План ввода основ. ср-в'!AB:AB,MATCH(B244,'План ввода основ. ср-в'!B:B,0)))","v":0},{"$f":"IF(ISNA(INDEX('План ввода основ. ср-в'!AC:AC,MATCH(B244,'План ввода основ. ср-в'!B:B,0))),0,INDEX('План ввода основ. ср-в'!AC:AC,MATCH(B244,'План ввода основ. ср-в'!B:B,0)))","v":0},7.6271186440677967]
[223,"Реконструкция КЛ-10 кВ от ЗТП Х5\", с реконструкцией ЗТП \"Х5\"",null,null,null,null,null,null,4.5,null,0.8,0,null,0,0,null,0,0,null,0,0,null,0,4.5,null,0.8,35.154237288135597,{"$f":"IF(ISNA(INDEX('План ввода основ. ср-в'!F:F,MATCH(B245,'План ввода основ. ср-в'!B:B,0))),0,INDEX('План ввода основ. ср-в'!F:F,MATCH(B245,'План ввода основ. ср-в'!B:B,0)))","v":0},null,{"$f":"IF(ISNA(INDEX('План ввода основ. ср-в'!E:E,MATCH(B245,'План ввода основ. ср-в'!B:B,0))),0,INDEX('План ввода основ. ср-в'!E:E,MATCH(B245,'План ввода основ. ср-в'!B:B,0)))","v":0},{"$f":"IF(ISNA(INDEX('План ввода основ. ср-в'!H:H,MATCH(B245,'План ввода основ. ср-в'!B:B,0))),0,INDEX('План ввода основ. ср-в'!H:H,MATCH(B245,'План ввода основ. ср-в'!B:B,0)))","v":0},null,{"$f":"IF(ISNA(INDEX('План ввода основ. ср-в'!G:G,MATCH(B245,'План ввода основ. ср-в'!B:B,0))),0,INDEX('План ввода основ. ср-в'!G:G,MATCH(B245,'План ввода основ. ср-в'!B:B,0)))","v":0},{"$f":"IF(ISNA(INDEX('План ввода основ. ср-в'!J:J,MATCH(B245,'План ввода основ. ср-в'!B:B,0))),0,INDEX('План ввода основ. ср-в'!J:J,MATCH(B245,'План ввода основ. ср-в'!B:B,0)))","v":0},null,{"$f":"IF(ISNA(INDEX('План ввода основ. ср-в'!I:I,MATCH(B245,'План ввода основ. ср-в'!B:B,0))),0,INDEX('План ввода основ. ср-в'!I:I,MATCH(B245,'План ввода основ. ср-в'!B:B,0)))","v":0},{"$f":"IF(ISNA(INDEX('План ввода основ. ср-в'!L:L,MATCH(B245,'План ввода основ. ср-в'!B:B,0))),0,INDEX('План ввода основ. ср-в'!L:L,MATCH(B245,'План ввода основ. ср-в'!B:B,0)))","v":4.5},"/",{"$f":"IF(ISNA(INDEX('План ввода основ. ср-в'!K:K,MATCH(B245,'План ввода основ. ср-в'!B:B,0))),0,INDEX('План ввода основ. ср-в'!K:K,MATCH(B245,'План ввода основ. ср-в'!B:B,0)))","v":0.8},4.5,"/",0.8,{"$f":"IF(ISNA(INDEX('План ввода основ. ср-в'!N:N,MATCH(B245,'План ввода основ. ср-в'!B:B,0))),0,INDEX('План ввода основ. ср-в'!N:N,MATCH(B245,'План ввода основ. ср-в'!B:B,0)))","v":0},null,{"$f":"IF(ISNA(INDEX('План ввода основ. ср-в'!M:M,MATCH(B245,'План ввода основ. ср-в'!B:B,0))),0,INDEX('План ввода основ. ср-в'!M:M,MATCH(B245,'План ввода основ. ср-в'!B:B,0)))","v":0},{"$f":"IF(ISNA(INDEX('План ввода основ. ср-в'!P:P,MATCH(B245,'План ввода основ. ср-в'!B:B,0))),0,INDEX('План ввода основ. ср-в'!P:P,MATCH(B245,'План ввода основ. ср-в'!B:B,0)))","v":0},null,{"$f":"IF(ISNA(INDEX('План ввода основ. ср-в'!O:O,MATCH(B245,'План ввода основ. ср-в'!B:B,0))),0,INDEX('План ввода основ. ср-в'!O:O,MATCH(B245,'План ввода основ. ср-в'!B:B,0)))","v":0},{"$f":"IF(ISNA(INDEX('План ввода основ. ср-в'!R:R,MATCH(B245,'План ввода основ. ср-в'!B:B,0))),0,INDEX('План ввода основ. ср-в'!R:R,MATCH(B245,'План ввода основ. ср-в'!B:B,0)))","v":0},null,{"$f":"IF(ISNA(INDEX('План ввода основ. ср-в'!Q:Q,MATCH(B245,'План ввода основ. ср-в'!B:B,0))),0,INDEX('План ввода основ. ср-в'!Q:Q,MATCH(B245,'План ввода основ. ср-в'!B:B,0)))","v":0},{"$f":"IF(ISNA(INDEX('План ввода основ. ср-в'!T:T,MATCH(B245,'План ввода основ. ср-в'!B:B,0))),0,INDEX('План ввода основ. ср-в'!T:T,MATCH(B245,'План ввода основ. ср-в'!B:B,0)))","v":0},null,{"$f":"IF(ISNA(INDEX('План ввода основ. ср-в'!S:S,MATCH(B245,'План ввода основ. ср-в'!B:B,0))),0,INDEX('План ввода основ. ср-в'!S:S,MATCH(B245,'План ввода основ. ср-в'!B:B,0)))","v":0},4.5,null,0.8,null,{"$f":"IF(ISNA(INDEX('План ввода основ. ср-в'!W:W,MATCH(B245,'План ввода основ. ср-в'!B:B,0))),0,INDEX('План ввода основ. ср-в'!W:W,MATCH(B245,'План ввода основ. ср-в'!B:B,0)))","v":5.2731355932203394},{"$f":"IF(ISNA(INDEX('План ввода основ. ср-в'!X:X,MATCH(B245,'План ввода основ. ср-в'!B:B,0))),0,INDEX('План ввода основ. ср-в'!X:X,MATCH(B245,'План ввода основ. ср-в'!B:B,0)))","v":12.303983050847458},{"$f":"IF(ISNA(INDEX('План ввода основ. ср-в'!Y:Y,MATCH(B245,'План ввода основ. ср-в'!B:B,0))),0,INDEX('План ввода основ. ср-в'!Y:Y,MATCH(B245,'План ввода основ. ср-в'!B:B,0)))","v":17.577118644067799},35.154237288135597,{"$f":"IF(ISNA(INDEX('План ввода основ. ср-в'!Z:Z,MATCH(B245,'План ввода основ. ср-в'!B:B,0))),0,INDEX('План ввода основ. ср-в'!Z:Z,MATCH(B245,'План ввода основ. ср-в'!B:B,0)))","v":0},{"$f":"IF(ISNA(INDEX('План ввода основ. ср-в'!AA:AA,MATCH(B245,'План ввода основ. ср-в'!B:B,0))),0,INDEX('План ввода основ. ср-в'!AA:AA,MATCH(B245,'План ввода основ. ср-в'!B:B,0)))","v":0},{"$f":"IF(ISNA(INDEX('План ввода основ. ср-в'!AB:AB,MATCH(B245,'План ввода основ. ср-в'!B:B,0))),0,INDEX('План ввода основ. ср-в'!AB:AB,MATCH(B245,'План ввода основ. ср-в'!B:B,0)))","v":0},{"$f":"IF(ISNA(INDEX('План ввода основ. ср-в'!AC:AC,MATCH(B245,'План ввода основ. ср-в'!B:B,0))),0,INDEX('План ввода основ. ср-в'!AC:AC,MATCH(B245,'План ввода основ. ср-в'!B:B,0)))","v":0},35.154237288135597]
[224,"Реконструкция КЛ-10кВ от ЦРП-1",null,null,null,null,null,null,4,null,0,4,null,0,0,null,0,0,null,0,0,null,0,8,null,0,28.8135593220339,{"$f":"IF(ISNA(INDEX('План ввода основ. ср-в'!F:F,MATCH(B246,'План ввода основ. ср-в'!B:B,0))),0,INDEX('План ввода основ. ср-в'!F:F,MATCH(B246,'План ввода основ. ср-в'!B:B,0)))","v":0},null,{"$f":"IF(ISNA(INDEX('План ввода основ. ср-в'!E:E,MATCH(B246,'План ввода основ. ср-в'!B:B,0))),0,INDEX('План ввода основ. ср-в'!E:E,MATCH(B246,'План ввода основ. ср-в'!B:B,0)))","v":0},{"$f":"IF(ISNA(INDEX('План ввода основ. ср-в'!H:H,MATCH(B246,'План ввода основ. ср-в'!B:B,0))),0,INDEX('План ввода основ. ср-в'!H:H,MATCH(B246,'План ввода основ. ср-в'!B:B,0)))","v":0},null,{"$f":"IF(ISNA(INDEX('План ввода основ. ср-в'!G:G,MATCH(B246,'План ввода основ. ср-в'!B:B,0))),0,INDEX('План ввода основ. ср-в'!G:G,MATCH(B246,'План ввода основ. ср-в'!B:B,0)))","v":0},{"$f":"IF(ISNA(INDEX('План ввода основ. ср-в'!J:J,MATCH(B246,'План ввода основ. ср-в'!B:B,0))),0,INDEX('План ввода основ. ср-в'!J:J,MATCH(B246,'План ввода основ. ср-в'!B:B,0)))","v":0},null,{"$f":"IF(ISNA(INDEX('План ввода основ. ср-в'!I:I,MATCH(B246,'План ввода основ. ср-в'!B:B,0))),0,INDEX('План ввода основ. ср-в'!I:I,MATCH(B246,'План ввода основ. ср-в'!B:B,0)))","v":0},{"$f":"IF(ISNA(INDEX('План ввода основ. ср-в'!L:L,MATCH(B246,'План ввода основ. ср-в'!B:B,0))),0,INDEX('План ввода основ. ср-в'!L:L,MATCH(B246,'План ввода основ. ср-в'!B:B,0)))","v":4},"/",{"$f":"IF(ISNA(INDEX('План ввода основ. ср-в'!K:K,MATCH(B246,'План ввода основ. ср-в'!B:B,0))),0,INDEX('План ввода основ. ср-в'!K:K,MATCH(B246,'План ввода основ. ср-в'!B:B,0)))","v":0},4,"/",0,{"$f":"IF(ISNA(INDEX('План ввода основ. ср-в'!N:N,MATCH(B246,'План ввода основ. ср-в'!B:B,0))),0,INDEX('План ввода основ. ср-в'!N:N,MATCH(B246,'План ввода основ. ср-в'!B:B,0)))","v":4},"/",{"$f":"IF(ISNA(INDEX('План ввода основ. ср-в'!M:M,MATCH(B246,'План ввода основ. ср-в'!B:B,0))),0,INDEX('План ввода основ. ср-в'!M:M,MATCH(B246,'План ввода основ. ср-в'!B:B,0)))","v":0},{"$f":"IF(ISNA(INDEX('План ввода основ. ср-в'!P:P,MATCH(B246,'План ввода основ. ср-в'!B:B,0))),0,INDEX('План ввода основ. ср-в'!P:P,MATCH(B246,'План ввода основ. ср-в'!B:B,0)))","v":0},"",{"$f":"IF(ISNA(INDEX('План ввода основ. ср-в'!O:O,MATCH(B246,'План ввода основ. ср-в'!B:B,0))),0,INDEX('План ввода основ. ср-в'!O:O,MATCH(B246,'План ввода основ. ср-в'!B:B,0)))","v":0},{"$f":"IF(ISNA(INDEX('План ввода основ. ср-в'!R:R,MATCH(B246,'План ввода основ. ср-в'!B:B,0))),0,INDEX('План ввода основ. ср-в'!R:R,MATCH(B246,'План ввода основ. ср-в'!B:B,0)))","v":0},"",{"$f":"IF(ISNA(INDEX('План ввода основ. ср-в'!Q:Q,MATCH(B246,'План ввода основ. ср-в'!B:B,0))),0,INDEX('План ввода основ. ср-в'!Q:Q,MATCH(B246,'План ввода основ. ср-в'!B:B,0)))","v":0},{"$f":"IF(ISNA(INDEX('План ввода основ. ср-в'!T:T,MATCH(B246,'План ввода основ. ср-в'!B:B,0))),0,INDEX('План ввода основ. ср-в'!T:T,MATCH(B246,'План ввода основ. ср-в'!B:B,0)))","v":0},"",{"$f":"IF(ISNA(INDEX('План ввода основ. ср-в'!S:S,MATCH(B246,'План ввода основ. ср-в'!B:B,0))),0,INDEX('План ввода основ. ср-в'!S:S,MATCH(B246,'План ввода основ. ср-в'!B:B,0)))","v":0},8,null,0,{"$f":"IF(ISNA(INDEX('План ввода основ. ср-в'!V:V,MATCH(B246,'План ввода основ. ср-в'!B:B,0))),0,INDEX('План ввода основ. ср-в'!V:V,MATCH(B246,'План ввода основ. ср-в'!B:B,0)))","v":0},{"$f":"IF(ISNA(INDEX('План ввода основ. ср-в'!W:W,MATCH(B246,'План ввода основ. ср-в'!B:B,0))),0,INDEX('План ввода основ. ср-в'!W:W,MATCH(B246,'План ввода основ. ср-в'!B:B,0)))","v":2.2881355932203391},{"$f":"IF(ISNA(INDEX('План ввода основ. ср-в'!X:X,MATCH(B246,'План ввода основ. ср-в'!B:B,0))),0,INDEX('План ввода основ. ср-в'!X:X,MATCH(B246,'План ввода основ. ср-в'!B:B,0)))","v":5.3389830508474576},{"$f":"IF(ISNA(INDEX('План ввода основ. ср-в'!Y:Y,MATCH(B246,'План ввода основ. ср-в'!B:B,0))),0,INDEX('План ввода основ. ср-в'!Y:Y,MATCH(B246,'План ввода основ. ср-в'!B:B,0)))","v":7.6271186440677967},15.254237288135593,{"$f":"IF(ISNA(INDEX('План ввода основ. ср-в'!Z:Z,MATCH(B246,'План ввода основ. ср-в'!B:B,0))),0,INDEX('План ввода основ. ср-в'!Z:Z,MATCH(B246,'План ввода основ. ср-в'!B:B,0)))","v":13.559322033898306},{"$f":"IF(ISNA(INDEX('План ввода основ. ср-в'!AA:AA,MATCH(B246,'План ввода основ. ср-в'!B:B,0))),0,INDEX('План ввода основ. ср-в'!AA:AA,MATCH(B246,'План ввода основ. ср-в'!B:B,0)))","v":0},{"$f":"IF(ISNA(INDEX('План ввода основ. ср-в'!AB:AB,MATCH(B246,'План ввода основ. ср-в'!B:B,0))),0,INDEX('План ввода основ. ср-в'!AB:AB,MATCH(B246,'План ввода основ. ср-в'!B:B,0)))","v":0},{"$f":"IF(ISNA(INDEX('План ввода основ. ср-в'!AC:AC,MATCH(B246,'План ввода основ. ср-в'!B:B,0))),0,INDEX('План ввода основ. ср-в'!AC:AC,MATCH(B246,'План ввода основ. ср-в'!B:B,0)))","v":0},28.8135593220339]
[225,"Реконструкция ТП \"Насосная-1\"",null,null,null,null,null,null,0,null,2,0,null,0,null,null,null,0,null,0,0,null,0,0,null,2,3.3898305084745761,{"$f":"IF(ISNA(INDEX('План ввода основ. ср-в'!F:F,MATCH(B247,'План ввода основ. ср-в'!B:B,0))),0,INDEX('План ввода основ. ср-в'!F:F,MATCH(B247,'План ввода основ. ср-в'!B:B,0)))","v":0},null,{"$f":"IF(ISNA(INDEX('План ввода основ. ср-в'!E:E,MATCH(B247,'План ввода основ. ср-в'!B:B,0))),0,INDEX('План ввода основ. ср-в'!E:E,MATCH(B247,'План ввода основ. ср-в'!B:B,0)))","v":0},{"$f":"IF(ISNA(INDEX('План ввода основ. ср-в'!H:H,MATCH(B247,'План ввода основ. ср-в'!B:B,0))),0,INDEX('План ввода основ. ср-в'!H:H,MATCH(B247,'План ввода основ. ср-в'!B:B,0)))","v":0},null,{"$f":"IF(ISNA(INDEX('План ввода основ. ср-в'!G:G,MATCH(B247,'План ввода основ. ср-в'!B:B,0))),0,INDEX('План ввода основ. ср-в'!G:G,MATCH(B247,'План ввода основ. ср-в'!B:B,0)))","v":0},{"$f":"IF(ISNA(INDEX('План ввода основ. ср-в'!J:J,MATCH(B247,'План ввода основ. ср-в'!B:B,0))),0,INDEX('План ввода основ. ср-в'!J:J,MATCH(B247,'План ввода основ. ср-в'!B:B,0)))","v":0},null,{"$f":"IF(ISNA(INDEX('План ввода основ. ср-в'!I:I,MATCH(B247,'План ввода основ. ср-в'!B:B,0))),0,INDEX('План ввода основ. ср-в'!I:I,MATCH(B247,'План ввода основ. ср-в'!B:B,0)))","v":0},{"$f":"IF(ISNA(INDEX('План ввода основ. ср-в'!L:L,MATCH(B247,'План ввода основ. ср-в'!B:B,0))),0,INDEX('План ввода основ. ср-в'!L:L,MATCH(B247,'План ввода основ. ср-в'!B:B,0)))","v":0},null,{"$f":"IF(ISNA(INDEX('План ввода основ. ср-в'!K:K,MATCH(B247,'План ввода основ. ср-в'!B:B,0))),0,INDEX('План ввода основ. ср-в'!K:K,MATCH(B247,'План ввода основ. ср-в'!B:B,0)))","v":2},0,null,2,{"$f":"IF(ISNA(INDEX('План ввода основ. ср-в'!N:N,MATCH(B247,'План ввода основ. ср-в'!B:B,0))),0,INDEX('План ввода основ. ср-в'!N:N,MATCH(B247,'План ввода основ. ср-в'!B:B,0)))","v":0},null,{"$f":"IF(ISNA(INDEX('План ввода основ. ср-в'!M:M,MATCH(B247,'План ввода основ. ср-в'!B:B,0))),0,INDEX('План ввода основ. ср-в'!M:M,MATCH(B247,'План ввода основ. ср-в'!B:B,0)))","v":0},{"$f":"IF(ISNA(INDEX('План ввода основ. ср-в'!P:P,MATCH(B247,'План ввода основ. ср-в'!B:B,0))),0,INDEX('План ввода основ. ср-в'!P:P,MATCH(B247,'План ввода основ. ср-в'!B:B,0)))","v":0},null,{"$f":"IF(ISNA(INDEX('План ввода основ. ср-в'!O:O,MATCH(B247,'План ввода основ. ср-в'!B:B,0))),0,INDEX('План ввода основ. ср-в'!O:O,MATCH(B247,'План ввода основ. ср-в'!B:B,0)))","v":0},{"$f":"IF(ISNA(INDEX('План ввода основ. ср-в'!R:R,MATCH(B247,'План ввода основ. ср-в'!B:B,0))),0,INDEX('План ввода основ. ср-в'!R:R,MATCH(B247,'План ввода основ. ср-в'!B:B,0)))","v":0},null,{"$f":"IF(ISNA(INDEX('План ввода основ. ср-в'!Q:Q,MATCH(B247,'План ввода основ. ср-в'!B:B,0))),0,INDEX('План ввода основ. ср-в'!Q:Q,MATCH(B247,'План ввода основ. ср-в'!B:B,0)))","v":0},{"$f":"IF(ISNA(INDEX('План ввода основ. ср-в'!T:T,MATCH(B247,'План ввода основ. ср-в'!B:B,0))),0,INDEX('План ввода основ. ср-в'!T:T,MATCH(B247,'План ввода основ. ср-в'!B:B,0)))","v":0},null,{"$f":"IF(ISNA(INDEX('План ввода основ. ср-в'!S:S,MATCH(B247,'План ввода основ. ср-в'!B:B,0))),0,INDEX('План ввода основ. ср-в'!S:S,MATCH(B247,'План ввода основ. ср-в'!B:B,0)))","v":0},0,null,2,null,{"$f":"IF(ISNA(INDEX('План ввода основ. ср-в'!W:W,MATCH(B247,'План ввода основ. ср-в'!B:B,0))),0,INDEX('План ввода основ. ср-в'!W:W,MATCH(B247,'План ввода основ. ср-в'!B:B,0)))","v":0.50847457627118642},{"$f":"IF(ISNA(INDEX('План ввода основ. ср-в'!X:X,MATCH(B247,'План ввода основ. ср-в'!B:B,0))),0,INDEX('План ввода основ. ср-в'!X:X,MATCH(B247,'План ввода основ. ср-в'!B:B,0)))","v":1.1864406779661016},{"$f":"IF(ISNA(INDEX('План ввода основ. ср-в'!Y:Y,MATCH(B247,'План ввода основ. ср-в'!B:B,0))),0,INDEX('План ввода основ. ср-в'!Y:Y,MATCH(B247,'План ввода основ. ср-в'!B:B,0)))","v":1.6949152542372883},3.3898305084745761,{"$f":"IF(ISNA(INDEX('План ввода основ. ср-в'!Z:Z,MATCH(B247,'План ввода основ. ср-в'!B:B,0))),0,INDEX('План ввода основ. ср-в'!Z:Z,MATCH(B247,'План ввода основ. ср-в'!B:B,0)))","v":0},{"$f":"IF(ISNA(INDEX('План ввода основ. ср-в'!AA:AA,MATCH(B247,'План ввода основ. ср-в'!B:B,0))),0,INDEX('План ввода основ. ср-в'!AA:AA,MATCH(B247,'План ввода основ. ср-в'!B:B,0)))","v":0},{"$f":"IF(ISNA(INDEX('План ввода основ. ср-в'!AB:AB,MATCH(B247,'План ввода основ. ср-в'!B:B,0))),0,INDEX('План ввода основ. ср-в'!AB:AB,MATCH(B247,'План ввода основ. ср-в'!B:B,0)))","v":0},{"$f":"IF(ISNA(INDEX('План ввода основ. ср-в'!AC:AC,MATCH(B247,'План ввода основ. ср-в'!B:B,0))),0,INDEX('План ввода основ. ср-в'!AC:AC,MATCH(B247,'План ввода основ. ср-в'!B:B,0)))","v":0},3.3898305084745761]
[226,"Реконструкция ТП \"Насосная-2\"",null,null,null,null,null,null,0,null,2,0,null,0,null,null,null,0,null,0,0,null,0,0,null,2,3.3898305084745761,{"$f":"IF(ISNA(INDEX('План ввода основ. ср-в'!F:F,MATCH(B248,'План ввода основ. ср-в'!B:B,0))),0,INDEX('План ввода основ. ср-в'!F:F,MATCH(B248,'План ввода основ. ср-в'!B:B,0)))","v":0},null,{"$f":"IF(ISNA(INDEX('План ввода основ. ср-в'!E:E,MATCH(B248,'План ввода основ. ср-в'!B:B,0))),0,INDEX('План ввода основ. ср-в'!E:E,MATCH(B248,'План ввода основ. ср-в'!B:B,0)))","v":0},{"$f":"IF(ISNA(INDEX('План ввода основ. ср-в'!H:H,MATCH(B248,'План ввода основ. ср-в'!B:B,0))),0,INDEX('План ввода основ. ср-в'!H:H,MATCH(B248,'План ввода основ. ср-в'!B:B,0)))","v":0},null,{"$f":"IF(ISNA(INDEX('План ввода основ. ср-в'!G:G,MATCH(B248,'План ввода основ. ср-в'!B:B,0))),0,INDEX('План ввода основ. ср-в'!G:G,MATCH(B248,'План ввода основ. ср-в'!B:B,0)))","v":0},{"$f":"IF(ISNA(INDEX('План ввода основ. ср-в'!J:J,MATCH(B248,'План ввода основ. ср-в'!B:B,0))),0,INDEX('План ввода основ. ср-в'!J:J,MATCH(B248,'План ввода основ. ср-в'!B:B,0)))","v":0},null,{"$f":"IF(ISNA(INDEX('План ввода основ. ср-в'!I:I,MATCH(B248,'План ввода основ. ср-в'!B:B,0))),0,INDEX('План ввода основ. ср-в'!I:I,MATCH(B248,'План ввода основ. ср-в'!B:B,0)))","v":0},{"$f":"IF(ISNA(INDEX('План ввода основ. ср-в'!L:L,MATCH(B248,'План ввода основ. ср-в'!B:B,0))),0,INDEX('План ввода основ. ср-в'!L:L,MATCH(B248,'План ввода основ. ср-в'!B:B,0)))","v":0},null,{"$f":"IF(ISNA(INDEX('План ввода основ. ср-в'!K:K,MATCH(B248,'План ввода основ. ср-в'!B:B,0))),0,INDEX('План ввода основ. ср-в'!K:K,MATCH(B248,'План ввода основ. ср-в'!B:B,0)))","v":2},0,null,2,{"$f":"IF(ISNA(INDEX('План ввода основ. ср-в'!N:N,MATCH(B248,'План ввода основ. ср-в'!B:B,0))),0,INDEX('План ввода основ. ср-в'!N:N,MATCH(B248,'План ввода основ. ср-в'!B:B,0)))","v":0},null,{"$f":"IF(ISNA(INDEX('План ввода основ. ср-в'!M:M,MATCH(B248,'План ввода основ. ср-в'!B:B,0))),0,INDEX('План ввода основ. ср-в'!M:M,MATCH(B248,'План ввода основ. ср-в'!B:B,0)))","v":0},{"$f":"IF(ISNA(INDEX('План ввода основ. ср-в'!P:P,MATCH(B248,'План ввода основ. ср-в'!B:B,0))),0,INDEX('План ввода основ. ср-в'!P:P,MATCH(B248,'План ввода основ. ср-в'!B:B,0)))","v":0},null,{"$f":"IF(ISNA(INDEX('План ввода основ. ср-в'!O:O,MATCH(B248,'План ввода основ. ср-в'!B:B,0))),0,INDEX('План ввода основ. ср-в'!O:O,MATCH(B248,'План ввода основ. ср-в'!B:B,0)))","v":0},{"$f":"IF(ISNA(INDEX('План ввода основ. ср-в'!R:R,MATCH(B248,'План ввода основ. ср-в'!B:B,0))),0,INDEX('План ввода основ. ср-в'!R:R,MATCH(B248,'План ввода основ. ср-в'!B:B,0)))","v":0},null,{"$f":"IF(ISNA(INDEX('План ввода основ. ср-в'!Q:Q,MATCH(B248,'План ввода основ. ср-в'!B:B,0))),0,INDEX('План ввода основ. ср-в'!Q:Q,MATCH(B248,'План ввода основ. ср-в'!B:B,0)))","v":0},{"$f":"IF(ISNA(INDEX('План ввода основ. ср-в'!T:T,MATCH(B248,'План ввода основ. ср-в'!B:B,0))),0,INDEX('План ввода основ. ср-в'!T:T,MATCH(B248,'План ввода основ. ср-в'!B:B,0)))","v":0},null,{"$f":"IF(ISNA(INDEX('План ввода основ. ср-в'!S:S,MATCH(B248,'План ввода основ. ср-в'!B:B,0))),0,INDEX('План ввода основ. ср-в'!S:S,MATCH(B248,'План ввода основ. ср-в'!B:B,0)))","v":0},0,null,2,null,{"$f":"IF(ISNA(INDEX('План ввода основ. ср-в'!W:W,MATCH(B248,'План ввода основ. ср-в'!B:B,0))),0,INDEX('План ввода основ. ср-в'!W:W,MATCH(B248,'План ввода основ. ср-в'!B:B,0)))","v":0.50847457627118642},{"$f":"IF(ISNA(INDEX('План ввода основ. ср-в'!X:X,MATCH(B248,'План ввода основ. ср-в'!B:B,0))),0,INDEX('План ввода основ. ср-в'!X:X,MATCH(B248,'План ввода основ. ср-в'!B:B,0)))","v":1.1864406779661016},{"$f":"IF(ISNA(INDEX('План ввода основ. ср-в'!Y:Y,MATCH(B248,'План ввода основ. ср-в'!B:B,0))),0,INDEX('План ввода основ. ср-в'!Y:Y,MATCH(B248,'План ввода основ. ср-в'!B:B,0)))","v":1.6949152542372883},3.3898305084745761,{"$f":"IF(ISNA(INDEX('План ввода основ. ср-в'!Z:Z,MATCH(B248,'План ввода основ. ср-в'!B:B,0))),0,INDEX('План ввода основ. ср-в'!Z:Z,MATCH(B248,'План ввода основ. ср-в'!B:B,0)))","v":0},{"$f":"IF(ISNA(INDEX('План ввода основ. ср-в'!AA:AA,MATCH(B248,'План ввода основ. ср-в'!B:B,0))),0,INDEX('План ввода основ. ср-в'!AA:AA,MATCH(B248,'План ввода основ. ср-в'!B:B,0)))","v":0},{"$f":"IF(ISNA(INDEX('План ввода основ. ср-в'!AB:AB,MATCH(B248,'План ввода основ. ср-в'!B:B,0))),0,INDEX('План ввода основ. ср-в'!AB:AB,MATCH(B248,'План ввода основ. ср-в'!B:B,0)))","v":0},{"$f":"IF(ISNA(INDEX('План ввода основ. ср-в'!AC:AC,MATCH(B248,'План ввода основ. ср-в'!B:B,0))),0,INDEX('План ввода основ. ср-в'!AC:AC,MATCH(B248,'План ввода основ. ср-в'!B:B,0)))","v":0},3.3898305084745761]
[227,"Реконструкция ТП \"Строительная-4\"",null,null,null,null,null,null,0,null,0.5,0,null,0.5,0,null,0,0,null,0,0,null,0,0,null,1,9.7457627118644066,{"$f":"IF(ISNA(INDEX('План ввода основ. ср-в'!F:F,MATCH(B249,'План ввода основ. ср-в'!B:B,0))),0,INDEX('План ввода основ. ср-в'!F:F,MATCH(B249,'План ввода основ. ср-в'!B:B,0)))","v":0},null,{"$f":"IF(ISNA(INDEX('План ввода основ. ср-в'!E:E,MATCH(B249,'План ввода основ. ср-в'!B:B,0))),0,INDEX('План ввода основ. ср-в'!E:E,MATCH(B249,'План ввода основ. ср-в'!B:B,0)))","v":0},{"$f":"IF(ISNA(INDEX('План ввода основ. ср-в'!H:H,MATCH(B249,'План ввода основ. ср-в'!B:B,0))),0,INDEX('План ввода основ. ср-в'!H:H,MATCH(B249,'План ввода основ. ср-в'!B:B,0)))","v":0},null,{"$f":"IF(ISNA(INDEX('План ввода основ. ср-в'!G:G,MATCH(B249,'План ввода основ. ср-в'!B:B,0))),0,INDEX('План ввода основ. ср-в'!G:G,MATCH(B249,'План ввода основ. ср-в'!B:B,0)))","v":0},{"$f":"IF(ISNA(INDEX('План ввода основ. ср-в'!J:J,MATCH(B249,'План ввода основ. ср-в'!B:B,0))),0,INDEX('План ввода основ. ср-в'!J:J,MATCH(B249,'План ввода основ. ср-в'!B:B,0)))","v":0},null,{"$f":"IF(ISNA(INDEX('План ввода основ. ср-в'!I:I,MATCH(B249,'План ввода основ. ср-в'!B:B,0))),0,INDEX('План ввода основ. ср-в'!I:I,MATCH(B249,'План ввода основ. ср-в'!B:B,0)))","v":0},{"$f":"IF(ISNA(INDEX('План ввода основ. ср-в'!L:L,MATCH(B249,'План ввода основ. ср-в'!B:B,0))),0,INDEX('План ввода основ. ср-в'!L:L,MATCH(B249,'План ввода основ. ср-в'!B:B,0)))","v":0},null,{"$f":"IF(ISNA(INDEX('План ввода основ. ср-в'!K:K,MATCH(B249,'План ввода основ. ср-в'!B:B,0))),0,INDEX('План ввода основ. ср-в'!K:K,MATCH(B249,'План ввода основ. ср-в'!B:B,0)))","v":0.5},0,"/",0.5,{"$f":"IF(ISNA(INDEX('План ввода основ. ср-в'!N:N,MATCH(B249,'План ввода основ. ср-в'!B:B,0))),0,INDEX('План ввода основ. ср-в'!N:N,MATCH(B249,'План ввода основ. ср-в'!B:B,0)))","v":0},"/",{"$f":"IF(ISNA(INDEX('План ввода основ. ср-в'!M:M,MATCH(B249,'План ввода основ. ср-в'!B:B,0))),0,INDEX('План ввода основ. ср-в'!M:M,MATCH(B249,'План ввода основ. ср-в'!B:B,0)))","v":0.5},{"$f":"IF(ISNA(INDEX('План ввода основ. ср-в'!P:P,MATCH(B249,'План ввода основ. ср-в'!B:B,0))),0,INDEX('План ввода основ. ср-в'!P:P,MATCH(B249,'План ввода основ. ср-в'!B:B,0)))","v":0},"",{"$f":"IF(ISNA(INDEX('План ввода основ. ср-в'!O:O,MATCH(B249,'План ввода основ. ср-в'!B:B,0))),0,INDEX('План ввода основ. ср-в'!O:O,MATCH(B249,'План ввода основ. ср-в'!B:B,0)))","v":0},{"$f":"IF(ISNA(INDEX('План ввода основ. ср-в'!R:R,MATCH(B249,'План ввода основ. ср-в'!B:B,0))),0,INDEX('План ввода основ. ср-в'!R:R,MATCH(B249,'План ввода основ. ср-в'!B:B,0)))","v":0},"",{"$f":"IF(ISNA(INDEX('План ввода основ. ср-в'!Q:Q,MATCH(B249,'План ввода основ. ср-в'!B:B,0))),0,INDEX('План ввода основ. ср-в'!Q:Q,MATCH(B249,'План ввода основ. ср-в'!B:B,0)))","v":0},{"$f":"IF(ISNA(INDEX('План ввода основ. ср-в'!T:T,MATCH(B249,'План ввода основ. ср-в'!B:B,0))),0,INDEX('План ввода основ. ср-в'!T:T,MATCH(B249,'План ввода основ. ср-в'!B:B,0)))","v":0},"",{"$f":"IF(ISNA(INDEX('План ввода основ. ср-в'!S:S,MATCH(B249,'План ввода основ. ср-в'!B:B,0))),0,INDEX('План ввода основ. ср-в'!S:S,MATCH(B249,'План ввода основ. ср-в'!B:B,0)))","v":0},0,null,1,{"$f":"IF(ISNA(INDEX('План ввода основ. ср-в'!V:V,MATCH(B249,'План ввода основ. ср-в'!B:B,0))),0,INDEX('План ввода основ. ср-в'!V:V,MATCH(B249,'План ввода основ. ср-в'!B:B,0)))","v":0},{"$f":"IF(ISNA(INDEX('План ввода основ. ср-в'!W:W,MATCH(B249,'План ввода основ. ср-в'!B:B,0))),0,INDEX('План ввода основ. ср-в'!W:W,MATCH(B249,'План ввода основ. ср-в'!B:B,0)))","v":0.50847457627118642},{"$f":"IF(ISNA(INDEX('План ввода основ. ср-в'!X:X,MATCH(B249,'План ввода основ. ср-в'!B:B,0))),0,INDEX('План ввода основ. ср-в'!X:X,MATCH(B249,'План ввода основ. ср-в'!B:B,0)))","v":1.1864406779661016},{"$f":"IF(ISNA(INDEX('План ввода основ. ср-в'!Y:Y,MATCH(B249,'План ввода основ. ср-в'!B:B,0))),0,INDEX('План ввода основ. ср-в'!Y:Y,MATCH(B249,'План ввода основ. ср-в'!B:B,0)))","v":1.6949152542372883},3.3898305084745761,{"$f":"IF(ISNA(INDEX('План ввода основ. ср-в'!Z:Z,MATCH(B249,'План ввода основ. ср-в'!B:B,0))),0,INDEX('План ввода основ. ср-в'!Z:Z,MATCH(B249,'План ввода основ. ср-в'!B:B,0)))","v":6.3559322033898304},{"$f":"IF(ISNA(INDEX('План ввода основ. ср-в'!AA:AA,MATCH(B249,'План ввода основ. ср-в'!B:B,0))),0,INDEX('План ввода основ. ср-в'!AA:AA,MATCH(B249,'План ввода основ. ср-в'!B:B,0)))","v":0},{"$f":"IF(ISNA(INDEX('План ввода основ. ср-в'!AB:AB,MATCH(B249,'План ввода основ. ср-в'!B:B,0))),0,INDEX('План ввода основ. ср-в'!AB:AB,MATCH(B249,'План ввода основ. ср-в'!B:B,0)))","v":0},{"$f":"IF(ISNA(INDEX('План ввода основ. ср-в'!AC:AC,MATCH(B249,'План ввода основ. ср-в'!B:B,0))),0,INDEX('План ввода основ. ср-в'!AC:AC,MATCH(B249,'План ввода основ. ср-в'!B:B,0)))","v":0},9.7457627118644066]
[228,"Реконструкция КЛ-6кВ от ТП\"Строительная4\"",null,null,null,null,null,null,0,null,0,0,null,0,3.5,null,0,0,null,0,0,null,0,3.5,null,0,11.864406779661017,{"$f":"IF(ISNA(INDEX('План ввода основ. ср-в'!F:F,MATCH(B250,'План ввода основ. ср-в'!B:B,0))),0,INDEX('План ввода основ. ср-в'!F:F,MATCH(B250,'План ввода основ. ср-в'!B:B,0)))","v":0},null,{"$f":"IF(ISNA(INDEX('План ввода основ. ср-в'!E:E,MATCH(B250,'План ввода основ. ср-в'!B:B,0))),0,INDEX('План ввода основ. ср-в'!E:E,MATCH(B250,'План ввода основ. ср-в'!B:B,0)))","v":0},{"$f":"IF(ISNA(INDEX('План ввода основ. ср-в'!H:H,MATCH(B250,'План ввода основ. ср-в'!B:B,0))),0,INDEX('План ввода основ. ср-в'!H:H,MATCH(B250,'План ввода основ. ср-в'!B:B,0)))","v":0},null,{"$f":"IF(ISNA(INDEX('План ввода основ. ср-в'!G:G,MATCH(B250,'План ввода основ. ср-в'!B:B,0))),0,INDEX('План ввода основ. ср-в'!G:G,MATCH(B250,'План ввода основ. ср-в'!B:B,0)))","v":0},{"$f":"IF(ISNA(INDEX('План ввода основ. ср-в'!J:J,MATCH(B250,'План ввода основ. ср-в'!B:B,0))),0,INDEX('План ввода основ. ср-в'!J:J,MATCH(B250,'План ввода основ. ср-в'!B:B,0)))","v":0},null,{"$f":"IF(ISNA(INDEX('План ввода основ. ср-в'!I:I,MATCH(B250,'План ввода основ. ср-в'!B:B,0))),0,INDEX('План ввода основ. ср-в'!I:I,MATCH(B250,'План ввода основ. ср-в'!B:B,0)))","v":0},{"$f":"IF(ISNA(INDEX('План ввода основ. ср-в'!L:L,MATCH(B250,'План ввода основ. ср-в'!B:B,0))),0,INDEX('План ввода основ. ср-в'!L:L,MATCH(B250,'План ввода основ. ср-в'!B:B,0)))","v":0},"",{"$f":"IF(ISNA(INDEX('План ввода основ. ср-в'!K:K,MATCH(B250,'План ввода основ. ср-в'!B:B,0))),0,INDEX('План ввода основ. ср-в'!K:K,MATCH(B250,'План ввода основ. ср-в'!B:B,0)))","v":0},0,"/",0,{"$f":"IF(ISNA(INDEX('План ввода основ. ср-в'!N:N,MATCH(B250,'План ввода основ. ср-в'!B:B,0))),0,INDEX('План ввода основ. ср-в'!N:N,MATCH(B250,'План ввода основ. ср-в'!B:B,0)))","v":0},"",{"$f":"IF(ISNA(INDEX('План ввода основ. ср-в'!M:M,MATCH(B250,'План ввода основ. ср-в'!B:B,0))),0,INDEX('План ввода основ. ср-в'!M:M,MATCH(B250,'План ввода основ. ср-в'!B:B,0)))","v":0},{"$f":"IF(ISNA(INDEX('План ввода основ. ср-в'!P:P,MATCH(B250,'План ввода основ. ср-в'!B:B,0))),0,INDEX('План ввода основ. ср-в'!P:P,MATCH(B250,'План ввода основ. ср-в'!B:B,0)))","v":3.5},"/",{"$f":"IF(ISNA(INDEX('План ввода основ. ср-в'!O:O,MATCH(B250,'План ввода основ. ср-в'!B:B,0))),0,INDEX('План ввода основ. ср-в'!O:O,MATCH(B250,'План ввода основ. ср-в'!B:B,0)))","v":0},{"$f":"IF(ISNA(INDEX('План ввода основ. ср-в'!R:R,MATCH(B250,'План ввода основ. ср-в'!B:B,0))),0,INDEX('План ввода основ. ср-в'!R:R,MATCH(B250,'План ввода основ. ср-в'!B:B,0)))","v":0},"",{"$f":"IF(ISNA(INDEX('План ввода основ. ср-в'!Q:Q,MATCH(B250,'План ввода основ. ср-в'!B:B,0))),0,INDEX('План ввода основ. ср-в'!Q:Q,MATCH(B250,'План ввода основ. ср-в'!B:B,0)))","v":0},{"$f":"IF(ISNA(INDEX('План ввода основ. ср-в'!T:T,MATCH(B250,'План ввода основ. ср-в'!B:B,0))),0,INDEX('План ввода основ. ср-в'!T:T,MATCH(B250,'План ввода основ. ср-в'!B:B,0)))","v":0},"",{"$f":"IF(ISNA(INDEX('План ввода основ. ср-в'!S:S,MATCH(B250,'План ввода основ. ср-в'!B:B,0))),0,INDEX('План ввода основ. ср-в'!S:S,MATCH(B250,'План ввода основ. ср-в'!B:B,0)))","v":0},3.5,null,0,{"$f":"IF(ISNA(INDEX('План ввода основ. ср-в'!V:V,MATCH(B250,'План ввода основ. ср-в'!B:B,0))),0,INDEX('План ввода основ. ср-в'!V:V,MATCH(B250,'План ввода основ. ср-в'!B:B,0)))","v":0},{"$f":"IF(ISNA(INDEX('План ввода основ. ср-в'!W:W,MATCH(B250,'План ввода основ. ср-в'!B:B,0))),0,INDEX('План ввода основ. ср-в'!W:W,MATCH(B250,'План ввода основ. ср-в'!B:B,0)))","v":0},{"$f":"IF(ISNA(INDEX('План ввода основ. ср-в'!X:X,MATCH(B250,'План ввода основ. ср-в'!B:B,0))),0,INDEX('План ввода основ. ср-в'!X:X,MATCH(B250,'План ввода основ. ср-в'!B:B,0)))","v":0},{"$f":"IF(ISNA(INDEX('План ввода основ. ср-в'!Y:Y,MATCH(B250,'План ввода основ. ср-в'!B:B,0))),0,INDEX('План ввода основ. ср-в'!Y:Y,MATCH(B250,'План ввода основ. ср-в'!B:B,0)))","v":0},0,{"$f":"IF(ISNA(INDEX('План ввода основ. ср-в'!Z:Z,MATCH(B250,'План ввода основ. ср-в'!B:B,0))),0,INDEX('План ввода основ. ср-в'!Z:Z,MATCH(B250,'План ввода основ. ср-в'!B:B,0)))","v":0},{"$f":"IF(ISNA(INDEX('План ввода основ. ср-в'!AA:AA,MATCH(B250,'План ввода основ. ср-в'!B:B,0))),0,INDEX('План ввода основ. ср-в'!AA:AA,MATCH(B250,'План ввода основ. ср-в'!B:B,0)))","v":11.864406779661017},{"$f":"IF(ISNA(INDEX('План ввода основ. ср-в'!AB:AB,MATCH(B250,'План ввода основ. ср-в'!B:B,0))),0,INDEX('План ввода основ. ср-в'!AB:AB,MATCH(B250,'План ввода основ. ср-в'!B:B,0)))","v":0},{"$f":"IF(ISNA(INDEX('План ввода основ. ср-в'!AC:AC,MATCH(B250,'План ввода основ. ср-в'!B:B,0))),0,INDEX('План ввода основ. ср-в'!AC:AC,MATCH(B250,'План ввода основ. ср-в'!B:B,0)))","v":0},11.864406779661017]
[229,"Реконструкция КЛ-6кВ от ГПП-1 ВПХ",null,null,null,null,null,null,5,null,0,0,null,0,5,null,0,0,null,0,0,null,0,10,null,0,36.016949152542374,{"$f":"IF(ISNA(INDEX('План ввода основ. ср-в'!F:F,MATCH(B251,'План ввода основ. ср-в'!B:B,0))),0,INDEX('План ввода основ. ср-в'!F:F,MATCH(B251,'План ввода основ. ср-в'!B:B,0)))","v":0},null,{"$f":"IF(ISNA(INDEX('План ввода основ. ср-в'!E:E,MATCH(B251,'План ввода основ. ср-в'!B:B,0))),0,INDEX('План ввода основ. ср-в'!E:E,MATCH(B251,'План ввода основ. ср-в'!B:B,0)))","v":0},{"$f":"IF(ISNA(INDEX('План ввода основ. ср-в'!H:H,MATCH(B251,'План ввода основ. ср-в'!B:B,0))),0,INDEX('План ввода основ. ср-в'!H:H,MATCH(B251,'План ввода основ. ср-в'!B:B,0)))","v":0},null,{"$f":"IF(ISNA(INDEX('План ввода основ. ср-в'!G:G,MATCH(B251,'План ввода основ. ср-в'!B:B,0))),0,INDEX('План ввода основ. ср-в'!G:G,MATCH(B251,'План ввода основ. ср-в'!B:B,0)))","v":0},{"$f":"IF(ISNA(INDEX('План ввода основ. ср-в'!J:J,MATCH(B251,'План ввода основ. ср-в'!B:B,0))),0,INDEX('План ввода основ. ср-в'!J:J,MATCH(B251,'План ввода основ. ср-в'!B:B,0)))","v":0},null,{"$f":"IF(ISNA(INDEX('План ввода основ. ср-в'!I:I,MATCH(B251,'План ввода основ. ср-в'!B:B,0))),0,INDEX('План ввода основ. ср-в'!I:I,MATCH(B251,'План ввода основ. ср-в'!B:B,0)))","v":0},{"$f":"IF(ISNA(INDEX('План ввода основ. ср-в'!L:L,MATCH(B251,'План ввода основ. ср-в'!B:B,0))),0,INDEX('План ввода основ. ср-в'!L:L,MATCH(B251,'План ввода основ. ср-в'!B:B,0)))","v":5},"/",{"$f":"IF(ISNA(INDEX('План ввода основ. ср-в'!K:K,MATCH(B251,'План ввода основ. ср-в'!B:B,0))),0,INDEX('План ввода основ. ср-в'!K:K,MATCH(B251,'План ввода основ. ср-в'!B:B,0)))","v":0},5,"/",0,{"$f":"IF(ISNA(INDEX('План ввода основ. ср-в'!N:N,MATCH(B251,'План ввода основ. ср-в'!B:B,0))),0,INDEX('План ввода основ. ср-в'!N:N,MATCH(B251,'План ввода основ. ср-в'!B:B,0)))","v":0},"",{"$f":"IF(ISNA(INDEX('План ввода основ. ср-в'!M:M,MATCH(B251,'План ввода основ. ср-в'!B:B,0))),0,INDEX('План ввода основ. ср-в'!M:M,MATCH(B251,'План ввода основ. ср-в'!B:B,0)))","v":0},{"$f":"IF(ISNA(INDEX('План ввода основ. ср-в'!P:P,MATCH(B251,'План ввода основ. ср-в'!B:B,0))),0,INDEX('План ввода основ. ср-в'!P:P,MATCH(B251,'План ввода основ. ср-в'!B:B,0)))","v":5},"/",{"$f":"IF(ISNA(INDEX('План ввода основ. ср-в'!O:O,MATCH(B251,'План ввода основ. ср-в'!B:B,0))),0,INDEX('План ввода основ. ср-в'!O:O,MATCH(B251,'План ввода основ. ср-в'!B:B,0)))","v":0},{"$f":"IF(ISNA(INDEX('План ввода основ. ср-в'!R:R,MATCH(B251,'План ввода основ. ср-в'!B:B,0))),0,INDEX('План ввода основ. ср-в'!R:R,MATCH(B251,'План ввода основ. ср-в'!B:B,0)))","v":0},"",{"$f":"IF(ISNA(INDEX('План ввода основ. ср-в'!Q:Q,MATCH(B251,'План ввода основ. ср-в'!B:B,0))),0,INDEX('План ввода основ. ср-в'!Q:Q,MATCH(B251,'План ввода основ. ср-в'!B:B,0)))","v":0},{"$f":"IF(ISNA(INDEX('План ввода основ. ср-в'!T:T,MATCH(B251,'План ввода основ. ср-в'!B:B,0))),0,INDEX('План ввода основ. ср-в'!T:T,MATCH(B251,'План ввода основ. ср-в'!B:B,0)))","v":0},"",{"$f":"IF(ISNA(INDEX('План ввода основ. ср-в'!S:S,MATCH(B251,'План ввода основ. ср-в'!B:B,0))),0,INDEX('План ввода основ. ср-в'!S:S,MATCH(B251,'План ввода основ. ср-в'!B:B,0)))","v":0},10,null,0,{"$f":"IF(ISNA(INDEX('План ввода основ. ср-в'!V:V,MATCH(B251,'План ввода основ. ср-в'!B:B,0))),0,INDEX('План ввода основ. ср-в'!V:V,MATCH(B251,'План ввода основ. ср-в'!B:B,0)))","v":0},{"$f":"IF(ISNA(INDEX('План ввода основ. ср-в'!W:W,MATCH(B251,'План ввода основ. ср-в'!B:B,0))),0,INDEX('План ввода основ. ср-в'!W:W,MATCH(B251,'План ввода основ. ср-в'!B:B,0)))","v":2.8601694915254234},{"$f":"IF(ISNA(INDEX('План ввода основ. ср-в'!X:X,MATCH(B251,'План ввода основ. ср-в'!B:B,0))),0,INDEX('План ввода основ. ср-в'!X:X,MATCH(B251,'План ввода основ. ср-в'!B:B,0)))","v":6.6737288135593218},{"$f":"IF(ISNA(INDEX('План ввода основ. ср-в'!Y:Y,MATCH(B251,'План ввода основ. ср-в'!B:B,0))),0,INDEX('План ввода основ. ср-в'!Y:Y,MATCH(B251,'План ввода основ. ср-в'!B:B,0)))","v":9.5338983050847457},19.067796610169491,{"$f":"IF(ISNA(INDEX('План ввода основ. ср-в'!Z:Z,MATCH(B251,'План ввода основ. ср-в'!B:B,0))),0,INDEX('План ввода основ. ср-в'!Z:Z,MATCH(B251,'План ввода основ. ср-в'!B:B,0)))","v":0},{"$f":"IF(ISNA(INDEX('План ввода основ. ср-в'!AA:AA,MATCH(B251,'План ввода основ. ср-в'!B:B,0))),0,INDEX('План ввода основ. ср-в'!AA:AA,MATCH(B251,'План ввода основ. ср-в'!B:B,0)))","v":16.949152542372882},{"$f":"IF(ISNA(INDEX('План ввода основ. ср-в'!AB:AB,MATCH(B251,'План ввода основ. ср-в'!B:B,0))),0,INDEX('План ввода основ. ср-в'!AB:AB,MATCH(B251,'План ввода основ. ср-в'!B:B,0)))","v":0},{"$f":"IF(ISNA(INDEX('План ввода основ. ср-в'!AC:AC,MATCH(B251,'План ввода основ. ср-в'!B:B,0))),0,INDEX('План ввода основ. ср-в'!AC:AC,MATCH(B251,'План ввода основ. ср-в'!B:B,0)))","v":0},36.016949152542374]
[230,"Челно-Вершинский район",null,null,null,null,null,null,0,null,0,0,null,0,0,null,0,0,null,0,0,null,0,0,null,0,0,{"$f":"IF(ISNA(INDEX('План ввода основ. ср-в'!F:F,MATCH(B252,'План ввода основ. ср-в'!B:B,0))),0,INDEX('План ввода основ. ср-в'!F:F,MATCH(B252,'План ввода основ. ср-в'!B:B,0)))","v":0},null,{"$f":"IF(ISNA(INDEX('План ввода основ. ср-в'!E:E,MATCH(B252,'План ввода основ. ср-в'!B:B,0))),0,INDEX('План ввода основ. ср-в'!E:E,MATCH(B252,'План ввода основ. ср-в'!B:B,0)))","v":0},{"$f":"IF(ISNA(INDEX('План ввода основ. ср-в'!H:H,MATCH(B252,'План ввода основ. ср-в'!B:B,0))),0,INDEX('План ввода основ. ср-в'!H:H,MATCH(B252,'План ввода основ. ср-в'!B:B,0)))","v":0},null,{"$f":"IF(ISNA(INDEX('План ввода основ. ср-в'!G:G,MATCH(B252,'План ввода основ. ср-в'!B:B,0))),0,INDEX('План ввода основ. ср-в'!G:G,MATCH(B252,'План ввода основ. ср-в'!B:B,0)))","v":0},{"$f":"IF(ISNA(INDEX('План ввода основ. ср-в'!J:J,MATCH(B252,'План ввода основ. ср-в'!B:B,0))),0,INDEX('План ввода основ. ср-в'!J:J,MATCH(B252,'План ввода основ. ср-в'!B:B,0)))","v":0},null,{"$f":"IF(ISNA(INDEX('План ввода основ. ср-в'!I:I,MATCH(B252,'План ввода основ. ср-в'!B:B,0))),0,INDEX('План ввода основ. ср-в'!I:I,MATCH(B252,'План ввода основ. ср-в'!B:B,0)))","v":0},{"$f":"IF(ISNA(INDEX('План ввода основ. ср-в'!L:L,MATCH(B252,'План ввода основ. ср-в'!B:B,0))),0,INDEX('План ввода основ. ср-в'!L:L,MATCH(B252,'План ввода основ. ср-в'!B:B,0)))","v":0},null,{"$f":"IF(ISNA(INDEX('План ввода основ. ср-в'!K:K,MATCH(B252,'План ввода основ. ср-в'!B:B,0))),0,INDEX('План ввода основ. ср-в'!K:K,MATCH(B252,'План ввода основ. ср-в'!B:B,0)))","v":0},0,"/",0,{"$f":"IF(ISNA(INDEX('План ввода основ. ср-в'!N:N,MATCH(B252,'План ввода основ. ср-в'!B:B,0))),0,INDEX('План ввода основ. ср-в'!N:N,MATCH(B252,'План ввода основ. ср-в'!B:B,0)))","v":0},"",{"$f":"IF(ISNA(INDEX('План ввода основ. ср-в'!M:M,MATCH(B252,'План ввода основ. ср-в'!B:B,0))),0,INDEX('План ввода основ. ср-в'!M:M,MATCH(B252,'План ввода основ. ср-в'!B:B,0)))","v":0},{"$f":"IF(ISNA(INDEX('План ввода основ. ср-в'!P:P,MATCH(B252,'План ввода основ. ср-в'!B:B,0))),0,INDEX('План ввода основ. ср-в'!P:P,MATCH(B252,'План ввода основ. ср-в'!B:B,0)))","v":0},"",{"$f":"IF(ISNA(INDEX('План ввода основ. ср-в'!O:O,MATCH(B252,'План ввода основ. ср-в'!B:B,0))),0,INDEX('План ввода основ. ср-в'!O:O,MATCH(B252,'План ввода основ. ср-в'!B:B,0)))","v":0},{"$f":"IF(ISNA(INDEX('План ввода основ. ср-в'!R:R,MATCH(B252,'План ввода основ. ср-в'!B:B,0))),0,INDEX('План ввода основ. ср-в'!R:R,MATCH(B252,'План ввода основ. ср-в'!B:B,0)))","v":0},"",{"$f":"IF(ISNA(INDEX('План ввода основ. ср-в'!Q:Q,MATCH(B252,'План ввода основ. ср-в'!B:B,0))),0,INDEX('План ввода основ. ср-в'!Q:Q,MATCH(B252,'План ввода основ. ср-в'!B:B,0)))","v":0},{"$f":"IF(ISNA(INDEX('План ввода основ. ср-в'!T:T,MATCH(B252,'План ввода основ. ср-в'!B:B,0))),0,INDEX('План ввода основ. ср-в'!T:T,MATCH(B252,'План ввода основ. ср-в'!B:B,0)))","v":0},"",{"$f":"IF(ISNA(INDEX('План ввода основ. ср-в'!S:S,MATCH(B252,'План ввода основ. ср-в'!B:B,0))),0,INDEX('План ввода основ. ср-в'!S:S,MATCH(B252,'План ввода основ. ср-в'!B:B,0)))","v":0},0,null,0,{"$f":"IF(ISNA(INDEX('План ввода основ. ср-в'!V:V,MATCH(B252,'План ввода основ. ср-в'!B:B,0))),0,INDEX('План ввода основ. ср-в'!V:V,MATCH(B252,'План ввода основ. ср-в'!B:B,0)))","v":0},{"$f":"IF(ISNA(INDEX('План ввода основ. ср-в'!W:W,MATCH(B252,'План ввода основ. ср-в'!B:B,0))),0,INDEX('План ввода основ. ср-в'!W:W,MATCH(B252,'План ввода основ. ср-в'!B:B,0)))","v":0},{"$f":"IF(ISNA(INDEX('План ввода основ. ср-в'!X:X,MATCH(B252,'План ввода основ. ср-в'!B:B,0))),0,INDEX('План ввода основ. ср-в'!X:X,MATCH(B252,'План ввода основ. ср-в'!B:B,0)))","v":0},{"$f":"IF(ISNA(INDEX('План ввода основ. ср-в'!Y:Y,MATCH(B252,'План ввода основ. ср-в'!B:B,0))),0,INDEX('План ввода основ. ср-в'!Y:Y,MATCH(B252,'План ввода основ. ср-в'!B:B,0)))","v":0},0,{"$f":"IF(ISNA(INDEX('План ввода основ. ср-в'!Z:Z,MATCH(B252,'План ввода основ. ср-в'!B:B,0))),0,INDEX('План ввода основ. ср-в'!Z:Z,MATCH(B252,'План ввода основ. ср-в'!B:B,0)))","v":0},{"$f":"IF(ISNA(INDEX('План ввода основ. ср-в'!AA:AA,MATCH(B252,'План ввода основ. ср-в'!B:B,0))),0,INDEX('План ввода основ. ср-в'!AA:AA,MATCH(B252,'План ввода основ. ср-в'!B:B,0)))","v":0},{"$f":"IF(ISNA(INDEX('План ввода основ. ср-в'!AB:AB,MATCH(B252,'План ввода основ. ср-в'!B:B,0))),0,INDEX('План ввода основ. ср-в'!AB:AB,MATCH(B252,'План ввода основ. ср-в'!B:B,0)))","v":0},{"$f":"IF(ISNA(INDEX('План ввода основ. ср-в'!AC:AC,MATCH(B252,'План ввода основ. ср-в'!B:B,0))),0,INDEX('План ввода основ. ср-в'!AC:AC,MATCH(B252,'План ввода основ. ср-в'!B:B,0)))","v":0},0]
[231,"Реконструкция ВЛ-0,4 кВ от КТП Б 416/100 кВА с заменой КТП",null,null,null,null,null,null,2.2000000000000002,null,0.1,0,null,0,0,null,0,0,null,0,0,null,0,2.2000000000000002,null,0.1,7.0677966101694913,{"$f":"IF(ISNA(INDEX('План ввода основ. ср-в'!F:F,MATCH(B253,'План ввода основ. ср-в'!B:B,0))),0,INDEX('План ввода основ. ср-в'!F:F,MATCH(B253,'План ввода основ. ср-в'!B:B,0)))","v":0},null,{"$f":"IF(ISNA(INDEX('План ввода основ. ср-в'!E:E,MATCH(B253,'План ввода основ. ср-в'!B:B,0))),0,INDEX('План ввода основ. ср-в'!E:E,MATCH(B253,'План ввода основ. ср-в'!B:B,0)))","v":0},{"$f":"IF(ISNA(INDEX('План ввода основ. ср-в'!H:H,MATCH(B253,'План ввода основ. ср-в'!B:B,0))),0,INDEX('План ввода основ. ср-в'!H:H,MATCH(B253,'План ввода основ. ср-в'!B:B,0)))","v":0},null,{"$f":"IF(ISNA(INDEX('План ввода основ. ср-в'!G:G,MATCH(B253,'План ввода основ. ср-в'!B:B,0))),0,INDEX('План ввода основ. ср-в'!G:G,MATCH(B253,'План ввода основ. ср-в'!B:B,0)))","v":0},{"$f":"IF(ISNA(INDEX('План ввода основ. ср-в'!J:J,MATCH(B253,'План ввода основ. ср-в'!B:B,0))),0,INDEX('План ввода основ. ср-в'!J:J,MATCH(B253,'План ввода основ. ср-в'!B:B,0)))","v":0},null,{"$f":"IF(ISNA(INDEX('План ввода основ. ср-в'!I:I,MATCH(B253,'План ввода основ. ср-в'!B:B,0))),0,INDEX('План ввода основ. ср-в'!I:I,MATCH(B253,'План ввода основ. ср-в'!B:B,0)))","v":0},{"$f":"IF(ISNA(INDEX('План ввода основ. ср-в'!L:L,MATCH(B253,'План ввода основ. ср-в'!B:B,0))),0,INDEX('План ввода основ. ср-в'!L:L,MATCH(B253,'План ввода основ. ср-в'!B:B,0)))","v":2.2000000000000002},"/",{"$f":"IF(ISNA(INDEX('План ввода основ. ср-в'!K:K,MATCH(B253,'План ввода основ. ср-в'!B:B,0))),0,INDEX('План ввода основ. ср-в'!K:K,MATCH(B253,'План ввода основ. ср-в'!B:B,0)))","v":0.1},2.2000000000000002,"/",0.1,{"$f":"IF(ISNA(INDEX('План ввода основ. ср-в'!N:N,MATCH(B253,'План ввода основ. ср-в'!B:B,0))),0,INDEX('План ввода основ. ср-в'!N:N,MATCH(B253,'План ввода основ. ср-в'!B:B,0)))","v":0},"",{"$f":"IF(ISNA(INDEX('План ввода основ. ср-в'!M:M,MATCH(B253,'План ввода основ. ср-в'!B:B,0))),0,INDEX('План ввода основ. ср-в'!M:M,MATCH(B253,'План ввода основ. ср-в'!B:B,0)))","v":0},{"$f":"IF(ISNA(INDEX('План ввода основ. ср-в'!P:P,MATCH(B253,'План ввода основ. ср-в'!B:B,0))),0,INDEX('План ввода основ. ср-в'!P:P,MATCH(B253,'План ввода основ. ср-в'!B:B,0)))","v":0},"",{"$f":"IF(ISNA(INDEX('План ввода основ. ср-в'!O:O,MATCH(B253,'План ввода основ. ср-в'!B:B,0))),0,INDEX('План ввода основ. ср-в'!O:O,MATCH(B253,'План ввода основ. ср-в'!B:B,0)))","v":0},{"$f":"IF(ISNA(INDEX('План ввода основ. ср-в'!R:R,MATCH(B253,'План ввода основ. ср-в'!B:B,0))),0,INDEX('План ввода основ. ср-в'!R:R,MATCH(B253,'План ввода основ. ср-в'!B:B,0)))","v":0},"",{"$f":"IF(ISNA(INDEX('План ввода основ. ср-в'!Q:Q,MATCH(B253,'План ввода основ. ср-в'!B:B,0))),0,INDEX('План ввода основ. ср-в'!Q:Q,MATCH(B253,'План ввода основ. ср-в'!B:B,0)))","v":0},{"$f":"IF(ISNA(INDEX('План ввода основ. ср-в'!T:T,MATCH(B253,'План ввода основ. ср-в'!B:B,0))),0,INDEX('План ввода основ. ср-в'!T:T,MATCH(B253,'План ввода основ. ср-в'!B:B,0)))","v":0},"",{"$f":"IF(ISNA(INDEX('План ввода основ. ср-в'!S:S,MATCH(B253,'План ввода основ. ср-в'!B:B,0))),0,INDEX('План ввода основ. ср-в'!S:S,MATCH(B253,'План ввода основ. ср-в'!B:B,0)))","v":0},2.2000000000000002,null,0.1,{"$f":"IF(ISNA(INDEX('План ввода основ. ср-в'!V:V,MATCH(B253,'План ввода основ. ср-в'!B:B,0))),0,INDEX('План ввода основ. ср-в'!V:V,MATCH(B253,'План ввода основ. ср-в'!B:B,0)))","v":0},{"$f":"IF(ISNA(INDEX('План ввода основ. ср-в'!W:W,MATCH(B253,'План ввода основ. ср-в'!B:B,0))),0,INDEX('План ввода основ. ср-в'!W:W,MATCH(B253,'План ввода основ. ср-в'!B:B,0)))","v":1.0601694915254236},{"$f":"IF(ISNA(INDEX('План ввода основ. ср-в'!X:X,MATCH(B253,'План ввода основ. ср-в'!B:B,0))),0,INDEX('План ввода основ. ср-в'!X:X,MATCH(B253,'План ввода основ. ср-в'!B:B,0)))","v":2.4737288135593216},{"$f":"IF(ISNA(INDEX('План ввода основ. ср-в'!Y:Y,MATCH(B253,'План ввода основ. ср-в'!B:B,0))),0,INDEX('План ввода основ. ср-в'!Y:Y,MATCH(B253,'План ввода основ. ср-в'!B:B,0)))","v":3.5338983050847457},7.0677966101694913,{"$f":"IF(ISNA(INDEX('План ввода основ. ср-в'!Z:Z,MATCH(B253,'План ввода основ. ср-в'!B:B,0))),0,INDEX('План ввода основ. ср-в'!Z:Z,MATCH(B253,'План ввода основ. ср-в'!B:B,0)))","v":0},{"$f":"IF(ISNA(INDEX('План ввода основ. ср-в'!AA:AA,MATCH(B253,'План ввода основ. ср-в'!B:B,0))),0,INDEX('План ввода основ. ср-в'!AA:AA,MATCH(B253,'План ввода основ. ср-в'!B:B,0)))","v":0},{"$f":"IF(ISNA(INDEX('План ввода основ. ср-в'!AB:AB,MATCH(B253,'План ввода основ. ср-в'!B:B,0))),0,INDEX('План ввода основ. ср-в'!AB:AB,MATCH(B253,'План ввода основ. ср-в'!B:B,0)))","v":0},{"$f":"IF(ISNA(INDEX('План ввода основ. ср-в'!AC:AC,MATCH(B253,'План ввода основ. ср-в'!B:B,0))),0,INDEX('План ввода основ. ср-в'!AC:AC,MATCH(B253,'План ввода основ. ср-в'!B:B,0)))","v":0},7.0677966101694913]
[232,"Реконструкция ВЛ-0,4 кВ от КТП ЧВ 112/160 кВА с заменой КТП на 250 кВА",null,null,null,null,null,null,2.7,null,0.16,0,null,0,0,null,0,0,null,0,0,null,0,2.7,null,0.16,8.4576271186440692,{"$f":"IF(ISNA(INDEX('План ввода основ. ср-в'!F:F,MATCH(B254,'План ввода основ. ср-в'!B:B,0))),0,INDEX('План ввода основ. ср-в'!F:F,MATCH(B254,'План ввода основ. ср-в'!B:B,0)))","v":0},null,{"$f":"IF(ISNA(INDEX('План ввода основ. ср-в'!E:E,MATCH(B254,'План ввода основ. ср-в'!B:B,0))),0,INDEX('План ввода основ. ср-в'!E:E,MATCH(B254,'План ввода основ. ср-в'!B:B,0)))","v":0},{"$f":"IF(ISNA(INDEX('План ввода основ. ср-в'!H:H,MATCH(B254,'План ввода основ. ср-в'!B:B,0))),0,INDEX('План ввода основ. ср-в'!H:H,MATCH(B254,'План ввода основ. ср-в'!B:B,0)))","v":0},null,{"$f":"IF(ISNA(INDEX('План ввода основ. ср-в'!G:G,MATCH(B254,'План ввода основ. ср-в'!B:B,0))),0,INDEX('План ввода основ. ср-в'!G:G,MATCH(B254,'План ввода основ. ср-в'!B:B,0)))","v":0},{"$f":"IF(ISNA(INDEX('План ввода основ. ср-в'!J:J,MATCH(B254,'План ввода основ. ср-в'!B:B,0))),0,INDEX('План ввода основ. ср-в'!J:J,MATCH(B254,'План ввода основ. ср-в'!B:B,0)))","v":0},null,{"$f":"IF(ISNA(INDEX('План ввода основ. ср-в'!I:I,MATCH(B254,'План ввода основ. ср-в'!B:B,0))),0,INDEX('План ввода основ. ср-в'!I:I,MATCH(B254,'План ввода основ. ср-в'!B:B,0)))","v":0},{"$f":"IF(ISNA(INDEX('План ввода основ. ср-в'!L:L,MATCH(B254,'План ввода основ. ср-в'!B:B,0))),0,INDEX('План ввода основ. ср-в'!L:L,MATCH(B254,'План ввода основ. ср-в'!B:B,0)))","v":2.7},"/",{"$f":"IF(ISNA(INDEX('План ввода основ. ср-в'!K:K,MATCH(B254,'План ввода основ. ср-в'!B:B,0))),0,INDEX('План ввода основ. ср-в'!K:K,MATCH(B254,'План ввода основ. ср-в'!B:B,0)))","v":0.25},2.7,"/",0.25,{"$f":"IF(ISNA(INDEX('План ввода основ. ср-в'!N:N,MATCH(B254,'План ввода основ. ср-в'!B:B,0))),0,INDEX('План ввода основ. ср-в'!N:N,MATCH(B254,'План ввода основ. ср-в'!B:B,0)))","v":0},"",{"$f":"IF(ISNA(INDEX('План ввода основ. ср-в'!M:M,MATCH(B254,'План ввода основ. ср-в'!B:B,0))),0,INDEX('План ввода основ. ср-в'!M:M,MATCH(B254,'План ввода основ. ср-в'!B:B,0)))","v":0},{"$f":"IF(ISNA(INDEX('План ввода основ. ср-в'!P:P,MATCH(B254,'План ввода основ. ср-в'!B:B,0))),0,INDEX('План ввода основ. ср-в'!P:P,MATCH(B254,'План ввода основ. ср-в'!B:B,0)))","v":0},"",{"$f":"IF(ISNA(INDEX('План ввода основ. ср-в'!O:O,MATCH(B254,'План ввода основ. ср-в'!B:B,0))),0,INDEX('План ввода основ. ср-в'!O:O,MATCH(B254,'План ввода основ. ср-в'!B:B,0)))","v":0},{"$f":"IF(ISNA(INDEX('План ввода основ. ср-в'!R:R,MATCH(B254,'План ввода основ. ср-в'!B:B,0))),0,INDEX('План ввода основ. ср-в'!R:R,MATCH(B254,'План ввода основ. ср-в'!B:B,0)))","v":0},"",{"$f":"IF(ISNA(INDEX('План ввода основ. ср-в'!Q:Q,MATCH(B254,'План ввода основ. ср-в'!B:B,0))),0,INDEX('План ввода основ. ср-в'!Q:Q,MATCH(B254,'План ввода основ. ср-в'!B:B,0)))","v":0},{"$f":"IF(ISNA(INDEX('План ввода основ. ср-в'!T:T,MATCH(B254,'План ввода основ. ср-в'!B:B,0))),0,INDEX('План ввода основ. ср-в'!T:T,MATCH(B254,'План ввода основ. ср-в'!B:B,0)))","v":0},"",{"$f":"IF(ISNA(INDEX('План ввода основ. ср-в'!S:S,MATCH(B254,'План ввода основ. ср-в'!B:B,0))),0,INDEX('План ввода основ. ср-в'!S:S,MATCH(B254,'План ввода основ. ср-в'!B:B,0)))","v":0},2.7,null,0.25,{"$f":"IF(ISNA(INDEX('План ввода основ. ср-в'!V:V,MATCH(B254,'План ввода основ. ср-в'!B:B,0))),0,INDEX('План ввода основ. ср-в'!V:V,MATCH(B254,'План ввода основ. ср-в'!B:B,0)))","v":0},{"$f":"IF(ISNA(INDEX('План ввода основ. ср-в'!W:W,MATCH(B254,'План ввода основ. ср-в'!B:B,0))),0,INDEX('План ввода основ. ср-в'!W:W,MATCH(B254,'План ввода основ. ср-в'!B:B,0)))","v":1.2686440677966104},{"$f":"IF(ISNA(INDEX('План ввода основ. ср-в'!X:X,MATCH(B254,'План ввода основ. ср-в'!B:B,0))),0,INDEX('План ввода основ. ср-в'!X:X,MATCH(B254,'План ввода основ. ср-в'!B:B,0)))","v":2.960169491525424},{"$f":"IF(ISNA(INDEX('План ввода основ. ср-в'!Y:Y,MATCH(B254,'План ввода основ. ср-в'!B:B,0))),0,INDEX('План ввода основ. ср-в'!Y:Y,MATCH(B254,'План ввода основ. ср-в'!B:B,0)))","v":4.2288135593220346},8.4576271186440692,{"$f":"IF(ISNA(INDEX('План ввода основ. ср-в'!Z:Z,MATCH(B254,'План ввода основ. ср-в'!B:B,0))),0,INDEX('План ввода основ. ср-в'!Z:Z,MATCH(B254,'План ввода основ. ср-в'!B:B,0)))","v":0},{"$f":"IF(ISNA(INDEX('План ввода основ. ср-в'!AA:AA,MATCH(B254,'План ввода основ. ср-в'!B:B,0))),0,INDEX('План ввода основ. ср-в'!AA:AA,MATCH(B254,'План ввода основ. ср-в'!B:B,0)))","v":0},{"$f":"IF(ISNA(INDEX('План ввода основ. ср-в'!AB:AB,MATCH(B254,'План ввода основ. ср-в'!B:B,0))),0,INDEX('План ввода основ. ср-в'!AB:AB,MATCH(B254,'План ввода основ. ср-в'!B:B,0)))","v":0},{"$f":"IF(ISNA(INDEX('План ввода основ. ср-в'!AC:AC,MATCH(B254,'План ввода основ. ср-в'!B:B,0))),0,INDEX('План ввода основ. ср-в'!AC:AC,MATCH(B254,'План ввода основ. ср-в'!B:B,0)))","v":0},8.4576271186440692]
[233,"Реконструкция ВЛ-0,4 кВ от КТП ЧВ 1101/160 кВА с заменой КТП и установкой дополнительной КТП 100 кВА для перераспределения нагрузок",null,null,null,null,null,null,2.6,null,0.16,0,null,0,0,null,0,0,null,0,0,null,0,2.6,null,0.16,9.2542372881355934,{"$f":"IF(ISNA(INDEX('План ввода основ. ср-в'!F:F,MATCH(B255,'План ввода основ. ср-в'!B:B,0))),0,INDEX('План ввода основ. ср-в'!F:F,MATCH(B255,'План ввода основ. ср-в'!B:B,0)))","v":0},null,{"$f":"IF(ISNA(INDEX('План ввода основ. ср-в'!E:E,MATCH(B255,'План ввода основ. ср-в'!B:B,0))),0,INDEX('План ввода основ. ср-в'!E:E,MATCH(B255,'План ввода основ. ср-в'!B:B,0)))","v":0},{"$f":"IF(ISNA(INDEX('План ввода основ. ср-в'!H:H,MATCH(B255,'План ввода основ. ср-в'!B:B,0))),0,INDEX('План ввода основ. ср-в'!H:H,MATCH(B255,'План ввода основ. ср-в'!B:B,0)))","v":0},null,{"$f":"IF(ISNA(INDEX('План ввода основ. ср-в'!G:G,MATCH(B255,'План ввода основ. ср-в'!B:B,0))),0,INDEX('План ввода основ. ср-в'!G:G,MATCH(B255,'План ввода основ. ср-в'!B:B,0)))","v":0},{"$f":"IF(ISNA(INDEX('План ввода основ. ср-в'!J:J,MATCH(B255,'План ввода основ. ср-в'!B:B,0))),0,INDEX('План ввода основ. ср-в'!J:J,MATCH(B255,'План ввода основ. ср-в'!B:B,0)))","v":0},null,{"$f":"IF(ISNA(INDEX('План ввода основ. ср-в'!I:I,MATCH(B255,'План ввода основ. ср-в'!B:B,0))),0,INDEX('План ввода основ. ср-в'!I:I,MATCH(B255,'План ввода основ. ср-в'!B:B,0)))","v":0},{"$f":"IF(ISNA(INDEX('План ввода основ. ср-в'!L:L,MATCH(B255,'План ввода основ. ср-в'!B:B,0))),0,INDEX('План ввода основ. ср-в'!L:L,MATCH(B255,'План ввода основ. ср-в'!B:B,0)))","v":2.6},"/",{"$f":"IF(ISNA(INDEX('План ввода основ. ср-в'!K:K,MATCH(B255,'План ввода основ. ср-в'!B:B,0))),0,INDEX('План ввода основ. ср-в'!K:K,MATCH(B255,'План ввода основ. ср-в'!B:B,0)))","v":0.26},2.6,"/",0.26,{"$f":"IF(ISNA(INDEX('План ввода основ. ср-в'!N:N,MATCH(B255,'План ввода основ. ср-в'!B:B,0))),0,INDEX('План ввода основ. ср-в'!N:N,MATCH(B255,'План ввода основ. ср-в'!B:B,0)))","v":0},"",{"$f":"IF(ISNA(INDEX('План ввода основ. ср-в'!M:M,MATCH(B255,'План ввода основ. ср-в'!B:B,0))),0,INDEX('План ввода основ. ср-в'!M:M,MATCH(B255,'План ввода основ. ср-в'!B:B,0)))","v":0},{"$f":"IF(ISNA(INDEX('План ввода основ. ср-в'!P:P,MATCH(B255,'План ввода основ. ср-в'!B:B,0))),0,INDEX('План ввода основ. ср-в'!P:P,MATCH(B255,'План ввода основ. ср-в'!B:B,0)))","v":0},"",{"$f":"IF(ISNA(INDEX('План ввода основ. ср-в'!O:O,MATCH(B255,'План ввода основ. ср-в'!B:B,0))),0,INDEX('План ввода основ. ср-в'!O:O,MATCH(B255,'План ввода основ. ср-в'!B:B,0)))","v":0},{"$f":"IF(ISNA(INDEX('План ввода основ. ср-в'!R:R,MATCH(B255,'План ввода основ. ср-в'!B:B,0))),0,INDEX('План ввода основ. ср-в'!R:R,MATCH(B255,'План ввода основ. ср-в'!B:B,0)))","v":0},"",{"$f":"IF(ISNA(INDEX('План ввода основ. ср-в'!Q:Q,MATCH(B255,'План ввода основ. ср-в'!B:B,0))),0,INDEX('План ввода основ. ср-в'!Q:Q,MATCH(B255,'План ввода основ. ср-в'!B:B,0)))","v":0},{"$f":"IF(ISNA(INDEX('План ввода основ. ср-в'!T:T,MATCH(B255,'План ввода основ. ср-в'!B:B,0))),0,INDEX('План ввода основ. ср-в'!T:T,MATCH(B255,'План ввода основ. ср-в'!B:B,0)))","v":0},"",{"$f":"IF(ISNA(INDEX('План ввода основ. ср-в'!S:S,MATCH(B255,'План ввода основ. ср-в'!B:B,0))),0,INDEX('План ввода основ. ср-в'!S:S,MATCH(B255,'План ввода основ. ср-в'!B:B,0)))","v":0},2.6,null,0.26,{"$f":"IF(ISNA(INDEX('План ввода основ. ср-в'!V:V,MATCH(B255,'План ввода основ. ср-в'!B:B,0))),0,INDEX('План ввода основ. ср-в'!V:V,MATCH(B255,'План ввода основ. ср-в'!B:B,0)))","v":0},{"$f":"IF(ISNA(INDEX('План ввода основ. ср-в'!W:W,MATCH(B255,'План ввода основ. ср-в'!B:B,0))),0,INDEX('План ввода основ. ср-в'!W:W,MATCH(B255,'План ввода основ. ср-в'!B:B,0)))","v":1.388135593220339},{"$f":"IF(ISNA(INDEX('План ввода основ. ср-в'!X:X,MATCH(B255,'План ввода основ. ср-в'!B:B,0))),0,INDEX('План ввода основ. ср-в'!X:X,MATCH(B255,'План ввода основ. ср-в'!B:B,0)))","v":3.2389830508474575},{"$f":"IF(ISNA(INDEX('План ввода основ. ср-в'!Y:Y,MATCH(B255,'План ввода основ. ср-в'!B:B,0))),0,INDEX('План ввода основ. ср-в'!Y:Y,MATCH(B255,'План ввода основ. ср-в'!B:B,0)))","v":4.6271186440677967},9.2542372881355934,{"$f":"IF(ISNA(INDEX('План ввода основ. ср-в'!Z:Z,MATCH(B255,'План ввода основ. ср-в'!B:B,0))),0,INDEX('План ввода основ. ср-в'!Z:Z,MATCH(B255,'План ввода основ. ср-в'!B:B,0)))","v":0},{"$f":"IF(ISNA(INDEX('План ввода основ. ср-в'!AA:AA,MATCH(B255,'План ввода основ. ср-в'!B:B,0))),0,INDEX('План ввода основ. ср-в'!AA:AA,MATCH(B255,'План ввода основ. ср-в'!B:B,0)))","v":0},{"$f":"IF(ISNA(INDEX('План ввода основ. ср-в'!AB:AB,MATCH(B255,'План ввода основ. ср-в'!B:B,0))),0,INDEX('План ввода основ. ср-в'!AB:AB,MATCH(B255,'План ввода основ. ср-в'!B:B,0)))","v":0},{"$f":"IF(ISNA(INDEX('План ввода основ. ср-в'!AC:AC,MATCH(B255,'План ввода основ. ср-в'!B:B,0))),0,INDEX('План ввода основ. ср-в'!AC:AC,MATCH(B255,'План ввода основ. ср-в'!B:B,0)))","v":0},9.2542372881355934]
[234,"Реконструкция ВЛ-0,4 кВ от КТП ЧВ 113/250 кВА с заменой КТП",null,null,null,null,null,null,0,null,0,1.9,null,0.25,0,null,0,0,null,0,0,null,0,1.9,null,0.25,5.5254237288135588,{"$f":"IF(ISNA(INDEX('План ввода основ. ср-в'!F:F,MATCH(B256,'План ввода основ. ср-в'!B:B,0))),0,INDEX('План ввода основ. ср-в'!F:F,MATCH(B256,'План ввода основ. ср-в'!B:B,0)))","v":0},null,{"$f":"IF(ISNA(INDEX('План ввода основ. ср-в'!E:E,MATCH(B256,'План ввода основ. ср-в'!B:B,0))),0,INDEX('План ввода основ. ср-в'!E:E,MATCH(B256,'План ввода основ. ср-в'!B:B,0)))","v":0},{"$f":"IF(ISNA(INDEX('План ввода основ. ср-в'!H:H,MATCH(B256,'План ввода основ. ср-в'!B:B,0))),0,INDEX('План ввода основ. ср-в'!H:H,MATCH(B256,'План ввода основ. ср-в'!B:B,0)))","v":0},null,{"$f":"IF(ISNA(INDEX('План ввода основ. ср-в'!G:G,MATCH(B256,'План ввода основ. ср-в'!B:B,0))),0,INDEX('План ввода основ. ср-в'!G:G,MATCH(B256,'План ввода основ. ср-в'!B:B,0)))","v":0},{"$f":"IF(ISNA(INDEX('План ввода основ. ср-в'!J:J,MATCH(B256,'План ввода основ. ср-в'!B:B,0))),0,INDEX('План ввода основ. ср-в'!J:J,MATCH(B256,'План ввода основ. ср-в'!B:B,0)))","v":0},null,{"$f":"IF(ISNA(INDEX('План ввода основ. ср-в'!I:I,MATCH(B256,'План ввода основ. ср-в'!B:B,0))),0,INDEX('План ввода основ. ср-в'!I:I,MATCH(B256,'План ввода основ. ср-в'!B:B,0)))","v":0},{"$f":"IF(ISNA(INDEX('План ввода основ. ср-в'!L:L,MATCH(B256,'План ввода основ. ср-в'!B:B,0))),0,INDEX('План ввода основ. ср-в'!L:L,MATCH(B256,'План ввода основ. ср-в'!B:B,0)))","v":0},"",{"$f":"IF(ISNA(INDEX('План ввода основ. ср-в'!K:K,MATCH(B256,'План ввода основ. ср-в'!B:B,0))),0,INDEX('План ввода основ. ср-в'!K:K,MATCH(B256,'План ввода основ. ср-в'!B:B,0)))","v":0},0,"/",0,{"$f":"IF(ISNA(INDEX('План ввода основ. ср-в'!N:N,MATCH(B256,'План ввода основ. ср-в'!B:B,0))),0,INDEX('План ввода основ. ср-в'!N:N,MATCH(B256,'План ввода основ. ср-в'!B:B,0)))","v":1.9},"/",{"$f":"IF(ISNA(INDEX('План ввода основ. ср-в'!M:M,MATCH(B256,'План ввода основ. ср-в'!B:B,0))),0,INDEX('План ввода основ. ср-в'!M:M,MATCH(B256,'План ввода основ. ср-в'!B:B,0)))","v":0.25},{"$f":"IF(ISNA(INDEX('План ввода основ. ср-в'!P:P,MATCH(B256,'План ввода основ. ср-в'!B:B,0))),0,INDEX('План ввода основ. ср-в'!P:P,MATCH(B256,'План ввода основ. ср-в'!B:B,0)))","v":0},"",{"$f":"IF(ISNA(INDEX('План ввода основ. ср-в'!O:O,MATCH(B256,'План ввода основ. ср-в'!B:B,0))),0,INDEX('План ввода основ. ср-в'!O:O,MATCH(B256,'План ввода основ. ср-в'!B:B,0)))","v":0},{"$f":"IF(ISNA(INDEX('План ввода основ. ср-в'!R:R,MATCH(B256,'План ввода основ. ср-в'!B:B,0))),0,INDEX('План ввода основ. ср-в'!R:R,MATCH(B256,'План ввода основ. ср-в'!B:B,0)))","v":0},"",{"$f":"IF(ISNA(INDEX('План ввода основ. ср-в'!Q:Q,MATCH(B256,'План ввода основ. ср-в'!B:B,0))),0,INDEX('План ввода основ. ср-в'!Q:Q,MATCH(B256,'План ввода основ. ср-в'!B:B,0)))","v":0},{"$f":"IF(ISNA(INDEX('План ввода основ. ср-в'!T:T,MATCH(B256,'План ввода основ. ср-в'!B:B,0))),0,INDEX('План ввода основ. ср-в'!T:T,MATCH(B256,'План ввода основ. ср-в'!B:B,0)))","v":0},"",{"$f":"IF(ISNA(INDEX('План ввода основ. ср-в'!S:S,MATCH(B256,'План ввода основ. ср-в'!B:B,0))),0,INDEX('План ввода основ. ср-в'!S:S,MATCH(B256,'План ввода основ. ср-в'!B:B,0)))","v":0},1.9,null,0.25,{"$f":"IF(ISNA(INDEX('План ввода основ. ср-в'!V:V,MATCH(B256,'План ввода основ. ср-в'!B:B,0))),0,INDEX('План ввода основ. ср-в'!V:V,MATCH(B256,'План ввода основ. ср-в'!B:B,0)))","v":0},{"$f":"IF(ISNA(INDEX('План ввода основ. ср-в'!W:W,MATCH(B256,'План ввода основ. ср-в'!B:B,0))),0,INDEX('План ввода основ. ср-в'!W:W,MATCH(B256,'План ввода основ. ср-в'!B:B,0)))","v":0},{"$f":"IF(ISNA(INDEX('План ввода основ. ср-в'!X:X,MATCH(B256,'План ввода основ. ср-в'!B:B,0))),0,INDEX('План ввода основ. ср-в'!X:X,MATCH(B256,'План ввода основ. ср-в'!B:B,0)))","v":0},{"$f":"IF(ISNA(INDEX('План ввода основ. ср-в'!Y:Y,MATCH(B256,'План ввода основ. ср-в'!B:B,0))),0,INDEX('План ввода основ. ср-в'!Y:Y,MATCH(B256,'План ввода основ. ср-в'!B:B,0)))","v":0},0,{"$f":"IF(ISNA(INDEX('План ввода основ. ср-в'!Z:Z,MATCH(B256,'План ввода основ. ср-в'!B:B,0))),0,INDEX('План ввода основ. ср-в'!Z:Z,MATCH(B256,'План ввода основ. ср-в'!B:B,0)))","v":5.5254237288135588},{"$f":"IF(ISNA(INDEX('План ввода основ. ср-в'!AA:AA,MATCH(B256,'План ввода основ. ср-в'!B:B,0))),0,INDEX('План ввода основ. ср-в'!AA:AA,MATCH(B256,'План ввода основ. ср-в'!B:B,0)))","v":0},{"$f":"IF(ISNA(INDEX('План ввода основ. ср-в'!AB:AB,MATCH(B256,'План ввода основ. ср-в'!B:B,0))),0,INDEX('План ввода основ. ср-в'!AB:AB,MATCH(B256,'План ввода основ. ср-в'!B:B,0)))","v":0},{"$f":"IF(ISNA(INDEX('План ввода основ. ср-в'!AC:AC,MATCH(B256,'План ввода основ. ср-в'!B:B,0))),0,INDEX('План ввода основ. ср-в'!AC:AC,MATCH(B256,'План ввода основ. ср-в'!B:B,0)))","v":0},5.5254237288135588]
[235,"Реконструкция ВЛ-0,4 кВ от КТП Оз 505/100 кВА с заменой КТП",null,null,null,null,null,null,0,null,0,2.8,null,0.1,0,null,0,0,null,0,0,null,0,2.8,null,0.1,7.6610169491525424,{"$f":"IF(ISNA(INDEX('План ввода основ. ср-в'!F:F,MATCH(B257,'План ввода основ. ср-в'!B:B,0))),0,INDEX('План ввода основ. ср-в'!F:F,MATCH(B257,'План ввода основ. ср-в'!B:B,0)))","v":0},null,{"$f":"IF(ISNA(INDEX('План ввода основ. ср-в'!E:E,MATCH(B257,'План ввода основ. ср-в'!B:B,0))),0,INDEX('План ввода основ. ср-в'!E:E,MATCH(B257,'План ввода основ. ср-в'!B:B,0)))","v":0},{"$f":"IF(ISNA(INDEX('План ввода основ. ср-в'!H:H,MATCH(B257,'План ввода основ. ср-в'!B:B,0))),0,INDEX('План ввода основ. ср-в'!H:H,MATCH(B257,'План ввода основ. ср-в'!B:B,0)))","v":0},null,{"$f":"IF(ISNA(INDEX('План ввода основ. ср-в'!G:G,MATCH(B257,'План ввода основ. ср-в'!B:B,0))),0,INDEX('План ввода основ. ср-в'!G:G,MATCH(B257,'План ввода основ. ср-в'!B:B,0)))","v":0},{"$f":"IF(ISNA(INDEX('План ввода основ. ср-в'!J:J,MATCH(B257,'План ввода основ. ср-в'!B:B,0))),0,INDEX('План ввода основ. ср-в'!J:J,MATCH(B257,'План ввода основ. ср-в'!B:B,0)))","v":0},null,{"$f":"IF(ISNA(INDEX('План ввода основ. ср-в'!I:I,MATCH(B257,'План ввода основ. ср-в'!B:B,0))),0,INDEX('План ввода основ. ср-в'!I:I,MATCH(B257,'План ввода основ. ср-в'!B:B,0)))","v":0},{"$f":"IF(ISNA(INDEX('План ввода основ. ср-в'!L:L,MATCH(B257,'План ввода основ. ср-в'!B:B,0))),0,INDEX('План ввода основ. ср-в'!L:L,MATCH(B257,'План ввода основ. ср-в'!B:B,0)))","v":0},"",{"$f":"IF(ISNA(INDEX('План ввода основ. ср-в'!K:K,MATCH(B257,'План ввода основ. ср-в'!B:B,0))),0,INDEX('План ввода основ. ср-в'!K:K,MATCH(B257,'План ввода основ. ср-в'!B:B,0)))","v":0},0,"/",0,{"$f":"IF(ISNA(INDEX('План ввода основ. ср-в'!N:N,MATCH(B257,'План ввода основ. ср-в'!B:B,0))),0,INDEX('План ввода основ. ср-в'!N:N,MATCH(B257,'План ввода основ. ср-в'!B:B,0)))","v":2.8},"/",{"$f":"IF(ISNA(INDEX('План ввода основ. ср-в'!M:M,MATCH(B257,'План ввода основ. ср-в'!B:B,0))),0,INDEX('План ввода основ. ср-в'!M:M,MATCH(B257,'План ввода основ. ср-в'!B:B,0)))","v":0.1},{"$f":"IF(ISNA(INDEX('План ввода основ. ср-в'!P:P,MATCH(B257,'План ввода основ. ср-в'!B:B,0))),0,INDEX('План ввода основ. ср-в'!P:P,MATCH(B257,'План ввода основ. ср-в'!B:B,0)))","v":0},"",{"$f":"IF(ISNA(INDEX('План ввода основ. ср-в'!O:O,MATCH(B257,'План ввода основ. ср-в'!B:B,0))),0,INDEX('План ввода основ. ср-в'!O:O,MATCH(B257,'План ввода основ. ср-в'!B:B,0)))","v":0},{"$f":"IF(ISNA(INDEX('План ввода основ. ср-в'!R:R,MATCH(B257,'План ввода основ. ср-в'!B:B,0))),0,INDEX('План ввода основ. ср-в'!R:R,MATCH(B257,'План ввода основ. ср-в'!B:B,0)))","v":0},"",{"$f":"IF(ISNA(INDEX('План ввода основ. ср-в'!Q:Q,MATCH(B257,'План ввода основ. ср-в'!B:B,0))),0,INDEX('План ввода основ. ср-в'!Q:Q,MATCH(B257,'План ввода основ. ср-в'!B:B,0)))","v":0},{"$f":"IF(ISNA(INDEX('План ввода основ. ср-в'!T:T,MATCH(B257,'План ввода основ. ср-в'!B:B,0))),0,INDEX('План ввода основ. ср-в'!T:T,MATCH(B257,'План ввода основ. ср-в'!B:B,0)))","v":0},"",{"$f":"IF(ISNA(INDEX('План ввода основ. ср-в'!S:S,MATCH(B257,'План ввода основ. ср-в'!B:B,0))),0,INDEX('План ввода основ. ср-в'!S:S,MATCH(B257,'План ввода основ. ср-в'!B:B,0)))","v":0},2.8,null,0.1,{"$f":"IF(ISNA(INDEX('План ввода основ. ср-в'!V:V,MATCH(B257,'План ввода основ. ср-в'!B:B,0))),0,INDEX('План ввода основ. ср-в'!V:V,MATCH(B257,'План ввода основ. ср-в'!B:B,0)))","v":0},{"$f":"IF(ISNA(INDEX('План ввода основ. ср-в'!W:W,MATCH(B257,'План ввода основ. ср-в'!B:B,0))),0,INDEX('План ввода основ. ср-в'!W:W,MATCH(B257,'План ввода основ. ср-в'!B:B,0)))","v":0},{"$f":"IF(ISNA(INDEX('План ввода основ. ср-в'!X:X,MATCH(B257,'План ввода основ. ср-в'!B:B,0))),0,INDEX('План ввода основ. ср-в'!X:X,MATCH(B257,'План ввода основ. ср-в'!B:B,0)))","v":0},{"$f":"IF(ISNA(INDEX('План ввода основ. ср-в'!Y:Y,MATCH(B257,'План ввода основ. ср-в'!B:B,0))),0,INDEX('План ввода основ. ср-в'!Y:Y,MATCH(B257,'План ввода основ. ср-в'!B:B,0)))","v":0},0,{"$f":"IF(ISNA(INDEX('План ввода основ. ср-в'!Z:Z,MATCH(B257,'План ввода основ. ср-в'!B:B,0))),0,INDEX('План ввода основ. ср-в'!Z:Z,MATCH(B257,'План ввода основ. ср-в'!B:B,0)))","v":7.6610169491525424},{"$f":"IF(ISNA(INDEX('План ввода основ. ср-в'!AA:AA,MATCH(B257,'План ввода основ. ср-в'!B:B,0))),0,INDEX('План ввода основ. ср-в'!AA:AA,MATCH(B257,'План ввода основ. ср-в'!B:B,0)))","v":0},{"$f":"IF(ISNA(INDEX('План ввода основ. ср-в'!AB:AB,MATCH(B257,'План ввода основ. ср-в'!B:B,0))),0,INDEX('План ввода основ. ср-в'!AB:AB,MATCH(B257,'План ввода основ. ср-в'!B:B,0)))","v":0},{"$f":"IF(ISNA(INDEX('План ввода основ. ср-в'!AC:AC,MATCH(B257,'План ввода основ. ср-в'!B:B,0))),0,INDEX('План ввода основ. ср-в'!AC:AC,MATCH(B257,'План ввода основ. ср-в'!B:B,0)))","v":0},7.6610169491525424]
[236,"Реконструкция ВЛ-0,4 кВ от КТП Оз 510/250 кВА с заменой КТП на 160 кВА",null,null,null,null,null,null,0,null,0,2.4,null,0.25,0,null,0,0,null,0,0,null,0,2.4,null,0.25,6.7118644067796609,{"$f":"IF(ISNA(INDEX('План ввода основ. ср-в'!F:F,MATCH(B258,'План ввода основ. ср-в'!B:B,0))),0,INDEX('План ввода основ. ср-в'!F:F,MATCH(B258,'План ввода основ. ср-в'!B:B,0)))","v":0},null,{"$f":"IF(ISNA(INDEX('План ввода основ. ср-в'!E:E,MATCH(B258,'План ввода основ. ср-в'!B:B,0))),0,INDEX('План ввода основ. ср-в'!E:E,MATCH(B258,'План ввода основ. ср-в'!B:B,0)))","v":0},{"$f":"IF(ISNA(INDEX('План ввода основ. ср-в'!H:H,MATCH(B258,'План ввода основ. ср-в'!B:B,0))),0,INDEX('План ввода основ. ср-в'!H:H,MATCH(B258,'План ввода основ. ср-в'!B:B,0)))","v":0},null,{"$f":"IF(ISNA(INDEX('План ввода основ. ср-в'!G:G,MATCH(B258,'План ввода основ. ср-в'!B:B,0))),0,INDEX('План ввода основ. ср-в'!G:G,MATCH(B258,'План ввода основ. ср-в'!B:B,0)))","v":0},{"$f":"IF(ISNA(INDEX('План ввода основ. ср-в'!J:J,MATCH(B258,'План ввода основ. ср-в'!B:B,0))),0,INDEX('План ввода основ. ср-в'!J:J,MATCH(B258,'План ввода основ. ср-в'!B:B,0)))","v":0},null,{"$f":"IF(ISNA(INDEX('План ввода основ. ср-в'!I:I,MATCH(B258,'План ввода основ. ср-в'!B:B,0))),0,INDEX('План ввода основ. ср-в'!I:I,MATCH(B258,'План ввода основ. ср-в'!B:B,0)))","v":0},{"$f":"IF(ISNA(INDEX('План ввода основ. ср-в'!L:L,MATCH(B258,'План ввода основ. ср-в'!B:B,0))),0,INDEX('План ввода основ. ср-в'!L:L,MATCH(B258,'План ввода основ. ср-в'!B:B,0)))","v":0},"",{"$f":"IF(ISNA(INDEX('План ввода основ. ср-в'!K:K,MATCH(B258,'План ввода основ. ср-в'!B:B,0))),0,INDEX('План ввода основ. ср-в'!K:K,MATCH(B258,'План ввода основ. ср-в'!B:B,0)))","v":0},0,"/",0,{"$f":"IF(ISNA(INDEX('План ввода основ. ср-в'!N:N,MATCH(B258,'План ввода основ. ср-в'!B:B,0))),0,INDEX('План ввода основ. ср-в'!N:N,MATCH(B258,'План ввода основ. ср-в'!B:B,0)))","v":2.4},"/",{"$f":"IF(ISNA(INDEX('План ввода основ. ср-в'!M:M,MATCH(B258,'План ввода основ. ср-в'!B:B,0))),0,INDEX('План ввода основ. ср-в'!M:M,MATCH(B258,'План ввода основ. ср-в'!B:B,0)))","v":0.16},{"$f":"IF(ISNA(INDEX('План ввода основ. ср-в'!P:P,MATCH(B258,'План ввода основ. ср-в'!B:B,0))),0,INDEX('План ввода основ. ср-в'!P:P,MATCH(B258,'План ввода основ. ср-в'!B:B,0)))","v":0},"",{"$f":"IF(ISNA(INDEX('План ввода основ. ср-в'!O:O,MATCH(B258,'План ввода основ. ср-в'!B:B,0))),0,INDEX('План ввода основ. ср-в'!O:O,MATCH(B258,'План ввода основ. ср-в'!B:B,0)))","v":0},{"$f":"IF(ISNA(INDEX('План ввода основ. ср-в'!R:R,MATCH(B258,'План ввода основ. ср-в'!B:B,0))),0,INDEX('План ввода основ. ср-в'!R:R,MATCH(B258,'План ввода основ. ср-в'!B:B,0)))","v":0},"",{"$f":"IF(ISNA(INDEX('План ввода основ. ср-в'!Q:Q,MATCH(B258,'План ввода основ. ср-в'!B:B,0))),0,INDEX('План ввода основ. ср-в'!Q:Q,MATCH(B258,'План ввода основ. ср-в'!B:B,0)))","v":0},{"$f":"IF(ISNA(INDEX('План ввода основ. ср-в'!T:T,MATCH(B258,'План ввода основ. ср-в'!B:B,0))),0,INDEX('План ввода основ. ср-в'!T:T,MATCH(B258,'План ввода основ. ср-в'!B:B,0)))","v":0},"",{"$f":"IF(ISNA(INDEX('План ввода основ. ср-в'!S:S,MATCH(B258,'План ввода основ. ср-в'!B:B,0))),0,INDEX('План ввода основ. ср-в'!S:S,MATCH(B258,'План ввода основ. ср-в'!B:B,0)))","v":0},2.4,null,0.16,{"$f":"IF(ISNA(INDEX('План ввода основ. ср-в'!V:V,MATCH(B258,'План ввода основ. ср-в'!B:B,0))),0,INDEX('План ввода основ. ср-в'!V:V,MATCH(B258,'План ввода основ. ср-в'!B:B,0)))","v":0},{"$f":"IF(ISNA(INDEX('План ввода основ. ср-в'!W:W,MATCH(B258,'План ввода основ. ср-в'!B:B,0))),0,INDEX('План ввода основ. ср-в'!W:W,MATCH(B258,'План ввода основ. ср-в'!B:B,0)))","v":0},{"$f":"IF(ISNA(INDEX('План ввода основ. ср-в'!X:X,MATCH(B258,'План ввода основ. ср-в'!B:B,0))),0,INDEX('План ввода основ. ср-в'!X:X,MATCH(B258,'План ввода основ. ср-в'!B:B,0)))","v":0},{"$f":"IF(ISNA(INDEX('План ввода основ. ср-в'!Y:Y,MATCH(B258,'План ввода основ. ср-в'!B:B,0))),0,INDEX('План ввода основ. ср-в'!Y:Y,MATCH(B258,'План ввода основ. ср-в'!B:B,0)))","v":0},0,{"$f":"IF(ISNA(INDEX('План ввода основ. ср-в'!Z:Z,MATCH(B258,'План ввода основ. ср-в'!B:B,0))),0,INDEX('План ввода основ. ср-в'!Z:Z,MATCH(B258,'План ввода основ. ср-в'!B:B,0)))","v":6.7118644067796609},{"$f":"IF(ISNA(INDEX('План ввода основ. ср-в'!AA:AA,MATCH(B258,'План ввода основ. ср-в'!B:B,0))),0,INDEX('План ввода основ. ср-в'!AA:AA,MATCH(B258,'План ввода основ. ср-в'!B:B,0)))","v":0},{"$f":"IF(ISNA(INDEX('План ввода основ. ср-в'!AB:AB,MATCH(B258,'План ввода основ. ср-в'!B:B,0))),0,INDEX('План ввода основ. ср-в'!AB:AB,MATCH(B258,'План ввода основ. ср-в'!B:B,0)))","v":0},{"$f":"IF(ISNA(INDEX('План ввода основ. ср-в'!AC:AC,MATCH(B258,'План ввода основ. ср-в'!B:B,0))),0,INDEX('План ввода основ. ср-в'!AC:AC,MATCH(B258,'План ввода основ. ср-в'!B:B,0)))","v":0},6.7118644067796609]
[237,"Реконструкция ВЛ-0,4 кВ от КТП Оз 504/60 кВА с заменой КТП на 100 кВА",null,null,null,null,null,null,0,null,0,2.1,null,0.06,0,null,0,0,null,0,0,null,0,2.1,null,0.06,3.8644067796610169,{"$f":"IF(ISNA(INDEX('План ввода основ. ср-в'!F:F,MATCH(B259,'План ввода основ. ср-в'!B:B,0))),0,INDEX('План ввода основ. ср-в'!F:F,MATCH(B259,'План ввода основ. ср-в'!B:B,0)))","v":0},null,{"$f":"IF(ISNA(INDEX('План ввода основ. ср-в'!E:E,MATCH(B259,'План ввода основ. ср-в'!B:B,0))),0,INDEX('План ввода основ. ср-в'!E:E,MATCH(B259,'План ввода основ. ср-в'!B:B,0)))","v":0},{"$f":"IF(ISNA(INDEX('План ввода основ. ср-в'!H:H,MATCH(B259,'План ввода основ. ср-в'!B:B,0))),0,INDEX('План ввода основ. ср-в'!H:H,MATCH(B259,'План ввода основ. ср-в'!B:B,0)))","v":0},null,{"$f":"IF(ISNA(INDEX('План ввода основ. ср-в'!G:G,MATCH(B259,'План ввода основ. ср-в'!B:B,0))),0,INDEX('План ввода основ. ср-в'!G:G,MATCH(B259,'План ввода основ. ср-в'!B:B,0)))","v":0},{"$f":"IF(ISNA(INDEX('План ввода основ. ср-в'!J:J,MATCH(B259,'План ввода основ. ср-в'!B:B,0))),0,INDEX('План ввода основ. ср-в'!J:J,MATCH(B259,'План ввода основ. ср-в'!B:B,0)))","v":0},null,{"$f":"IF(ISNA(INDEX('План ввода основ. ср-в'!I:I,MATCH(B259,'План ввода основ. ср-в'!B:B,0))),0,INDEX('План ввода основ. ср-в'!I:I,MATCH(B259,'План ввода основ. ср-в'!B:B,0)))","v":0},{"$f":"IF(ISNA(INDEX('План ввода основ. ср-в'!L:L,MATCH(B259,'План ввода основ. ср-в'!B:B,0))),0,INDEX('План ввода основ. ср-в'!L:L,MATCH(B259,'План ввода основ. ср-в'!B:B,0)))","v":0},"",{"$f":"IF(ISNA(INDEX('План ввода основ. ср-в'!K:K,MATCH(B259,'План ввода основ. ср-в'!B:B,0))),0,INDEX('План ввода основ. ср-в'!K:K,MATCH(B259,'План ввода основ. ср-в'!B:B,0)))","v":0},0,"/",0,{"$f":"IF(ISNA(INDEX('План ввода основ. ср-в'!N:N,MATCH(B259,'План ввода основ. ср-в'!B:B,0))),0,INDEX('План ввода основ. ср-в'!N:N,MATCH(B259,'План ввода основ. ср-в'!B:B,0)))","v":2.1},"/",{"$f":"IF(ISNA(INDEX('План ввода основ. ср-в'!M:M,MATCH(B259,'План ввода основ. ср-в'!B:B,0))),0,INDEX('План ввода основ. ср-в'!M:M,MATCH(B259,'План ввода основ. ср-в'!B:B,0)))","v":0.1},{"$f":"IF(ISNA(INDEX('План ввода основ. ср-в'!P:P,MATCH(B259,'План ввода основ. ср-в'!B:B,0))),0,INDEX('План ввода основ. ср-в'!P:P,MATCH(B259,'План ввода основ. ср-в'!B:B,0)))","v":0},"",{"$f":"IF(ISNA(INDEX('План ввода основ. ср-в'!O:O,MATCH(B259,'План ввода основ. ср-в'!B:B,0))),0,INDEX('План ввода основ. ср-в'!O:O,MATCH(B259,'План ввода основ. ср-в'!B:B,0)))","v":0},{"$f":"IF(ISNA(INDEX('План ввода основ. ср-в'!R:R,MATCH(B259,'План ввода основ. ср-в'!B:B,0))),0,INDEX('План ввода основ. ср-в'!R:R,MATCH(B259,'План ввода основ. ср-в'!B:B,0)))","v":0},null,{"$f":"IF(ISNA(INDEX('План ввода основ. ср-в'!Q:Q,MATCH(B259,'План ввода основ. ср-в'!B:B,0))),0,INDEX('План ввода основ. ср-в'!Q:Q,MATCH(B259,'План ввода основ. ср-в'!B:B,0)))","v":0},{"$f":"IF(ISNA(INDEX('План ввода основ. ср-в'!T:T,MATCH(B259,'План ввода основ. ср-в'!B:B,0))),0,INDEX('План ввода основ. ср-в'!T:T,MATCH(B259,'План ввода основ. ср-в'!B:B,0)))","v":0},"",{"$f":"IF(ISNA(INDEX('План ввода основ. ср-в'!S:S,MATCH(B259,'План ввода основ. ср-в'!B:B,0))),0,INDEX('План ввода основ. ср-в'!S:S,MATCH(B259,'План ввода основ. ср-в'!B:B,0)))","v":0},2.1,null,0.1,{"$f":"IF(ISNA(INDEX('План ввода основ. ср-в'!V:V,MATCH(B259,'План ввода основ. ср-в'!B:B,0))),0,INDEX('План ввода основ. ср-в'!V:V,MATCH(B259,'План ввода основ. ср-в'!B:B,0)))","v":0},{"$f":"IF(ISNA(INDEX('План ввода основ. ср-в'!W:W,MATCH(B259,'План ввода основ. ср-в'!B:B,0))),0,INDEX('План ввода основ. ср-в'!W:W,MATCH(B259,'План ввода основ. ср-в'!B:B,0)))","v":0},{"$f":"IF(ISNA(INDEX('План ввода основ. ср-в'!X:X,MATCH(B259,'План ввода основ. ср-в'!B:B,0))),0,INDEX('План ввода основ. ср-в'!X:X,MATCH(B259,'План ввода основ. ср-в'!B:B,0)))","v":0},{"$f":"IF(ISNA(INDEX('План ввода основ. ср-в'!Y:Y,MATCH(B259,'План ввода основ. ср-в'!B:B,0))),0,INDEX('План ввода основ. ср-в'!Y:Y,MATCH(B259,'План ввода основ. ср-в'!B:B,0)))","v":0},0,{"$f":"IF(ISNA(INDEX('План ввода основ. ср-в'!Z:Z,MATCH(B259,'План ввода основ. ср-в'!B:B,0))),0,INDEX('План ввода основ. ср-в'!Z:Z,MATCH(B259,'План ввода основ. ср-в'!B:B,0)))","v":3.8644067796610169},{"$f":"IF(ISNA(INDEX('План ввода основ. ср-в'!AA:AA,MATCH(B259,'План ввода основ. ср-в'!B:B,0))),0,INDEX('План ввода основ. ср-в'!AA:AA,MATCH(B259,'План ввода основ. ср-в'!B:B,0)))","v":0},{"$f":"IF(ISNA(INDEX('План ввода основ. ср-в'!AB:AB,MATCH(B259,'План ввода основ. ср-в'!B:B,0))),0,INDEX('План ввода основ. ср-в'!AB:AB,MATCH(B259,'План ввода основ. ср-в'!B:B,0)))","v":0},{"$f":"IF(ISNA(INDEX('План ввода основ. ср-в'!AC:AC,MATCH(B259,'План ввода основ. ср-в'!B:B,0))),0,INDEX('План ввода основ. ср-в'!AC:AC,MATCH(B259,'План ввода основ. ср-в'!B:B,0)))","v":0},3.8644067796610169]
[238,"Реконструкция ВЛ-0,4 кВ от КТП ЧВ 1004/250 кВА с заменой КТП",null,null,null,null,null,null,0,null,0,0,null,0,1.8,null,0.25,0,null,0,0,null,0,1.8,null,0.25,5.2881355932203391,{"$f":"IF(ISNA(INDEX('План ввода основ. ср-в'!F:F,MATCH(B260,'План ввода основ. ср-в'!B:B,0))),0,INDEX('План ввода основ. ср-в'!F:F,MATCH(B260,'План ввода основ. ср-в'!B:B,0)))","v":0},null,{"$f":"IF(ISNA(INDEX('План ввода основ. ср-в'!E:E,MATCH(B260,'План ввода основ. ср-в'!B:B,0))),0,INDEX('План ввода основ. ср-в'!E:E,MATCH(B260,'План ввода основ. ср-в'!B:B,0)))","v":0},{"$f":"IF(ISNA(INDEX('План ввода основ. ср-в'!H:H,MATCH(B260,'План ввода основ. ср-в'!B:B,0))),0,INDEX('План ввода основ. ср-в'!H:H,MATCH(B260,'План ввода основ. ср-в'!B:B,0)))","v":0},null,{"$f":"IF(ISNA(INDEX('План ввода основ. ср-в'!G:G,MATCH(B260,'План ввода основ. ср-в'!B:B,0))),0,INDEX('План ввода основ. ср-в'!G:G,MATCH(B260,'План ввода основ. ср-в'!B:B,0)))","v":0},{"$f":"IF(ISNA(INDEX('План ввода основ. ср-в'!J:J,MATCH(B260,'План ввода основ. ср-в'!B:B,0))),0,INDEX('План ввода основ. ср-в'!J:J,MATCH(B260,'План ввода основ. ср-в'!B:B,0)))","v":0},null,{"$f":"IF(ISNA(INDEX('План ввода основ. ср-в'!I:I,MATCH(B260,'План ввода основ. ср-в'!B:B,0))),0,INDEX('План ввода основ. ср-в'!I:I,MATCH(B260,'План ввода основ. ср-в'!B:B,0)))","v":0},{"$f":"IF(ISNA(INDEX('План ввода основ. ср-в'!L:L,MATCH(B260,'План ввода основ. ср-в'!B:B,0))),0,INDEX('План ввода основ. ср-в'!L:L,MATCH(B260,'План ввода основ. ср-в'!B:B,0)))","v":0},"",{"$f":"IF(ISNA(INDEX('План ввода основ. ср-в'!K:K,MATCH(B260,'План ввода основ. ср-в'!B:B,0))),0,INDEX('План ввода основ. ср-в'!K:K,MATCH(B260,'План ввода основ. ср-в'!B:B,0)))","v":0},0,"/",0,{"$f":"IF(ISNA(INDEX('План ввода основ. ср-в'!N:N,MATCH(B260,'План ввода основ. ср-в'!B:B,0))),0,INDEX('План ввода основ. ср-в'!N:N,MATCH(B260,'План ввода основ. ср-в'!B:B,0)))","v":0},"",{"$f":"IF(ISNA(INDEX('План ввода основ. ср-в'!M:M,MATCH(B260,'План ввода основ. ср-в'!B:B,0))),0,INDEX('План ввода основ. ср-в'!M:M,MATCH(B260,'План ввода основ. ср-в'!B:B,0)))","v":0},{"$f":"IF(ISNA(INDEX('План ввода основ. ср-в'!P:P,MATCH(B260,'План ввода основ. ср-в'!B:B,0))),0,INDEX('План ввода основ. ср-в'!P:P,MATCH(B260,'План ввода основ. ср-в'!B:B,0)))","v":1.8},"/",{"$f":"IF(ISNA(INDEX('План ввода основ. ср-в'!O:O,MATCH(B260,'План ввода основ. ср-в'!B:B,0))),0,INDEX('План ввода основ. ср-в'!O:O,MATCH(B260,'План ввода основ. ср-в'!B:B,0)))","v":0.25},{"$f":"IF(ISNA(INDEX('План ввода основ. ср-в'!R:R,MATCH(B260,'План ввода основ. ср-в'!B:B,0))),0,INDEX('План ввода основ. ср-в'!R:R,MATCH(B260,'План ввода основ. ср-в'!B:B,0)))","v":0},null,{"$f":"IF(ISNA(INDEX('План ввода основ. ср-в'!Q:Q,MATCH(B260,'План ввода основ. ср-в'!B:B,0))),0,INDEX('План ввода основ. ср-в'!Q:Q,MATCH(B260,'План ввода основ. ср-в'!B:B,0)))","v":0},{"$f":"IF(ISNA(INDEX('План ввода основ. ср-в'!T:T,MATCH(B260,'План ввода основ. ср-в'!B:B,0))),0,INDEX('План ввода основ. ср-в'!T:T,MATCH(B260,'План ввода основ. ср-в'!B:B,0)))","v":0},null,{"$f":"IF(ISNA(INDEX('План ввода основ. ср-в'!S:S,MATCH(B260,'План ввода основ. ср-в'!B:B,0))),0,INDEX('План ввода основ. ср-в'!S:S,MATCH(B260,'План ввода основ. ср-в'!B:B,0)))","v":0},1.8,null,0.25,{"$f":"IF(ISNA(INDEX('План ввода основ. ср-в'!V:V,MATCH(B260,'План ввода основ. ср-в'!B:B,0))),0,INDEX('План ввода основ. ср-в'!V:V,MATCH(B260,'План ввода основ. ср-в'!B:B,0)))","v":0},{"$f":"IF(ISNA(INDEX('План ввода основ. ср-в'!W:W,MATCH(B260,'План ввода основ. ср-в'!B:B,0))),0,INDEX('План ввода основ. ср-в'!W:W,MATCH(B260,'План ввода основ. ср-в'!B:B,0)))","v":0},{"$f":"IF(ISNA(INDEX('План ввода основ. ср-в'!X:X,MATCH(B260,'План ввода основ. ср-в'!B:B,0))),0,INDEX('План ввода основ. ср-в'!X:X,MATCH(B260,'План ввода основ. ср-в'!B:B,0)))","v":0},{"$f":"IF(ISNA(INDEX('План ввода основ. ср-в'!Y:Y,MATCH(B260,'План ввода основ. ср-в'!B:B,0))),0,INDEX('План ввода основ. ср-в'!Y:Y,MATCH(B260,'План ввода основ. ср-в'!B:B,0)))","v":0},0,{"$f":"IF(ISNA(INDEX('План ввода основ. ср-в'!Z:Z,MATCH(B260,'План ввода основ. ср-в'!B:B,0))),0,INDEX('План ввода основ. ср-в'!Z:Z,MATCH(B260,'План ввода основ. ср-в'!B:B,0)))","v":0},{"$f":"IF(ISNA(INDEX('План ввода основ. ср-в'!AA:AA,MATCH(B260,'План ввода основ. ср-в'!B:B,0))),0,INDEX('План ввода основ. ср-в'!AA:AA,MATCH(B260,'План ввода основ. ср-в'!B:B,0)))","v":5.2881355932203391},{"$f":"IF(ISNA(INDEX('План ввода основ. ср-в'!AB:AB,MATCH(B260,'План ввода основ. ср-в'!B:B,0))),0,INDEX('План ввода основ. ср-в'!AB:AB,MATCH(B260,'План ввода основ. ср-в'!B:B,0)))","v":0},{"$f":"IF(ISNA(INDEX('План ввода основ. ср-в'!AC:AC,MATCH(B260,'План ввода основ. ср-в'!B:B,0))),0,INDEX('План ввода основ. ср-в'!AC:AC,MATCH(B260,'План ввода основ. ср-в'!B:B,0)))","v":0},5.2881355932203391]
[239,"Реконструкция ВЛ-0,4 кВ от КТП Зуб 309/250 кВА с заменой КТП",null,null,null,null,null,null,0,null,0,0,null,0,1.7,null,0.25,0,null,0,0,null,0,1.7,null,0.25,5.0508474576271185,{"$f":"IF(ISNA(INDEX('План ввода основ. ср-в'!F:F,MATCH(B261,'План ввода основ. ср-в'!B:B,0))),0,INDEX('План ввода основ. ср-в'!F:F,MATCH(B261,'План ввода основ. ср-в'!B:B,0)))","v":0},null,{"$f":"IF(ISNA(INDEX('План ввода основ. ср-в'!E:E,MATCH(B261,'План ввода основ. ср-в'!B:B,0))),0,INDEX('План ввода основ. ср-в'!E:E,MATCH(B261,'План ввода основ. ср-в'!B:B,0)))","v":0},{"$f":"IF(ISNA(INDEX('План ввода основ. ср-в'!H:H,MATCH(B261,'План ввода основ. ср-в'!B:B,0))),0,INDEX('План ввода основ. ср-в'!H:H,MATCH(B261,'План ввода основ. ср-в'!B:B,0)))","v":0},null,{"$f":"IF(ISNA(INDEX('План ввода основ. ср-в'!G:G,MATCH(B261,'План ввода основ. ср-в'!B:B,0))),0,INDEX('План ввода основ. ср-в'!G:G,MATCH(B261,'План ввода основ. ср-в'!B:B,0)))","v":0},{"$f":"IF(ISNA(INDEX('План ввода основ. ср-в'!J:J,MATCH(B261,'План ввода основ. ср-в'!B:B,0))),0,INDEX('План ввода основ. ср-в'!J:J,MATCH(B261,'План ввода основ. ср-в'!B:B,0)))","v":0},null,{"$f":"IF(ISNA(INDEX('План ввода основ. ср-в'!I:I,MATCH(B261,'План ввода основ. ср-в'!B:B,0))),0,INDEX('План ввода основ. ср-в'!I:I,MATCH(B261,'План ввода основ. ср-в'!B:B,0)))","v":0},{"$f":"IF(ISNA(INDEX('План ввода основ. ср-в'!L:L,MATCH(B261,'План ввода основ. ср-в'!B:B,0))),0,INDEX('План ввода основ. ср-в'!L:L,MATCH(B261,'План ввода основ. ср-в'!B:B,0)))","v":0},"",{"$f":"IF(ISNA(INDEX('План ввода основ. ср-в'!K:K,MATCH(B261,'План ввода основ. ср-в'!B:B,0))),0,INDEX('План ввода основ. ср-в'!K:K,MATCH(B261,'План ввода основ. ср-в'!B:B,0)))","v":0},0,"/",0,{"$f":"IF(ISNA(INDEX('План ввода основ. ср-в'!N:N,MATCH(B261,'План ввода основ. ср-в'!B:B,0))),0,INDEX('План ввода основ. ср-в'!N:N,MATCH(B261,'План ввода основ. ср-в'!B:B,0)))","v":0},"",{"$f":"IF(ISNA(INDEX('План ввода основ. ср-в'!M:M,MATCH(B261,'План ввода основ. ср-в'!B:B,0))),0,INDEX('План ввода основ. ср-в'!M:M,MATCH(B261,'План ввода основ. ср-в'!B:B,0)))","v":0},{"$f":"IF(ISNA(INDEX('План ввода основ. ср-в'!P:P,MATCH(B261,'План ввода основ. ср-в'!B:B,0))),0,INDEX('План ввода основ. ср-в'!P:P,MATCH(B261,'План ввода основ. ср-в'!B:B,0)))","v":1.7},"/",{"$f":"IF(ISNA(INDEX('План ввода основ. ср-в'!O:O,MATCH(B261,'План ввода основ. ср-в'!B:B,0))),0,INDEX('План ввода основ. ср-в'!O:O,MATCH(B261,'План ввода основ. ср-в'!B:B,0)))","v":0.25},{"$f":"IF(ISNA(INDEX('План ввода основ. ср-в'!R:R,MATCH(B261,'План ввода основ. ср-в'!B:B,0))),0,INDEX('План ввода основ. ср-в'!R:R,MATCH(B261,'План ввода основ. ср-в'!B:B,0)))","v":0},null,{"$f":"IF(ISNA(INDEX('План ввода основ. ср-в'!Q:Q,MATCH(B261,'План ввода основ. ср-в'!B:B,0))),0,INDEX('План ввода основ. ср-в'!Q:Q,MATCH(B261,'План ввода основ. ср-в'!B:B,0)))","v":0},{"$f":"IF(ISNA(INDEX('План ввода основ. ср-в'!T:T,MATCH(B261,'План ввода основ. ср-в'!B:B,0))),0,INDEX('План ввода основ. ср-в'!T:T,MATCH(B261,'План ввода основ. ср-в'!B:B,0)))","v":0},null,{"$f":"IF(ISNA(INDEX('План ввода основ. ср-в'!S:S,MATCH(B261,'План ввода основ. ср-в'!B:B,0))),0,INDEX('План ввода основ. ср-в'!S:S,MATCH(B261,'План ввода основ. ср-в'!B:B,0)))","v":0},1.7,null,0.25,{"$f":"IF(ISNA(INDEX('План ввода основ. ср-в'!V:V,MATCH(B261,'План ввода основ. ср-в'!B:B,0))),0,INDEX('План ввода основ. ср-в'!V:V,MATCH(B261,'План ввода основ. ср-в'!B:B,0)))","v":0},{"$f":"IF(ISNA(INDEX('План ввода основ. ср-в'!W:W,MATCH(B261,'План ввода основ. ср-в'!B:B,0))),0,INDEX('План ввода основ. ср-в'!W:W,MATCH(B261,'План ввода основ. ср-в'!B:B,0)))","v":0},{"$f":"IF(ISNA(INDEX('План ввода основ. ср-в'!X:X,MATCH(B261,'План ввода основ. ср-в'!B:B,0))),0,INDEX('План ввода основ. ср-в'!X:X,MATCH(B261,'План ввода основ. ср-в'!B:B,0)))","v":0},{"$f":"IF(ISNA(INDEX('План ввода основ. ср-в'!Y:Y,MATCH(B261,'План ввода основ. ср-в'!B:B,0))),0,INDEX('План ввода основ. ср-в'!Y:Y,MATCH(B261,'План ввода основ. ср-в'!B:B,0)))","v":0},0,{"$f":"IF(ISNA(INDEX('План ввода основ. ср-в'!Z:Z,MATCH(B261,'План ввода основ. ср-в'!B:B,0))),0,INDEX('План ввода основ. ср-в'!Z:Z,MATCH(B261,'План ввода основ. ср-в'!B:B,0)))","v":0},{"$f":"IF(ISNA(INDEX('План ввода основ. ср-в'!AA:AA,MATCH(B261,'План ввода основ. ср-в'!B:B,0))),0,INDEX('План ввода основ. ср-в'!AA:AA,MATCH(B261,'План ввода основ. ср-в'!B:B,0)))","v":5.0508474576271185},{"$f":"IF(ISNA(INDEX('План ввода основ. ср-в'!AB:AB,MATCH(B261,'План ввода основ. ср-в'!B:B,0))),0,INDEX('План ввода основ. ср-в'!AB:AB,MATCH(B261,'План ввода основ. ср-в'!B:B,0)))","v":0},{"$f":"IF(ISNA(INDEX('План ввода основ. ср-в'!AC:AC,MATCH(B261,'План ввода основ. ср-в'!B:B,0))),0,INDEX('План ввода основ. ср-в'!AC:AC,MATCH(B261,'План ввода основ. ср-в'!B:B,0)))","v":0},5.0508474576271185]
[240,"Реконструкция ВЛ-0,4 кВ от КТП Зуб 330/100 кВА с заменой КТП",null,null,null,null,null,null,0,null,0,0,null,0,0.7,null,0.1,0,null,0,0,null,0,0.7,null,0.1,2.6779661016949152,{"$f":"IF(ISNA(INDEX('План ввода основ. ср-в'!F:F,MATCH(B262,'План ввода основ. ср-в'!B:B,0))),0,INDEX('План ввода основ. ср-в'!F:F,MATCH(B262,'План ввода основ. ср-в'!B:B,0)))","v":0},null,{"$f":"IF(ISNA(INDEX('План ввода основ. ср-в'!E:E,MATCH(B262,'План ввода основ. ср-в'!B:B,0))),0,INDEX('План ввода основ. ср-в'!E:E,MATCH(B262,'План ввода основ. ср-в'!B:B,0)))","v":0},{"$f":"IF(ISNA(INDEX('План ввода основ. ср-в'!H:H,MATCH(B262,'План ввода основ. ср-в'!B:B,0))),0,INDEX('План ввода основ. ср-в'!H:H,MATCH(B262,'План ввода основ. ср-в'!B:B,0)))","v":0},null,{"$f":"IF(ISNA(INDEX('План ввода основ. ср-в'!G:G,MATCH(B262,'План ввода основ. ср-в'!B:B,0))),0,INDEX('План ввода основ. ср-в'!G:G,MATCH(B262,'План ввода основ. ср-в'!B:B,0)))","v":0},{"$f":"IF(ISNA(INDEX('План ввода основ. ср-в'!J:J,MATCH(B262,'План ввода основ. ср-в'!B:B,0))),0,INDEX('План ввода основ. ср-в'!J:J,MATCH(B262,'План ввода основ. ср-в'!B:B,0)))","v":0},null,{"$f":"IF(ISNA(INDEX('План ввода основ. ср-в'!I:I,MATCH(B262,'План ввода основ. ср-в'!B:B,0))),0,INDEX('План ввода основ. ср-в'!I:I,MATCH(B262,'План ввода основ. ср-в'!B:B,0)))","v":0},{"$f":"IF(ISNA(INDEX('План ввода основ. ср-в'!L:L,MATCH(B262,'План ввода основ. ср-в'!B:B,0))),0,INDEX('План ввода основ. ср-в'!L:L,MATCH(B262,'План ввода основ. ср-в'!B:B,0)))","v":0},"",{"$f":"IF(ISNA(INDEX('План ввода основ. ср-в'!K:K,MATCH(B262,'План ввода основ. ср-в'!B:B,0))),0,INDEX('План ввода основ. ср-в'!K:K,MATCH(B262,'План ввода основ. ср-в'!B:B,0)))","v":0},0,"/",0,{"$f":"IF(ISNA(INDEX('План ввода основ. ср-в'!N:N,MATCH(B262,'План ввода основ. ср-в'!B:B,0))),0,INDEX('План ввода основ. ср-в'!N:N,MATCH(B262,'План ввода основ. ср-в'!B:B,0)))","v":0},null,{"$f":"IF(ISNA(INDEX('План ввода основ. ср-в'!M:M,MATCH(B262,'План ввода основ. ср-в'!B:B,0))),0,INDEX('План ввода основ. ср-в'!M:M,MATCH(B262,'План ввода основ. ср-в'!B:B,0)))","v":0},{"$f":"IF(ISNA(INDEX('План ввода основ. ср-в'!P:P,MATCH(B262,'План ввода основ. ср-в'!B:B,0))),0,INDEX('План ввода основ. ср-в'!P:P,MATCH(B262,'План ввода основ. ср-в'!B:B,0)))","v":0.7},"/",{"$f":"IF(ISNA(INDEX('План ввода основ. ср-в'!O:O,MATCH(B262,'План ввода основ. ср-в'!B:B,0))),0,INDEX('План ввода основ. ср-в'!O:O,MATCH(B262,'План ввода основ. ср-в'!B:B,0)))","v":0.1},{"$f":"IF(ISNA(INDEX('План ввода основ. ср-в'!R:R,MATCH(B262,'План ввода основ. ср-в'!B:B,0))),0,INDEX('План ввода основ. ср-в'!R:R,MATCH(B262,'План ввода основ. ср-в'!B:B,0)))","v":0},null,{"$f":"IF(ISNA(INDEX('План ввода основ. ср-в'!Q:Q,MATCH(B262,'План ввода основ. ср-в'!B:B,0))),0,INDEX('План ввода основ. ср-в'!Q:Q,MATCH(B262,'План ввода основ. ср-в'!B:B,0)))","v":0},{"$f":"IF(ISNA(INDEX('План ввода основ. ср-в'!T:T,MATCH(B262,'План ввода основ. ср-в'!B:B,0))),0,INDEX('План ввода основ. ср-в'!T:T,MATCH(B262,'План ввода основ. ср-в'!B:B,0)))","v":0},null,{"$f":"IF(ISNA(INDEX('План ввода основ. ср-в'!S:S,MATCH(B262,'План ввода основ. ср-в'!B:B,0))),0,INDEX('План ввода основ. ср-в'!S:S,MATCH(B262,'План ввода основ. ср-в'!B:B,0)))","v":0},0.7,null,0.1,{"$f":"IF(ISNA(INDEX('План ввода основ. ср-в'!V:V,MATCH(B262,'План ввода основ. ср-в'!B:B,0))),0,INDEX('План ввода основ. ср-в'!V:V,MATCH(B262,'План ввода основ. ср-в'!B:B,0)))","v":0},{"$f":"IF(ISNA(INDEX('План ввода основ. ср-в'!W:W,MATCH(B262,'План ввода основ. ср-в'!B:B,0))),0,INDEX('План ввода основ. ср-в'!W:W,MATCH(B262,'План ввода основ. ср-в'!B:B,0)))","v":0},{"$f":"IF(ISNA(INDEX('План ввода основ. ср-в'!X:X,MATCH(B262,'План ввода основ. ср-в'!B:B,0))),0,INDEX('План ввода основ. ср-в'!X:X,MATCH(B262,'План ввода основ. ср-в'!B:B,0)))","v":0},{"$f":"IF(ISNA(INDEX('План ввода основ. ср-в'!Y:Y,MATCH(B262,'План ввода основ. ср-в'!B:B,0))),0,INDEX('План ввода основ. ср-в'!Y:Y,MATCH(B262,'План ввода основ. ср-в'!B:B,0)))","v":0},0,{"$f":"IF(ISNA(INDEX('План ввода основ. ср-в'!Z:Z,MATCH(B262,'План ввода основ. ср-в'!B:B,0))),0,INDEX('План ввода основ. ср-в'!Z:Z,MATCH(B262,'План ввода основ. ср-в'!B:B,0)))","v":0},{"$f":"IF(ISNA(INDEX('План ввода основ. ср-в'!AA:AA,MATCH(B262,'План ввода основ. ср-в'!B:B,0))),0,INDEX('План ввода основ. ср-в'!AA:AA,MATCH(B262,'План ввода основ. ср-в'!B:B,0)))","v":2.6779661016949152},{"$f":"IF(ISNA(INDEX('План ввода основ. ср-в'!AB:AB,MATCH(B262,'План ввода основ. ср-в'!B:B,0))),0,INDEX('План ввода основ. ср-в'!AB:AB,MATCH(B262,'План ввода основ. ср-в'!B:B,0)))","v":0},{"$f":"IF(ISNA(INDEX('План ввода основ. ср-в'!AC:AC,MATCH(B262,'План ввода основ. ср-в'!B:B,0))),0,INDEX('План ввода основ. ср-в'!AC:AC,MATCH(B262,'План ввода основ. ср-в'!B:B,0)))","v":0},2.6779661016949152]
[241,"Реконструкция ВЛ-0,4 кВ от КТП Зуб 335/250 кВА с заменой КТП",null,null,null,null,null,null,0,null,0,0,null,0,0.6,null,0.25,0,null,0,0,null,0,0.6,null,0.25,2.4406779661016951,{"$f":"IF(ISNA(INDEX('План ввода основ. ср-в'!F:F,MATCH(B263,'План ввода основ. ср-в'!B:B,0))),0,INDEX('План ввода основ. ср-в'!F:F,MATCH(B263,'План ввода основ. ср-в'!B:B,0)))","v":0},null,{"$f":"IF(ISNA(INDEX('План ввода основ. ср-в'!E:E,MATCH(B263,'План ввода основ. ср-в'!B:B,0))),0,INDEX('План ввода основ. ср-в'!E:E,MATCH(B263,'План ввода основ. ср-в'!B:B,0)))","v":0},{"$f":"IF(ISNA(INDEX('План ввода основ. ср-в'!H:H,MATCH(B263,'План ввода основ. ср-в'!B:B,0))),0,INDEX('План ввода основ. ср-в'!H:H,MATCH(B263,'План ввода основ. ср-в'!B:B,0)))","v":0},null,{"$f":"IF(ISNA(INDEX('План ввода основ. ср-в'!G:G,MATCH(B263,'План ввода основ. ср-в'!B:B,0))),0,INDEX('План ввода основ. ср-в'!G:G,MATCH(B263,'План ввода основ. ср-в'!B:B,0)))","v":0},{"$f":"IF(ISNA(INDEX('План ввода основ. ср-в'!J:J,MATCH(B263,'План ввода основ. ср-в'!B:B,0))),0,INDEX('План ввода основ. ср-в'!J:J,MATCH(B263,'План ввода основ. ср-в'!B:B,0)))","v":0},null,{"$f":"IF(ISNA(INDEX('План ввода основ. ср-в'!I:I,MATCH(B263,'План ввода основ. ср-в'!B:B,0))),0,INDEX('План ввода основ. ср-в'!I:I,MATCH(B263,'План ввода основ. ср-в'!B:B,0)))","v":0},{"$f":"IF(ISNA(INDEX('План ввода основ. ср-в'!L:L,MATCH(B263,'План ввода основ. ср-в'!B:B,0))),0,INDEX('План ввода основ. ср-в'!L:L,MATCH(B263,'План ввода основ. ср-в'!B:B,0)))","v":0},"",{"$f":"IF(ISNA(INDEX('План ввода основ. ср-в'!K:K,MATCH(B263,'План ввода основ. ср-в'!B:B,0))),0,INDEX('План ввода основ. ср-в'!K:K,MATCH(B263,'План ввода основ. ср-в'!B:B,0)))","v":0},0,"/",0,{"$f":"IF(ISNA(INDEX('План ввода основ. ср-в'!N:N,MATCH(B263,'План ввода основ. ср-в'!B:B,0))),0,INDEX('План ввода основ. ср-в'!N:N,MATCH(B263,'План ввода основ. ср-в'!B:B,0)))","v":0},null,{"$f":"IF(ISNA(INDEX('План ввода основ. ср-в'!M:M,MATCH(B263,'План ввода основ. ср-в'!B:B,0))),0,INDEX('План ввода основ. ср-в'!M:M,MATCH(B263,'План ввода основ. ср-в'!B:B,0)))","v":0},{"$f":"IF(ISNA(INDEX('План ввода основ. ср-в'!P:P,MATCH(B263,'План ввода основ. ср-в'!B:B,0))),0,INDEX('План ввода основ. ср-в'!P:P,MATCH(B263,'План ввода основ. ср-в'!B:B,0)))","v":0.6},"/",{"$f":"IF(ISNA(INDEX('План ввода основ. ср-в'!O:O,MATCH(B263,'План ввода основ. ср-в'!B:B,0))),0,INDEX('План ввода основ. ср-в'!O:O,MATCH(B263,'План ввода основ. ср-в'!B:B,0)))","v":0.25},{"$f":"IF(ISNA(INDEX('План ввода основ. ср-в'!R:R,MATCH(B263,'План ввода основ. ср-в'!B:B,0))),0,INDEX('План ввода основ. ср-в'!R:R,MATCH(B263,'План ввода основ. ср-в'!B:B,0)))","v":0},null,{"$f":"IF(ISNA(INDEX('План ввода основ. ср-в'!Q:Q,MATCH(B263,'План ввода основ. ср-в'!B:B,0))),0,INDEX('План ввода основ. ср-в'!Q:Q,MATCH(B263,'План ввода основ. ср-в'!B:B,0)))","v":0},{"$f":"IF(ISNA(INDEX('План ввода основ. ср-в'!T:T,MATCH(B263,'План ввода основ. ср-в'!B:B,0))),0,INDEX('План ввода основ. ср-в'!T:T,MATCH(B263,'План ввода основ. ср-в'!B:B,0)))","v":0},null,{"$f":"IF(ISNA(INDEX('План ввода основ. ср-в'!S:S,MATCH(B263,'План ввода основ. ср-в'!B:B,0))),0,INDEX('План ввода основ. ср-в'!S:S,MATCH(B263,'План ввода основ. ср-в'!B:B,0)))","v":0},0.6,null,0.25,{"$f":"IF(ISNA(INDEX('План ввода основ. ср-в'!V:V,MATCH(B263,'План ввода основ. ср-в'!B:B,0))),0,INDEX('План ввода основ. ср-в'!V:V,MATCH(B263,'План ввода основ. ср-в'!B:B,0)))","v":0},{"$f":"IF(ISNA(INDEX('План ввода основ. ср-в'!W:W,MATCH(B263,'План ввода основ. ср-в'!B:B,0))),0,INDEX('План ввода основ. ср-в'!W:W,MATCH(B263,'План ввода основ. ср-в'!B:B,0)))","v":0},{"$f":"IF(ISNA(INDEX('План ввода основ. ср-в'!X:X,MATCH(B263,'План ввода основ. ср-в'!B:B,0))),0,INDEX('План ввода основ. ср-в'!X:X,MATCH(B263,'План ввода основ. ср-в'!B:B,0)))","v":0},{"$f":"IF(ISNA(INDEX('План ввода основ. ср-в'!Y:Y,MATCH(B263,'План ввода основ. ср-в'!B:B,0))),0,INDEX('План ввода основ. ср-в'!Y:Y,MATCH(B263,'План ввода основ. ср-в'!B:B,0)))","v":0},0,{"$f":"IF(ISNA(INDEX('План ввода основ. ср-в'!Z:Z,MATCH(B263,'План ввода основ. ср-в'!B:B,0))),0,INDEX('План ввода основ. ср-в'!Z:Z,MATCH(B263,'План ввода основ. ср-в'!B:B,0)))","v":0},{"$f":"IF(ISNA(INDEX('План ввода основ. ср-в'!AA:AA,MATCH(B263,'План ввода основ. ср-в'!B:B,0))),0,INDEX('План ввода основ. ср-в'!AA:AA,MATCH(B263,'План ввода основ. ср-в'!B:B,0)))","v":2.4406779661016951},{"$f":"IF(ISNA(INDEX('План ввода основ. ср-в'!AB:AB,MATCH(B263,'План ввода основ. ср-в'!B:B,0))),0,INDEX('План ввода основ. ср-в'!AB:AB,MATCH(B263,'План ввода основ. ср-в'!B:B,0)))","v":0},{"$f":"IF(ISNA(INDEX('План ввода основ. ср-в'!AC:AC,MATCH(B263,'План ввода основ. ср-в'!B:B,0))),0,INDEX('План ввода основ. ср-в'!AC:AC,MATCH(B263,'План ввода основ. ср-в'!B:B,0)))","v":0},2.4406779661016951]
[242,"Реконструкция ВЛ-0,4 кВ от КТП Оз 816/160 кВА с заменой КТП",null,null,null,null,null,null,0,null,0,0,null,0,0,null,0,1.5,null,0.16,0,null,0,1.5,null,0.16,4.5762711864406773,{"$f":"IF(ISNA(INDEX('План ввода основ. ср-в'!F:F,MATCH(B264,'План ввода основ. ср-в'!B:B,0))),0,INDEX('План ввода основ. ср-в'!F:F,MATCH(B264,'План ввода основ. ср-в'!B:B,0)))","v":0},null,{"$f":"IF(ISNA(INDEX('План ввода основ. ср-в'!E:E,MATCH(B264,'План ввода основ. ср-в'!B:B,0))),0,INDEX('План ввода основ. ср-в'!E:E,MATCH(B264,'План ввода основ. ср-в'!B:B,0)))","v":0},{"$f":"IF(ISNA(INDEX('План ввода основ. ср-в'!H:H,MATCH(B264,'План ввода основ. ср-в'!B:B,0))),0,INDEX('План ввода основ. ср-в'!H:H,MATCH(B264,'План ввода основ. ср-в'!B:B,0)))","v":0},null,{"$f":"IF(ISNA(INDEX('План ввода основ. ср-в'!G:G,MATCH(B264,'План ввода основ. ср-в'!B:B,0))),0,INDEX('План ввода основ. ср-в'!G:G,MATCH(B264,'План ввода основ. ср-в'!B:B,0)))","v":0},{"$f":"IF(ISNA(INDEX('План ввода основ. ср-в'!J:J,MATCH(B264,'План ввода основ. ср-в'!B:B,0))),0,INDEX('План ввода основ. ср-в'!J:J,MATCH(B264,'План ввода основ. ср-в'!B:B,0)))","v":0},null,{"$f":"IF(ISNA(INDEX('План ввода основ. ср-в'!I:I,MATCH(B264,'План ввода основ. ср-в'!B:B,0))),0,INDEX('План ввода основ. ср-в'!I:I,MATCH(B264,'План ввода основ. ср-в'!B:B,0)))","v":0},{"$f":"IF(ISNA(INDEX('План ввода основ. ср-в'!L:L,MATCH(B264,'План ввода основ. ср-в'!B:B,0))),0,INDEX('План ввода основ. ср-в'!L:L,MATCH(B264,'План ввода основ. ср-в'!B:B,0)))","v":0},"",{"$f":"IF(ISNA(INDEX('План ввода основ. ср-в'!K:K,MATCH(B264,'План ввода основ. ср-в'!B:B,0))),0,INDEX('План ввода основ. ср-в'!K:K,MATCH(B264,'План ввода основ. ср-в'!B:B,0)))","v":0},0,"/",0,{"$f":"IF(ISNA(INDEX('План ввода основ. ср-в'!N:N,MATCH(B264,'План ввода основ. ср-в'!B:B,0))),0,INDEX('План ввода основ. ср-в'!N:N,MATCH(B264,'План ввода основ. ср-в'!B:B,0)))","v":0},null,{"$f":"IF(ISNA(INDEX('План ввода основ. ср-в'!M:M,MATCH(B264,'План ввода основ. ср-в'!B:B,0))),0,INDEX('План ввода основ. ср-в'!M:M,MATCH(B264,'План ввода основ. ср-в'!B:B,0)))","v":0},{"$f":"IF(ISNA(INDEX('План ввода основ. ср-в'!P:P,MATCH(B264,'План ввода основ. ср-в'!B:B,0))),0,INDEX('План ввода основ. ср-в'!P:P,MATCH(B264,'План ввода основ. ср-в'!B:B,0)))","v":0},"",{"$f":"IF(ISNA(INDEX('План ввода основ. ср-в'!O:O,MATCH(B264,'План ввода основ. ср-в'!B:B,0))),0,INDEX('План ввода основ. ср-в'!O:O,MATCH(B264,'План ввода основ. ср-в'!B:B,0)))","v":0},{"$f":"IF(ISNA(INDEX('План ввода основ. ср-в'!R:R,MATCH(B264,'План ввода основ. ср-в'!B:B,0))),0,INDEX('План ввода основ. ср-в'!R:R,MATCH(B264,'План ввода основ. ср-в'!B:B,0)))","v":1.5},null,{"$f":"IF(ISNA(INDEX('План ввода основ. ср-в'!Q:Q,MATCH(B264,'План ввода основ. ср-в'!B:B,0))),0,INDEX('План ввода основ. ср-в'!Q:Q,MATCH(B264,'План ввода основ. ср-в'!B:B,0)))","v":0.16},{"$f":"IF(ISNA(INDEX('План ввода основ. ср-в'!T:T,MATCH(B264,'План ввода основ. ср-в'!B:B,0))),0,INDEX('План ввода основ. ср-в'!T:T,MATCH(B264,'План ввода основ. ср-в'!B:B,0)))","v":0},null,{"$f":"IF(ISNA(INDEX('План ввода основ. ср-в'!S:S,MATCH(B264,'План ввода основ. ср-в'!B:B,0))),0,INDEX('План ввода основ. ср-в'!S:S,MATCH(B264,'План ввода основ. ср-в'!B:B,0)))","v":0},1.5,null,0.16,{"$f":"IF(ISNA(INDEX('План ввода основ. ср-в'!V:V,MATCH(B264,'План ввода основ. ср-в'!B:B,0))),0,INDEX('План ввода основ. ср-в'!V:V,MATCH(B264,'План ввода основ. ср-в'!B:B,0)))","v":0},{"$f":"IF(ISNA(INDEX('План ввода основ. ср-в'!W:W,MATCH(B264,'План ввода основ. ср-в'!B:B,0))),0,INDEX('План ввода основ. ср-в'!W:W,MATCH(B264,'План ввода основ. ср-в'!B:B,0)))","v":0},{"$f":"IF(ISNA(INDEX('План ввода основ. ср-в'!X:X,MATCH(B264,'План ввода основ. ср-в'!B:B,0))),0,INDEX('План ввода основ. ср-в'!X:X,MATCH(B264,'План ввода основ. ср-в'!B:B,0)))","v":0},{"$f":"IF(ISNA(INDEX('План ввода основ. ср-в'!Y:Y,MATCH(B264,'План ввода основ. ср-в'!B:B,0))),0,INDEX('План ввода основ. ср-в'!Y:Y,MATCH(B264,'План ввода основ. ср-в'!B:B,0)))","v":0},0,{"$f":"IF(ISNA(INDEX('План ввода основ. ср-в'!Z:Z,MATCH(B264,'План ввода основ. ср-в'!B:B,0))),0,INDEX('План ввода основ. ср-в'!Z:Z,MATCH(B264,'План ввода основ. ср-в'!B:B,0)))","v":0},{"$f":"IF(ISNA(INDEX('План ввода основ. ср-в'!AA:AA,MATCH(B264,'План ввода основ. ср-в'!B:B,0))),0,INDEX('План ввода основ. ср-в'!AA:AA,MATCH(B264,'План ввода основ. ср-в'!B:B,0)))","v":0},{"$f":"IF(ISNA(INDEX('План ввода основ. ср-в'!AB:AB,MATCH(B264,'План ввода основ. ср-в'!B:B,0))),0,INDEX('План ввода основ. ср-в'!AB:AB,MATCH(B264,'План ввода основ. ср-в'!B:B,0)))","v":4.5762711864406773},{"$f":"IF(ISNA(INDEX('План ввода основ. ср-в'!AC:AC,MATCH(B264,'План ввода основ. ср-в'!B:B,0))),0,INDEX('План ввода основ. ср-в'!AC:AC,MATCH(B264,'План ввода основ. ср-в'!B:B,0)))","v":0},4.5762711864406773]
[243,"Реконструкция ВЛ-0,4 кВ от КТП Оз 806/250 кВА с заменой КТП на 160 кВА",null,null,null,null,null,null,0,null,0,0,null,0,0,null,0,2.4,null,0.25,0,null,0,2.4,null,0.25,6.7118644067796609,{"$f":"IF(ISNA(INDEX('План ввода основ. ср-в'!F:F,MATCH(B265,'План ввода основ. ср-в'!B:B,0))),0,INDEX('План ввода основ. ср-в'!F:F,MATCH(B265,'План ввода основ. ср-в'!B:B,0)))","v":0},null,{"$f":"IF(ISNA(INDEX('План ввода основ. ср-в'!E:E,MATCH(B265,'План ввода основ. ср-в'!B:B,0))),0,INDEX('План ввода основ. ср-в'!E:E,MATCH(B265,'План ввода основ. ср-в'!B:B,0)))","v":0},{"$f":"IF(ISNA(INDEX('План ввода основ. ср-в'!H:H,MATCH(B265,'План ввода основ. ср-в'!B:B,0))),0,INDEX('План ввода основ. ср-в'!H:H,MATCH(B265,'План ввода основ. ср-в'!B:B,0)))","v":0},null,{"$f":"IF(ISNA(INDEX('План ввода основ. ср-в'!G:G,MATCH(B265,'План ввода основ. ср-в'!B:B,0))),0,INDEX('План ввода основ. ср-в'!G:G,MATCH(B265,'План ввода основ. ср-в'!B:B,0)))","v":0},{"$f":"IF(ISNA(INDEX('План ввода основ. ср-в'!J:J,MATCH(B265,'План ввода основ. ср-в'!B:B,0))),0,INDEX('План ввода основ. ср-в'!J:J,MATCH(B265,'План ввода основ. ср-в'!B:B,0)))","v":0},null,{"$f":"IF(ISNA(INDEX('План ввода основ. ср-в'!I:I,MATCH(B265,'План ввода основ. ср-в'!B:B,0))),0,INDEX('План ввода основ. ср-в'!I:I,MATCH(B265,'План ввода основ. ср-в'!B:B,0)))","v":0},{"$f":"IF(ISNA(INDEX('План ввода основ. ср-в'!L:L,MATCH(B265,'План ввода основ. ср-в'!B:B,0))),0,INDEX('План ввода основ. ср-в'!L:L,MATCH(B265,'План ввода основ. ср-в'!B:B,0)))","v":0},"",{"$f":"IF(ISNA(INDEX('План ввода основ. ср-в'!K:K,MATCH(B265,'План ввода основ. ср-в'!B:B,0))),0,INDEX('План ввода основ. ср-в'!K:K,MATCH(B265,'План ввода основ. ср-в'!B:B,0)))","v":0},0,"/",0,{"$f":"IF(ISNA(INDEX('План ввода основ. ср-в'!N:N,MATCH(B265,'План ввода основ. ср-в'!B:B,0))),0,INDEX('План ввода основ. ср-в'!N:N,MATCH(B265,'План ввода основ. ср-в'!B:B,0)))","v":0},null,{"$f":"IF(ISNA(INDEX('План ввода основ. ср-в'!M:M,MATCH(B265,'План ввода основ. ср-в'!B:B,0))),0,INDEX('План ввода основ. ср-в'!M:M,MATCH(B265,'План ввода основ. ср-в'!B:B,0)))","v":0},{"$f":"IF(ISNA(INDEX('План ввода основ. ср-в'!P:P,MATCH(B265,'План ввода основ. ср-в'!B:B,0))),0,INDEX('План ввода основ. ср-в'!P:P,MATCH(B265,'План ввода основ. ср-в'!B:B,0)))","v":0},"",{"$f":"IF(ISNA(INDEX('План ввода основ. ср-в'!O:O,MATCH(B265,'План ввода основ. ср-в'!B:B,0))),0,INDEX('План ввода основ. ср-в'!O:O,MATCH(B265,'План ввода основ. ср-в'!B:B,0)))","v":0},{"$f":"IF(ISNA(INDEX('План ввода основ. ср-в'!R:R,MATCH(B265,'План ввода основ. ср-в'!B:B,0))),0,INDEX('План ввода основ. ср-в'!R:R,MATCH(B265,'План ввода основ. ср-в'!B:B,0)))","v":2.4},null,{"$f":"IF(ISNA(INDEX('План ввода основ. ср-в'!Q:Q,MATCH(B265,'План ввода основ. ср-в'!B:B,0))),0,INDEX('План ввода основ. ср-в'!Q:Q,MATCH(B265,'План ввода основ. ср-в'!B:B,0)))","v":0.16},{"$f":"IF(ISNA(INDEX('План ввода основ. ср-в'!T:T,MATCH(B265,'План ввода основ. ср-в'!B:B,0))),0,INDEX('План ввода основ. ср-в'!T:T,MATCH(B265,'План ввода основ. ср-в'!B:B,0)))","v":0},null,{"$f":"IF(ISNA(INDEX('План ввода основ. ср-в'!S:S,MATCH(B265,'План ввода основ. ср-в'!B:B,0))),0,INDEX('План ввода основ. ср-в'!S:S,MATCH(B265,'План ввода основ. ср-в'!B:B,0)))","v":0},2.4,null,0.16,{"$f":"IF(ISNA(INDEX('План ввода основ. ср-в'!V:V,MATCH(B265,'План ввода основ. ср-в'!B:B,0))),0,INDEX('План ввода основ. ср-в'!V:V,MATCH(B265,'План ввода основ. ср-в'!B:B,0)))","v":0},{"$f":"IF(ISNA(INDEX('План ввода основ. ср-в'!W:W,MATCH(B265,'План ввода основ. ср-в'!B:B,0))),0,INDEX('План ввода основ. ср-в'!W:W,MATCH(B265,'План ввода основ. ср-в'!B:B,0)))","v":0},{"$f":"IF(ISNA(INDEX('План ввода основ. ср-в'!X:X,MATCH(B265,'План ввода основ. ср-в'!B:B,0))),0,INDEX('План ввода основ. ср-в'!X:X,MATCH(B265,'План ввода основ. ср-в'!B:B,0)))","v":0},{"$f":"IF(ISNA(INDEX('План ввода основ. ср-в'!Y:Y,MATCH(B265,'План ввода основ. ср-в'!B:B,0))),0,INDEX('План ввода основ. ср-в'!Y:Y,MATCH(B265,'План ввода основ. ср-в'!B:B,0)))","v":0},0,{"$f":"IF(ISNA(INDEX('План ввода основ. ср-в'!Z:Z,MATCH(B265,'План ввода основ. ср-в'!B:B,0))),0,INDEX('План ввода основ. ср-в'!Z:Z,MATCH(B265,'План ввода основ. ср-в'!B:B,0)))","v":0},{"$f":"IF(ISNA(INDEX('План ввода основ. ср-в'!AA:AA,MATCH(B265,'План ввода основ. ср-в'!B:B,0))),0,INDEX('План ввода основ. ср-в'!AA:AA,MATCH(B265,'План ввода основ. ср-в'!B:B,0)))","v":0},{"$f":"IF(ISNA(INDEX('План ввода основ. ср-в'!AB:AB,MATCH(B265,'План ввода основ. ср-в'!B:B,0))),0,INDEX('План ввода основ. ср-в'!AB:AB,MATCH(B265,'План ввода основ. ср-в'!B:B,0)))","v":6.7118644067796609},{"$f":"IF(ISNA(INDEX('План ввода основ. ср-в'!AC:AC,MATCH(B265,'План ввода основ. ср-в'!B:B,0))),0,INDEX('План ввода основ. ср-в'!AC:AC,MATCH(B265,'План ввода основ. ср-в'!B:B,0)))","v":0},6.7118644067796609]
[244,"Реконструкция ВЛ-0,4 кВ от КТП Оз 804/160 кВА с заменой КТП",null,null,null,null,null,null,0,null,0,0,null,0,0,null,0,0,null,0,3.5,null,0.16,3.5,null,0.16,9.322033898305083,{"$f":"IF(ISNA(INDEX('План ввода основ. ср-в'!F:F,MATCH(B266,'План ввода основ. ср-в'!B:B,0))),0,INDEX('План ввода основ. ср-в'!F:F,MATCH(B266,'План ввода основ. ср-в'!B:B,0)))","v":0},null,{"$f":"IF(ISNA(INDEX('План ввода основ. ср-в'!E:E,MATCH(B266,'План ввода основ. ср-в'!B:B,0))),0,INDEX('План ввода основ. ср-в'!E:E,MATCH(B266,'План ввода основ. ср-в'!B:B,0)))","v":0},{"$f":"IF(ISNA(INDEX('План ввода основ. ср-в'!H:H,MATCH(B266,'План ввода основ. ср-в'!B:B,0))),0,INDEX('План ввода основ. ср-в'!H:H,MATCH(B266,'План ввода основ. ср-в'!B:B,0)))","v":0},null,{"$f":"IF(ISNA(INDEX('План ввода основ. ср-в'!G:G,MATCH(B266,'План ввода основ. ср-в'!B:B,0))),0,INDEX('План ввода основ. ср-в'!G:G,MATCH(B266,'План ввода основ. ср-в'!B:B,0)))","v":0},{"$f":"IF(ISNA(INDEX('План ввода основ. ср-в'!J:J,MATCH(B266,'План ввода основ. ср-в'!B:B,0))),0,INDEX('План ввода основ. ср-в'!J:J,MATCH(B266,'План ввода основ. ср-в'!B:B,0)))","v":0},null,{"$f":"IF(ISNA(INDEX('План ввода основ. ср-в'!I:I,MATCH(B266,'План ввода основ. ср-в'!B:B,0))),0,INDEX('План ввода основ. ср-в'!I:I,MATCH(B266,'План ввода основ. ср-в'!B:B,0)))","v":0},{"$f":"IF(ISNA(INDEX('План ввода основ. ср-в'!L:L,MATCH(B266,'План ввода основ. ср-в'!B:B,0))),0,INDEX('План ввода основ. ср-в'!L:L,MATCH(B266,'План ввода основ. ср-в'!B:B,0)))","v":0},"",{"$f":"IF(ISNA(INDEX('План ввода основ. ср-в'!K:K,MATCH(B266,'План ввода основ. ср-в'!B:B,0))),0,INDEX('План ввода основ. ср-в'!K:K,MATCH(B266,'План ввода основ. ср-в'!B:B,0)))","v":0},0,"/",0,{"$f":"IF(ISNA(INDEX('План ввода основ. ср-в'!N:N,MATCH(B266,'План ввода основ. ср-в'!B:B,0))),0,INDEX('План ввода основ. ср-в'!N:N,MATCH(B266,'План ввода основ. ср-в'!B:B,0)))","v":0},null,{"$f":"IF(ISNA(INDEX('План ввода основ. ср-в'!M:M,MATCH(B266,'План ввода основ. ср-в'!B:B,0))),0,INDEX('План ввода основ. ср-в'!M:M,MATCH(B266,'План ввода основ. ср-в'!B:B,0)))","v":0},{"$f":"IF(ISNA(INDEX('План ввода основ. ср-в'!P:P,MATCH(B266,'План ввода основ. ср-в'!B:B,0))),0,INDEX('План ввода основ. ср-в'!P:P,MATCH(B266,'План ввода основ. ср-в'!B:B,0)))","v":0},"",{"$f":"IF(ISNA(INDEX('План ввода основ. ср-в'!O:O,MATCH(B266,'План ввода основ. ср-в'!B:B,0))),0,INDEX('План ввода основ. ср-в'!O:O,MATCH(B266,'План ввода основ. ср-в'!B:B,0)))","v":0},{"$f":"IF(ISNA(INDEX('План ввода основ. ср-в'!R:R,MATCH(B266,'План ввода основ. ср-в'!B:B,0))),0,INDEX('План ввода основ. ср-в'!R:R,MATCH(B266,'План ввода основ. ср-в'!B:B,0)))","v":0},null,{"$f":"IF(ISNA(INDEX('План ввода основ. ср-в'!Q:Q,MATCH(B266,'План ввода основ. ср-в'!B:B,0))),0,INDEX('План ввода основ. ср-в'!Q:Q,MATCH(B266,'План ввода основ. ср-в'!B:B,0)))","v":0},{"$f":"IF(ISNA(INDEX('План ввода основ. ср-в'!T:T,MATCH(B266,'План ввода основ. ср-в'!B:B,0))),0,INDEX('План ввода основ. ср-в'!T:T,MATCH(B266,'План ввода основ. ср-в'!B:B,0)))","v":3.5},null,{"$f":"IF(ISNA(INDEX('План ввода основ. ср-в'!S:S,MATCH(B266,'План ввода основ. ср-в'!B:B,0))),0,INDEX('План ввода основ. ср-в'!S:S,MATCH(B266,'План ввода основ. ср-в'!B:B,0)))","v":0.16},3.5,null,0.16,{"$f":"IF(ISNA(INDEX('План ввода основ. ср-в'!V:V,MATCH(B266,'План ввода основ. ср-в'!B:B,0))),0,INDEX('План ввода основ. ср-в'!V:V,MATCH(B266,'План ввода основ. ср-в'!B:B,0)))","v":0},{"$f":"IF(ISNA(INDEX('План ввода основ. ср-в'!W:W,MATCH(B266,'План ввода основ. ср-в'!B:B,0))),0,INDEX('План ввода основ. ср-в'!W:W,MATCH(B266,'План ввода основ. ср-в'!B:B,0)))","v":0},{"$f":"IF(ISNA(INDEX('План ввода основ. ср-в'!X:X,MATCH(B266,'План ввода основ. ср-в'!B:B,0))),0,INDEX('План ввода основ. ср-в'!X:X,MATCH(B266,'План ввода основ. ср-в'!B:B,0)))","v":0},{"$f":"IF(ISNA(INDEX('План ввода основ. ср-в'!Y:Y,MATCH(B266,'План ввода основ. ср-в'!B:B,0))),0,INDEX('План ввода основ. ср-в'!Y:Y,MATCH(B266,'План ввода основ. ср-в'!B:B,0)))","v":0},0,{"$f":"IF(ISNA(INDEX('План ввода основ. ср-в'!Z:Z,MATCH(B266,'План ввода основ. ср-в'!B:B,0))),0,INDEX('План ввода основ. ср-в'!Z:Z,MATCH(B266,'План ввода основ. ср-в'!B:B,0)))","v":0},{"$f":"IF(ISNA(INDEX('План ввода основ. ср-в'!AA:AA,MATCH(B266,'План ввода основ. ср-в'!B:B,0))),0,INDEX('План ввода основ. ср-в'!AA:AA,MATCH(B266,'План ввода основ. ср-в'!B:B,0)))","v":0},{"$f":"IF(ISNA(INDEX('План ввода основ. ср-в'!AB:AB,MATCH(B266,'План ввода основ. ср-в'!B:B,0))),0,INDEX('План ввода основ. ср-в'!AB:AB,MATCH(B266,'План ввода основ. ср-в'!B:B,0)))","v":0},{"$f":"IF(ISNA(INDEX('План ввода основ. ср-в'!AC:AC,MATCH(B266,'План ввода основ. ср-в'!B:B,0))),0,INDEX('План ввода основ. ср-в'!AC:AC,MATCH(B266,'План ввода основ. ср-в'!B:B,0)))","v":9.322033898305083},9.322033898305083]
[245,"Реконструкция ВЛ-0,4 кВ от КТП Оз 807/160 кВА ",null,null,null,null,null,null,0,null,0,0,null,0,0,null,0,0,null,0,0.8,null,0,0.8,null,0,1.8983050847457625,{"$f":"IF(ISNA(INDEX('План ввода основ. ср-в'!F:F,MATCH(B267,'План ввода основ. ср-в'!B:B,0))),0,INDEX('План ввода основ. ср-в'!F:F,MATCH(B267,'План ввода основ. ср-в'!B:B,0)))","v":0},null,{"$f":"IF(ISNA(INDEX('План ввода основ. ср-в'!E:E,MATCH(B267,'План ввода основ. ср-в'!B:B,0))),0,INDEX('План ввода основ. ср-в'!E:E,MATCH(B267,'План ввода основ. ср-в'!B:B,0)))","v":0},{"$f":"IF(ISNA(INDEX('План ввода основ. ср-в'!H:H,MATCH(B267,'План ввода основ. ср-в'!B:B,0))),0,INDEX('План ввода основ. ср-в'!H:H,MATCH(B267,'План ввода основ. ср-в'!B:B,0)))","v":0},null,{"$f":"IF(ISNA(INDEX('План ввода основ. ср-в'!G:G,MATCH(B267,'План ввода основ. ср-в'!B:B,0))),0,INDEX('План ввода основ. ср-в'!G:G,MATCH(B267,'План ввода основ. ср-в'!B:B,0)))","v":0},{"$f":"IF(ISNA(INDEX('План ввода основ. ср-в'!J:J,MATCH(B267,'План ввода основ. ср-в'!B:B,0))),0,INDEX('План ввода основ. ср-в'!J:J,MATCH(B267,'План ввода основ. ср-в'!B:B,0)))","v":0},null,{"$f":"IF(ISNA(INDEX('План ввода основ. ср-в'!I:I,MATCH(B267,'План ввода основ. ср-в'!B:B,0))),0,INDEX('План ввода основ. ср-в'!I:I,MATCH(B267,'План ввода основ. ср-в'!B:B,0)))","v":0},{"$f":"IF(ISNA(INDEX('План ввода основ. ср-в'!L:L,MATCH(B267,'План ввода основ. ср-в'!B:B,0))),0,INDEX('План ввода основ. ср-в'!L:L,MATCH(B267,'План ввода основ. ср-в'!B:B,0)))","v":0},"",{"$f":"IF(ISNA(INDEX('План ввода основ. ср-в'!K:K,MATCH(B267,'План ввода основ. ср-в'!B:B,0))),0,INDEX('План ввода основ. ср-в'!K:K,MATCH(B267,'План ввода основ. ср-в'!B:B,0)))","v":0},0,"/",0,{"$f":"IF(ISNA(INDEX('План ввода основ. ср-в'!N:N,MATCH(B267,'План ввода основ. ср-в'!B:B,0))),0,INDEX('План ввода основ. ср-в'!N:N,MATCH(B267,'План ввода основ. ср-в'!B:B,0)))","v":0},null,{"$f":"IF(ISNA(INDEX('План ввода основ. ср-в'!M:M,MATCH(B267,'План ввода основ. ср-в'!B:B,0))),0,INDEX('План ввода основ. ср-в'!M:M,MATCH(B267,'План ввода основ. ср-в'!B:B,0)))","v":0},{"$f":"IF(ISNA(INDEX('План ввода основ. ср-в'!P:P,MATCH(B267,'План ввода основ. ср-в'!B:B,0))),0,INDEX('План ввода основ. ср-в'!P:P,MATCH(B267,'План ввода основ. ср-в'!B:B,0)))","v":0},"",{"$f":"IF(ISNA(INDEX('План ввода основ. ср-в'!O:O,MATCH(B267,'План ввода основ. ср-в'!B:B,0))),0,INDEX('План ввода основ. ср-в'!O:O,MATCH(B267,'План ввода основ. ср-в'!B:B,0)))","v":0},{"$f":"IF(ISNA(INDEX('План ввода основ. ср-в'!R:R,MATCH(B267,'План ввода основ. ср-в'!B:B,0))),0,INDEX('План ввода основ. ср-в'!R:R,MATCH(B267,'План ввода основ. ср-в'!B:B,0)))","v":0},null,{"$f":"IF(ISNA(INDEX('План ввода основ. ср-в'!Q:Q,MATCH(B267,'План ввода основ. ср-в'!B:B,0))),0,INDEX('План ввода основ. ср-в'!Q:Q,MATCH(B267,'План ввода основ. ср-в'!B:B,0)))","v":0},{"$f":"IF(ISNA(INDEX('План ввода основ. ср-в'!T:T,MATCH(B267,'План ввода основ. ср-в'!B:B,0))),0,INDEX('План ввода основ. ср-в'!T:T,MATCH(B267,'План ввода основ. ср-в'!B:B,0)))","v":0.8},null,{"$f":"IF(ISNA(INDEX('План ввода основ. ср-в'!S:S,MATCH(B267,'План ввода основ. ср-в'!B:B,0))),0,INDEX('План ввода основ. ср-в'!S:S,MATCH(B267,'План ввода основ. ср-в'!B:B,0)))","v":0},0.8,null,0,{"$f":"IF(ISNA(INDEX('План ввода основ. ср-в'!V:V,MATCH(B267,'План ввода основ. ср-в'!B:B,0))),0,INDEX('План ввода основ. ср-в'!V:V,MATCH(B267,'План ввода основ. ср-в'!B:B,0)))","v":0},{"$f":"IF(ISNA(INDEX('План ввода основ. ср-в'!W:W,MATCH(B267,'План ввода основ. ср-в'!B:B,0))),0,INDEX('План ввода основ. ср-в'!W:W,MATCH(B267,'План ввода основ. ср-в'!B:B,0)))","v":0},{"$f":"IF(ISNA(INDEX('План ввода основ. ср-в'!X:X,MATCH(B267,'План ввода основ. ср-в'!B:B,0))),0,INDEX('План ввода основ. ср-в'!X:X,MATCH(B267,'План ввода основ. ср-в'!B:B,0)))","v":0},{"$f":"IF(ISNA(INDEX('План ввода основ. ср-в'!Y:Y,MATCH(B267,'План ввода основ. ср-в'!B:B,0))),0,INDEX('План ввода основ. ср-в'!Y:Y,MATCH(B267,'План ввода основ. ср-в'!B:B,0)))","v":0},0,{"$f":"IF(ISNA(INDEX('План ввода основ. ср-в'!Z:Z,MATCH(B267,'План ввода основ. ср-в'!B:B,0))),0,INDEX('План ввода основ. ср-в'!Z:Z,MATCH(B267,'План ввода основ. ср-в'!B:B,0)))","v":0},{"$f":"IF(ISNA(INDEX('План ввода основ. ср-в'!AA:AA,MATCH(B267,'План ввода основ. ср-в'!B:B,0))),0,INDEX('План ввода основ. ср-в'!AA:AA,MATCH(B267,'План ввода основ. ср-в'!B:B,0)))","v":0},{"$f":"IF(ISNA(INDEX('План ввода основ. ср-в'!AB:AB,MATCH(B267,'План ввода основ. ср-в'!B:B,0))),0,INDEX('План ввода основ. ср-в'!AB:AB,MATCH(B267,'План ввода основ. ср-в'!B:B,0)))","v":0},{"$f":"IF(ISNA(INDEX('План ввода основ. ср-в'!AC:AC,MATCH(B267,'План ввода основ. ср-в'!B:B,0))),0,INDEX('План ввода основ. ср-в'!AC:AC,MATCH(B267,'План ввода основ. ср-в'!B:B,0)))","v":1.8983050847457625},1.8983050847457625]
[246,"Шенталинский район",null,null,null,null,null,null,0,null,0,0,null,0,0,null,0,0,null,0,0,null,0,0,null,0,0,{"$f":"IF(ISNA(INDEX('План ввода основ. ср-в'!F:F,MATCH(B268,'План ввода основ. ср-в'!B:B,0))),0,INDEX('План ввода основ. ср-в'!F:F,MATCH(B268,'План ввода основ. ср-в'!B:B,0)))","v":0},null,{"$f":"IF(ISNA(INDEX('План ввода основ. ср-в'!E:E,MATCH(B268,'План ввода основ. ср-в'!B:B,0))),0,INDEX('План ввода основ. ср-в'!E:E,MATCH(B268,'План ввода основ. ср-в'!B:B,0)))","v":0},{"$f":"IF(ISNA(INDEX('План ввода основ. ср-в'!H:H,MATCH(B268,'План ввода основ. ср-в'!B:B,0))),0,INDEX('План ввода основ. ср-в'!H:H,MATCH(B268,'План ввода основ. ср-в'!B:B,0)))","v":0},null,{"$f":"IF(ISNA(INDEX('План ввода основ. ср-в'!G:G,MATCH(B268,'План ввода основ. ср-в'!B:B,0))),0,INDEX('План ввода основ. ср-в'!G:G,MATCH(B268,'План ввода основ. ср-в'!B:B,0)))","v":0},{"$f":"IF(ISNA(INDEX('План ввода основ. ср-в'!J:J,MATCH(B268,'План ввода основ. ср-в'!B:B,0))),0,INDEX('План ввода основ. ср-в'!J:J,MATCH(B268,'План ввода основ. ср-в'!B:B,0)))","v":0},null,{"$f":"IF(ISNA(INDEX('План ввода основ. ср-в'!I:I,MATCH(B268,'План ввода основ. ср-в'!B:B,0))),0,INDEX('План ввода основ. ср-в'!I:I,MATCH(B268,'План ввода основ. ср-в'!B:B,0)))","v":0},{"$f":"IF(ISNA(INDEX('План ввода основ. ср-в'!L:L,MATCH(B268,'План ввода основ. ср-в'!B:B,0))),0,INDEX('План ввода основ. ср-в'!L:L,MATCH(B268,'План ввода основ. ср-в'!B:B,0)))","v":0},"",{"$f":"IF(ISNA(INDEX('План ввода основ. ср-в'!K:K,MATCH(B268,'План ввода основ. ср-в'!B:B,0))),0,INDEX('План ввода основ. ср-в'!K:K,MATCH(B268,'План ввода основ. ср-в'!B:B,0)))","v":0},0,"/",0,{"$f":"IF(ISNA(INDEX('План ввода основ. ср-в'!N:N,MATCH(B268,'План ввода основ. ср-в'!B:B,0))),0,INDEX('План ввода основ. ср-в'!N:N,MATCH(B268,'План ввода основ. ср-в'!B:B,0)))","v":0},null,{"$f":"IF(ISNA(INDEX('План ввода основ. ср-в'!M:M,MATCH(B268,'План ввода основ. ср-в'!B:B,0))),0,INDEX('План ввода основ. ср-в'!M:M,MATCH(B268,'План ввода основ. ср-в'!B:B,0)))","v":0},{"$f":"IF(ISNA(INDEX('План ввода основ. ср-в'!P:P,MATCH(B268,'План ввода основ. ср-в'!B:B,0))),0,INDEX('План ввода основ. ср-в'!P:P,MATCH(B268,'План ввода основ. ср-в'!B:B,0)))","v":0},"",{"$f":"IF(ISNA(INDEX('План ввода основ. ср-в'!O:O,MATCH(B268,'План ввода основ. ср-в'!B:B,0))),0,INDEX('План ввода основ. ср-в'!O:O,MATCH(B268,'План ввода основ. ср-в'!B:B,0)))","v":0},{"$f":"IF(ISNA(INDEX('План ввода основ. ср-в'!R:R,MATCH(B268,'План ввода основ. ср-в'!B:B,0))),0,INDEX('План ввода основ. ср-в'!R:R,MATCH(B268,'План ввода основ. ср-в'!B:B,0)))","v":0},null,{"$f":"IF(ISNA(INDEX('План ввода основ. ср-в'!Q:Q,MATCH(B268,'План ввода основ. ср-в'!B:B,0))),0,INDEX('План ввода основ. ср-в'!Q:Q,MATCH(B268,'План ввода основ. ср-в'!B:B,0)))","v":0},{"$f":"IF(ISNA(INDEX('План ввода основ. ср-в'!T:T,MATCH(B268,'План ввода основ. ср-в'!B:B,0))),0,INDEX('План ввода основ. ср-в'!T:T,MATCH(B268,'План ввода основ. ср-в'!B:B,0)))","v":0},null,{"$f":"IF(ISNA(INDEX('План ввода основ. ср-в'!S:S,MATCH(B268,'План ввода основ. ср-в'!B:B,0))),0,INDEX('План ввода основ. ср-в'!S:S,MATCH(B268,'План ввода основ. ср-в'!B:B,0)))","v":0},0,null,0,{"$f":"IF(ISNA(INDEX('План ввода основ. ср-в'!V:V,MATCH(B268,'План ввода основ. ср-в'!B:B,0))),0,INDEX('План ввода основ. ср-в'!V:V,MATCH(B268,'План ввода основ. ср-в'!B:B,0)))","v":0},{"$f":"IF(ISNA(INDEX('План ввода основ. ср-в'!W:W,MATCH(B268,'План ввода основ. ср-в'!B:B,0))),0,INDEX('План ввода основ. ср-в'!W:W,MATCH(B268,'План ввода основ. ср-в'!B:B,0)))","v":0},{"$f":"IF(ISNA(INDEX('План ввода основ. ср-в'!X:X,MATCH(B268,'План ввода основ. ср-в'!B:B,0))),0,INDEX('План ввода основ. ср-в'!X:X,MATCH(B268,'План ввода основ. ср-в'!B:B,0)))","v":0},{"$f":"IF(ISNA(INDEX('План ввода основ. ср-в'!Y:Y,MATCH(B268,'План ввода основ. ср-в'!B:B,0))),0,INDEX('План ввода основ. ср-в'!Y:Y,MATCH(B268,'План ввода основ. ср-в'!B:B,0)))","v":0},0,{"$f":"IF(ISNA(INDEX('План ввода основ. ср-в'!Z:Z,MATCH(B268,'План ввода основ. ср-в'!B:B,0))),0,INDEX('План ввода основ. ср-в'!Z:Z,MATCH(B268,'План ввода основ. ср-в'!B:B,0)))","v":0},{"$f":"IF(ISNA(INDEX('План ввода основ. ср-в'!AA:AA,MATCH(B268,'План ввода основ. ср-в'!B:B,0))),0,INDEX('План ввода основ. ср-в'!AA:AA,MATCH(B268,'План ввода основ. ср-в'!B:B,0)))","v":0},{"$f":"IF(ISNA(INDEX('План ввода основ. ср-в'!AB:AB,MATCH(B268,'План ввода основ. ср-в'!B:B,0))),0,INDEX('План ввода основ. ср-в'!AB:AB,MATCH(B268,'План ввода основ. ср-в'!B:B,0)))","v":0},{"$f":"IF(ISNA(INDEX('План ввода основ. ср-в'!AC:AC,MATCH(B268,'План ввода основ. ср-в'!B:B,0))),0,INDEX('План ввода основ. ср-в'!AC:AC,MATCH(B268,'План ввода основ. ср-в'!B:B,0)))","v":0},0]
[247,"Реконструкция ВЛ-10 кВ Ф-4 ПС Шентала",null,null,null,null,null,null,2.8,null,0,0,null,0,0,null,0,0,null,0,0,null,0,2.8,null,0,7.5932203389830519,{"$f":"IF(ISNA(INDEX('План ввода основ. ср-в'!F:F,MATCH(B269,'План ввода основ. ср-в'!B:B,0))),0,INDEX('План ввода основ. ср-в'!F:F,MATCH(B269,'План ввода основ. ср-в'!B:B,0)))","v":0},null,{"$f":"IF(ISNA(INDEX('План ввода основ. ср-в'!E:E,MATCH(B269,'План ввода основ. ср-в'!B:B,0))),0,INDEX('План ввода основ. ср-в'!E:E,MATCH(B269,'План ввода основ. ср-в'!B:B,0)))","v":0},{"$f":"IF(ISNA(INDEX('План ввода основ. ср-в'!H:H,MATCH(B269,'План ввода основ. ср-в'!B:B,0))),0,INDEX('План ввода основ. ср-в'!H:H,MATCH(B269,'План ввода основ. ср-в'!B:B,0)))","v":0},null,{"$f":"IF(ISNA(INDEX('План ввода основ. ср-в'!G:G,MATCH(B269,'План ввода основ. ср-в'!B:B,0))),0,INDEX('План ввода основ. ср-в'!G:G,MATCH(B269,'План ввода основ. ср-в'!B:B,0)))","v":0},{"$f":"IF(ISNA(INDEX('План ввода основ. ср-в'!J:J,MATCH(B269,'План ввода основ. ср-в'!B:B,0))),0,INDEX('План ввода основ. ср-в'!J:J,MATCH(B269,'План ввода основ. ср-в'!B:B,0)))","v":0},null,{"$f":"IF(ISNA(INDEX('План ввода основ. ср-в'!I:I,MATCH(B269,'План ввода основ. ср-в'!B:B,0))),0,INDEX('План ввода основ. ср-в'!I:I,MATCH(B269,'План ввода основ. ср-в'!B:B,0)))","v":0},{"$f":"IF(ISNA(INDEX('План ввода основ. ср-в'!L:L,MATCH(B269,'План ввода основ. ср-в'!B:B,0))),0,INDEX('План ввода основ. ср-в'!L:L,MATCH(B269,'План ввода основ. ср-в'!B:B,0)))","v":2.8},"/",{"$f":"IF(ISNA(INDEX('План ввода основ. ср-в'!K:K,MATCH(B269,'План ввода основ. ср-в'!B:B,0))),0,INDEX('План ввода основ. ср-в'!K:K,MATCH(B269,'План ввода основ. ср-в'!B:B,0)))","v":0},2.8,"/",0,{"$f":"IF(ISNA(INDEX('План ввода основ. ср-в'!N:N,MATCH(B269,'План ввода основ. ср-в'!B:B,0))),0,INDEX('План ввода основ. ср-в'!N:N,MATCH(B269,'План ввода основ. ср-в'!B:B,0)))","v":0},null,{"$f":"IF(ISNA(INDEX('План ввода основ. ср-в'!M:M,MATCH(B269,'План ввода основ. ср-в'!B:B,0))),0,INDEX('План ввода основ. ср-в'!M:M,MATCH(B269,'План ввода основ. ср-в'!B:B,0)))","v":0},{"$f":"IF(ISNA(INDEX('План ввода основ. ср-в'!P:P,MATCH(B269,'План ввода основ. ср-в'!B:B,0))),0,INDEX('План ввода основ. ср-в'!P:P,MATCH(B269,'План ввода основ. ср-в'!B:B,0)))","v":0},"",{"$f":"IF(ISNA(INDEX('План ввода основ. ср-в'!O:O,MATCH(B269,'План ввода основ. ср-в'!B:B,0))),0,INDEX('План ввода основ. ср-в'!O:O,MATCH(B269,'План ввода основ. ср-в'!B:B,0)))","v":0},{"$f":"IF(ISNA(INDEX('План ввода основ. ср-в'!R:R,MATCH(B269,'План ввода основ. ср-в'!B:B,0))),0,INDEX('План ввода основ. ср-в'!R:R,MATCH(B269,'План ввода основ. ср-в'!B:B,0)))","v":0},null,{"$f":"IF(ISNA(INDEX('План ввода основ. ср-в'!Q:Q,MATCH(B269,'План ввода основ. ср-в'!B:B,0))),0,INDEX('План ввода основ. ср-в'!Q:Q,MATCH(B269,'План ввода основ. ср-в'!B:B,0)))","v":0},{"$f":"IF(ISNA(INDEX('План ввода основ. ср-в'!T:T,MATCH(B269,'План ввода основ. ср-в'!B:B,0))),0,INDEX('План ввода основ. ср-в'!T:T,MATCH(B269,'План ввода основ. ср-в'!B:B,0)))","v":0},null,{"$f":"IF(ISNA(INDEX('План ввода основ. ср-в'!S:S,MATCH(B269,'План ввода основ. ср-в'!B:B,0))),0,INDEX('План ввода основ. ср-в'!S:S,MATCH(B269,'План ввода основ. ср-в'!B:B,0)))","v":0},2.8,null,0,{"$f":"IF(ISNA(INDEX('План ввода основ. ср-в'!V:V,MATCH(B269,'План ввода основ. ср-в'!B:B,0))),0,INDEX('План ввода основ. ср-в'!V:V,MATCH(B269,'План ввода основ. ср-в'!B:B,0)))","v":0},{"$f":"IF(ISNA(INDEX('План ввода основ. ср-в'!W:W,MATCH(B269,'План ввода основ. ср-в'!B:B,0))),0,INDEX('План ввода основ. ср-в'!W:W,MATCH(B269,'План ввода основ. ср-в'!B:B,0)))","v":1.1389830508474577},{"$f":"IF(ISNA(INDEX('План ввода основ. ср-в'!X:X,MATCH(B269,'План ввода основ. ср-в'!B:B,0))),0,INDEX('План ввода основ. ср-в'!X:X,MATCH(B269,'План ввода основ. ср-в'!B:B,0)))","v":2.6576271186440681},{"$f":"IF(ISNA(INDEX('План ввода основ. ср-в'!Y:Y,MATCH(B269,'План ввода основ. ср-в'!B:B,0))),0,INDEX('План ввода основ. ср-в'!Y:Y,MATCH(B269,'План ввода основ. ср-в'!B:B,0)))","v":3.796610169491526},7.5932203389830519,{"$f":"IF(ISNA(INDEX('План ввода основ. ср-в'!Z:Z,MATCH(B269,'План ввода основ. ср-в'!B:B,0))),0,INDEX('План ввода основ. ср-в'!Z:Z,MATCH(B269,'План ввода основ. ср-в'!B:B,0)))","v":0},{"$f":"IF(ISNA(INDEX('План ввода основ. ср-в'!AA:AA,MATCH(B269,'План ввода основ. ср-в'!B:B,0))),0,INDEX('План ввода основ. ср-в'!AA:AA,MATCH(B269,'План ввода основ. ср-в'!B:B,0)))","v":0},{"$f":"IF(ISNA(INDEX('План ввода основ. ср-в'!AB:AB,MATCH(B269,'План ввода основ. ср-в'!B:B,0))),0,INDEX('План ввода основ. ср-в'!AB:AB,MATCH(B269,'План ввода основ. ср-в'!B:B,0)))","v":0},{"$f":"IF(ISNA(INDEX('План ввода основ. ср-в'!AC:AC,MATCH(B269,'План ввода основ. ср-в'!B:B,0))),0,INDEX('План ввода основ. ср-в'!AC:AC,MATCH(B269,'План ввода основ. ср-в'!B:B,0)))","v":0},7.5932203389830519]
[248,"Реконструкция ВЛ-0,4 кВ от ЗТП Ш 114/400 кВА с заменой ЗТП на КТП",null,null,null,null,null,null,0,null,0,3.2,null,0.4,0,null,0,0,null,0,0,null,0,3.2,null,0.4,8.6101694915254221,{"$f":"IF(ISNA(INDEX('План ввода основ. ср-в'!F:F,MATCH(B270,'План ввода основ. ср-в'!B:B,0))),0,INDEX('План ввода основ. ср-в'!F:F,MATCH(B270,'План ввода основ. ср-в'!B:B,0)))","v":0},null,{"$f":"IF(ISNA(INDEX('План ввода основ. ср-в'!E:E,MATCH(B270,'План ввода основ. ср-в'!B:B,0))),0,INDEX('План ввода основ. ср-в'!E:E,MATCH(B270,'План ввода основ. ср-в'!B:B,0)))","v":0},{"$f":"IF(ISNA(INDEX('План ввода основ. ср-в'!H:H,MATCH(B270,'План ввода основ. ср-в'!B:B,0))),0,INDEX('План ввода основ. ср-в'!H:H,MATCH(B270,'План ввода основ. ср-в'!B:B,0)))","v":0},null,{"$f":"IF(ISNA(INDEX('План ввода основ. ср-в'!G:G,MATCH(B270,'План ввода основ. ср-в'!B:B,0))),0,INDEX('План ввода основ. ср-в'!G:G,MATCH(B270,'План ввода основ. ср-в'!B:B,0)))","v":0},{"$f":"IF(ISNA(INDEX('План ввода основ. ср-в'!J:J,MATCH(B270,'План ввода основ. ср-в'!B:B,0))),0,INDEX('План ввода основ. ср-в'!J:J,MATCH(B270,'План ввода основ. ср-в'!B:B,0)))","v":0},null,{"$f":"IF(ISNA(INDEX('План ввода основ. ср-в'!I:I,MATCH(B270,'План ввода основ. ср-в'!B:B,0))),0,INDEX('План ввода основ. ср-в'!I:I,MATCH(B270,'План ввода основ. ср-в'!B:B,0)))","v":0},{"$f":"IF(ISNA(INDEX('План ввода основ. ср-в'!L:L,MATCH(B270,'План ввода основ. ср-в'!B:B,0))),0,INDEX('План ввода основ. ср-в'!L:L,MATCH(B270,'План ввода основ. ср-в'!B:B,0)))","v":0},"",{"$f":"IF(ISNA(INDEX('План ввода основ. ср-в'!K:K,MATCH(B270,'План ввода основ. ср-в'!B:B,0))),0,INDEX('План ввода основ. ср-в'!K:K,MATCH(B270,'План ввода основ. ср-в'!B:B,0)))","v":0},0,null,0,{"$f":"IF(ISNA(INDEX('План ввода основ. ср-в'!N:N,MATCH(B270,'План ввода основ. ср-в'!B:B,0))),0,INDEX('План ввода основ. ср-в'!N:N,MATCH(B270,'План ввода основ. ср-в'!B:B,0)))","v":3.2},null,{"$f":"IF(ISNA(INDEX('План ввода основ. ср-в'!M:M,MATCH(B270,'План ввода основ. ср-в'!B:B,0))),0,INDEX('План ввода основ. ср-в'!M:M,MATCH(B270,'План ввода основ. ср-в'!B:B,0)))","v":0.4},{"$f":"IF(ISNA(INDEX('План ввода основ. ср-в'!P:P,MATCH(B270,'План ввода основ. ср-в'!B:B,0))),0,INDEX('План ввода основ. ср-в'!P:P,MATCH(B270,'План ввода основ. ср-в'!B:B,0)))","v":0},"",{"$f":"IF(ISNA(INDEX('План ввода основ. ср-в'!O:O,MATCH(B270,'План ввода основ. ср-в'!B:B,0))),0,INDEX('План ввода основ. ср-в'!O:O,MATCH(B270,'План ввода основ. ср-в'!B:B,0)))","v":0},{"$f":"IF(ISNA(INDEX('План ввода основ. ср-в'!R:R,MATCH(B270,'План ввода основ. ср-в'!B:B,0))),0,INDEX('План ввода основ. ср-в'!R:R,MATCH(B270,'План ввода основ. ср-в'!B:B,0)))","v":0},null,{"$f":"IF(ISNA(INDEX('План ввода основ. ср-в'!Q:Q,MATCH(B270,'План ввода основ. ср-в'!B:B,0))),0,INDEX('План ввода основ. ср-в'!Q:Q,MATCH(B270,'План ввода основ. ср-в'!B:B,0)))","v":0},{"$f":"IF(ISNA(INDEX('План ввода основ. ср-в'!T:T,MATCH(B270,'План ввода основ. ср-в'!B:B,0))),0,INDEX('План ввода основ. ср-в'!T:T,MATCH(B270,'План ввода основ. ср-в'!B:B,0)))","v":0},null,{"$f":"IF(ISNA(INDEX('План ввода основ. ср-в'!S:S,MATCH(B270,'План ввода основ. ср-в'!B:B,0))),0,INDEX('План ввода основ. ср-в'!S:S,MATCH(B270,'План ввода основ. ср-в'!B:B,0)))","v":0},3.2,null,0.4,{"$f":"IF(ISNA(INDEX('План ввода основ. ср-в'!V:V,MATCH(B270,'План ввода основ. ср-в'!B:B,0))),0,INDEX('План ввода основ. ср-в'!V:V,MATCH(B270,'План ввода основ. ср-в'!B:B,0)))","v":0},{"$f":"IF(ISNA(INDEX('План ввода основ. ср-в'!W:W,MATCH(B270,'План ввода основ. ср-в'!B:B,0))),0,INDEX('План ввода основ. ср-в'!W:W,MATCH(B270,'План ввода основ. ср-в'!B:B,0)))","v":0},{"$f":"IF(ISNA(INDEX('План ввода основ. ср-в'!X:X,MATCH(B270,'План ввода основ. ср-в'!B:B,0))),0,INDEX('План ввода основ. ср-в'!X:X,MATCH(B270,'План ввода основ. ср-в'!B:B,0)))","v":0},{"$f":"IF(ISNA(INDEX('План ввода основ. ср-в'!Y:Y,MATCH(B270,'План ввода основ. ср-в'!B:B,0))),0,INDEX('План ввода основ. ср-в'!Y:Y,MATCH(B270,'План ввода основ. ср-в'!B:B,0)))","v":0},0,{"$f":"IF(ISNA(INDEX('План ввода основ. ср-в'!Z:Z,MATCH(B270,'План ввода основ. ср-в'!B:B,0))),0,INDEX('План ввода основ. ср-в'!Z:Z,MATCH(B270,'План ввода основ. ср-в'!B:B,0)))","v":8.6101694915254221},{"$f":"IF(ISNA(INDEX('План ввода основ. ср-в'!AA:AA,MATCH(B270,'План ввода основ. ср-в'!B:B,0))),0,INDEX('План ввода основ. ср-в'!AA:AA,MATCH(B270,'План ввода основ. ср-в'!B:B,0)))","v":0},{"$f":"IF(ISNA(INDEX('План ввода основ. ср-в'!AB:AB,MATCH(B270,'План ввода основ. ср-в'!B:B,0))),0,INDEX('План ввода основ. ср-в'!AB:AB,MATCH(B270,'План ввода основ. ср-в'!B:B,0)))","v":0},{"$f":"IF(ISNA(INDEX('План ввода основ. ср-в'!AC:AC,MATCH(B270,'План ввода основ. ср-в'!B:B,0))),0,INDEX('План ввода основ. ср-в'!AC:AC,MATCH(B270,'План ввода основ. ср-в'!B:B,0)))","v":0},8.6101694915254221]
[249,"Реконструкция ВЛ-0,4 кВ от КТП Ш 205/100 кВА с заменой КТП на 160 кВА",null,null,null,null,null,null,0,null,0,2,null,0.1,0,null,0,0,null,0,0,null,0,2,null,0.1,5.7627118644067794,{"$f":"IF(ISNA(INDEX('План ввода основ. ср-в'!F:F,MATCH(B271,'План ввода основ. ср-в'!B:B,0))),0,INDEX('План ввода основ. ср-в'!F:F,MATCH(B271,'План ввода основ. ср-в'!B:B,0)))","v":0},null,{"$f":"IF(ISNA(INDEX('План ввода основ. ср-в'!E:E,MATCH(B271,'План ввода основ. ср-в'!B:B,0))),0,INDEX('План ввода основ. ср-в'!E:E,MATCH(B271,'План ввода основ. ср-в'!B:B,0)))","v":0},{"$f":"IF(ISNA(INDEX('План ввода основ. ср-в'!H:H,MATCH(B271,'План ввода основ. ср-в'!B:B,0))),0,INDEX('План ввода основ. ср-в'!H:H,MATCH(B271,'План ввода основ. ср-в'!B:B,0)))","v":0},null,{"$f":"IF(ISNA(INDEX('План ввода основ. ср-в'!G:G,MATCH(B271,'План ввода основ. ср-в'!B:B,0))),0,INDEX('План ввода основ. ср-в'!G:G,MATCH(B271,'План ввода основ. ср-в'!B:B,0)))","v":0},{"$f":"IF(ISNA(INDEX('План ввода основ. ср-в'!J:J,MATCH(B271,'План ввода основ. ср-в'!B:B,0))),0,INDEX('План ввода основ. ср-в'!J:J,MATCH(B271,'План ввода основ. ср-в'!B:B,0)))","v":0},null,{"$f":"IF(ISNA(INDEX('План ввода основ. ср-в'!I:I,MATCH(B271,'План ввода основ. ср-в'!B:B,0))),0,INDEX('План ввода основ. ср-в'!I:I,MATCH(B271,'План ввода основ. ср-в'!B:B,0)))","v":0},{"$f":"IF(ISNA(INDEX('План ввода основ. ср-в'!L:L,MATCH(B271,'План ввода основ. ср-в'!B:B,0))),0,INDEX('План ввода основ. ср-в'!L:L,MATCH(B271,'План ввода основ. ср-в'!B:B,0)))","v":0},"",{"$f":"IF(ISNA(INDEX('План ввода основ. ср-в'!K:K,MATCH(B271,'План ввода основ. ср-в'!B:B,0))),0,INDEX('План ввода основ. ср-в'!K:K,MATCH(B271,'План ввода основ. ср-в'!B:B,0)))","v":0},0,null,0,{"$f":"IF(ISNA(INDEX('План ввода основ. ср-в'!N:N,MATCH(B271,'План ввода основ. ср-в'!B:B,0))),0,INDEX('План ввода основ. ср-в'!N:N,MATCH(B271,'План ввода основ. ср-в'!B:B,0)))","v":2},null,{"$f":"IF(ISNA(INDEX('План ввода основ. ср-в'!M:M,MATCH(B271,'План ввода основ. ср-в'!B:B,0))),0,INDEX('План ввода основ. ср-в'!M:M,MATCH(B271,'План ввода основ. ср-в'!B:B,0)))","v":0.16},{"$f":"IF(ISNA(INDEX('План ввода основ. ср-в'!P:P,MATCH(B271,'План ввода основ. ср-в'!B:B,0))),0,INDEX('План ввода основ. ср-в'!P:P,MATCH(B271,'План ввода основ. ср-в'!B:B,0)))","v":0},"",{"$f":"IF(ISNA(INDEX('План ввода основ. ср-в'!O:O,MATCH(B271,'План ввода основ. ср-в'!B:B,0))),0,INDEX('План ввода основ. ср-в'!O:O,MATCH(B271,'План ввода основ. ср-в'!B:B,0)))","v":0},{"$f":"IF(ISNA(INDEX('План ввода основ. ср-в'!R:R,MATCH(B271,'План ввода основ. ср-в'!B:B,0))),0,INDEX('План ввода основ. ср-в'!R:R,MATCH(B271,'План ввода основ. ср-в'!B:B,0)))","v":0},null,{"$f":"IF(ISNA(INDEX('План ввода основ. ср-в'!Q:Q,MATCH(B271,'План ввода основ. ср-в'!B:B,0))),0,INDEX('План ввода основ. ср-в'!Q:Q,MATCH(B271,'План ввода основ. ср-в'!B:B,0)))","v":0},{"$f":"IF(ISNA(INDEX('План ввода основ. ср-в'!T:T,MATCH(B271,'План ввода основ. ср-в'!B:B,0))),0,INDEX('План ввода основ. ср-в'!T:T,MATCH(B271,'План ввода основ. ср-в'!B:B,0)))","v":0},null,{"$f":"IF(ISNA(INDEX('План ввода основ. ср-в'!S:S,MATCH(B271,'План ввода основ. ср-в'!B:B,0))),0,INDEX('План ввода основ. ср-в'!S:S,MATCH(B271,'План ввода основ. ср-в'!B:B,0)))","v":0},2,null,0.16,{"$f":"IF(ISNA(INDEX('План ввода основ. ср-в'!V:V,MATCH(B271,'План ввода основ. ср-в'!B:B,0))),0,INDEX('План ввода основ. ср-в'!V:V,MATCH(B271,'План ввода основ. ср-в'!B:B,0)))","v":0},{"$f":"IF(ISNA(INDEX('План ввода основ. ср-в'!W:W,MATCH(B271,'План ввода основ. ср-в'!B:B,0))),0,INDEX('План ввода основ. ср-в'!W:W,MATCH(B271,'План ввода основ. ср-в'!B:B,0)))","v":0},{"$f":"IF(ISNA(INDEX('План ввода основ. ср-в'!X:X,MATCH(B271,'План ввода основ. ср-в'!B:B,0))),0,INDEX('План ввода основ. ср-в'!X:X,MATCH(B271,'План ввода основ. ср-в'!B:B,0)))","v":0},{"$f":"IF(ISNA(INDEX('План ввода основ. ср-в'!Y:Y,MATCH(B271,'План ввода основ. ср-в'!B:B,0))),0,INDEX('План ввода основ. ср-в'!Y:Y,MATCH(B271,'План ввода основ. ср-в'!B:B,0)))","v":0},0,{"$f":"IF(ISNA(INDEX('План ввода основ. ср-в'!Z:Z,MATCH(B271,'План ввода основ. ср-в'!B:B,0))),0,INDEX('План ввода основ. ср-в'!Z:Z,MATCH(B271,'План ввода основ. ср-в'!B:B,0)))","v":5.7627118644067794},{"$f":"IF(ISNA(INDEX('План ввода основ. ср-в'!AA:AA,MATCH(B271,'План ввода основ. ср-в'!B:B,0))),0,INDEX('План ввода основ. ср-в'!AA:AA,MATCH(B271,'План ввода основ. ср-в'!B:B,0)))","v":0},{"$f":"IF(ISNA(INDEX('План ввода основ. ср-в'!AB:AB,MATCH(B271,'План ввода основ. ср-в'!B:B,0))),0,INDEX('План ввода основ. ср-в'!AB:AB,MATCH(B271,'План ввода основ. ср-в'!B:B,0)))","v":0},{"$f":"IF(ISNA(INDEX('План ввода основ. ср-в'!AC:AC,MATCH(B271,'План ввода основ. ср-в'!B:B,0))),0,INDEX('План ввода основ. ср-в'!AC:AC,MATCH(B271,'План ввода основ. ср-в'!B:B,0)))","v":0},5.7627118644067794]
[250,"Реконструкция ВЛ-10 кВ Ш-4 отпайка от опоры №400/32 до КТП Ш 425/160 кВА, отпайка от опоры №400/61 до КТП Ш429/250 кВА, от опоры №400/43 до КТП Ш 427/160 кВА, от опоры №400/65 до КТП Ш 426/250 кВА",null,null,null,null,null,null,0,{"$f":"IF(AND(I272=0,K272=0),\"\",\"/\")","v":""},0,0,{"$f":"IF(AND(L272=0,N272=0),\"\",\"/\")","v":""},0,2.8,{"$f":"IF(AND(O272=0,Q272=0),\"\",\"/\")","v":"/"},0,0,{"$f":"IF(AND(R272=0,T272=0),\"\",\"/\")","v":""},0,0,{"$f":"IF(AND(U272=0,W272=0),\"\",\"/\")","v":""},0,2.8,"/",0,6.6440677966101687,{"$f":"IF(ISNA(INDEX('План ввода основ. ср-в'!F:F,MATCH(B272,'План ввода основ. ср-в'!B:B,0))),0,INDEX('План ввода основ. ср-в'!F:F,MATCH(B272,'План ввода основ. ср-в'!B:B,0)))","v":0},{"$f":"IF(AND(AB272=0,AD272=0),\"\",\"/\")","v":""},{"$f":"IF(ISNA(INDEX('План ввода основ. ср-в'!E:E,MATCH(B272,'План ввода основ. ср-в'!B:B,0))),0,INDEX('План ввода основ. ср-в'!E:E,MATCH(B272,'План ввода основ. ср-в'!B:B,0)))","v":0},{"$f":"IF(ISNA(INDEX('План ввода основ. ср-в'!H:H,MATCH(B272,'План ввода основ. ср-в'!B:B,0))),0,INDEX('План ввода основ. ср-в'!H:H,MATCH(B272,'План ввода основ. ср-в'!B:B,0)))","v":0},{"$f":"IF(AND(AE272=0,AG272=0),\"\",\"/\")","v":""},{"$f":"IF(ISNA(INDEX('План ввода основ. ср-в'!G:G,MATCH(B272,'План ввода основ. ср-в'!B:B,0))),0,INDEX('План ввода основ. ср-в'!G:G,MATCH(B272,'План ввода основ. ср-в'!B:B,0)))","v":0},{"$f":"IF(ISNA(INDEX('План ввода основ. ср-в'!J:J,MATCH(B272,'План ввода основ. ср-в'!B:B,0))),0,INDEX('План ввода основ. ср-в'!J:J,MATCH(B272,'План ввода основ. ср-в'!B:B,0)))","v":0},{"$f":"IF(AND(AH272=0,AJ272=0),\"\",\"/\")","v":""},{"$f":"IF(ISNA(INDEX('План ввода основ. ср-в'!I:I,MATCH(B272,'План ввода основ. ср-в'!B:B,0))),0,INDEX('План ввода основ. ср-в'!I:I,MATCH(B272,'План ввода основ. ср-в'!B:B,0)))","v":0},{"$f":"IF(ISNA(INDEX('План ввода основ. ср-в'!L:L,MATCH(B272,'План ввода основ. ср-в'!B:B,0))),0,INDEX('План ввода основ. ср-в'!L:L,MATCH(B272,'План ввода основ. ср-в'!B:B,0)))","v":0},"",{"$f":"IF(ISNA(INDEX('План ввода основ. ср-в'!K:K,MATCH(B272,'План ввода основ. ср-в'!B:B,0))),0,INDEX('План ввода основ. ср-в'!K:K,MATCH(B272,'План ввода основ. ср-в'!B:B,0)))","v":0},0,"/",0,{"$f":"IF(ISNA(INDEX('План ввода основ. ср-в'!N:N,MATCH(B272,'План ввода основ. ср-в'!B:B,0))),0,INDEX('План ввода основ. ср-в'!N:N,MATCH(B272,'План ввода основ. ср-в'!B:B,0)))","v":0},{"$f":"IF(AND(AQ272=0,AS272=0),\"\",\"/\")","v":""},{"$f":"IF(ISNA(INDEX('План ввода основ. ср-в'!M:M,MATCH(B272,'План ввода основ. ср-в'!B:B,0))),0,INDEX('План ввода основ. ср-в'!M:M,MATCH(B272,'План ввода основ. ср-в'!B:B,0)))","v":0},{"$f":"IF(ISNA(INDEX('План ввода основ. ср-в'!P:P,MATCH(B272,'План ввода основ. ср-в'!B:B,0))),0,INDEX('План ввода основ. ср-в'!P:P,MATCH(B272,'План ввода основ. ср-в'!B:B,0)))","v":2.8},"/",{"$f":"IF(ISNA(INDEX('План ввода основ. ср-в'!O:O,MATCH(B272,'План ввода основ. ср-в'!B:B,0))),0,INDEX('План ввода основ. ср-в'!O:O,MATCH(B272,'План ввода основ. ср-в'!B:B,0)))","v":0},{"$f":"IF(ISNA(INDEX('План ввода основ. ср-в'!R:R,MATCH(B272,'План ввода основ. ср-в'!B:B,0))),0,INDEX('План ввода основ. ср-в'!R:R,MATCH(B272,'План ввода основ. ср-в'!B:B,0)))","v":0},{"$f":"IF(AND(AW272=0,AY272=0),\"\",\"/\")","v":""},{"$f":"IF(ISNA(INDEX('План ввода основ. ср-в'!Q:Q,MATCH(B272,'План ввода основ. ср-в'!B:B,0))),0,INDEX('План ввода основ. ср-в'!Q:Q,MATCH(B272,'План ввода основ. ср-в'!B:B,0)))","v":0},{"$f":"IF(ISNA(INDEX('План ввода основ. ср-в'!T:T,MATCH(B272,'План ввода основ. ср-в'!B:B,0))),0,INDEX('План ввода основ. ср-в'!T:T,MATCH(B272,'План ввода основ. ср-в'!B:B,0)))","v":0},{"$f":"IF(AND(AZ272=0,BB272=0),\"\",\"/\")","v":""},{"$f":"IF(ISNA(INDEX('План ввода основ. ср-в'!S:S,MATCH(B272,'План ввода основ. ср-в'!B:B,0))),0,INDEX('План ввода основ. ср-в'!S:S,MATCH(B272,'План ввода основ. ср-в'!B:B,0)))","v":0},2.8,"/",0,{"$f":"IF(ISNA(INDEX('План ввода основ. ср-в'!V:V,MATCH(B272,'План ввода основ. ср-в'!B:B,0))),0,INDEX('План ввода основ. ср-в'!V:V,MATCH(B272,'План ввода основ. ср-в'!B:B,0)))","v":0},{"$f":"IF(ISNA(INDEX('План ввода основ. ср-в'!W:W,MATCH(B272,'План ввода основ. ср-в'!B:B,0))),0,INDEX('План ввода основ. ср-в'!W:W,MATCH(B272,'План ввода основ. ср-в'!B:B,0)))","v":0},{"$f":"IF(ISNA(INDEX('План ввода основ. ср-в'!X:X,MATCH(B272,'План ввода основ. ср-в'!B:B,0))),0,INDEX('План ввода основ. ср-в'!X:X,MATCH(B272,'План ввода основ. ср-в'!B:B,0)))","v":0},{"$f":"IF(ISNA(INDEX('План ввода основ. ср-в'!Y:Y,MATCH(B272,'План ввода основ. ср-в'!B:B,0))),0,INDEX('План ввода основ. ср-в'!Y:Y,MATCH(B272,'План ввода основ. ср-в'!B:B,0)))","v":0},0,{"$f":"IF(ISNA(INDEX('План ввода основ. ср-в'!Z:Z,MATCH(B272,'План ввода основ. ср-в'!B:B,0))),0,INDEX('План ввода основ. ср-в'!Z:Z,MATCH(B272,'План ввода основ. ср-в'!B:B,0)))","v":0},{"$f":"IF(ISNA(INDEX('План ввода основ. ср-в'!AA:AA,MATCH(B272,'План ввода основ. ср-в'!B:B,0))),0,INDEX('План ввода основ. ср-в'!AA:AA,MATCH(B272,'План ввода основ. ср-в'!B:B,0)))","v":6.6440677966101687},{"$f":"IF(ISNA(INDEX('План ввода основ. ср-в'!AB:AB,MATCH(B272,'План ввода основ. ср-в'!B:B,0))),0,INDEX('План ввода основ. ср-в'!AB:AB,MATCH(B272,'План ввода основ. ср-в'!B:B,0)))","v":0},{"$f":"IF(ISNA(INDEX('План ввода основ. ср-в'!AC:AC,MATCH(B272,'План ввода основ. ср-в'!B:B,0))),0,INDEX('План ввода основ. ср-в'!AC:AC,MATCH(B272,'План ввода основ. ср-в'!B:B,0)))","v":0},6.6440677966101687]
[251,"Реконструкция ВЛ-0,4 кВ от КТП Ш 700/160 кВА с заменой КТП на 100 кВА",null,null,null,null,null,null,0,"",0,0,"",0,0,"",0,3.5,"/",0.16,0,"",0,3.5,"/",0.16,9.322033898305083,{"$f":"IF(ISNA(INDEX('План ввода основ. ср-в'!F:F,MATCH(B273,'План ввода основ. ср-в'!B:B,0))),0,INDEX('План ввода основ. ср-в'!F:F,MATCH(B273,'План ввода основ. ср-в'!B:B,0)))","v":0},"",{"$f":"IF(ISNA(INDEX('План ввода основ. ср-в'!E:E,MATCH(B273,'План ввода основ. ср-в'!B:B,0))),0,INDEX('План ввода основ. ср-в'!E:E,MATCH(B273,'План ввода основ. ср-в'!B:B,0)))","v":0},{"$f":"IF(ISNA(INDEX('План ввода основ. ср-в'!H:H,MATCH(B273,'План ввода основ. ср-в'!B:B,0))),0,INDEX('План ввода основ. ср-в'!H:H,MATCH(B273,'План ввода основ. ср-в'!B:B,0)))","v":0},"",{"$f":"IF(ISNA(INDEX('План ввода основ. ср-в'!G:G,MATCH(B273,'План ввода основ. ср-в'!B:B,0))),0,INDEX('План ввода основ. ср-в'!G:G,MATCH(B273,'План ввода основ. ср-в'!B:B,0)))","v":0},{"$f":"IF(ISNA(INDEX('План ввода основ. ср-в'!J:J,MATCH(B273,'План ввода основ. ср-в'!B:B,0))),0,INDEX('План ввода основ. ср-в'!J:J,MATCH(B273,'План ввода основ. ср-в'!B:B,0)))","v":0},"",{"$f":"IF(ISNA(INDEX('План ввода основ. ср-в'!I:I,MATCH(B273,'План ввода основ. ср-в'!B:B,0))),0,INDEX('План ввода основ. ср-в'!I:I,MATCH(B273,'План ввода основ. ср-в'!B:B,0)))","v":0},{"$f":"IF(ISNA(INDEX('План ввода основ. ср-в'!L:L,MATCH(B273,'План ввода основ. ср-в'!B:B,0))),0,INDEX('План ввода основ. ср-в'!L:L,MATCH(B273,'План ввода основ. ср-в'!B:B,0)))","v":0},"",{"$f":"IF(ISNA(INDEX('План ввода основ. ср-в'!K:K,MATCH(B273,'План ввода основ. ср-в'!B:B,0))),0,INDEX('План ввода основ. ср-в'!K:K,MATCH(B273,'План ввода основ. ср-в'!B:B,0)))","v":0},0,"/",0,{"$f":"IF(ISNA(INDEX('План ввода основ. ср-в'!N:N,MATCH(B273,'План ввода основ. ср-в'!B:B,0))),0,INDEX('План ввода основ. ср-в'!N:N,MATCH(B273,'План ввода основ. ср-в'!B:B,0)))","v":0},"",{"$f":"IF(ISNA(INDEX('План ввода основ. ср-в'!M:M,MATCH(B273,'План ввода основ. ср-в'!B:B,0))),0,INDEX('План ввода основ. ср-в'!M:M,MATCH(B273,'План ввода основ. ср-в'!B:B,0)))","v":0},{"$f":"IF(ISNA(INDEX('План ввода основ. ср-в'!P:P,MATCH(B273,'План ввода основ. ср-в'!B:B,0))),0,INDEX('План ввода основ. ср-в'!P:P,MATCH(B273,'План ввода основ. ср-в'!B:B,0)))","v":0},"",{"$f":"IF(ISNA(INDEX('План ввода основ. ср-в'!O:O,MATCH(B273,'План ввода основ. ср-в'!B:B,0))),0,INDEX('План ввода основ. ср-в'!O:O,MATCH(B273,'План ввода основ. ср-в'!B:B,0)))","v":0},{"$f":"IF(ISNA(INDEX('План ввода основ. ср-в'!R:R,MATCH(B273,'План ввода основ. ср-в'!B:B,0))),0,INDEX('План ввода основ. ср-в'!R:R,MATCH(B273,'План ввода основ. ср-в'!B:B,0)))","v":3.5},"/",{"$f":"IF(ISNA(INDEX('План ввода основ. ср-в'!Q:Q,MATCH(B273,'План ввода основ. ср-в'!B:B,0))),0,INDEX('План ввода основ. ср-в'!Q:Q,MATCH(B273,'План ввода основ. ср-в'!B:B,0)))","v":0.1},{"$f":"IF(ISNA(INDEX('План ввода основ. ср-в'!T:T,MATCH(B273,'План ввода основ. ср-в'!B:B,0))),0,INDEX('План ввода основ. ср-в'!T:T,MATCH(B273,'План ввода основ. ср-в'!B:B,0)))","v":0},"",{"$f":"IF(ISNA(INDEX('План ввода основ. ср-в'!S:S,MATCH(B273,'План ввода основ. ср-в'!B:B,0))),0,INDEX('План ввода основ. ср-в'!S:S,MATCH(B273,'План ввода основ. ср-в'!B:B,0)))","v":0},3.5,"/",0.1,{"$f":"IF(ISNA(INDEX('План ввода основ. ср-в'!V:V,MATCH(B273,'План ввода основ. ср-в'!B:B,0))),0,INDEX('План ввода основ. ср-в'!V:V,MATCH(B273,'План ввода основ. ср-в'!B:B,0)))","v":0},{"$f":"IF(ISNA(INDEX('План ввода основ. ср-в'!W:W,MATCH(B273,'План ввода основ. ср-в'!B:B,0))),0,INDEX('План ввода основ. ср-в'!W:W,MATCH(B273,'План ввода основ. ср-в'!B:B,0)))","v":0},{"$f":"IF(ISNA(INDEX('План ввода основ. ср-в'!X:X,MATCH(B273,'План ввода основ. ср-в'!B:B,0))),0,INDEX('План ввода основ. ср-в'!X:X,MATCH(B273,'План ввода основ. ср-в'!B:B,0)))","v":0},{"$f":"IF(ISNA(INDEX('План ввода основ. ср-в'!Y:Y,MATCH(B273,'План ввода основ. ср-в'!B:B,0))),0,INDEX('План ввода основ. ср-в'!Y:Y,MATCH(B273,'План ввода основ. ср-в'!B:B,0)))","v":0},0,{"$f":"IF(ISNA(INDEX('План ввода основ. ср-в'!Z:Z,MATCH(B273,'План ввода основ. ср-в'!B:B,0))),0,INDEX('План ввода основ. ср-в'!Z:Z,MATCH(B273,'План ввода основ. ср-в'!B:B,0)))","v":0},{"$f":"IF(ISNA(INDEX('План ввода основ. ср-в'!AA:AA,MATCH(B273,'План ввода основ. ср-в'!B:B,0))),0,INDEX('План ввода основ. ср-в'!AA:AA,MATCH(B273,'План ввода основ. ср-в'!B:B,0)))","v":0},{"$f":"IF(ISNA(INDEX('План ввода основ. ср-в'!AB:AB,MATCH(B273,'План ввода основ. ср-в'!B:B,0))),0,INDEX('План ввода основ. ср-в'!AB:AB,MATCH(B273,'План ввода основ. ср-в'!B:B,0)))","v":9.322033898305083},{"$f":"IF(ISNA(INDEX('План ввода основ. ср-в'!AC:AC,MATCH(B273,'План ввода основ. ср-в'!B:B,0))),0,INDEX('План ввода основ. ср-в'!AC:AC,MATCH(B273,'План ввода основ. ср-в'!B:B,0)))","v":0},9.322033898305083]
[252,"Реконструкция ВЛ-0,4 кВ от КТП Ш 115/160 кВА с заменой КТП на 100 кВА",null,null,null,null,null,null,0,"",0,0,"",0,0,"",0,0,"",0,1.5,"/",0.16,1.5,"/",0.16,3.8644067796610169,{"$f":"IF(ISNA(INDEX('План ввода основ. ср-в'!F:F,MATCH(B274,'План ввода основ. ср-в'!B:B,0))),0,INDEX('План ввода основ. ср-в'!F:F,MATCH(B274,'План ввода основ. ср-в'!B:B,0)))","v":0},"",{"$f":"IF(ISNA(INDEX('План ввода основ. ср-в'!E:E,MATCH(B274,'План ввода основ. ср-в'!B:B,0))),0,INDEX('План ввода основ. ср-в'!E:E,MATCH(B274,'План ввода основ. ср-в'!B:B,0)))","v":0},{"$f":"IF(ISNA(INDEX('План ввода основ. ср-в'!H:H,MATCH(B274,'План ввода основ. ср-в'!B:B,0))),0,INDEX('План ввода основ. ср-в'!H:H,MATCH(B274,'План ввода основ. ср-в'!B:B,0)))","v":0},"",{"$f":"IF(ISNA(INDEX('План ввода основ. ср-в'!G:G,MATCH(B274,'План ввода основ. ср-в'!B:B,0))),0,INDEX('План ввода основ. ср-в'!G:G,MATCH(B274,'План ввода основ. ср-в'!B:B,0)))","v":0},{"$f":"IF(ISNA(INDEX('План ввода основ. ср-в'!J:J,MATCH(B274,'План ввода основ. ср-в'!B:B,0))),0,INDEX('План ввода основ. ср-в'!J:J,MATCH(B274,'План ввода основ. ср-в'!B:B,0)))","v":0},"",{"$f":"IF(ISNA(INDEX('План ввода основ. ср-в'!I:I,MATCH(B274,'План ввода основ. ср-в'!B:B,0))),0,INDEX('План ввода основ. ср-в'!I:I,MATCH(B274,'План ввода основ. ср-в'!B:B,0)))","v":0},{"$f":"IF(ISNA(INDEX('План ввода основ. ср-в'!L:L,MATCH(B274,'План ввода основ. ср-в'!B:B,0))),0,INDEX('План ввода основ. ср-в'!L:L,MATCH(B274,'План ввода основ. ср-в'!B:B,0)))","v":0},"",{"$f":"IF(ISNA(INDEX('План ввода основ. ср-в'!K:K,MATCH(B274,'План ввода основ. ср-в'!B:B,0))),0,INDEX('План ввода основ. ср-в'!K:K,MATCH(B274,'План ввода основ. ср-в'!B:B,0)))","v":0},0,"/",0,{"$f":"IF(ISNA(INDEX('План ввода основ. ср-в'!N:N,MATCH(B274,'План ввода основ. ср-в'!B:B,0))),0,INDEX('План ввода основ. ср-в'!N:N,MATCH(B274,'План ввода основ. ср-в'!B:B,0)))","v":0},"",{"$f":"IF(ISNA(INDEX('План ввода основ. ср-в'!M:M,MATCH(B274,'План ввода основ. ср-в'!B:B,0))),0,INDEX('План ввода основ. ср-в'!M:M,MATCH(B274,'План ввода основ. ср-в'!B:B,0)))","v":0},{"$f":"IF(ISNA(INDEX('План ввода основ. ср-в'!P:P,MATCH(B274,'План ввода основ. ср-в'!B:B,0))),0,INDEX('План ввода основ. ср-в'!P:P,MATCH(B274,'План ввода основ. ср-в'!B:B,0)))","v":0},"",{"$f":"IF(ISNA(INDEX('План ввода основ. ср-в'!O:O,MATCH(B274,'План ввода основ. ср-в'!B:B,0))),0,INDEX('План ввода основ. ср-в'!O:O,MATCH(B274,'План ввода основ. ср-в'!B:B,0)))","v":0},{"$f":"IF(ISNA(INDEX('План ввода основ. ср-в'!R:R,MATCH(B274,'План ввода основ. ср-в'!B:B,0))),0,INDEX('План ввода основ. ср-в'!R:R,MATCH(B274,'План ввода основ. ср-в'!B:B,0)))","v":0},"",{"$f":"IF(ISNA(INDEX('План ввода основ. ср-в'!Q:Q,MATCH(B274,'План ввода основ. ср-в'!B:B,0))),0,INDEX('План ввода основ. ср-в'!Q:Q,MATCH(B274,'План ввода основ. ср-в'!B:B,0)))","v":0},{"$f":"IF(ISNA(INDEX('План ввода основ. ср-в'!T:T,MATCH(B274,'План ввода основ. ср-в'!B:B,0))),0,INDEX('План ввода основ. ср-в'!T:T,MATCH(B274,'План ввода основ. ср-в'!B:B,0)))","v":1.5},"/",{"$f":"IF(ISNA(INDEX('План ввода основ. ср-в'!S:S,MATCH(B274,'План ввода основ. ср-в'!B:B,0))),0,INDEX('План ввода основ. ср-в'!S:S,MATCH(B274,'План ввода основ. ср-в'!B:B,0)))","v":0.1},1.5,"/",0.1,{"$f":"IF(ISNA(INDEX('План ввода основ. ср-в'!V:V,MATCH(B274,'План ввода основ. ср-в'!B:B,0))),0,INDEX('План ввода основ. ср-в'!V:V,MATCH(B274,'План ввода основ. ср-в'!B:B,0)))","v":0},{"$f":"IF(ISNA(INDEX('План ввода основ. ср-в'!W:W,MATCH(B274,'План ввода основ. ср-в'!B:B,0))),0,INDEX('План ввода основ. ср-в'!W:W,MATCH(B274,'План ввода основ. ср-в'!B:B,0)))","v":0},{"$f":"IF(ISNA(INDEX('План ввода основ. ср-в'!X:X,MATCH(B274,'План ввода основ. ср-в'!B:B,0))),0,INDEX('План ввода основ. ср-в'!X:X,MATCH(B274,'План ввода основ. ср-в'!B:B,0)))","v":0},{"$f":"IF(ISNA(INDEX('План ввода основ. ср-в'!Y:Y,MATCH(B274,'План ввода основ. ср-в'!B:B,0))),0,INDEX('План ввода основ. ср-в'!Y:Y,MATCH(B274,'План ввода основ. ср-в'!B:B,0)))","v":0},0,{"$f":"IF(ISNA(INDEX('План ввода основ. ср-в'!Z:Z,MATCH(B274,'План ввода основ. ср-в'!B:B,0))),0,INDEX('План ввода основ. ср-в'!Z:Z,MATCH(B274,'План ввода основ. ср-в'!B:B,0)))","v":0},{"$f":"IF(ISNA(INDEX('План ввода основ. ср-в'!AA:AA,MATCH(B274,'План ввода основ. ср-в'!B:B,0))),0,INDEX('План ввода основ. ср-в'!AA:AA,MATCH(B274,'План ввода основ. ср-в'!B:B,0)))","v":0},{"$f":"IF(ISNA(INDEX('План ввода основ. ср-в'!AB:AB,MATCH(B274,'План ввода основ. ср-в'!B:B,0))),0,INDEX('План ввода основ. ср-в'!AB:AB,MATCH(B274,'План ввода основ. ср-в'!B:B,0)))","v":0},{"$f":"IF(ISNA(INDEX('План ввода основ. ср-в'!AC:AC,MATCH(B274,'План ввода основ. ср-в'!B:B,0))),0,INDEX('План ввода основ. ср-в'!AC:AC,MATCH(B274,'План ввода основ. ср-в'!B:B,0)))","v":3.8644067796610169},3.8644067796610169]
[253,"Спецтехника, реконструкция производственных баз",null,null,null,null,null,null,0,{"$f":"IF(AND(I275=0,K275=0),\"\",\"/\")","v":""},0,0,{"$f":"IF(AND(L275=0,N275=0),\"\",\"/\")","v":""},0,0,{"$f":"IF(AND(O275=0,Q275=0),\"\",\"/\")","v":""},0,0,{"$f":"IF(AND(R275=0,T275=0),\"\",\"/\")","v":""},0,0,{"$f":"IF(AND(U275=0,W275=0),\"\",\"/\")","v":""},0,0,"/",0,557.07399999999996,{"$f":"IF(ISNA(INDEX('План ввода основ. ср-в'!F:F,MATCH(B275,'План ввода основ. ср-в'!B:B,0))),0,INDEX('План ввода основ. ср-в'!F:F,MATCH(B275,'План ввода основ. ср-в'!B:B,0)))","v":0},{"$f":"IF(AND(AB275=0,AD275=0),\"\",\"/\")","v":""},{"$f":"IF(ISNA(INDEX('План ввода основ. ср-в'!E:E,MATCH(B275,'План ввода основ. ср-в'!B:B,0))),0,INDEX('План ввода основ. ср-в'!E:E,MATCH(B275,'План ввода основ. ср-в'!B:B,0)))","v":0},{"$f":"IF(ISNA(INDEX('План ввода основ. ср-в'!H:H,MATCH(B275,'План ввода основ. ср-в'!B:B,0))),0,INDEX('План ввода основ. ср-в'!H:H,MATCH(B275,'План ввода основ. ср-в'!B:B,0)))","v":0},{"$f":"IF(AND(AE275=0,AG275=0),\"\",\"/\")","v":""},{"$f":"IF(ISNA(INDEX('План ввода основ. ср-в'!G:G,MATCH(B275,'План ввода основ. ср-в'!B:B,0))),0,INDEX('План ввода основ. ср-в'!G:G,MATCH(B275,'План ввода основ. ср-в'!B:B,0)))","v":0},{"$f":"IF(ISNA(INDEX('План ввода основ. ср-в'!J:J,MATCH(B275,'План ввода основ. ср-в'!B:B,0))),0,INDEX('План ввода основ. ср-в'!J:J,MATCH(B275,'План ввода основ. ср-в'!B:B,0)))","v":0},{"$f":"IF(AND(AH275=0,AJ275=0),\"\",\"/\")","v":""},{"$f":"IF(ISNA(INDEX('План ввода основ. ср-в'!I:I,MATCH(B275,'План ввода основ. ср-в'!B:B,0))),0,INDEX('План ввода основ. ср-в'!I:I,MATCH(B275,'План ввода основ. ср-в'!B:B,0)))","v":0},{"$f":"IF(ISNA(INDEX('План ввода основ. ср-в'!L:L,MATCH(B275,'План ввода основ. ср-в'!B:B,0))),0,INDEX('План ввода основ. ср-в'!L:L,MATCH(B275,'План ввода основ. ср-в'!B:B,0)))","v":0},{"$f":"IF(AND(AK275=0,AM275=0),\"\",\"/\")","v":""},{"$f":"IF(ISNA(INDEX('План ввода основ. ср-в'!K:K,MATCH(B275,'План ввода основ. ср-в'!B:B,0))),0,INDEX('План ввода основ. ср-в'!K:K,MATCH(B275,'План ввода основ. ср-в'!B:B,0)))","v":0},0,"/",0,{"$f":"IF(ISNA(INDEX('План ввода основ. ср-в'!N:N,MATCH(B275,'План ввода основ. ср-в'!B:B,0))),0,INDEX('План ввода основ. ср-в'!N:N,MATCH(B275,'План ввода основ. ср-в'!B:B,0)))","v":0},{"$f":"IF(AND(AQ275=0,AS275=0),\"\",\"/\")","v":""},{"$f":"IF(ISNA(INDEX('План ввода основ. ср-в'!M:M,MATCH(B275,'План ввода основ. ср-в'!B:B,0))),0,INDEX('План ввода основ. ср-в'!M:M,MATCH(B275,'План ввода основ. ср-в'!B:B,0)))","v":0},{"$f":"IF(ISNA(INDEX('План ввода основ. ср-в'!P:P,MATCH(B275,'План ввода основ. ср-в'!B:B,0))),0,INDEX('План ввода основ. ср-в'!P:P,MATCH(B275,'План ввода основ. ср-в'!B:B,0)))","v":0},"",{"$f":"IF(ISNA(INDEX('План ввода основ. ср-в'!O:O,MATCH(B275,'План ввода основ. ср-в'!B:B,0))),0,INDEX('План ввода основ. ср-в'!O:O,MATCH(B275,'План ввода основ. ср-в'!B:B,0)))","v":0},{"$f":"IF(ISNA(INDEX('План ввода основ. ср-в'!R:R,MATCH(B275,'План ввода основ. ср-в'!B:B,0))),0,INDEX('План ввода основ. ср-в'!R:R,MATCH(B275,'План ввода основ. ср-в'!B:B,0)))","v":0},{"$f":"IF(AND(AW275=0,AY275=0),\"\",\"/\")","v":""},{"$f":"IF(ISNA(INDEX('План ввода основ. ср-в'!Q:Q,MATCH(B275,'План ввода основ. ср-в'!B:B,0))),0,INDEX('План ввода основ. ср-в'!Q:Q,MATCH(B275,'План ввода основ. ср-в'!B:B,0)))","v":0},{"$f":"IF(ISNA(INDEX('План ввода основ. ср-в'!T:T,MATCH(B275,'План ввода основ. ср-в'!B:B,0))),0,INDEX('План ввода основ. ср-в'!T:T,MATCH(B275,'План ввода основ. ср-в'!B:B,0)))","v":0},{"$f":"IF(AND(AZ275=0,BB275=0),\"\",\"/\")","v":""},{"$f":"IF(ISNA(INDEX('План ввода основ. ср-в'!S:S,MATCH(B275,'План ввода основ. ср-в'!B:B,0))),0,INDEX('План ввода основ. ср-в'!S:S,MATCH(B275,'План ввода основ. ср-в'!B:B,0)))","v":0},0,"/",0,{"$f":"IF(ISNA(INDEX('План ввода основ. ср-в'!V:V,MATCH(B275,'План ввода основ. ср-в'!B:B,0))),0,INDEX('План ввода основ. ср-в'!V:V,MATCH(B275,'План ввода основ. ср-в'!B:B,0)))","v":0},{"$f":"IF(ISNA(INDEX('План ввода основ. ср-в'!W:W,MATCH(B275,'План ввода основ. ср-в'!B:B,0))),0,INDEX('План ввода основ. ср-в'!W:W,MATCH(B275,'План ввода основ. ср-в'!B:B,0)))","v":35.565000000000005},{"$f":"IF(ISNA(INDEX('План ввода основ. ср-в'!X:X,MATCH(B275,'План ввода основ. ср-в'!B:B,0))),0,INDEX('План ввода основ. ср-в'!X:X,MATCH(B275,'План ввода основ. ср-в'!B:B,0)))","v":82.984999999999999},{"$f":"IF(ISNA(INDEX('План ввода основ. ср-в'!Y:Y,MATCH(B275,'План ввода основ. ср-в'!B:B,0))),0,INDEX('План ввода основ. ср-в'!Y:Y,MATCH(B275,'План ввода основ. ср-в'!B:B,0)))","v":118.55000000000001},237.10000000000002,{"$f":"IF(ISNA(INDEX('План ввода основ. ср-в'!Z:Z,MATCH(B275,'План ввода основ. ср-в'!B:B,0))),0,INDEX('План ввода основ. ср-в'!Z:Z,MATCH(B275,'План ввода основ. ср-в'!B:B,0)))","v":69.898305084745772},{"$f":"IF(ISNA(INDEX('План ввода основ. ср-в'!AA:AA,MATCH(B275,'План ввода основ. ср-в'!B:B,0))),0,INDEX('План ввода основ. ср-в'!AA:AA,MATCH(B275,'План ввода основ. ср-в'!B:B,0)))","v":72.728237288135603},{"$f":"IF(ISNA(INDEX('План ввода основ. ср-в'!AB:AB,MATCH(B275,'План ввода основ. ср-в'!B:B,0))),0,INDEX('План ввода основ. ср-в'!AB:AB,MATCH(B275,'План ввода основ. ср-в'!B:B,0)))","v":86.33898305084746},{"$f":"IF(ISNA(INDEX('План ввода основ. ср-в'!AC:AC,MATCH(B275,'План ввода основ. ср-в'!B:B,0))),0,INDEX('План ввода основ. ср-в'!AC:AC,MATCH(B275,'План ввода основ. ср-в'!B:B,0)))","v":91.008474576271198},557.07399999999996]
[null,null,null,null,null,null,null,null,null,null,null,null,null,null,null,null,null,null,null,null,null,null,null,{"$f":"SUM(I276+L276+O276+R276+U276)","v":0},null,null,null,{"$f":"IF(ISNA(INDEX('План ввода основ. ср-в'!F:F,MATCH(B276,'План ввода основ. ср-в'!B:B,0))),0,INDEX('План ввода основ. ср-в'!F:F,MATCH(B276,'План ввода основ. ср-в'!B:B,0)))","v":0},null,{"$f":"IF(ISNA(INDEX('План ввода основ. ср-в'!E:E,MATCH(B276,'План ввода основ. ср-в'!B:B,0))),0,INDEX('План ввода основ. ср-в'!E:E,MATCH(B276,'План ввода основ. ср-в'!B:B,0)))","v":0},null,null,null,null,null,null,{"$f":"IF(ISNA(INDEX('План ввода основ. ср-в'!L:L,MATCH(B276,'План ввода основ. ср-в'!B:B,0))),0,INDEX('План ввода основ. ср-в'!L:L,MATCH(B276,'План ввода основ. ср-в'!B:B,0)))","v":0},null,null,null,null,{"$f":"AD276+AG276+AJ276+AM276","v":0},{"$f":"IF(ISNA(INDEX('План ввода основ. ср-в'!N:N,MATCH(B276,'План ввода основ. ср-в'!B:B,0))),0,INDEX('План ввода основ. ср-в'!N:N,MATCH(B276,'План ввода основ. ср-в'!B:B,0)))","v":0},null,{"$f":"IF(ISNA(INDEX('План ввода основ. ср-в'!M:M,MATCH(B276,'План ввода основ. ср-в'!B:B,0))),0,INDEX('План ввода основ. ср-в'!M:M,MATCH(B276,'План ввода основ. ср-в'!B:B,0)))","v":0},{"$f":"IF(ISNA(INDEX('План ввода основ. ср-в'!P:P,MATCH(B276,'План ввода основ. ср-в'!B:B,0))),0,INDEX('План ввода основ. ср-в'!P:P,MATCH(B276,'План ввода основ. ср-в'!B:B,0)))","v":0},null,null,null,null,null,null,null,null,{"$f":"AN276+AQ276+AT276+AW276+AZ276","v":0},null,null,null,null,null,null,null,null,null,null,null,{"$f":"SUM(BJ276:BN276)","v":0}]
[null,null,null,null,null,null,null,null,null,null,null,null,null,null,null,null,null,null,null,null,null,null,null,0,null,null,null,{"$f":"IF(ISNA(INDEX('План ввода основ. ср-в'!F:F,MATCH(B277,'План ввода основ. ср-в'!B:B,0))),0,INDEX('План ввода основ. ср-в'!F:F,MATCH(B277,'План ввода основ. ср-в'!B:B,0)))","v":0},null,{"$f":"IF(ISNA(INDEX('План ввода основ. ср-в'!E:E,MATCH(B277,'План ввода основ. ср-в'!B:B,0))),0,INDEX('План ввода основ. ср-в'!E:E,MATCH(B277,'План ввода основ. ср-в'!B:B,0)))","v":0},null,null,null,null,null,null,{"$f":"IF(ISNA(INDEX('План ввода основ. ср-в'!L:L,MATCH(B277,'План ввода основ. ср-в'!B:B,0))),0,INDEX('План ввода основ. ср-в'!L:L,MATCH(B277,'План ввода основ. ср-в'!B:B,0)))","v":0},null,null,null,null,null,{"$f":"IF(ISNA(INDEX('План ввода основ. ср-в'!N:N,MATCH(B277,'План ввода основ. ср-в'!B:B,0))),0,INDEX('План ввода основ. ср-в'!N:N,MATCH(B277,'План ввода основ. ср-в'!B:B,0)))","v":0},null,{"$f":"IF(ISNA(INDEX('План ввода основ. ср-в'!M:M,MATCH(B277,'План ввода основ. ср-в'!B:B,0))),0,INDEX('План ввода основ. ср-в'!M:M,MATCH(B277,'План ввода основ. ср-в'!B:B,0)))","v":0},null,null,null,null,null,null,null,null,null,0,null,null,null,null,null,null,null,null,null,null,null,0]
["1.2.","Создание систем противоаварийной и режимной автоматики",null,null,null,null,null,null,null,null,null,null,null,null,null,null,null,null,null,null,null,null,null,0,null,null,null,{"$f":"IF(ISNA(INDEX('План ввода основ. ср-в'!F:F,MATCH(B278,'План ввода основ. ср-в'!B:B,0))),0,INDEX('План ввода основ. ср-в'!F:F,MATCH(B278,'План ввода основ. ср-в'!B:B,0)))","v":0},null,{"$f":"IF(ISNA(INDEX('План ввода основ. ср-в'!E:E,MATCH(B278,'План ввода основ. ср-в'!B:B,0))),0,INDEX('План ввода основ. ср-в'!E:E,MATCH(B278,'План ввода основ. ср-в'!B:B,0)))","v":0},null,null,null,null,null,null,null,null,null,null,null,null,{"$f":"IF(ISNA(INDEX('План ввода основ. ср-в'!N:N,MATCH(B278,'План ввода основ. ср-в'!B:B,0))),0,INDEX('План ввода основ. ср-в'!N:N,MATCH(B278,'План ввода основ. ср-в'!B:B,0)))","v":0},null,null,null,null,null,null,null,null,null,null,null,0,null,null,null,null,null,null,null,null,null,null,null,0]
[1,"Объект 1",null,null,null,null,null,null,null,null,null,null,null,null,null,null,null,null,null,null,null,null,null,0,null,null,null,{"$f":"IF(ISNA(INDEX('План ввода основ. ср-в'!F:F,MATCH(B279,'План ввода основ. ср-в'!B:B,0))),0,INDEX('План ввода основ. ср-в'!F:F,MATCH(B279,'План ввода основ. ср-в'!B:B,0)))","v":0},null,{"$f":"IF(ISNA(INDEX('План ввода основ. ср-в'!E:E,MATCH(B279,'План ввода основ. ср-в'!B:B,0))),0,INDEX('План ввода основ. ср-в'!E:E,MATCH(B279,'План ввода основ. ср-в'!B:B,0)))","v":0},null,null,null,null,null,null,null,null,null,null,null,null,{"$f":"IF(ISNA(INDEX('План ввода основ. ср-в'!N:N,MATCH(B279,'План ввода основ. ср-в'!B:B,0))),0,INDEX('План ввода основ. ср-в'!N:N,MATCH(B279,'План ввода основ. ср-в'!B:B,0)))","v":0},null,null,null,null,null,null,null,null,null,null,null,0,null,null,null,null,null,null,null,null,null,null,null,0]
[2,"Объект 2",null,null,null,null,null,null,null,null,null,null,null,null,null,null,null,null,null,null,null,null,null,0,null,null,null,{"$f":"IF(ISNA(INDEX('План ввода основ. ср-в'!F:F,MATCH(B280,'План ввода основ. ср-в'!B:B,0))),0,INDEX('План ввода основ. ср-в'!F:F,MATCH(B280,'План ввода основ. ср-в'!B:B,0)))","v":0},null,{"$f":"IF(ISNA(INDEX('План ввода основ. ср-в'!E:E,MATCH(B280,'План ввода основ. ср-в'!B:B,0))),0,INDEX('План ввода основ. ср-в'!E:E,MATCH(B280,'План ввода основ. ср-в'!B:B,0)))","v":0},null,null,null,null,null,null,null,null,null,null,null,null,{"$f":"IF(ISNA(INDEX('План ввода основ. ср-в'!N:N,MATCH(B280,'План ввода основ. ср-в'!B:B,0))),0,INDEX('План ввода основ. ср-в'!N:N,MATCH(B280,'План ввода основ. ср-в'!B:B,0)))","v":0},null,null,null,null,null,null,null,null,null,null,null,0,null,null,null,null,null,null,null,null,null,null,null,0]
["…",null,null,null,null,null,null,null,null,null,null,null,null,null,null,null,null,null,null,null,null,null,null,0,null,null,null,{"$f":"IF(ISNA(INDEX('План ввода основ. ср-в'!F:F,MATCH(B281,'План ввода основ. ср-в'!B:B,0))),0,INDEX('План ввода основ. ср-в'!F:F,MATCH(B281,'План ввода основ. ср-в'!B:B,0)))","v":0},null,null,null,null,null,null,null,null,null,null,null,null,null,null,{"$f":"IF(ISNA(INDEX('План ввода основ. ср-в'!N:N,MATCH(B281,'План ввода основ. ср-в'!B:B,0))),0,INDEX('План ввода основ. ср-в'!N:N,MATCH(B281,'План ввода основ. ср-в'!B:B,0)))","v":0},null,null,null,null,null,null,null,null,null,null,null,0,null,null,null,null,null,null,null,null,null,null,null,0]
["1.3.","Создание систем телемеханики  и связи ",null,null,null,null,null,null,null,null,null,null,null,null,null,null,null,null,null,null,null,null,null,0,null,null,null,{"$f":"IF(ISNA(INDEX('План ввода основ. ср-в'!F:F,MATCH(B282,'План ввода основ. ср-в'!B:B,0))),0,INDEX('План ввода основ. ср-в'!F:F,MATCH(B282,'План ввода основ. ср-в'!B:B,0)))","v":0},null,null,null,null,null,null,null,null,null,null,null,null,null,null,null,null,null,null,null,null,null,null,null,null,null,null,0,null,null,null,null,null,null,null,null,null,null,null,0]
[1,"Объект 1",null,null,null,null,null,null,null,null,null,null,null,null,null,null,null,null,null,null,null,null,null,0,null,null,null,{"$f":"IF(ISNA(INDEX('План ввода основ. ср-в'!F:F,MATCH(B283,'План ввода основ. ср-в'!B:B,0))),0,INDEX('План ввода основ. ср-в'!F:F,MATCH(B283,'План ввода основ. ср-в'!B:B,0)))","v":0},null,null,null,null,null,null,null,null,null,null,null,null,null,null,null,null,null,null,null,null,null,null,null,null,null,null,0,null,null,null,null,null,null,null,null,null,null,null,0]
[2,"Объект 2",null,null,null,null,null,null,null,null,null,null,null,null,null,null,null,null,null,null,null,null,null,0,null,null,null,{"$f":"IF(ISNA(INDEX('План ввода основ. ср-в'!F:F,MATCH(B284,'План ввода основ. ср-в'!B:B,0))),0,INDEX('План ввода основ. ср-в'!F:F,MATCH(B284,'План ввода основ. ср-в'!B:B,0)))","v":0},null,null,null,null,null,null,null,null,null,null,null,null,null,null,null,null,null,null,null,null,null,null,null,null,null,null,0,null,null,null,null,null,null,null,null,null,null,null,0]
["…",null,null,null,null,null,null,null,null,null,null,null,null,null,null,null,null,null,null,null,null,null,null,0,null,null,null,{"$f":"IF(ISNA(INDEX('План ввода основ. ср-в'!F:F,MATCH(B285,'План ввода основ. ср-в'!B:B,0))),0,INDEX('План ввода основ. ср-в'!F:F,MATCH(B285,'План ввода основ. ср-в'!B:B,0)))","v":0},null,null,null,null,null,null,null,null,null,null,null,null,null,null,null,null,null,null,null,null,null,null,null,null,null,null,0,null,null,null,null,null,null,null,null,null,null,null,0]
["1.4.","Установка устройств регулирования напряжения и компенсации реактивной мощности",null,null,null,null,null,null,null,null,null,null,null,null,null,null,null,null,null,null,null,null,null,0,null,null,null,null,null,null,null,null,null,null,null,null,null,null,null,null,null,null,null,null,null,null,null,null,null,null,null,null,null,null,0,null,null,null,null,null,null,null,null,null,null,null,0]
[1,"Объект 1",null,null,null,null,null,null,null,null,null,null,null,null,null,null,null,null,null,null,null,null,null,0,null,null,null,null,null,null,null,null,null,null,null,null,null,null,null,null,null,null,null,null,null,null,null,null,null,null,null,null,null,null,0,null,null,null,null,null,null,null,null,null,null,null,0]
[2,"Объект 2",null,null,null,null,null,null,null,null,null,null,null,null,null,null,null,null,null,null,null,null,null,0,null,null,null,null,null,null,null,null,null,null,null,null,null,null,null,null,null,null,null,null,null,null,null,null,null,null,null,null,null,null,0,null,null,null,null,null,null,null,null,null,null,null,0]
["…",null,null,null,null,null,null,null,null,null,null,null,null,null,null,null,null,null,null,null,null,null,null,0,null,null,null,null,null,null,null,null,null,null,null,null,null,null,null,null,null,null,null,null,null,null,null,null,null,null,null,null,null,null,0,null,null,null,null,null,null,null,null,null,null,null,0]
["2.","Новое строительство",null,null,null,null,null,null,{"$f":"I295","v":0},{"$f":"J295","v":0},0,0,0,0,0,0,0,0,0,0,0,0,0,null,0,0,0,0,0,0,0,0,0,0,0,0,36.349999999999994,"/",7.8500000000000005,36.349999999999994,"/",7.8500000000000005,43.699999999999996,"/",{"$f":"AS295","v":6.83},31.5,"/",3.25,5.5000000000000009,"/",1.28,4.4000000000000004,"/",2.25,121.45,"/",21.46,0,33.529779799525429,78.236152865559319,111.76593266508475,223.5318653301695,135.44101694915253,82.185061497774342,49.874576271186442,30.261016949152541,521.29353699743535]
["2.1.","Энергосбережение и повышение энергетической эффективности",null,null,null,null,null,null,null,null,null,null,null,null,null,null,null,null,null,null,null,null,null,0,null,null,null,null,null,null,null,null,null,null,null,null,null,null,null,null,null,null,null,null,null,null,null,null,null,null,null,null,null,null,null,null,null,null,null,null,null,null,null,null,null,null,0]
[1,"Объект 1",null,null,null,null,null,null,null,null,null,null,null,null,null,null,null,null,null,null,null,null,null,0,null,null,null,null,null,null,null,null,null,null,null,null,null,null,null,null,null,null,null,null,null,null,null,null,null,null,null,null,null,null,null,null,null,null,null,null,null,null,null,null,null,null,0]
[2,"Объект 2",null,null,null,null,null,null,null,null,null,null,null,null,null,null,null,null,null,null,null,null,null,0,null,null,null,null,null,null,null,null,null,null,null,null,null,null,null,null,null,null,null,null,null,null,null,null,null,null,null,null,null,null,null,null,null,null,null,null,null,null,null,null,null,null,0]
["…",null,null,null,null,null,null,null,null,null,null,null,null,null,null,null,null,null,null,null,null,null,null,0,null,null,null,null,null,null,null,null,null,null,null,null,null,null,null,null,null,null,null,null,null,null,null,null,null,null,null,null,null,null,null,null,null,null,null,null,null,null,null,null,null,null,0]
["2.2.","Прочее новое строительство",null,null,null,null,null,null,{"$f":"SUM(I297:I317)","v":0},0,0,0,0,0,0,0,0,0,0,0,0,0,0,null,{"$f":"SUM(Y297:Y317)","v":0},0,0,0,0,0,0,0,0,0,0,0,{"$f":"SUM(AK297:AK322)","v":36.349999999999994},"/",{"$f":"SUM(AM297:AM322)","v":7.8500000000000005},{"$f":"SUM(AN297:AN322)","v":36.349999999999994},"/",{"$f":"SUM(AP297:AP322)","v":7.8500000000000005},{"$f":"SUM(AQ297:AQ322)","v":43.699999999999996},"/",{"$f":"SUM(AS297:AS322)","v":6.83},{"$f":"SUM(AT297:AT322)","v":31.5},"/",{"$f":"SUM(AV297:AV322)","v":3.25},{"$f":"SUM(AW297:AW322)","v":5.5000000000000009},"/",{"$f":"SUM(AY297:AY322)","v":1.28},{"$f":"SUM(AZ297:AZ322)","v":4.4000000000000004},"/",{"$f":"SUM(BB297:BB322)","v":2.25},{"$f":"SUM(BC297:BC322)","v":121.45},"/",{"$f":"SUM(BE297:BE322)","v":21.46},{"$f":"SUM(BF297:BF321)","v":0},{"$f":"SUM(BG297:BG322)","v":33.529779799525429},78.236152865559319,111.76593266508475,223.5318653301695,135.44101694915253,82.185061497774342,49.874576271186442,30.261016949152541,521.29353699743535]
[1,"Богатовский район",null,null,null,null,null,null,0,{"$f":"IF(AND(I296=0,K296=0),\"\",\"/\")","v":""},0,0,{"$f":"IF(AND(L296=0,N296=0),\"\",\"/\")","v":""},0,0,{"$f":"IF(AND(O296=0,Q296=0),\"\",\"/\")","v":""},0,0,{"$f":"IF(AND(R296=0,T296=0),\"\",\"/\")","v":""},0,0,{"$f":"IF(AND(U296=0,W296=0),\"\",\"/\")","v":""},0,0,null,null,null,{"$f":"IF(ISNA(INDEX('План ввода основ. ср-в'!F:F,MATCH(B296,'План ввода основ. ср-в'!B:B,0))),0,INDEX('План ввода основ. ср-в'!F:F,MATCH(B296,'План ввода основ. ср-в'!B:B,0)))","v":0},{"$f":"IF(AND(AB296=0,AD296=0),\"\",\"/\")","v":""},{"$f":"IF(ISNA(INDEX('План ввода основ. ср-в'!E:E,MATCH(B296,'План ввода основ. ср-в'!B:B,0))),0,INDEX('План ввода основ. ср-в'!E:E,MATCH(B296,'План ввода основ. ср-в'!B:B,0)))","v":0},{"$f":"IF(ISNA(INDEX('План ввода основ. ср-в'!H:H,MATCH(B296,'План ввода основ. ср-в'!B:B,0))),0,INDEX('План ввода основ. ср-в'!H:H,MATCH(B296,'План ввода основ. ср-в'!B:B,0)))","v":0},{"$f":"IF(AND(AE296=0,AG296=0),\"\",\"/\")","v":""},{"$f":"IF(ISNA(INDEX('План ввода основ. ср-в'!G:G,MATCH(B296,'План ввода основ. ср-в'!B:B,0))),0,INDEX('План ввода основ. ср-в'!G:G,MATCH(B296,'План ввода основ. ср-в'!B:B,0)))","v":0},{"$f":"IF(ISNA(INDEX('План ввода основ. ср-в'!J:J,MATCH(B296,'План ввода основ. ср-в'!B:B,0))),0,INDEX('План ввода основ. ср-в'!J:J,MATCH(B296,'План ввода основ. ср-в'!B:B,0)))","v":0},{"$f":"IF(AND(AH296=0,AJ296=0),\"\",\"/\")","v":""},{"$f":"IF(ISNA(INDEX('План ввода основ. ср-в'!I:I,MATCH(B296,'План ввода основ. ср-в'!B:B,0))),0,INDEX('План ввода основ. ср-в'!I:I,MATCH(B296,'План ввода основ. ср-в'!B:B,0)))","v":0},{"$f":"IF(ISNA(INDEX('План ввода основ. ср-в'!L:L,MATCH(B296,'План ввода основ. ср-в'!B:B,0))),0,INDEX('План ввода основ. ср-в'!L:L,MATCH(B296,'План ввода основ. ср-в'!B:B,0)))","v":0},{"$f":"IF(AND(AK296=0,AM296=0),\"\",\"/\")","v":""},{"$f":"IF(ISNA(INDEX('План ввода основ. ср-в'!K:K,MATCH(B296,'План ввода основ. ср-в'!B:B,0))),0,INDEX('План ввода основ. ср-в'!K:K,MATCH(B296,'План ввода основ. ср-в'!B:B,0)))","v":0},null,null,null,{"$f":"IF(ISNA(INDEX('План ввода основ. ср-в'!N:N,MATCH(B296,'План ввода основ. ср-в'!B:B,0))),0,INDEX('План ввода основ. ср-в'!N:N,MATCH(B296,'План ввода основ. ср-в'!B:B,0)))","v":0},{"$f":"IF(AND(AQ296=0,AS296=0),\"\",\"/\")","v":""},{"$f":"IF(ISNA(INDEX('План ввода основ. ср-в'!M:M,MATCH(B296,'План ввода основ. ср-в'!B:B,0))),0,INDEX('План ввода основ. ср-в'!M:M,MATCH(B296,'План ввода основ. ср-в'!B:B,0)))","v":0},{"$f":"IF(ISNA(INDEX('План ввода основ. ср-в'!P:P,MATCH(B296,'План ввода основ. ср-в'!B:B,0))),0,INDEX('План ввода основ. ср-в'!P:P,MATCH(B296,'План ввода основ. ср-в'!B:B,0)))","v":0},{"$f":"IF(AND(AT296=0,AV296=0),\"\",\"/\")","v":""},{"$f":"IF(ISNA(INDEX('План ввода основ. ср-в'!O:O,MATCH(B296,'План ввода основ. ср-в'!B:B,0))),0,INDEX('План ввода основ. ср-в'!O:O,MATCH(B296,'План ввода основ. ср-в'!B:B,0)))","v":0},{"$f":"IF(ISNA(INDEX('План ввода основ. ср-в'!R:R,MATCH(B296,'План ввода основ. ср-в'!B:B,0))),0,INDEX('План ввода основ. ср-в'!R:R,MATCH(B296,'План ввода основ. ср-в'!B:B,0)))","v":0},{"$f":"IF(AND(AW296=0,AY296=0),\"\",\"/\")","v":""},{"$f":"IF(ISNA(INDEX('План ввода основ. ср-в'!Q:Q,MATCH(B296,'План ввода основ. ср-в'!B:B,0))),0,INDEX('План ввода основ. ср-в'!Q:Q,MATCH(B296,'План ввода основ. ср-в'!B:B,0)))","v":0},{"$f":"IF(ISNA(INDEX('План ввода основ. ср-в'!T:T,MATCH(B296,'План ввода основ. ср-в'!B:B,0))),0,INDEX('План ввода основ. ср-в'!T:T,MATCH(B296,'План ввода основ. ср-в'!B:B,0)))","v":0},{"$f":"IF(AND(AZ296=0,BB296=0),\"\",\"/\")","v":""},{"$f":"IF(ISNA(INDEX('План ввода основ. ср-в'!S:S,MATCH(B296,'План ввода основ. ср-в'!B:B,0))),0,INDEX('План ввода основ. ср-в'!S:S,MATCH(B296,'План ввода основ. ср-в'!B:B,0)))","v":0},null,null,null,{"$f":"IF(ISNA(INDEX('План ввода основ. ср-в'!V:V,MATCH(B296,'План ввода основ. ср-в'!B:B,0))),0,INDEX('План ввода основ. ср-в'!V:V,MATCH(B296,'План ввода основ. ср-в'!B:B,0)))","v":0},{"$f":"IF(ISNA(INDEX('План ввода основ. ср-в'!W:W,MATCH(B296,'План ввода основ. ср-в'!B:B,0))),0,INDEX('План ввода основ. ср-в'!W:W,MATCH(B296,'План ввода основ. ср-в'!B:B,0)))","v":0},{"$f":"IF(ISNA(INDEX('План ввода основ. ср-в'!X:X,MATCH(B296,'План ввода основ. ср-в'!B:B,0))),0,INDEX('План ввода основ. ср-в'!X:X,MATCH(B296,'План ввода основ. ср-в'!B:B,0)))","v":0},{"$f":"IF(ISNA(INDEX('План ввода основ. ср-в'!Y:Y,MATCH(B296,'План ввода основ. ср-в'!B:B,0))),0,INDEX('План ввода основ. ср-в'!Y:Y,MATCH(B296,'План ввода основ. ср-в'!B:B,0)))","v":0},null,{"$f":"IF(ISNA(INDEX('План ввода основ. ср-в'!Z:Z,MATCH(B296,'План ввода основ. ср-в'!B:B,0))),0,INDEX('План ввода основ. ср-в'!Z:Z,MATCH(B296,'План ввода основ. ср-в'!B:B,0)))","v":0},{"$f":"IF(ISNA(INDEX('План ввода основ. ср-в'!AA:AA,MATCH(B296,'План ввода основ. ср-в'!B:B,0))),0,INDEX('План ввода основ. ср-в'!AA:AA,MATCH(B296,'План ввода основ. ср-в'!B:B,0)))","v":0},{"$f":"IF(ISNA(INDEX('План ввода основ. ср-в'!AB:AB,MATCH(B296,'План ввода основ. ср-в'!B:B,0))),0,INDEX('План ввода основ. ср-в'!AB:AB,MATCH(B296,'План ввода основ. ср-в'!B:B,0)))","v":0},{"$f":"IF(ISNA(INDEX('План ввода основ. ср-в'!AC:AC,MATCH(B296,'План ввода основ. ср-в'!B:B,0))),0,INDEX('План ввода основ. ср-в'!AC:AC,MATCH(B296,'План ввода основ. ср-в'!B:B,0)))","v":0},0]
[2,"Строительство внешнего  электроснабжения 204 одноэтажных жилых домов, с. Богатое, ул.Зеленая, Овражная, Газовиков, Дальняя, Безымянная, Крайняя, Спортивная",null,null,null,null,null,null,0,{"$f":"IF(AND(I297=0,K297=0),\"\",\"/\")","v":""},0,0,{"$f":"IF(AND(L297=0,N297=0),\"\",\"/\")","v":""},0,0,{"$f":"IF(AND(O297=0,Q297=0),\"\",\"/\")","v":""},0,0,{"$f":"IF(AND(R297=0,T297=0),\"\",\"/\")","v":""},0,0,{"$f":"IF(AND(U297=0,W297=0),\"\",\"/\")","v":""},0,{"$f":"SUM(I297+L297+O297+R297+U297)","v":0},null,null,null,{"$f":"IF(ISNA(INDEX('План ввода основ. ср-в'!F:F,MATCH(B297,'План ввода основ. ср-в'!B:B,0))),0,INDEX('План ввода основ. ср-в'!F:F,MATCH(B297,'План ввода основ. ср-в'!B:B,0)))","v":0},{"$f":"IF(AND(AB297=0,AD297=0),\"\",\"/\")","v":""},{"$f":"IF(ISNA(INDEX('План ввода основ. ср-в'!E:E,MATCH(B297,'План ввода основ. ср-в'!B:B,0))),0,INDEX('План ввода основ. ср-в'!E:E,MATCH(B297,'План ввода основ. ср-в'!B:B,0)))","v":0},{"$f":"IF(ISNA(INDEX('План ввода основ. ср-в'!H:H,MATCH(B297,'План ввода основ. ср-в'!B:B,0))),0,INDEX('План ввода основ. ср-в'!H:H,MATCH(B297,'План ввода основ. ср-в'!B:B,0)))","v":0},{"$f":"IF(AND(AE297=0,AG297=0),\"\",\"/\")","v":""},{"$f":"IF(ISNA(INDEX('План ввода основ. ср-в'!G:G,MATCH(B297,'План ввода основ. ср-в'!B:B,0))),0,INDEX('План ввода основ. ср-в'!G:G,MATCH(B297,'План ввода основ. ср-в'!B:B,0)))","v":0},{"$f":"IF(ISNA(INDEX('План ввода основ. ср-в'!J:J,MATCH(B297,'План ввода основ. ср-в'!B:B,0))),0,INDEX('План ввода основ. ср-в'!J:J,MATCH(B297,'План ввода основ. ср-в'!B:B,0)))","v":0},{"$f":"IF(AND(AH297=0,AJ297=0),\"\",\"/\")","v":""},{"$f":"IF(ISNA(INDEX('План ввода основ. ср-в'!I:I,MATCH(B297,'План ввода основ. ср-в'!B:B,0))),0,INDEX('План ввода основ. ср-в'!I:I,MATCH(B297,'План ввода основ. ср-в'!B:B,0)))","v":0},{"$f":"IF(ISNA(INDEX('План ввода основ. ср-в'!L:L,MATCH(B297,'План ввода основ. ср-в'!B:B,0))),0,INDEX('План ввода основ. ср-в'!L:L,MATCH(B297,'План ввода основ. ср-в'!B:B,0)))","v":0},{"$f":"IF(AND(AK297=0,AM297=0),\"\",\"/\")","v":""},{"$f":"IF(ISNA(INDEX('План ввода основ. ср-в'!K:K,MATCH(B297,'План ввода основ. ср-в'!B:B,0))),0,INDEX('План ввода основ. ср-в'!K:K,MATCH(B297,'План ввода основ. ср-в'!B:B,0)))","v":0},{"$f":"AB297+AE297+AH297+AK297","v":0},"/",{"$f":"AD297+AG297+AJ297+AM297","v":0},{"$f":"IF(ISNA(INDEX('План ввода основ. ср-в'!N:N,MATCH(B297,'План ввода основ. ср-в'!B:B,0))),0,INDEX('План ввода основ. ср-в'!N:N,MATCH(B297,'План ввода основ. ср-в'!B:B,0)))","v":0.8},{"$f":"IF(AND(AQ297=0,AS297=0),\"\",\"/\")","v":"/"},{"$f":"IF(ISNA(INDEX('План ввода основ. ср-в'!M:M,MATCH(B297,'План ввода основ. ср-в'!B:B,0))),0,INDEX('План ввода основ. ср-в'!M:M,MATCH(B297,'План ввода основ. ср-в'!B:B,0)))","v":0},{"$f":"IF(ISNA(INDEX('План ввода основ. ср-в'!P:P,MATCH(B297,'План ввода основ. ср-в'!B:B,0))),0,INDEX('План ввода основ. ср-в'!P:P,MATCH(B297,'План ввода основ. ср-в'!B:B,0)))","v":0},{"$f":"IF(AND(AT297=0,AV297=0),\"\",\"/\")","v":""},{"$f":"IF(ISNA(INDEX('План ввода основ. ср-в'!O:O,MATCH(B297,'План ввода основ. ср-в'!B:B,0))),0,INDEX('План ввода основ. ср-в'!O:O,MATCH(B297,'План ввода основ. ср-в'!B:B,0)))","v":0},{"$f":"IF(ISNA(INDEX('План ввода основ. ср-в'!R:R,MATCH(B297,'План ввода основ. ср-в'!B:B,0))),0,INDEX('План ввода основ. ср-в'!R:R,MATCH(B297,'План ввода основ. ср-в'!B:B,0)))","v":0},{"$f":"IF(AND(AW297=0,AY297=0),\"\",\"/\")","v":""},{"$f":"IF(ISNA(INDEX('План ввода основ. ср-в'!Q:Q,MATCH(B297,'План ввода основ. ср-в'!B:B,0))),0,INDEX('План ввода основ. ср-в'!Q:Q,MATCH(B297,'План ввода основ. ср-в'!B:B,0)))","v":0},{"$f":"IF(ISNA(INDEX('План ввода основ. ср-в'!T:T,MATCH(B297,'План ввода основ. ср-в'!B:B,0))),0,INDEX('План ввода основ. ср-в'!T:T,MATCH(B297,'План ввода основ. ср-в'!B:B,0)))","v":0},{"$f":"IF(AND(AZ297=0,BB297=0),\"\",\"/\")","v":""},{"$f":"IF(ISNA(INDEX('План ввода основ. ср-в'!S:S,MATCH(B297,'План ввода основ. ср-в'!B:B,0))),0,INDEX('План ввода основ. ср-в'!S:S,MATCH(B297,'План ввода основ. ср-в'!B:B,0)))","v":0},{"$f":"AN297+AQ297+AT297+AW297+AZ297","v":0.8},"/",{"$f":"AP297+AS297+AV297+AY297+BB297","v":0},{"$f":"IF(ISNA(INDEX('План ввода основ. ср-в'!V:V,MATCH(B297,'План ввода основ. ср-в'!B:B,0))),0,INDEX('План ввода основ. ср-в'!V:V,MATCH(B297,'План ввода основ. ср-в'!B:B,0)))","v":0},{"$f":"IF(ISNA(INDEX('План ввода основ. ср-в'!W:W,MATCH(B297,'План ввода основ. ср-в'!B:B,0))),0,INDEX('План ввода основ. ср-в'!W:W,MATCH(B297,'План ввода основ. ср-в'!B:B,0)))","v":0},{"$f":"IF(ISNA(INDEX('План ввода основ. ср-в'!X:X,MATCH(B297,'План ввода основ. ср-в'!B:B,0))),0,INDEX('План ввода основ. ср-в'!X:X,MATCH(B297,'План ввода основ. ср-в'!B:B,0)))","v":0},{"$f":"IF(ISNA(INDEX('План ввода основ. ср-в'!Y:Y,MATCH(B297,'План ввода основ. ср-в'!B:B,0))),0,INDEX('План ввода основ. ср-в'!Y:Y,MATCH(B297,'План ввода основ. ср-в'!B:B,0)))","v":0},{"$f":"SUM(BF297:BI297)","v":0},{"$f":"IF(ISNA(INDEX('План ввода основ. ср-в'!Z:Z,MATCH(B297,'План ввода основ. ср-в'!B:B,0))),0,INDEX('План ввода основ. ср-в'!Z:Z,MATCH(B297,'План ввода основ. ср-в'!B:B,0)))","v":1.18},{"$f":"IF(ISNA(INDEX('План ввода основ. ср-в'!AA:AA,MATCH(B297,'План ввода основ. ср-в'!B:B,0))),0,INDEX('План ввода основ. ср-в'!AA:AA,MATCH(B297,'План ввода основ. ср-в'!B:B,0)))","v":0},{"$f":"IF(ISNA(INDEX('План ввода основ. ср-в'!AB:AB,MATCH(B297,'План ввода основ. ср-в'!B:B,0))),0,INDEX('План ввода основ. ср-в'!AB:AB,MATCH(B297,'План ввода основ. ср-в'!B:B,0)))","v":0},{"$f":"IF(ISNA(INDEX('План ввода основ. ср-в'!AC:AC,MATCH(B297,'План ввода основ. ср-в'!B:B,0))),0,INDEX('План ввода основ. ср-в'!AC:AC,MATCH(B297,'План ввода основ. ср-в'!B:B,0)))","v":0},1.18]
[3,"Строительство внешнего  электроснабжения жилого комплекса в с. Беловка",null,null,null,null,null,null,0,"",0,0,"",0,0,"",0,0,"",0,0,"",0,0,null,null,null,{"$f":"IF(ISNA(INDEX('План ввода основ. ср-в'!F:F,MATCH(B298,'План ввода основ. ср-в'!B:B,0))),0,INDEX('План ввода основ. ср-в'!F:F,MATCH(B298,'План ввода основ. ср-в'!B:B,0)))","v":0},"",{"$f":"IF(ISNA(INDEX('План ввода основ. ср-в'!E:E,MATCH(B298,'План ввода основ. ср-в'!B:B,0))),0,INDEX('План ввода основ. ср-в'!E:E,MATCH(B298,'План ввода основ. ср-в'!B:B,0)))","v":0},{"$f":"IF(ISNA(INDEX('План ввода основ. ср-в'!H:H,MATCH(B298,'План ввода основ. ср-в'!B:B,0))),0,INDEX('План ввода основ. ср-в'!H:H,MATCH(B298,'План ввода основ. ср-в'!B:B,0)))","v":0},"",{"$f":"IF(ISNA(INDEX('План ввода основ. ср-в'!G:G,MATCH(B298,'План ввода основ. ср-в'!B:B,0))),0,INDEX('План ввода основ. ср-в'!G:G,MATCH(B298,'План ввода основ. ср-в'!B:B,0)))","v":0},{"$f":"IF(ISNA(INDEX('План ввода основ. ср-в'!J:J,MATCH(B298,'План ввода основ. ср-в'!B:B,0))),0,INDEX('План ввода основ. ср-в'!J:J,MATCH(B298,'План ввода основ. ср-в'!B:B,0)))","v":0},"",{"$f":"IF(ISNA(INDEX('План ввода основ. ср-в'!I:I,MATCH(B298,'План ввода основ. ср-в'!B:B,0))),0,INDEX('План ввода основ. ср-в'!I:I,MATCH(B298,'План ввода основ. ср-в'!B:B,0)))","v":0},{"$f":"IF(ISNA(INDEX('План ввода основ. ср-в'!L:L,MATCH(B298,'План ввода основ. ср-в'!B:B,0))),0,INDEX('План ввода основ. ср-в'!L:L,MATCH(B298,'План ввода основ. ср-в'!B:B,0)))","v":0},"",{"$f":"IF(ISNA(INDEX('План ввода основ. ср-в'!K:K,MATCH(B298,'План ввода основ. ср-в'!B:B,0))),0,INDEX('План ввода основ. ср-в'!K:K,MATCH(B298,'План ввода основ. ср-в'!B:B,0)))","v":0},{"$f":"AB298+AE298+AH298+AK298","v":0},null,{"$f":"AD298+AG298+AJ298+AM298","v":0},{"$f":"IF(ISNA(INDEX('План ввода основ. ср-в'!N:N,MATCH(B298,'План ввода основ. ср-в'!B:B,0))),0,INDEX('План ввода основ. ср-в'!N:N,MATCH(B298,'План ввода основ. ср-в'!B:B,0)))","v":0},"",{"$f":"IF(ISNA(INDEX('План ввода основ. ср-в'!M:M,MATCH(B298,'План ввода основ. ср-в'!B:B,0))),0,INDEX('План ввода основ. ср-в'!M:M,MATCH(B298,'План ввода основ. ср-в'!B:B,0)))","v":0},{"$f":"IF(ISNA(INDEX('План ввода основ. ср-в'!P:P,MATCH(B298,'План ввода основ. ср-в'!B:B,0))),0,INDEX('План ввода основ. ср-в'!P:P,MATCH(B298,'План ввода основ. ср-в'!B:B,0)))","v":0},"",{"$f":"IF(ISNA(INDEX('План ввода основ. ср-в'!O:O,MATCH(B298,'План ввода основ. ср-в'!B:B,0))),0,INDEX('План ввода основ. ср-в'!O:O,MATCH(B298,'План ввода основ. ср-в'!B:B,0)))","v":0},{"$f":"IF(ISNA(INDEX('План ввода основ. ср-в'!R:R,MATCH(B298,'План ввода основ. ср-в'!B:B,0))),0,INDEX('План ввода основ. ср-в'!R:R,MATCH(B298,'План ввода основ. ср-в'!B:B,0)))","v":1.1000000000000001},"/",{"$f":"IF(ISNA(INDEX('План ввода основ. ср-в'!Q:Q,MATCH(B298,'План ввода основ. ср-в'!B:B,0))),0,INDEX('План ввода основ. ср-в'!Q:Q,MATCH(B298,'План ввода основ. ср-в'!B:B,0)))","v":0.63},{"$f":"IF(ISNA(INDEX('План ввода основ. ср-в'!T:T,MATCH(B298,'План ввода основ. ср-в'!B:B,0))),0,INDEX('План ввода основ. ср-в'!T:T,MATCH(B298,'План ввода основ. ср-в'!B:B,0)))","v":0},"",{"$f":"IF(ISNA(INDEX('План ввода основ. ср-в'!S:S,MATCH(B298,'План ввода основ. ср-в'!B:B,0))),0,INDEX('План ввода основ. ср-в'!S:S,MATCH(B298,'План ввода основ. ср-в'!B:B,0)))","v":0},{"$f":"AN298+AQ298+AT298+AW298+AZ298","v":1.1000000000000001},"/",{"$f":"AP298+AS298+AV298+AY298+BB298","v":0.63},{"$f":"IF(ISNA(INDEX('План ввода основ. ср-в'!V:V,MATCH(B298,'План ввода основ. ср-в'!B:B,0))),0,INDEX('План ввода основ. ср-в'!V:V,MATCH(B298,'План ввода основ. ср-в'!B:B,0)))","v":0},{"$f":"IF(ISNA(INDEX('План ввода основ. ср-в'!W:W,MATCH(B298,'План ввода основ. ср-в'!B:B,0))),0,INDEX('План ввода основ. ср-в'!W:W,MATCH(B298,'План ввода основ. ср-в'!B:B,0)))","v":0},{"$f":"IF(ISNA(INDEX('План ввода основ. ср-в'!X:X,MATCH(B298,'План ввода основ. ср-в'!B:B,0))),0,INDEX('План ввода основ. ср-в'!X:X,MATCH(B298,'План ввода основ. ср-в'!B:B,0)))","v":0},{"$f":"IF(ISNA(INDEX('План ввода основ. ср-в'!Y:Y,MATCH(B298,'План ввода основ. ср-в'!B:B,0))),0,INDEX('План ввода основ. ср-в'!Y:Y,MATCH(B298,'План ввода основ. ср-в'!B:B,0)))","v":0},0,{"$f":"IF(ISNA(INDEX('План ввода основ. ср-в'!Z:Z,MATCH(B298,'План ввода основ. ср-в'!B:B,0))),0,INDEX('План ввода основ. ср-в'!Z:Z,MATCH(B298,'План ввода основ. ср-в'!B:B,0)))","v":0},{"$f":"IF(ISNA(INDEX('План ввода основ. ср-в'!AA:AA,MATCH(B298,'План ввода основ. ср-в'!B:B,0))),0,INDEX('План ввода основ. ср-в'!AA:AA,MATCH(B298,'План ввода основ. ср-в'!B:B,0)))","v":0},{"$f":"IF(ISNA(INDEX('План ввода основ. ср-в'!AB:AB,MATCH(B298,'План ввода основ. ср-в'!B:B,0))),0,INDEX('План ввода основ. ср-в'!AB:AB,MATCH(B298,'План ввода основ. ср-в'!B:B,0)))","v":4.5999999999999996},{"$f":"IF(ISNA(INDEX('План ввода основ. ср-в'!AC:AC,MATCH(B298,'План ввода основ. ср-в'!B:B,0))),0,INDEX('План ввода основ. ср-в'!AC:AC,MATCH(B298,'План ввода основ. ср-в'!B:B,0)))","v":0},4.5999999999999996]
[4,"Кошкинский район",null,null,null,null,null,null,0,"",0,0,"",0,0,"",0,0,"",0,0,"",0,0,null,null,null,{"$f":"IF(ISNA(INDEX('План ввода основ. ср-в'!F:F,MATCH(B299,'План ввода основ. ср-в'!B:B,0))),0,INDEX('План ввода основ. ср-в'!F:F,MATCH(B299,'План ввода основ. ср-в'!B:B,0)))","v":0},"",{"$f":"IF(ISNA(INDEX('План ввода основ. ср-в'!E:E,MATCH(B299,'План ввода основ. ср-в'!B:B,0))),0,INDEX('План ввода основ. ср-в'!E:E,MATCH(B299,'План ввода основ. ср-в'!B:B,0)))","v":0},{"$f":"IF(ISNA(INDEX('План ввода основ. ср-в'!H:H,MATCH(B299,'План ввода основ. ср-в'!B:B,0))),0,INDEX('План ввода основ. ср-в'!H:H,MATCH(B299,'План ввода основ. ср-в'!B:B,0)))","v":0},"",{"$f":"IF(ISNA(INDEX('План ввода основ. ср-в'!G:G,MATCH(B299,'План ввода основ. ср-в'!B:B,0))),0,INDEX('План ввода основ. ср-в'!G:G,MATCH(B299,'План ввода основ. ср-в'!B:B,0)))","v":0},{"$f":"IF(ISNA(INDEX('План ввода основ. ср-в'!J:J,MATCH(B299,'План ввода основ. ср-в'!B:B,0))),0,INDEX('План ввода основ. ср-в'!J:J,MATCH(B299,'План ввода основ. ср-в'!B:B,0)))","v":0},"",{"$f":"IF(ISNA(INDEX('План ввода основ. ср-в'!I:I,MATCH(B299,'План ввода основ. ср-в'!B:B,0))),0,INDEX('План ввода основ. ср-в'!I:I,MATCH(B299,'План ввода основ. ср-в'!B:B,0)))","v":0},{"$f":"IF(ISNA(INDEX('План ввода основ. ср-в'!L:L,MATCH(B299,'План ввода основ. ср-в'!B:B,0))),0,INDEX('План ввода основ. ср-в'!L:L,MATCH(B299,'План ввода основ. ср-в'!B:B,0)))","v":0},"",{"$f":"IF(ISNA(INDEX('План ввода основ. ср-в'!K:K,MATCH(B299,'План ввода основ. ср-в'!B:B,0))),0,INDEX('План ввода основ. ср-в'!K:K,MATCH(B299,'План ввода основ. ср-в'!B:B,0)))","v":0},0,null,0,{"$f":"IF(ISNA(INDEX('План ввода основ. ср-в'!N:N,MATCH(B299,'План ввода основ. ср-в'!B:B,0))),0,INDEX('План ввода основ. ср-в'!N:N,MATCH(B299,'План ввода основ. ср-в'!B:B,0)))","v":0},"",{"$f":"IF(ISNA(INDEX('План ввода основ. ср-в'!M:M,MATCH(B299,'План ввода основ. ср-в'!B:B,0))),0,INDEX('План ввода основ. ср-в'!M:M,MATCH(B299,'План ввода основ. ср-в'!B:B,0)))","v":0},{"$f":"IF(ISNA(INDEX('План ввода основ. ср-в'!P:P,MATCH(B299,'План ввода основ. ср-в'!B:B,0))),0,INDEX('План ввода основ. ср-в'!P:P,MATCH(B299,'План ввода основ. ср-в'!B:B,0)))","v":0},"",{"$f":"IF(ISNA(INDEX('План ввода основ. ср-в'!O:O,MATCH(B299,'План ввода основ. ср-в'!B:B,0))),0,INDEX('План ввода основ. ср-в'!O:O,MATCH(B299,'План ввода основ. ср-в'!B:B,0)))","v":0},{"$f":"IF(ISNA(INDEX('План ввода основ. ср-в'!R:R,MATCH(B299,'План ввода основ. ср-в'!B:B,0))),0,INDEX('План ввода основ. ср-в'!R:R,MATCH(B299,'План ввода основ. ср-в'!B:B,0)))","v":0},"",{"$f":"IF(ISNA(INDEX('План ввода основ. ср-в'!Q:Q,MATCH(B299,'План ввода основ. ср-в'!B:B,0))),0,INDEX('План ввода основ. ср-в'!Q:Q,MATCH(B299,'План ввода основ. ср-в'!B:B,0)))","v":0},{"$f":"IF(ISNA(INDEX('План ввода основ. ср-в'!T:T,MATCH(B299,'План ввода основ. ср-в'!B:B,0))),0,INDEX('План ввода основ. ср-в'!T:T,MATCH(B299,'План ввода основ. ср-в'!B:B,0)))","v":0},"",{"$f":"IF(ISNA(INDEX('План ввода основ. ср-в'!S:S,MATCH(B299,'План ввода основ. ср-в'!B:B,0))),0,INDEX('План ввода основ. ср-в'!S:S,MATCH(B299,'План ввода основ. ср-в'!B:B,0)))","v":0},0,null,0,{"$f":"IF(ISNA(INDEX('План ввода основ. ср-в'!V:V,MATCH(B299,'План ввода основ. ср-в'!B:B,0))),0,INDEX('План ввода основ. ср-в'!V:V,MATCH(B299,'План ввода основ. ср-в'!B:B,0)))","v":0},{"$f":"IF(ISNA(INDEX('План ввода основ. ср-в'!W:W,MATCH(B299,'План ввода основ. ср-в'!B:B,0))),0,INDEX('План ввода основ. ср-в'!W:W,MATCH(B299,'План ввода основ. ср-в'!B:B,0)))","v":0},{"$f":"IF(ISNA(INDEX('План ввода основ. ср-в'!X:X,MATCH(B299,'План ввода основ. ср-в'!B:B,0))),0,INDEX('План ввода основ. ср-в'!X:X,MATCH(B299,'План ввода основ. ср-в'!B:B,0)))","v":0},{"$f":"IF(ISNA(INDEX('План ввода основ. ср-в'!Y:Y,MATCH(B299,'План ввода основ. ср-в'!B:B,0))),0,INDEX('План ввода основ. ср-в'!Y:Y,MATCH(B299,'План ввода основ. ср-в'!B:B,0)))","v":0},0,{"$f":"IF(ISNA(INDEX('План ввода основ. ср-в'!Z:Z,MATCH(B299,'План ввода основ. ср-в'!B:B,0))),0,INDEX('План ввода основ. ср-в'!Z:Z,MATCH(B299,'План ввода основ. ср-в'!B:B,0)))","v":0},{"$f":"IF(ISNA(INDEX('План ввода основ. ср-в'!AA:AA,MATCH(B299,'План ввода основ. ср-в'!B:B,0))),0,INDEX('План ввода основ. ср-в'!AA:AA,MATCH(B299,'План ввода основ. ср-в'!B:B,0)))","v":0},{"$f":"IF(ISNA(INDEX('План ввода основ. ср-в'!AB:AB,MATCH(B299,'План ввода основ. ср-в'!B:B,0))),0,INDEX('План ввода основ. ср-в'!AB:AB,MATCH(B299,'План ввода основ. ср-в'!B:B,0)))","v":0},{"$f":"IF(ISNA(INDEX('План ввода основ. ср-в'!AC:AC,MATCH(B299,'План ввода основ. ср-в'!B:B,0))),0,INDEX('План ввода основ. ср-в'!AC:AC,MATCH(B299,'План ввода основ. ср-в'!B:B,0)))","v":0},0]
[5,"Строительство внешнего электроснабжения 60-ти одноквартирных жилых домов, с. Кошки, ул. им. Самаркина",null,null,null,null,null,null,0,"",0,0,"",0,0,"",0,0,"",0,0,"",0,0,null,null,null,{"$f":"IF(ISNA(INDEX('План ввода основ. ср-в'!F:F,MATCH(B300,'План ввода основ. ср-в'!B:B,0))),0,INDEX('План ввода основ. ср-в'!F:F,MATCH(B300,'План ввода основ. ср-в'!B:B,0)))","v":0},"",{"$f":"IF(ISNA(INDEX('План ввода основ. ср-в'!E:E,MATCH(B300,'План ввода основ. ср-в'!B:B,0))),0,INDEX('План ввода основ. ср-в'!E:E,MATCH(B300,'План ввода основ. ср-в'!B:B,0)))","v":0},{"$f":"IF(ISNA(INDEX('План ввода основ. ср-в'!H:H,MATCH(B300,'План ввода основ. ср-в'!B:B,0))),0,INDEX('План ввода основ. ср-в'!H:H,MATCH(B300,'План ввода основ. ср-в'!B:B,0)))","v":0},"",{"$f":"IF(ISNA(INDEX('План ввода основ. ср-в'!G:G,MATCH(B300,'План ввода основ. ср-в'!B:B,0))),0,INDEX('План ввода основ. ср-в'!G:G,MATCH(B300,'План ввода основ. ср-в'!B:B,0)))","v":0},{"$f":"IF(ISNA(INDEX('План ввода основ. ср-в'!J:J,MATCH(B300,'План ввода основ. ср-в'!B:B,0))),0,INDEX('План ввода основ. ср-в'!J:J,MATCH(B300,'План ввода основ. ср-в'!B:B,0)))","v":0},"",{"$f":"IF(ISNA(INDEX('План ввода основ. ср-в'!I:I,MATCH(B300,'План ввода основ. ср-в'!B:B,0))),0,INDEX('План ввода основ. ср-в'!I:I,MATCH(B300,'План ввода основ. ср-в'!B:B,0)))","v":0},{"$f":"IF(ISNA(INDEX('План ввода основ. ср-в'!L:L,MATCH(B300,'План ввода основ. ср-в'!B:B,0))),0,INDEX('План ввода основ. ср-в'!L:L,MATCH(B300,'План ввода основ. ср-в'!B:B,0)))","v":0},"",{"$f":"IF(ISNA(INDEX('План ввода основ. ср-в'!K:K,MATCH(B300,'План ввода основ. ср-в'!B:B,0))),0,INDEX('План ввода основ. ср-в'!K:K,MATCH(B300,'План ввода основ. ср-в'!B:B,0)))","v":0},0,"/",0,{"$f":"IF(ISNA(INDEX('План ввода основ. ср-в'!N:N,MATCH(B300,'План ввода основ. ср-в'!B:B,0))),0,INDEX('План ввода основ. ср-в'!N:N,MATCH(B300,'План ввода основ. ср-в'!B:B,0)))","v":1},"/",{"$f":"IF(ISNA(INDEX('План ввода основ. ср-в'!M:M,MATCH(B300,'План ввода основ. ср-в'!B:B,0))),0,INDEX('План ввода основ. ср-в'!M:M,MATCH(B300,'План ввода основ. ср-в'!B:B,0)))","v":0},{"$f":"IF(ISNA(INDEX('План ввода основ. ср-в'!P:P,MATCH(B300,'План ввода основ. ср-в'!B:B,0))),0,INDEX('План ввода основ. ср-в'!P:P,MATCH(B300,'План ввода основ. ср-в'!B:B,0)))","v":0},"",{"$f":"IF(ISNA(INDEX('План ввода основ. ср-в'!O:O,MATCH(B300,'План ввода основ. ср-в'!B:B,0))),0,INDEX('План ввода основ. ср-в'!O:O,MATCH(B300,'План ввода основ. ср-в'!B:B,0)))","v":0},{"$f":"IF(ISNA(INDEX('План ввода основ. ср-в'!R:R,MATCH(B300,'План ввода основ. ср-в'!B:B,0))),0,INDEX('План ввода основ. ср-в'!R:R,MATCH(B300,'План ввода основ. ср-в'!B:B,0)))","v":0},"",{"$f":"IF(ISNA(INDEX('План ввода основ. ср-в'!Q:Q,MATCH(B300,'План ввода основ. ср-в'!B:B,0))),0,INDEX('План ввода основ. ср-в'!Q:Q,MATCH(B300,'План ввода основ. ср-в'!B:B,0)))","v":0},{"$f":"IF(ISNA(INDEX('План ввода основ. ср-в'!T:T,MATCH(B300,'План ввода основ. ср-в'!B:B,0))),0,INDEX('План ввода основ. ср-в'!T:T,MATCH(B300,'План ввода основ. ср-в'!B:B,0)))","v":0},"",{"$f":"IF(ISNA(INDEX('План ввода основ. ср-в'!S:S,MATCH(B300,'План ввода основ. ср-в'!B:B,0))),0,INDEX('План ввода основ. ср-в'!S:S,MATCH(B300,'План ввода основ. ср-в'!B:B,0)))","v":0},1,"/",0,{"$f":"IF(ISNA(INDEX('План ввода основ. ср-в'!V:V,MATCH(B300,'План ввода основ. ср-в'!B:B,0))),0,INDEX('План ввода основ. ср-в'!V:V,MATCH(B300,'План ввода основ. ср-в'!B:B,0)))","v":0},{"$f":"IF(ISNA(INDEX('План ввода основ. ср-в'!W:W,MATCH(B300,'План ввода основ. ср-в'!B:B,0))),0,INDEX('План ввода основ. ср-в'!W:W,MATCH(B300,'План ввода основ. ср-в'!B:B,0)))","v":0},{"$f":"IF(ISNA(INDEX('План ввода основ. ср-в'!X:X,MATCH(B300,'План ввода основ. ср-в'!B:B,0))),0,INDEX('План ввода основ. ср-в'!X:X,MATCH(B300,'План ввода основ. ср-в'!B:B,0)))","v":0},{"$f":"IF(ISNA(INDEX('План ввода основ. ср-в'!Y:Y,MATCH(B300,'План ввода основ. ср-в'!B:B,0))),0,INDEX('План ввода основ. ср-в'!Y:Y,MATCH(B300,'План ввода основ. ср-в'!B:B,0)))","v":0},0,{"$f":"IF(ISNA(INDEX('План ввода основ. ср-в'!Z:Z,MATCH(B300,'План ввода основ. ср-в'!B:B,0))),0,INDEX('План ввода основ. ср-в'!Z:Z,MATCH(B300,'План ввода основ. ср-в'!B:B,0)))","v":4.0999999999999996},{"$f":"IF(ISNA(INDEX('План ввода основ. ср-в'!AA:AA,MATCH(B300,'План ввода основ. ср-в'!B:B,0))),0,INDEX('План ввода основ. ср-в'!AA:AA,MATCH(B300,'План ввода основ. ср-в'!B:B,0)))","v":0},{"$f":"IF(ISNA(INDEX('План ввода основ. ср-в'!AB:AB,MATCH(B300,'План ввода основ. ср-в'!B:B,0))),0,INDEX('План ввода основ. ср-в'!AB:AB,MATCH(B300,'План ввода основ. ср-в'!B:B,0)))","v":0},{"$f":"IF(ISNA(INDEX('План ввода основ. ср-в'!AC:AC,MATCH(B300,'План ввода основ. ср-в'!B:B,0))),0,INDEX('План ввода основ. ср-в'!AC:AC,MATCH(B300,'План ввода основ. ср-в'!B:B,0)))","v":0},4.0999999999999996]
[6,"Строительство внешнего электроснабжения Ледового дворца, с. Кошки, ул. Парковая",null,null,null,null,null,null,0,"",0,0,"",0,0,"",0,0,"",0,0,"",0,0,null,null,null,{"$f":"IF(ISNA(INDEX('План ввода основ. ср-в'!F:F,MATCH(B301,'План ввода основ. ср-в'!B:B,0))),0,INDEX('План ввода основ. ср-в'!F:F,MATCH(B301,'План ввода основ. ср-в'!B:B,0)))","v":0},"",{"$f":"IF(ISNA(INDEX('План ввода основ. ср-в'!E:E,MATCH(B301,'План ввода основ. ср-в'!B:B,0))),0,INDEX('План ввода основ. ср-в'!E:E,MATCH(B301,'План ввода основ. ср-в'!B:B,0)))","v":0},{"$f":"IF(ISNA(INDEX('План ввода основ. ср-в'!H:H,MATCH(B301,'План ввода основ. ср-в'!B:B,0))),0,INDEX('План ввода основ. ср-в'!H:H,MATCH(B301,'План ввода основ. ср-в'!B:B,0)))","v":0},"",{"$f":"IF(ISNA(INDEX('План ввода основ. ср-в'!G:G,MATCH(B301,'План ввода основ. ср-в'!B:B,0))),0,INDEX('План ввода основ. ср-в'!G:G,MATCH(B301,'План ввода основ. ср-в'!B:B,0)))","v":0},{"$f":"IF(ISNA(INDEX('План ввода основ. ср-в'!J:J,MATCH(B301,'План ввода основ. ср-в'!B:B,0))),0,INDEX('План ввода основ. ср-в'!J:J,MATCH(B301,'План ввода основ. ср-в'!B:B,0)))","v":0},"",{"$f":"IF(ISNA(INDEX('План ввода основ. ср-в'!I:I,MATCH(B301,'План ввода основ. ср-в'!B:B,0))),0,INDEX('План ввода основ. ср-в'!I:I,MATCH(B301,'План ввода основ. ср-в'!B:B,0)))","v":0},{"$f":"IF(ISNA(INDEX('План ввода основ. ср-в'!L:L,MATCH(B301,'План ввода основ. ср-в'!B:B,0))),0,INDEX('План ввода основ. ср-в'!L:L,MATCH(B301,'План ввода основ. ср-в'!B:B,0)))","v":0},"",{"$f":"IF(ISNA(INDEX('План ввода основ. ср-в'!K:K,MATCH(B301,'План ввода основ. ср-в'!B:B,0))),0,INDEX('План ввода основ. ср-в'!K:K,MATCH(B301,'План ввода основ. ср-в'!B:B,0)))","v":0},0,null,0,{"$f":"IF(ISNA(INDEX('План ввода основ. ср-в'!N:N,MATCH(B301,'План ввода основ. ср-в'!B:B,0))),0,INDEX('План ввода основ. ср-в'!N:N,MATCH(B301,'План ввода основ. ср-в'!B:B,0)))","v":0.5},"/",{"$f":"IF(ISNA(INDEX('План ввода основ. ср-в'!M:M,MATCH(B301,'План ввода основ. ср-в'!B:B,0))),0,INDEX('План ввода основ. ср-в'!M:M,MATCH(B301,'План ввода основ. ср-в'!B:B,0)))","v":0.32},{"$f":"IF(ISNA(INDEX('План ввода основ. ср-в'!P:P,MATCH(B301,'План ввода основ. ср-в'!B:B,0))),0,INDEX('План ввода основ. ср-в'!P:P,MATCH(B301,'План ввода основ. ср-в'!B:B,0)))","v":0},"",{"$f":"IF(ISNA(INDEX('План ввода основ. ср-в'!O:O,MATCH(B301,'План ввода основ. ср-в'!B:B,0))),0,INDEX('План ввода основ. ср-в'!O:O,MATCH(B301,'План ввода основ. ср-в'!B:B,0)))","v":0},{"$f":"IF(ISNA(INDEX('План ввода основ. ср-в'!R:R,MATCH(B301,'План ввода основ. ср-в'!B:B,0))),0,INDEX('План ввода основ. ср-в'!R:R,MATCH(B301,'План ввода основ. ср-в'!B:B,0)))","v":0},"",{"$f":"IF(ISNA(INDEX('План ввода основ. ср-в'!Q:Q,MATCH(B301,'План ввода основ. ср-в'!B:B,0))),0,INDEX('План ввода основ. ср-в'!Q:Q,MATCH(B301,'План ввода основ. ср-в'!B:B,0)))","v":0},{"$f":"IF(ISNA(INDEX('План ввода основ. ср-в'!T:T,MATCH(B301,'План ввода основ. ср-в'!B:B,0))),0,INDEX('План ввода основ. ср-в'!T:T,MATCH(B301,'План ввода основ. ср-в'!B:B,0)))","v":0},"",{"$f":"IF(ISNA(INDEX('План ввода основ. ср-в'!S:S,MATCH(B301,'План ввода основ. ср-в'!B:B,0))),0,INDEX('План ввода основ. ср-в'!S:S,MATCH(B301,'План ввода основ. ср-в'!B:B,0)))","v":0},0.5,"/",0.32,{"$f":"IF(ISNA(INDEX('План ввода основ. ср-в'!V:V,MATCH(B301,'План ввода основ. ср-в'!B:B,0))),0,INDEX('План ввода основ. ср-в'!V:V,MATCH(B301,'План ввода основ. ср-в'!B:B,0)))","v":0},{"$f":"IF(ISNA(INDEX('План ввода основ. ср-в'!W:W,MATCH(B301,'План ввода основ. ср-в'!B:B,0))),0,INDEX('План ввода основ. ср-в'!W:W,MATCH(B301,'План ввода основ. ср-в'!B:B,0)))","v":0},{"$f":"IF(ISNA(INDEX('План ввода основ. ср-в'!X:X,MATCH(B301,'План ввода основ. ср-в'!B:B,0))),0,INDEX('План ввода основ. ср-в'!X:X,MATCH(B301,'План ввода основ. ср-в'!B:B,0)))","v":0},{"$f":"IF(ISNA(INDEX('План ввода основ. ср-в'!Y:Y,MATCH(B301,'План ввода основ. ср-в'!B:B,0))),0,INDEX('План ввода основ. ср-в'!Y:Y,MATCH(B301,'План ввода основ. ср-в'!B:B,0)))","v":0},0,{"$f":"IF(ISNA(INDEX('План ввода основ. ср-в'!Z:Z,MATCH(B301,'План ввода основ. ср-в'!B:B,0))),0,INDEX('План ввода основ. ср-в'!Z:Z,MATCH(B301,'План ввода основ. ср-в'!B:B,0)))","v":4.2},{"$f":"IF(ISNA(INDEX('План ввода основ. ср-в'!AA:AA,MATCH(B301,'План ввода основ. ср-в'!B:B,0))),0,INDEX('План ввода основ. ср-в'!AA:AA,MATCH(B301,'План ввода основ. ср-в'!B:B,0)))","v":0},{"$f":"IF(ISNA(INDEX('План ввода основ. ср-в'!AB:AB,MATCH(B301,'План ввода основ. ср-в'!B:B,0))),0,INDEX('План ввода основ. ср-в'!AB:AB,MATCH(B301,'План ввода основ. ср-в'!B:B,0)))","v":0},{"$f":"IF(ISNA(INDEX('План ввода основ. ср-в'!AC:AC,MATCH(B301,'План ввода основ. ср-в'!B:B,0))),0,INDEX('План ввода основ. ср-в'!AC:AC,MATCH(B301,'План ввода основ. ср-в'!B:B,0)))","v":0},4.2]
[7,"г.о. Кинель",null,null,null,null,null,null,0,"",0,0,"",0,0,"",0,0,"",0,0,"",0,0,null,null,null,{"$f":"IF(ISNA(INDEX('План ввода основ. ср-в'!F:F,MATCH(B302,'План ввода основ. ср-в'!B:B,0))),0,INDEX('План ввода основ. ср-в'!F:F,MATCH(B302,'План ввода основ. ср-в'!B:B,0)))","v":0},"",{"$f":"IF(ISNA(INDEX('План ввода основ. ср-в'!E:E,MATCH(B302,'План ввода основ. ср-в'!B:B,0))),0,INDEX('План ввода основ. ср-в'!E:E,MATCH(B302,'План ввода основ. ср-в'!B:B,0)))","v":0},{"$f":"IF(ISNA(INDEX('План ввода основ. ср-в'!H:H,MATCH(B302,'План ввода основ. ср-в'!B:B,0))),0,INDEX('План ввода основ. ср-в'!H:H,MATCH(B302,'План ввода основ. ср-в'!B:B,0)))","v":0},"",{"$f":"IF(ISNA(INDEX('План ввода основ. ср-в'!G:G,MATCH(B302,'План ввода основ. ср-в'!B:B,0))),0,INDEX('План ввода основ. ср-в'!G:G,MATCH(B302,'План ввода основ. ср-в'!B:B,0)))","v":0},{"$f":"IF(ISNA(INDEX('План ввода основ. ср-в'!J:J,MATCH(B302,'План ввода основ. ср-в'!B:B,0))),0,INDEX('План ввода основ. ср-в'!J:J,MATCH(B302,'План ввода основ. ср-в'!B:B,0)))","v":0},"",{"$f":"IF(ISNA(INDEX('План ввода основ. ср-в'!I:I,MATCH(B302,'План ввода основ. ср-в'!B:B,0))),0,INDEX('План ввода основ. ср-в'!I:I,MATCH(B302,'План ввода основ. ср-в'!B:B,0)))","v":0},{"$f":"IF(ISNA(INDEX('План ввода основ. ср-в'!L:L,MATCH(B302,'План ввода основ. ср-в'!B:B,0))),0,INDEX('План ввода основ. ср-в'!L:L,MATCH(B302,'План ввода основ. ср-в'!B:B,0)))","v":0},"",{"$f":"IF(ISNA(INDEX('План ввода основ. ср-в'!K:K,MATCH(B302,'План ввода основ. ср-в'!B:B,0))),0,INDEX('План ввода основ. ср-в'!K:K,MATCH(B302,'План ввода основ. ср-в'!B:B,0)))","v":0},0,null,0,{"$f":"IF(ISNA(INDEX('План ввода основ. ср-в'!N:N,MATCH(B302,'План ввода основ. ср-в'!B:B,0))),0,INDEX('План ввода основ. ср-в'!N:N,MATCH(B302,'План ввода основ. ср-в'!B:B,0)))","v":0},"",{"$f":"IF(ISNA(INDEX('План ввода основ. ср-в'!M:M,MATCH(B302,'План ввода основ. ср-в'!B:B,0))),0,INDEX('План ввода основ. ср-в'!M:M,MATCH(B302,'План ввода основ. ср-в'!B:B,0)))","v":0},{"$f":"IF(ISNA(INDEX('План ввода основ. ср-в'!P:P,MATCH(B302,'План ввода основ. ср-в'!B:B,0))),0,INDEX('План ввода основ. ср-в'!P:P,MATCH(B302,'План ввода основ. ср-в'!B:B,0)))","v":0},"",{"$f":"IF(ISNA(INDEX('План ввода основ. ср-в'!O:O,MATCH(B302,'План ввода основ. ср-в'!B:B,0))),0,INDEX('План ввода основ. ср-в'!O:O,MATCH(B302,'План ввода основ. ср-в'!B:B,0)))","v":0},{"$f":"IF(ISNA(INDEX('План ввода основ. ср-в'!R:R,MATCH(B302,'План ввода основ. ср-в'!B:B,0))),0,INDEX('План ввода основ. ср-в'!R:R,MATCH(B302,'План ввода основ. ср-в'!B:B,0)))","v":0},"",{"$f":"IF(ISNA(INDEX('План ввода основ. ср-в'!Q:Q,MATCH(B302,'План ввода основ. ср-в'!B:B,0))),0,INDEX('План ввода основ. ср-в'!Q:Q,MATCH(B302,'План ввода основ. ср-в'!B:B,0)))","v":0},{"$f":"IF(ISNA(INDEX('План ввода основ. ср-в'!T:T,MATCH(B302,'План ввода основ. ср-в'!B:B,0))),0,INDEX('План ввода основ. ср-в'!T:T,MATCH(B302,'План ввода основ. ср-в'!B:B,0)))","v":0},"",{"$f":"IF(ISNA(INDEX('План ввода основ. ср-в'!S:S,MATCH(B302,'План ввода основ. ср-в'!B:B,0))),0,INDEX('План ввода основ. ср-в'!S:S,MATCH(B302,'План ввода основ. ср-в'!B:B,0)))","v":0},0,null,0,{"$f":"IF(ISNA(INDEX('План ввода основ. ср-в'!V:V,MATCH(B302,'План ввода основ. ср-в'!B:B,0))),0,INDEX('План ввода основ. ср-в'!V:V,MATCH(B302,'План ввода основ. ср-в'!B:B,0)))","v":0},{"$f":"IF(ISNA(INDEX('План ввода основ. ср-в'!W:W,MATCH(B302,'План ввода основ. ср-в'!B:B,0))),0,INDEX('План ввода основ. ср-в'!W:W,MATCH(B302,'План ввода основ. ср-в'!B:B,0)))","v":0},{"$f":"IF(ISNA(INDEX('План ввода основ. ср-в'!X:X,MATCH(B302,'План ввода основ. ср-в'!B:B,0))),0,INDEX('План ввода основ. ср-в'!X:X,MATCH(B302,'План ввода основ. ср-в'!B:B,0)))","v":0},{"$f":"IF(ISNA(INDEX('План ввода основ. ср-в'!Y:Y,MATCH(B302,'План ввода основ. ср-в'!B:B,0))),0,INDEX('План ввода основ. ср-в'!Y:Y,MATCH(B302,'План ввода основ. ср-в'!B:B,0)))","v":0},0,{"$f":"IF(ISNA(INDEX('План ввода основ. ср-в'!Z:Z,MATCH(B302,'План ввода основ. ср-в'!B:B,0))),0,INDEX('План ввода основ. ср-в'!Z:Z,MATCH(B302,'План ввода основ. ср-в'!B:B,0)))","v":0},{"$f":"IF(ISNA(INDEX('План ввода основ. ср-в'!AA:AA,MATCH(B302,'План ввода основ. ср-в'!B:B,0))),0,INDEX('План ввода основ. ср-в'!AA:AA,MATCH(B302,'План ввода основ. ср-в'!B:B,0)))","v":0},{"$f":"IF(ISNA(INDEX('План ввода основ. ср-в'!AB:AB,MATCH(B302,'План ввода основ. ср-в'!B:B,0))),0,INDEX('План ввода основ. ср-в'!AB:AB,MATCH(B302,'План ввода основ. ср-в'!B:B,0)))","v":0},{"$f":"IF(ISNA(INDEX('План ввода основ. ср-в'!AC:AC,MATCH(B302,'План ввода основ. ср-в'!B:B,0))),0,INDEX('План ввода основ. ср-в'!AC:AC,MATCH(B302,'План ввода основ. ср-в'!B:B,0)))","v":0},0]
[8,"Строительство внешнего электроснабжения жилой застройки в районе улиц Перспективная и 27 Партсъезда",null,null,null,null,null,null,0,"",0,0,"",0,0,"",0,0,"",0,0,"",0,0,null,null,null,{"$f":"IF(ISNA(INDEX('План ввода основ. ср-в'!F:F,MATCH(B303,'План ввода основ. ср-в'!B:B,0))),0,INDEX('План ввода основ. ср-в'!F:F,MATCH(B303,'План ввода основ. ср-в'!B:B,0)))","v":0},"",{"$f":"IF(ISNA(INDEX('План ввода основ. ср-в'!E:E,MATCH(B303,'План ввода основ. ср-в'!B:B,0))),0,INDEX('План ввода основ. ср-в'!E:E,MATCH(B303,'План ввода основ. ср-в'!B:B,0)))","v":0},{"$f":"IF(ISNA(INDEX('План ввода основ. ср-в'!H:H,MATCH(B303,'План ввода основ. ср-в'!B:B,0))),0,INDEX('План ввода основ. ср-в'!H:H,MATCH(B303,'План ввода основ. ср-в'!B:B,0)))","v":0},"",{"$f":"IF(ISNA(INDEX('План ввода основ. ср-в'!G:G,MATCH(B303,'План ввода основ. ср-в'!B:B,0))),0,INDEX('План ввода основ. ср-в'!G:G,MATCH(B303,'План ввода основ. ср-в'!B:B,0)))","v":0},{"$f":"IF(ISNA(INDEX('План ввода основ. ср-в'!J:J,MATCH(B303,'План ввода основ. ср-в'!B:B,0))),0,INDEX('План ввода основ. ср-в'!J:J,MATCH(B303,'План ввода основ. ср-в'!B:B,0)))","v":0},"",{"$f":"IF(ISNA(INDEX('План ввода основ. ср-в'!I:I,MATCH(B303,'План ввода основ. ср-в'!B:B,0))),0,INDEX('План ввода основ. ср-в'!I:I,MATCH(B303,'План ввода основ. ср-в'!B:B,0)))","v":0},{"$f":"IF(ISNA(INDEX('План ввода основ. ср-в'!L:L,MATCH(B303,'План ввода основ. ср-в'!B:B,0))),0,INDEX('План ввода основ. ср-в'!L:L,MATCH(B303,'План ввода основ. ср-в'!B:B,0)))","v":7.5},"/",{"$f":"IF(ISNA(INDEX('План ввода основ. ср-в'!K:K,MATCH(B303,'План ввода основ. ср-в'!B:B,0))),0,INDEX('План ввода основ. ср-в'!K:K,MATCH(B303,'План ввода основ. ср-в'!B:B,0)))","v":1.5},7.5,"/",1.5,{"$f":"IF(ISNA(INDEX('План ввода основ. ср-в'!N:N,MATCH(B303,'План ввода основ. ср-в'!B:B,0))),0,INDEX('План ввода основ. ср-в'!N:N,MATCH(B303,'План ввода основ. ср-в'!B:B,0)))","v":0},"",{"$f":"IF(ISNA(INDEX('План ввода основ. ср-в'!M:M,MATCH(B303,'План ввода основ. ср-в'!B:B,0))),0,INDEX('План ввода основ. ср-в'!M:M,MATCH(B303,'План ввода основ. ср-в'!B:B,0)))","v":0},{"$f":"IF(ISNA(INDEX('План ввода основ. ср-в'!P:P,MATCH(B303,'План ввода основ. ср-в'!B:B,0))),0,INDEX('План ввода основ. ср-в'!P:P,MATCH(B303,'План ввода основ. ср-в'!B:B,0)))","v":0},"",{"$f":"IF(ISNA(INDEX('План ввода основ. ср-в'!O:O,MATCH(B303,'План ввода основ. ср-в'!B:B,0))),0,INDEX('План ввода основ. ср-в'!O:O,MATCH(B303,'План ввода основ. ср-в'!B:B,0)))","v":0},{"$f":"IF(ISNA(INDEX('План ввода основ. ср-в'!R:R,MATCH(B303,'План ввода основ. ср-в'!B:B,0))),0,INDEX('План ввода основ. ср-в'!R:R,MATCH(B303,'План ввода основ. ср-в'!B:B,0)))","v":0},"",{"$f":"IF(ISNA(INDEX('План ввода основ. ср-в'!Q:Q,MATCH(B303,'План ввода основ. ср-в'!B:B,0))),0,INDEX('План ввода основ. ср-в'!Q:Q,MATCH(B303,'План ввода основ. ср-в'!B:B,0)))","v":0},{"$f":"IF(ISNA(INDEX('План ввода основ. ср-в'!T:T,MATCH(B303,'План ввода основ. ср-в'!B:B,0))),0,INDEX('План ввода основ. ср-в'!T:T,MATCH(B303,'План ввода основ. ср-в'!B:B,0)))","v":0},"",{"$f":"IF(ISNA(INDEX('План ввода основ. ср-в'!S:S,MATCH(B303,'План ввода основ. ср-в'!B:B,0))),0,INDEX('План ввода основ. ср-в'!S:S,MATCH(B303,'План ввода основ. ср-в'!B:B,0)))","v":0},7.5,"/",1.5,{"$f":"IF(ISNA(INDEX('План ввода основ. ср-в'!V:V,MATCH(B303,'План ввода основ. ср-в'!B:B,0))),0,INDEX('План ввода основ. ср-в'!V:V,MATCH(B303,'План ввода основ. ср-в'!B:B,0)))","v":0},{"$f":"IF(ISNA(INDEX('План ввода основ. ср-в'!W:W,MATCH(B303,'План ввода основ. ср-в'!B:B,0))),0,INDEX('План ввода основ. ср-в'!W:W,MATCH(B303,'План ввода основ. ср-в'!B:B,0)))","v":7.5433934715254232},{"$f":"IF(ISNA(INDEX('План ввода основ. ср-в'!X:X,MATCH(B303,'План ввода основ. ср-в'!B:B,0))),0,INDEX('План ввода основ. ср-в'!X:X,MATCH(B303,'План ввода основ. ср-в'!B:B,0)))","v":17.60125143355932},{"$f":"IF(ISNA(INDEX('План ввода основ. ср-в'!Y:Y,MATCH(B303,'План ввода основ. ср-в'!B:B,0))),0,INDEX('План ввода основ. ср-в'!Y:Y,MATCH(B303,'План ввода основ. ср-в'!B:B,0)))","v":25.144644905084746},50.289289810169493,{"$f":"IF(ISNA(INDEX('План ввода основ. ср-в'!Z:Z,MATCH(B303,'План ввода основ. ср-в'!B:B,0))),0,INDEX('План ввода основ. ср-в'!Z:Z,MATCH(B303,'План ввода основ. ср-в'!B:B,0)))","v":0},{"$f":"IF(ISNA(INDEX('План ввода основ. ср-в'!AA:AA,MATCH(B303,'План ввода основ. ср-в'!B:B,0))),0,INDEX('План ввода основ. ср-в'!AA:AA,MATCH(B303,'План ввода основ. ср-в'!B:B,0)))","v":0},{"$f":"IF(ISNA(INDEX('План ввода основ. ср-в'!AB:AB,MATCH(B303,'План ввода основ. ср-в'!B:B,0))),0,INDEX('План ввода основ. ср-в'!AB:AB,MATCH(B303,'План ввода основ. ср-в'!B:B,0)))","v":0},{"$f":"IF(ISNA(INDEX('План ввода основ. ср-в'!AC:AC,MATCH(B303,'План ввода основ. ср-в'!B:B,0))),0,INDEX('План ввода основ. ср-в'!AC:AC,MATCH(B303,'План ввода основ. ср-в'!B:B,0)))","v":0},50.289289810169493]
[9,"Красноярский район",null,null,null,null,null,null,0,"",0,0,"",0,0,"",0,0,"",0,0,"",0,0,null,null,null,{"$f":"IF(ISNA(INDEX('План ввода основ. ср-в'!F:F,MATCH(B304,'План ввода основ. ср-в'!B:B,0))),0,INDEX('План ввода основ. ср-в'!F:F,MATCH(B304,'План ввода основ. ср-в'!B:B,0)))","v":0},"",{"$f":"IF(ISNA(INDEX('План ввода основ. ср-в'!E:E,MATCH(B304,'План ввода основ. ср-в'!B:B,0))),0,INDEX('План ввода основ. ср-в'!E:E,MATCH(B304,'План ввода основ. ср-в'!B:B,0)))","v":0},{"$f":"IF(ISNA(INDEX('План ввода основ. ср-в'!H:H,MATCH(B304,'План ввода основ. ср-в'!B:B,0))),0,INDEX('План ввода основ. ср-в'!H:H,MATCH(B304,'План ввода основ. ср-в'!B:B,0)))","v":0},"",{"$f":"IF(ISNA(INDEX('План ввода основ. ср-в'!G:G,MATCH(B304,'План ввода основ. ср-в'!B:B,0))),0,INDEX('План ввода основ. ср-в'!G:G,MATCH(B304,'План ввода основ. ср-в'!B:B,0)))","v":0},{"$f":"IF(ISNA(INDEX('План ввода основ. ср-в'!J:J,MATCH(B304,'План ввода основ. ср-в'!B:B,0))),0,INDEX('План ввода основ. ср-в'!J:J,MATCH(B304,'План ввода основ. ср-в'!B:B,0)))","v":0},"",{"$f":"IF(ISNA(INDEX('План ввода основ. ср-в'!I:I,MATCH(B304,'План ввода основ. ср-в'!B:B,0))),0,INDEX('План ввода основ. ср-в'!I:I,MATCH(B304,'План ввода основ. ср-в'!B:B,0)))","v":0},{"$f":"IF(ISNA(INDEX('План ввода основ. ср-в'!L:L,MATCH(B304,'План ввода основ. ср-в'!B:B,0))),0,INDEX('План ввода основ. ср-в'!L:L,MATCH(B304,'План ввода основ. ср-в'!B:B,0)))","v":0},"",{"$f":"IF(ISNA(INDEX('План ввода основ. ср-в'!K:K,MATCH(B304,'План ввода основ. ср-в'!B:B,0))),0,INDEX('План ввода основ. ср-в'!K:K,MATCH(B304,'План ввода основ. ср-в'!B:B,0)))","v":0},0,"/",0,{"$f":"IF(ISNA(INDEX('План ввода основ. ср-в'!N:N,MATCH(B304,'План ввода основ. ср-в'!B:B,0))),0,INDEX('План ввода основ. ср-в'!N:N,MATCH(B304,'План ввода основ. ср-в'!B:B,0)))","v":0},"",{"$f":"IF(ISNA(INDEX('План ввода основ. ср-в'!M:M,MATCH(B304,'План ввода основ. ср-в'!B:B,0))),0,INDEX('План ввода основ. ср-в'!M:M,MATCH(B304,'План ввода основ. ср-в'!B:B,0)))","v":0},{"$f":"IF(ISNA(INDEX('План ввода основ. ср-в'!P:P,MATCH(B304,'План ввода основ. ср-в'!B:B,0))),0,INDEX('План ввода основ. ср-в'!P:P,MATCH(B304,'План ввода основ. ср-в'!B:B,0)))","v":0},"",{"$f":"IF(ISNA(INDEX('План ввода основ. ср-в'!O:O,MATCH(B304,'План ввода основ. ср-в'!B:B,0))),0,INDEX('План ввода основ. ср-в'!O:O,MATCH(B304,'План ввода основ. ср-в'!B:B,0)))","v":0},{"$f":"IF(ISNA(INDEX('План ввода основ. ср-в'!R:R,MATCH(B304,'План ввода основ. ср-в'!B:B,0))),0,INDEX('План ввода основ. ср-в'!R:R,MATCH(B304,'План ввода основ. ср-в'!B:B,0)))","v":0},"",{"$f":"IF(ISNA(INDEX('План ввода основ. ср-в'!Q:Q,MATCH(B304,'План ввода основ. ср-в'!B:B,0))),0,INDEX('План ввода основ. ср-в'!Q:Q,MATCH(B304,'План ввода основ. ср-в'!B:B,0)))","v":0},{"$f":"IF(ISNA(INDEX('План ввода основ. ср-в'!T:T,MATCH(B304,'План ввода основ. ср-в'!B:B,0))),0,INDEX('План ввода основ. ср-в'!T:T,MATCH(B304,'План ввода основ. ср-в'!B:B,0)))","v":0},"",{"$f":"IF(ISNA(INDEX('План ввода основ. ср-в'!S:S,MATCH(B304,'План ввода основ. ср-в'!B:B,0))),0,INDEX('План ввода основ. ср-в'!S:S,MATCH(B304,'План ввода основ. ср-в'!B:B,0)))","v":0},0,null,0,{"$f":"IF(ISNA(INDEX('План ввода основ. ср-в'!V:V,MATCH(B304,'План ввода основ. ср-в'!B:B,0))),0,INDEX('План ввода основ. ср-в'!V:V,MATCH(B304,'План ввода основ. ср-в'!B:B,0)))","v":0},{"$f":"IF(ISNA(INDEX('План ввода основ. ср-в'!W:W,MATCH(B304,'План ввода основ. ср-в'!B:B,0))),0,INDEX('План ввода основ. ср-в'!W:W,MATCH(B304,'План ввода основ. ср-в'!B:B,0)))","v":0},{"$f":"IF(ISNA(INDEX('План ввода основ. ср-в'!X:X,MATCH(B304,'План ввода основ. ср-в'!B:B,0))),0,INDEX('План ввода основ. ср-в'!X:X,MATCH(B304,'План ввода основ. ср-в'!B:B,0)))","v":0},{"$f":"IF(ISNA(INDEX('План ввода основ. ср-в'!Y:Y,MATCH(B304,'План ввода основ. ср-в'!B:B,0))),0,INDEX('План ввода основ. ср-в'!Y:Y,MATCH(B304,'План ввода основ. ср-в'!B:B,0)))","v":0},0,{"$f":"IF(ISNA(INDEX('План ввода основ. ср-в'!Z:Z,MATCH(B304,'План ввода основ. ср-в'!B:B,0))),0,INDEX('План ввода основ. ср-в'!Z:Z,MATCH(B304,'План ввода основ. ср-в'!B:B,0)))","v":0},{"$f":"IF(ISNA(INDEX('План ввода основ. ср-в'!AA:AA,MATCH(B304,'План ввода основ. ср-в'!B:B,0))),0,INDEX('План ввода основ. ср-в'!AA:AA,MATCH(B304,'План ввода основ. ср-в'!B:B,0)))","v":0},{"$f":"IF(ISNA(INDEX('План ввода основ. ср-в'!AB:AB,MATCH(B304,'План ввода основ. ср-в'!B:B,0))),0,INDEX('План ввода основ. ср-в'!AB:AB,MATCH(B304,'План ввода основ. ср-в'!B:B,0)))","v":0},{"$f":"IF(ISNA(INDEX('План ввода основ. ср-в'!AC:AC,MATCH(B304,'План ввода основ. ср-в'!B:B,0))),0,INDEX('План ввода основ. ср-в'!AC:AC,MATCH(B304,'План ввода основ. ср-в'!B:B,0)))","v":0},0]
[10,"Строительство внешнего электроснабжения многоэтажной жилой застройки в  п. Мирный",null,null,null,null,null,null,0,"",0,0,"",0,0,"",0,0,"",0,0,"",0,0,null,null,null,{"$f":"IF(ISNA(INDEX('План ввода основ. ср-в'!F:F,MATCH(B305,'План ввода основ. ср-в'!B:B,0))),0,INDEX('План ввода основ. ср-в'!F:F,MATCH(B305,'План ввода основ. ср-в'!B:B,0)))","v":0},"",{"$f":"IF(ISNA(INDEX('План ввода основ. ср-в'!E:E,MATCH(B305,'План ввода основ. ср-в'!B:B,0))),0,INDEX('План ввода основ. ср-в'!E:E,MATCH(B305,'План ввода основ. ср-в'!B:B,0)))","v":0},{"$f":"IF(ISNA(INDEX('План ввода основ. ср-в'!H:H,MATCH(B305,'План ввода основ. ср-в'!B:B,0))),0,INDEX('План ввода основ. ср-в'!H:H,MATCH(B305,'План ввода основ. ср-в'!B:B,0)))","v":0},"",{"$f":"IF(ISNA(INDEX('План ввода основ. ср-в'!G:G,MATCH(B305,'План ввода основ. ср-в'!B:B,0))),0,INDEX('План ввода основ. ср-в'!G:G,MATCH(B305,'План ввода основ. ср-в'!B:B,0)))","v":0},{"$f":"IF(ISNA(INDEX('План ввода основ. ср-в'!J:J,MATCH(B305,'План ввода основ. ср-в'!B:B,0))),0,INDEX('План ввода основ. ср-в'!J:J,MATCH(B305,'План ввода основ. ср-в'!B:B,0)))","v":0},"",{"$f":"IF(ISNA(INDEX('План ввода основ. ср-в'!I:I,MATCH(B305,'План ввода основ. ср-в'!B:B,0))),0,INDEX('План ввода основ. ср-в'!I:I,MATCH(B305,'План ввода основ. ср-в'!B:B,0)))","v":0},{"$f":"IF(ISNA(INDEX('План ввода основ. ср-в'!L:L,MATCH(B305,'План ввода основ. ср-в'!B:B,0))),0,INDEX('План ввода основ. ср-в'!L:L,MATCH(B305,'План ввода основ. ср-в'!B:B,0)))","v":0.9},"/",{"$f":"IF(ISNA(INDEX('План ввода основ. ср-в'!K:K,MATCH(B305,'План ввода основ. ср-в'!B:B,0))),0,INDEX('План ввода основ. ср-в'!K:K,MATCH(B305,'План ввода основ. ср-в'!B:B,0)))","v":0.25},0.9,"/",0.25,{"$f":"IF(ISNA(INDEX('План ввода основ. ср-в'!N:N,MATCH(B305,'План ввода основ. ср-в'!B:B,0))),0,INDEX('План ввода основ. ср-в'!N:N,MATCH(B305,'План ввода основ. ср-в'!B:B,0)))","v":0},"",{"$f":"IF(ISNA(INDEX('План ввода основ. ср-в'!M:M,MATCH(B305,'План ввода основ. ср-в'!B:B,0))),0,INDEX('План ввода основ. ср-в'!M:M,MATCH(B305,'План ввода основ. ср-в'!B:B,0)))","v":0},{"$f":"IF(ISNA(INDEX('План ввода основ. ср-в'!P:P,MATCH(B305,'План ввода основ. ср-в'!B:B,0))),0,INDEX('План ввода основ. ср-в'!P:P,MATCH(B305,'План ввода основ. ср-в'!B:B,0)))","v":0},"",{"$f":"IF(ISNA(INDEX('План ввода основ. ср-в'!O:O,MATCH(B305,'План ввода основ. ср-в'!B:B,0))),0,INDEX('План ввода основ. ср-в'!O:O,MATCH(B305,'План ввода основ. ср-в'!B:B,0)))","v":0},{"$f":"IF(ISNA(INDEX('План ввода основ. ср-в'!R:R,MATCH(B305,'План ввода основ. ср-в'!B:B,0))),0,INDEX('План ввода основ. ср-в'!R:R,MATCH(B305,'План ввода основ. ср-в'!B:B,0)))","v":0},"",{"$f":"IF(ISNA(INDEX('План ввода основ. ср-в'!Q:Q,MATCH(B305,'План ввода основ. ср-в'!B:B,0))),0,INDEX('План ввода основ. ср-в'!Q:Q,MATCH(B305,'План ввода основ. ср-в'!B:B,0)))","v":0},{"$f":"IF(ISNA(INDEX('План ввода основ. ср-в'!T:T,MATCH(B305,'План ввода основ. ср-в'!B:B,0))),0,INDEX('План ввода основ. ср-в'!T:T,MATCH(B305,'План ввода основ. ср-в'!B:B,0)))","v":0},"",{"$f":"IF(ISNA(INDEX('План ввода основ. ср-в'!S:S,MATCH(B305,'План ввода основ. ср-в'!B:B,0))),0,INDEX('План ввода основ. ср-в'!S:S,MATCH(B305,'План ввода основ. ср-в'!B:B,0)))","v":0},0.9,"/",0.25,{"$f":"IF(ISNA(INDEX('План ввода основ. ср-в'!V:V,MATCH(B305,'План ввода основ. ср-в'!B:B,0))),0,INDEX('План ввода основ. ср-в'!V:V,MATCH(B305,'План ввода основ. ср-в'!B:B,0)))","v":0},{"$f":"IF(ISNA(INDEX('План ввода основ. ср-в'!W:W,MATCH(B305,'План ввода основ. ср-в'!B:B,0))),0,INDEX('План ввода основ. ср-в'!W:W,MATCH(B305,'План ввода основ. ср-в'!B:B,0)))","v":0.74318546399999996},{"$f":"IF(ISNA(INDEX('План ввода основ. ср-в'!X:X,MATCH(B305,'План ввода основ. ср-в'!B:B,0))),0,INDEX('План ввода основ. ср-в'!X:X,MATCH(B305,'План ввода основ. ср-в'!B:B,0)))","v":1.7340994159999998},{"$f":"IF(ISNA(INDEX('План ввода основ. ср-в'!Y:Y,MATCH(B305,'План ввода основ. ср-в'!B:B,0))),0,INDEX('План ввода основ. ср-в'!Y:Y,MATCH(B305,'План ввода основ. ср-в'!B:B,0)))","v":2.47728488},4.95456976,{"$f":"IF(ISNA(INDEX('План ввода основ. ср-в'!Z:Z,MATCH(B305,'План ввода основ. ср-в'!B:B,0))),0,INDEX('План ввода основ. ср-в'!Z:Z,MATCH(B305,'План ввода основ. ср-в'!B:B,0)))","v":0},{"$f":"IF(ISNA(INDEX('План ввода основ. ср-в'!AA:AA,MATCH(B305,'План ввода основ. ср-в'!B:B,0))),0,INDEX('План ввода основ. ср-в'!AA:AA,MATCH(B305,'План ввода основ. ср-в'!B:B,0)))","v":0},{"$f":"IF(ISNA(INDEX('План ввода основ. ср-в'!AB:AB,MATCH(B305,'План ввода основ. ср-в'!B:B,0))),0,INDEX('План ввода основ. ср-в'!AB:AB,MATCH(B305,'План ввода основ. ср-в'!B:B,0)))","v":0},{"$f":"IF(ISNA(INDEX('План ввода основ. ср-в'!AC:AC,MATCH(B305,'План ввода основ. ср-в'!B:B,0))),0,INDEX('План ввода основ. ср-в'!AC:AC,MATCH(B305,'План ввода основ. ср-в'!B:B,0)))","v":0},4.95456976]
[11,"Строительство внешнего электроснабжения Физкультурного комплекса в с. Красный Яр",null,null,null,null,null,null,0,"",0,0,"",0,0,"",0,0,"",0,0,"",0,0,null,null,null,{"$f":"IF(ISNA(INDEX('План ввода основ. ср-в'!F:F,MATCH(B306,'План ввода основ. ср-в'!B:B,0))),0,INDEX('План ввода основ. ср-в'!F:F,MATCH(B306,'План ввода основ. ср-в'!B:B,0)))","v":0},"",{"$f":"IF(ISNA(INDEX('План ввода основ. ср-в'!E:E,MATCH(B306,'План ввода основ. ср-в'!B:B,0))),0,INDEX('План ввода основ. ср-в'!E:E,MATCH(B306,'План ввода основ. ср-в'!B:B,0)))","v":0},{"$f":"IF(ISNA(INDEX('План ввода основ. ср-в'!H:H,MATCH(B306,'План ввода основ. ср-в'!B:B,0))),0,INDEX('План ввода основ. ср-в'!H:H,MATCH(B306,'План ввода основ. ср-в'!B:B,0)))","v":0},"",{"$f":"IF(ISNA(INDEX('План ввода основ. ср-в'!G:G,MATCH(B306,'План ввода основ. ср-в'!B:B,0))),0,INDEX('План ввода основ. ср-в'!G:G,MATCH(B306,'План ввода основ. ср-в'!B:B,0)))","v":0},{"$f":"IF(ISNA(INDEX('План ввода основ. ср-в'!J:J,MATCH(B306,'План ввода основ. ср-в'!B:B,0))),0,INDEX('План ввода основ. ср-в'!J:J,MATCH(B306,'План ввода основ. ср-в'!B:B,0)))","v":0},"",{"$f":"IF(ISNA(INDEX('План ввода основ. ср-в'!I:I,MATCH(B306,'План ввода основ. ср-в'!B:B,0))),0,INDEX('План ввода основ. ср-в'!I:I,MATCH(B306,'План ввода основ. ср-в'!B:B,0)))","v":0},{"$f":"IF(ISNA(INDEX('План ввода основ. ср-в'!L:L,MATCH(B306,'План ввода основ. ср-в'!B:B,0))),0,INDEX('План ввода основ. ср-в'!L:L,MATCH(B306,'План ввода основ. ср-в'!B:B,0)))","v":0},"",{"$f":"IF(ISNA(INDEX('План ввода основ. ср-в'!K:K,MATCH(B306,'План ввода основ. ср-в'!B:B,0))),0,INDEX('План ввода основ. ср-в'!K:K,MATCH(B306,'План ввода основ. ср-в'!B:B,0)))","v":0},0,null,0,{"$f":"IF(ISNA(INDEX('План ввода основ. ср-в'!N:N,MATCH(B306,'План ввода основ. ср-в'!B:B,0))),0,INDEX('План ввода основ. ср-в'!N:N,MATCH(B306,'План ввода основ. ср-в'!B:B,0)))","v":0},"",{"$f":"IF(ISNA(INDEX('План ввода основ. ср-в'!M:M,MATCH(B306,'План ввода основ. ср-в'!B:B,0))),0,INDEX('План ввода основ. ср-в'!M:M,MATCH(B306,'План ввода основ. ср-в'!B:B,0)))","v":0},{"$f":"IF(ISNA(INDEX('План ввода основ. ср-в'!P:P,MATCH(B306,'План ввода основ. ср-в'!B:B,0))),0,INDEX('План ввода основ. ср-в'!P:P,MATCH(B306,'План ввода основ. ср-в'!B:B,0)))","v":0},"",{"$f":"IF(ISNA(INDEX('План ввода основ. ср-в'!O:O,MATCH(B306,'План ввода основ. ср-в'!B:B,0))),0,INDEX('План ввода основ. ср-в'!O:O,MATCH(B306,'План ввода основ. ср-в'!B:B,0)))","v":0},{"$f":"IF(ISNA(INDEX('План ввода основ. ср-в'!R:R,MATCH(B306,'План ввода основ. ср-в'!B:B,0))),0,INDEX('План ввода основ. ср-в'!R:R,MATCH(B306,'План ввода основ. ср-в'!B:B,0)))","v":1.3},"/",{"$f":"IF(ISNA(INDEX('План ввода основ. ср-в'!Q:Q,MATCH(B306,'План ввода основ. ср-в'!B:B,0))),0,INDEX('План ввода основ. ср-в'!Q:Q,MATCH(B306,'План ввода основ. ср-в'!B:B,0)))","v":0.4},{"$f":"IF(ISNA(INDEX('План ввода основ. ср-в'!T:T,MATCH(B306,'План ввода основ. ср-в'!B:B,0))),0,INDEX('План ввода основ. ср-в'!T:T,MATCH(B306,'План ввода основ. ср-в'!B:B,0)))","v":0},"",{"$f":"IF(ISNA(INDEX('План ввода основ. ср-в'!S:S,MATCH(B306,'План ввода основ. ср-в'!B:B,0))),0,INDEX('План ввода основ. ср-в'!S:S,MATCH(B306,'План ввода основ. ср-в'!B:B,0)))","v":0},1.3,"/",0.4,{"$f":"IF(ISNA(INDEX('План ввода основ. ср-в'!V:V,MATCH(B306,'План ввода основ. ср-в'!B:B,0))),0,INDEX('План ввода основ. ср-в'!V:V,MATCH(B306,'План ввода основ. ср-в'!B:B,0)))","v":0},{"$f":"IF(ISNA(INDEX('План ввода основ. ср-в'!W:W,MATCH(B306,'План ввода основ. ср-в'!B:B,0))),0,INDEX('План ввода основ. ср-в'!W:W,MATCH(B306,'План ввода основ. ср-в'!B:B,0)))","v":0},{"$f":"IF(ISNA(INDEX('План ввода основ. ср-в'!X:X,MATCH(B306,'План ввода основ. ср-в'!B:B,0))),0,INDEX('План ввода основ. ср-в'!X:X,MATCH(B306,'План ввода основ. ср-в'!B:B,0)))","v":0},{"$f":"IF(ISNA(INDEX('План ввода основ. ср-в'!Y:Y,MATCH(B306,'План ввода основ. ср-в'!B:B,0))),0,INDEX('План ввода основ. ср-в'!Y:Y,MATCH(B306,'План ввода основ. ср-в'!B:B,0)))","v":0},0,{"$f":"IF(ISNA(INDEX('План ввода основ. ср-в'!Z:Z,MATCH(B306,'План ввода основ. ср-в'!B:B,0))),0,INDEX('План ввода основ. ср-в'!Z:Z,MATCH(B306,'План ввода основ. ср-в'!B:B,0)))","v":0},{"$f":"IF(ISNA(INDEX('План ввода основ. ср-в'!AA:AA,MATCH(B306,'План ввода основ. ср-в'!B:B,0))),0,INDEX('План ввода основ. ср-в'!AA:AA,MATCH(B306,'План ввода основ. ср-в'!B:B,0)))","v":0},{"$f":"IF(ISNA(INDEX('План ввода основ. ср-в'!AB:AB,MATCH(B306,'План ввода основ. ср-в'!B:B,0))),0,INDEX('План ввода основ. ср-в'!AB:AB,MATCH(B306,'План ввода основ. ср-в'!B:B,0)))","v":8},{"$f":"IF(ISNA(INDEX('План ввода основ. ср-в'!AC:AC,MATCH(B306,'План ввода основ. ср-в'!B:B,0))),0,INDEX('План ввода основ. ср-в'!AC:AC,MATCH(B306,'План ввода основ. ср-в'!B:B,0)))","v":0},8]
[12,"г.о. Новокуйбышевск",null,null,null,null,null,null,0,"",0,0,"",0,0,"",0,0,"",0,0,"",0,0,null,null,null,{"$f":"IF(ISNA(INDEX('План ввода основ. ср-в'!F:F,MATCH(B307,'План ввода основ. ср-в'!B:B,0))),0,INDEX('План ввода основ. ср-в'!F:F,MATCH(B307,'План ввода основ. ср-в'!B:B,0)))","v":0},"",{"$f":"IF(ISNA(INDEX('План ввода основ. ср-в'!E:E,MATCH(B307,'План ввода основ. ср-в'!B:B,0))),0,INDEX('План ввода основ. ср-в'!E:E,MATCH(B307,'План ввода основ. ср-в'!B:B,0)))","v":0},{"$f":"IF(ISNA(INDEX('План ввода основ. ср-в'!H:H,MATCH(B307,'План ввода основ. ср-в'!B:B,0))),0,INDEX('План ввода основ. ср-в'!H:H,MATCH(B307,'План ввода основ. ср-в'!B:B,0)))","v":0},"",{"$f":"IF(ISNA(INDEX('План ввода основ. ср-в'!G:G,MATCH(B307,'План ввода основ. ср-в'!B:B,0))),0,INDEX('План ввода основ. ср-в'!G:G,MATCH(B307,'План ввода основ. ср-в'!B:B,0)))","v":0},{"$f":"IF(ISNA(INDEX('План ввода основ. ср-в'!J:J,MATCH(B307,'План ввода основ. ср-в'!B:B,0))),0,INDEX('План ввода основ. ср-в'!J:J,MATCH(B307,'План ввода основ. ср-в'!B:B,0)))","v":0},"",{"$f":"IF(ISNA(INDEX('План ввода основ. ср-в'!I:I,MATCH(B307,'План ввода основ. ср-в'!B:B,0))),0,INDEX('План ввода основ. ср-в'!I:I,MATCH(B307,'План ввода основ. ср-в'!B:B,0)))","v":0},{"$f":"IF(ISNA(INDEX('План ввода основ. ср-в'!L:L,MATCH(B307,'План ввода основ. ср-в'!B:B,0))),0,INDEX('План ввода основ. ср-в'!L:L,MATCH(B307,'План ввода основ. ср-в'!B:B,0)))","v":0},"",{"$f":"IF(ISNA(INDEX('План ввода основ. ср-в'!K:K,MATCH(B307,'План ввода основ. ср-в'!B:B,0))),0,INDEX('План ввода основ. ср-в'!K:K,MATCH(B307,'План ввода основ. ср-в'!B:B,0)))","v":0},0,null,0,{"$f":"IF(ISNA(INDEX('План ввода основ. ср-в'!N:N,MATCH(B307,'План ввода основ. ср-в'!B:B,0))),0,INDEX('План ввода основ. ср-в'!N:N,MATCH(B307,'План ввода основ. ср-в'!B:B,0)))","v":0},"",{"$f":"IF(ISNA(INDEX('План ввода основ. ср-в'!M:M,MATCH(B307,'План ввода основ. ср-в'!B:B,0))),0,INDEX('План ввода основ. ср-в'!M:M,MATCH(B307,'План ввода основ. ср-в'!B:B,0)))","v":0},{"$f":"IF(ISNA(INDEX('План ввода основ. ср-в'!P:P,MATCH(B307,'План ввода основ. ср-в'!B:B,0))),0,INDEX('План ввода основ. ср-в'!P:P,MATCH(B307,'План ввода основ. ср-в'!B:B,0)))","v":0},"",{"$f":"IF(ISNA(INDEX('План ввода основ. ср-в'!O:O,MATCH(B307,'План ввода основ. ср-в'!B:B,0))),0,INDEX('План ввода основ. ср-в'!O:O,MATCH(B307,'План ввода основ. ср-в'!B:B,0)))","v":0},{"$f":"IF(ISNA(INDEX('План ввода основ. ср-в'!R:R,MATCH(B307,'План ввода основ. ср-в'!B:B,0))),0,INDEX('План ввода основ. ср-в'!R:R,MATCH(B307,'План ввода основ. ср-в'!B:B,0)))","v":0},"",{"$f":"IF(ISNA(INDEX('План ввода основ. ср-в'!Q:Q,MATCH(B307,'План ввода основ. ср-в'!B:B,0))),0,INDEX('План ввода основ. ср-в'!Q:Q,MATCH(B307,'План ввода основ. ср-в'!B:B,0)))","v":0},{"$f":"IF(ISNA(INDEX('План ввода основ. ср-в'!T:T,MATCH(B307,'План ввода основ. ср-в'!B:B,0))),0,INDEX('План ввода основ. ср-в'!T:T,MATCH(B307,'План ввода основ. ср-в'!B:B,0)))","v":0},"",{"$f":"IF(ISNA(INDEX('План ввода основ. ср-в'!S:S,MATCH(B307,'План ввода основ. ср-в'!B:B,0))),0,INDEX('План ввода основ. ср-в'!S:S,MATCH(B307,'План ввода основ. ср-в'!B:B,0)))","v":0},0,null,0,{"$f":"IF(ISNA(INDEX('План ввода основ. ср-в'!V:V,MATCH(B307,'План ввода основ. ср-в'!B:B,0))),0,INDEX('План ввода основ. ср-в'!V:V,MATCH(B307,'План ввода основ. ср-в'!B:B,0)))","v":0},{"$f":"IF(ISNA(INDEX('План ввода основ. ср-в'!W:W,MATCH(B307,'План ввода основ. ср-в'!B:B,0))),0,INDEX('План ввода основ. ср-в'!W:W,MATCH(B307,'План ввода основ. ср-в'!B:B,0)))","v":0},{"$f":"IF(ISNA(INDEX('План ввода основ. ср-в'!X:X,MATCH(B307,'План ввода основ. ср-в'!B:B,0))),0,INDEX('План ввода основ. ср-в'!X:X,MATCH(B307,'План ввода основ. ср-в'!B:B,0)))","v":0},{"$f":"IF(ISNA(INDEX('План ввода основ. ср-в'!Y:Y,MATCH(B307,'План ввода основ. ср-в'!B:B,0))),0,INDEX('План ввода основ. ср-в'!Y:Y,MATCH(B307,'План ввода основ. ср-в'!B:B,0)))","v":0},0,{"$f":"IF(ISNA(INDEX('План ввода основ. ср-в'!Z:Z,MATCH(B307,'План ввода основ. ср-в'!B:B,0))),0,INDEX('План ввода основ. ср-в'!Z:Z,MATCH(B307,'План ввода основ. ср-в'!B:B,0)))","v":0},{"$f":"IF(ISNA(INDEX('План ввода основ. ср-в'!AA:AA,MATCH(B307,'План ввода основ. ср-в'!B:B,0))),0,INDEX('План ввода основ. ср-в'!AA:AA,MATCH(B307,'План ввода основ. ср-в'!B:B,0)))","v":0},{"$f":"IF(ISNA(INDEX('План ввода основ. ср-в'!AB:AB,MATCH(B307,'План ввода основ. ср-в'!B:B,0))),0,INDEX('План ввода основ. ср-в'!AB:AB,MATCH(B307,'План ввода основ. ср-в'!B:B,0)))","v":0},{"$f":"IF(ISNA(INDEX('План ввода основ. ср-в'!AC:AC,MATCH(B307,'План ввода основ. ср-в'!B:B,0))),0,INDEX('План ввода основ. ср-в'!AC:AC,MATCH(B307,'План ввода основ. ср-в'!B:B,0)))","v":0},0]
[13,"Строительство внешнего электроснабжения многоэтажной жилой застройки в г.о.Новокуйбышевск, в районе ж/д по ул.Свердлова, 25А",null,null,null,null,null,null,0,"",0,0,"",0,0,"",0,0,"",0,0,"",0,0,null,null,null,{"$f":"IF(ISNA(INDEX('План ввода основ. ср-в'!F:F,MATCH(B308,'План ввода основ. ср-в'!B:B,0))),0,INDEX('План ввода основ. ср-в'!F:F,MATCH(B308,'План ввода основ. ср-в'!B:B,0)))","v":0},"",{"$f":"IF(ISNA(INDEX('План ввода основ. ср-в'!E:E,MATCH(B308,'План ввода основ. ср-в'!B:B,0))),0,INDEX('План ввода основ. ср-в'!E:E,MATCH(B308,'План ввода основ. ср-в'!B:B,0)))","v":0},{"$f":"IF(ISNA(INDEX('План ввода основ. ср-в'!H:H,MATCH(B308,'План ввода основ. ср-в'!B:B,0))),0,INDEX('План ввода основ. ср-в'!H:H,MATCH(B308,'План ввода основ. ср-в'!B:B,0)))","v":0},"",{"$f":"IF(ISNA(INDEX('План ввода основ. ср-в'!G:G,MATCH(B308,'План ввода основ. ср-в'!B:B,0))),0,INDEX('План ввода основ. ср-в'!G:G,MATCH(B308,'План ввода основ. ср-в'!B:B,0)))","v":0},{"$f":"IF(ISNA(INDEX('План ввода основ. ср-в'!J:J,MATCH(B308,'План ввода основ. ср-в'!B:B,0))),0,INDEX('План ввода основ. ср-в'!J:J,MATCH(B308,'План ввода основ. ср-в'!B:B,0)))","v":0},"",{"$f":"IF(ISNA(INDEX('План ввода основ. ср-в'!I:I,MATCH(B308,'План ввода основ. ср-в'!B:B,0))),0,INDEX('План ввода основ. ср-в'!I:I,MATCH(B308,'План ввода основ. ср-в'!B:B,0)))","v":0},{"$f":"IF(ISNA(INDEX('План ввода основ. ср-в'!L:L,MATCH(B308,'План ввода основ. ср-в'!B:B,0))),0,INDEX('План ввода основ. ср-в'!L:L,MATCH(B308,'План ввода основ. ср-в'!B:B,0)))","v":1.2},"/",{"$f":"IF(ISNA(INDEX('План ввода основ. ср-в'!K:K,MATCH(B308,'План ввода основ. ср-в'!B:B,0))),0,INDEX('План ввода основ. ср-в'!K:K,MATCH(B308,'План ввода основ. ср-в'!B:B,0)))","v":0.25},1.2,"/",0.25,{"$f":"IF(ISNA(INDEX('План ввода основ. ср-в'!N:N,MATCH(B308,'План ввода основ. ср-в'!B:B,0))),0,INDEX('План ввода основ. ср-в'!N:N,MATCH(B308,'План ввода основ. ср-в'!B:B,0)))","v":1.5},"/",{"$f":"IF(ISNA(INDEX('План ввода основ. ср-в'!M:M,MATCH(B308,'План ввода основ. ср-в'!B:B,0))),0,INDEX('План ввода основ. ср-в'!M:M,MATCH(B308,'План ввода основ. ср-в'!B:B,0)))","v":1.6},{"$f":"IF(ISNA(INDEX('План ввода основ. ср-в'!P:P,MATCH(B308,'План ввода основ. ср-в'!B:B,0))),0,INDEX('План ввода основ. ср-в'!P:P,MATCH(B308,'План ввода основ. ср-в'!B:B,0)))","v":0},"",{"$f":"IF(ISNA(INDEX('План ввода основ. ср-в'!O:O,MATCH(B308,'План ввода основ. ср-в'!B:B,0))),0,INDEX('План ввода основ. ср-в'!O:O,MATCH(B308,'План ввода основ. ср-в'!B:B,0)))","v":0},{"$f":"IF(ISNA(INDEX('План ввода основ. ср-в'!R:R,MATCH(B308,'План ввода основ. ср-в'!B:B,0))),0,INDEX('План ввода основ. ср-в'!R:R,MATCH(B308,'План ввода основ. ср-в'!B:B,0)))","v":0.7},"/",{"$f":"IF(ISNA(INDEX('План ввода основ. ср-в'!Q:Q,MATCH(B308,'План ввода основ. ср-в'!B:B,0))),0,INDEX('План ввода основ. ср-в'!Q:Q,MATCH(B308,'План ввода основ. ср-в'!B:B,0)))","v":0},{"$f":"IF(ISNA(INDEX('План ввода основ. ср-в'!T:T,MATCH(B308,'План ввода основ. ср-в'!B:B,0))),0,INDEX('План ввода основ. ср-в'!T:T,MATCH(B308,'План ввода основ. ср-в'!B:B,0)))","v":0},"",{"$f":"IF(ISNA(INDEX('План ввода основ. ср-в'!S:S,MATCH(B308,'План ввода основ. ср-в'!B:B,0))),0,INDEX('План ввода основ. ср-в'!S:S,MATCH(B308,'План ввода основ. ср-в'!B:B,0)))","v":0},3.4000000000000004,"/",1.85,{"$f":"IF(ISNA(INDEX('План ввода основ. ср-в'!V:V,MATCH(B308,'План ввода основ. ср-в'!B:B,0))),0,INDEX('План ввода основ. ср-в'!V:V,MATCH(B308,'План ввода основ. ср-в'!B:B,0)))","v":0},{"$f":"IF(ISNA(INDEX('План ввода основ. ср-в'!W:W,MATCH(B308,'План ввода основ. ср-в'!B:B,0))),0,INDEX('План ввода основ. ср-в'!W:W,MATCH(B308,'План ввода основ. ср-в'!B:B,0)))","v":0.96813712799999996},{"$f":"IF(ISNA(INDEX('План ввода основ. ср-в'!X:X,MATCH(B308,'План ввода основ. ср-в'!B:B,0))),0,INDEX('План ввода основ. ср-в'!X:X,MATCH(B308,'План ввода основ. ср-в'!B:B,0)))","v":2.258986632},{"$f":"IF(ISNA(INDEX('План ввода основ. ср-в'!Y:Y,MATCH(B308,'План ввода основ. ср-в'!B:B,0))),0,INDEX('План ввода основ. ср-в'!Y:Y,MATCH(B308,'План ввода основ. ср-в'!B:B,0)))","v":3.22712376},6.45424752,{"$f":"IF(ISNA(INDEX('План ввода основ. ср-в'!Z:Z,MATCH(B308,'План ввода основ. ср-в'!B:B,0))),0,INDEX('План ввода основ. ср-в'!Z:Z,MATCH(B308,'План ввода основ. ср-в'!B:B,0)))","v":4.8},{"$f":"IF(ISNA(INDEX('План ввода основ. ср-в'!AA:AA,MATCH(B308,'План ввода основ. ср-в'!B:B,0))),0,INDEX('План ввода основ. ср-в'!AA:AA,MATCH(B308,'План ввода основ. ср-в'!B:B,0)))","v":0},{"$f":"IF(ISNA(INDEX('План ввода основ. ср-в'!AB:AB,MATCH(B308,'План ввода основ. ср-в'!B:B,0))),0,INDEX('План ввода основ. ср-в'!AB:AB,MATCH(B308,'План ввода основ. ср-в'!B:B,0)))","v":4.8},{"$f":"IF(ISNA(INDEX('План ввода основ. ср-в'!AC:AC,MATCH(B308,'План ввода основ. ср-в'!B:B,0))),0,INDEX('План ввода основ. ср-в'!AC:AC,MATCH(B308,'План ввода основ. ср-в'!B:B,0)))","v":0},16.054247520000001]
[14,"Строительство внешнего электроснабжения ФОК с ледовой ареной в г.о.Новокуйбышевск, по ул.Чернышевского",null,null,null,null,null,null,0,"",0,0,"",0,0,"",0,0,"",0,0,"",0,0,null,null,null,{"$f":"IF(ISNA(INDEX('План ввода основ. ср-в'!F:F,MATCH(B309,'План ввода основ. ср-в'!B:B,0))),0,INDEX('План ввода основ. ср-в'!F:F,MATCH(B309,'План ввода основ. ср-в'!B:B,0)))","v":0},"",{"$f":"IF(ISNA(INDEX('План ввода основ. ср-в'!E:E,MATCH(B309,'План ввода основ. ср-в'!B:B,0))),0,INDEX('План ввода основ. ср-в'!E:E,MATCH(B309,'План ввода основ. ср-в'!B:B,0)))","v":0},{"$f":"IF(ISNA(INDEX('План ввода основ. ср-в'!H:H,MATCH(B309,'План ввода основ. ср-в'!B:B,0))),0,INDEX('План ввода основ. ср-в'!H:H,MATCH(B309,'План ввода основ. ср-в'!B:B,0)))","v":0},"",{"$f":"IF(ISNA(INDEX('План ввода основ. ср-в'!G:G,MATCH(B309,'План ввода основ. ср-в'!B:B,0))),0,INDEX('План ввода основ. ср-в'!G:G,MATCH(B309,'План ввода основ. ср-в'!B:B,0)))","v":0},{"$f":"IF(ISNA(INDEX('План ввода основ. ср-в'!J:J,MATCH(B309,'План ввода основ. ср-в'!B:B,0))),0,INDEX('План ввода основ. ср-в'!J:J,MATCH(B309,'План ввода основ. ср-в'!B:B,0)))","v":0},"",{"$f":"IF(ISNA(INDEX('План ввода основ. ср-в'!I:I,MATCH(B309,'План ввода основ. ср-в'!B:B,0))),0,INDEX('План ввода основ. ср-в'!I:I,MATCH(B309,'План ввода основ. ср-в'!B:B,0)))","v":0},{"$f":"IF(ISNA(INDEX('План ввода основ. ср-в'!L:L,MATCH(B309,'План ввода основ. ср-в'!B:B,0))),0,INDEX('План ввода основ. ср-в'!L:L,MATCH(B309,'План ввода основ. ср-в'!B:B,0)))","v":0},"",{"$f":"IF(ISNA(INDEX('План ввода основ. ср-в'!K:K,MATCH(B309,'План ввода основ. ср-в'!B:B,0))),0,INDEX('План ввода основ. ср-в'!K:K,MATCH(B309,'План ввода основ. ср-в'!B:B,0)))","v":0},null,null,null,{"$f":"IF(ISNA(INDEX('План ввода основ. ср-в'!N:N,MATCH(B309,'План ввода основ. ср-в'!B:B,0))),0,INDEX('План ввода основ. ср-в'!N:N,MATCH(B309,'План ввода основ. ср-в'!B:B,0)))","v":1.8},"/",{"$f":"IF(ISNA(INDEX('План ввода основ. ср-в'!M:M,MATCH(B309,'План ввода основ. ср-в'!B:B,0))),0,INDEX('План ввода основ. ср-в'!M:M,MATCH(B309,'План ввода основ. ср-в'!B:B,0)))","v":1.26},{"$f":"IF(ISNA(INDEX('План ввода основ. ср-в'!P:P,MATCH(B309,'План ввода основ. ср-в'!B:B,0))),0,INDEX('План ввода основ. ср-в'!P:P,MATCH(B309,'План ввода основ. ср-в'!B:B,0)))","v":0},"",{"$f":"IF(ISNA(INDEX('План ввода основ. ср-в'!O:O,MATCH(B309,'План ввода основ. ср-в'!B:B,0))),0,INDEX('План ввода основ. ср-в'!O:O,MATCH(B309,'План ввода основ. ср-в'!B:B,0)))","v":0},{"$f":"IF(ISNA(INDEX('План ввода основ. ср-в'!R:R,MATCH(B309,'План ввода основ. ср-в'!B:B,0))),0,INDEX('План ввода основ. ср-в'!R:R,MATCH(B309,'План ввода основ. ср-в'!B:B,0)))","v":0},"",{"$f":"IF(ISNA(INDEX('План ввода основ. ср-в'!Q:Q,MATCH(B309,'План ввода основ. ср-в'!B:B,0))),0,INDEX('План ввода основ. ср-в'!Q:Q,MATCH(B309,'План ввода основ. ср-в'!B:B,0)))","v":0},{"$f":"IF(ISNA(INDEX('План ввода основ. ср-в'!T:T,MATCH(B309,'План ввода основ. ср-в'!B:B,0))),0,INDEX('План ввода основ. ср-в'!T:T,MATCH(B309,'План ввода основ. ср-в'!B:B,0)))","v":0},"",{"$f":"IF(ISNA(INDEX('План ввода основ. ср-в'!S:S,MATCH(B309,'План ввода основ. ср-в'!B:B,0))),0,INDEX('План ввода основ. ср-в'!S:S,MATCH(B309,'План ввода основ. ср-в'!B:B,0)))","v":0},1.8,"/",1.26,{"$f":"IF(ISNA(INDEX('План ввода основ. ср-в'!V:V,MATCH(B309,'План ввода основ. ср-в'!B:B,0))),0,INDEX('План ввода основ. ср-в'!V:V,MATCH(B309,'План ввода основ. ср-в'!B:B,0)))","v":0},{"$f":"IF(ISNA(INDEX('План ввода основ. ср-в'!W:W,MATCH(B309,'План ввода основ. ср-в'!B:B,0))),0,INDEX('План ввода основ. ср-в'!W:W,MATCH(B309,'План ввода основ. ср-в'!B:B,0)))","v":0},{"$f":"IF(ISNA(INDEX('План ввода основ. ср-в'!X:X,MATCH(B309,'План ввода основ. ср-в'!B:B,0))),0,INDEX('План ввода основ. ср-в'!X:X,MATCH(B309,'План ввода основ. ср-в'!B:B,0)))","v":0},{"$f":"IF(ISNA(INDEX('План ввода основ. ср-в'!Y:Y,MATCH(B309,'План ввода основ. ср-в'!B:B,0))),0,INDEX('План ввода основ. ср-в'!Y:Y,MATCH(B309,'План ввода основ. ср-в'!B:B,0)))","v":0},0,{"$f":"IF(ISNA(INDEX('План ввода основ. ср-в'!Z:Z,MATCH(B309,'План ввода основ. ср-в'!B:B,0))),0,INDEX('План ввода основ. ср-в'!Z:Z,MATCH(B309,'План ввода основ. ср-в'!B:B,0)))","v":6.2},{"$f":"IF(ISNA(INDEX('План ввода основ. ср-в'!AA:AA,MATCH(B309,'План ввода основ. ср-в'!B:B,0))),0,INDEX('План ввода основ. ср-в'!AA:AA,MATCH(B309,'План ввода основ. ср-в'!B:B,0)))","v":0},{"$f":"IF(ISNA(INDEX('План ввода основ. ср-в'!AB:AB,MATCH(B309,'План ввода основ. ср-в'!B:B,0))),0,INDEX('План ввода основ. ср-в'!AB:AB,MATCH(B309,'План ввода основ. ср-в'!B:B,0)))","v":0},{"$f":"IF(ISNA(INDEX('План ввода основ. ср-в'!AC:AC,MATCH(B309,'План ввода основ. ср-в'!B:B,0))),0,INDEX('План ввода основ. ср-в'!AC:AC,MATCH(B309,'План ввода основ. ср-в'!B:B,0)))","v":0},6.2]
[15,"г.о. Отрадный",null,null,null,null,null,null,0,"",0,0,"",0,0,"",0,0,"",0,0,"",0,0,null,null,null,{"$f":"IF(ISNA(INDEX('План ввода основ. ср-в'!F:F,MATCH(B310,'План ввода основ. ср-в'!B:B,0))),0,INDEX('План ввода основ. ср-в'!F:F,MATCH(B310,'План ввода основ. ср-в'!B:B,0)))","v":0},"",{"$f":"IF(ISNA(INDEX('План ввода основ. ср-в'!E:E,MATCH(B310,'План ввода основ. ср-в'!B:B,0))),0,INDEX('План ввода основ. ср-в'!E:E,MATCH(B310,'План ввода основ. ср-в'!B:B,0)))","v":0},{"$f":"IF(ISNA(INDEX('План ввода основ. ср-в'!H:H,MATCH(B310,'План ввода основ. ср-в'!B:B,0))),0,INDEX('План ввода основ. ср-в'!H:H,MATCH(B310,'План ввода основ. ср-в'!B:B,0)))","v":0},"",{"$f":"IF(ISNA(INDEX('План ввода основ. ср-в'!G:G,MATCH(B310,'План ввода основ. ср-в'!B:B,0))),0,INDEX('План ввода основ. ср-в'!G:G,MATCH(B310,'План ввода основ. ср-в'!B:B,0)))","v":0},{"$f":"IF(ISNA(INDEX('План ввода основ. ср-в'!J:J,MATCH(B310,'План ввода основ. ср-в'!B:B,0))),0,INDEX('План ввода основ. ср-в'!J:J,MATCH(B310,'План ввода основ. ср-в'!B:B,0)))","v":0},"",{"$f":"IF(ISNA(INDEX('План ввода основ. ср-в'!I:I,MATCH(B310,'План ввода основ. ср-в'!B:B,0))),0,INDEX('План ввода основ. ср-в'!I:I,MATCH(B310,'План ввода основ. ср-в'!B:B,0)))","v":0},{"$f":"IF(ISNA(INDEX('План ввода основ. ср-в'!L:L,MATCH(B310,'План ввода основ. ср-в'!B:B,0))),0,INDEX('План ввода основ. ср-в'!L:L,MATCH(B310,'План ввода основ. ср-в'!B:B,0)))","v":0},"",{"$f":"IF(ISNA(INDEX('План ввода основ. ср-в'!K:K,MATCH(B310,'План ввода основ. ср-в'!B:B,0))),0,INDEX('План ввода основ. ср-в'!K:K,MATCH(B310,'План ввода основ. ср-в'!B:B,0)))","v":0},null,null,null,{"$f":"IF(ISNA(INDEX('План ввода основ. ср-в'!N:N,MATCH(B310,'План ввода основ. ср-в'!B:B,0))),0,INDEX('План ввода основ. ср-в'!N:N,MATCH(B310,'План ввода основ. ср-в'!B:B,0)))","v":0},"",{"$f":"IF(ISNA(INDEX('План ввода основ. ср-в'!M:M,MATCH(B310,'План ввода основ. ср-в'!B:B,0))),0,INDEX('План ввода основ. ср-в'!M:M,MATCH(B310,'План ввода основ. ср-в'!B:B,0)))","v":0},{"$f":"IF(ISNA(INDEX('План ввода основ. ср-в'!P:P,MATCH(B310,'План ввода основ. ср-в'!B:B,0))),0,INDEX('План ввода основ. ср-в'!P:P,MATCH(B310,'План ввода основ. ср-в'!B:B,0)))","v":0},"",{"$f":"IF(ISNA(INDEX('План ввода основ. ср-в'!O:O,MATCH(B310,'План ввода основ. ср-в'!B:B,0))),0,INDEX('План ввода основ. ср-в'!O:O,MATCH(B310,'План ввода основ. ср-в'!B:B,0)))","v":0},{"$f":"IF(ISNA(INDEX('План ввода основ. ср-в'!R:R,MATCH(B310,'План ввода основ. ср-в'!B:B,0))),0,INDEX('План ввода основ. ср-в'!R:R,MATCH(B310,'План ввода основ. ср-в'!B:B,0)))","v":0},"",{"$f":"IF(ISNA(INDEX('План ввода основ. ср-в'!Q:Q,MATCH(B310,'План ввода основ. ср-в'!B:B,0))),0,INDEX('План ввода основ. ср-в'!Q:Q,MATCH(B310,'План ввода основ. ср-в'!B:B,0)))","v":0},{"$f":"IF(ISNA(INDEX('План ввода основ. ср-в'!T:T,MATCH(B310,'План ввода основ. ср-в'!B:B,0))),0,INDEX('План ввода основ. ср-в'!T:T,MATCH(B310,'План ввода основ. ср-в'!B:B,0)))","v":0},"",{"$f":"IF(ISNA(INDEX('План ввода основ. ср-в'!S:S,MATCH(B310,'План ввода основ. ср-в'!B:B,0))),0,INDEX('План ввода основ. ср-в'!S:S,MATCH(B310,'План ввода основ. ср-в'!B:B,0)))","v":0},0,null,0,{"$f":"IF(ISNA(INDEX('План ввода основ. ср-в'!V:V,MATCH(B310,'План ввода основ. ср-в'!B:B,0))),0,INDEX('План ввода основ. ср-в'!V:V,MATCH(B310,'План ввода основ. ср-в'!B:B,0)))","v":0},{"$f":"IF(ISNA(INDEX('План ввода основ. ср-в'!W:W,MATCH(B310,'План ввода основ. ср-в'!B:B,0))),0,INDEX('План ввода основ. ср-в'!W:W,MATCH(B310,'План ввода основ. ср-в'!B:B,0)))","v":0},{"$f":"IF(ISNA(INDEX('План ввода основ. ср-в'!X:X,MATCH(B310,'План ввода основ. ср-в'!B:B,0))),0,INDEX('План ввода основ. ср-в'!X:X,MATCH(B310,'План ввода основ. ср-в'!B:B,0)))","v":0},{"$f":"IF(ISNA(INDEX('План ввода основ. ср-в'!Y:Y,MATCH(B310,'План ввода основ. ср-в'!B:B,0))),0,INDEX('План ввода основ. ср-в'!Y:Y,MATCH(B310,'План ввода основ. ср-в'!B:B,0)))","v":0},0,{"$f":"IF(ISNA(INDEX('План ввода основ. ср-в'!Z:Z,MATCH(B310,'План ввода основ. ср-в'!B:B,0))),0,INDEX('План ввода основ. ср-в'!Z:Z,MATCH(B310,'План ввода основ. ср-в'!B:B,0)))","v":0},{"$f":"IF(ISNA(INDEX('План ввода основ. ср-в'!AA:AA,MATCH(B310,'План ввода основ. ср-в'!B:B,0))),0,INDEX('План ввода основ. ср-в'!AA:AA,MATCH(B310,'План ввода основ. ср-в'!B:B,0)))","v":0},{"$f":"IF(ISNA(INDEX('План ввода основ. ср-в'!AB:AB,MATCH(B310,'План ввода основ. ср-в'!B:B,0))),0,INDEX('План ввода основ. ср-в'!AB:AB,MATCH(B310,'План ввода основ. ср-в'!B:B,0)))","v":0},{"$f":"IF(ISNA(INDEX('План ввода основ. ср-в'!AC:AC,MATCH(B310,'План ввода основ. ср-в'!B:B,0))),0,INDEX('План ввода основ. ср-в'!AC:AC,MATCH(B310,'План ввода основ. ср-в'!B:B,0)))","v":0},0]
[16,"Строительство внешнего электроснабжения индивидуальной жилой застройки в юговосточной части г. Отрадный",null,null,null,null,null,null,0,"",0,0,"",0,0,"",0,0,"",0,0,"",0,0,null,null,null,{"$f":"IF(ISNA(INDEX('План ввода основ. ср-в'!F:F,MATCH(B311,'План ввода основ. ср-в'!B:B,0))),0,INDEX('План ввода основ. ср-в'!F:F,MATCH(B311,'План ввода основ. ср-в'!B:B,0)))","v":0},"",{"$f":"IF(ISNA(INDEX('План ввода основ. ср-в'!E:E,MATCH(B311,'План ввода основ. ср-в'!B:B,0))),0,INDEX('План ввода основ. ср-в'!E:E,MATCH(B311,'План ввода основ. ср-в'!B:B,0)))","v":0},{"$f":"IF(ISNA(INDEX('План ввода основ. ср-в'!H:H,MATCH(B311,'План ввода основ. ср-в'!B:B,0))),0,INDEX('План ввода основ. ср-в'!H:H,MATCH(B311,'План ввода основ. ср-в'!B:B,0)))","v":0},"",{"$f":"IF(ISNA(INDEX('План ввода основ. ср-в'!G:G,MATCH(B311,'План ввода основ. ср-в'!B:B,0))),0,INDEX('План ввода основ. ср-в'!G:G,MATCH(B311,'План ввода основ. ср-в'!B:B,0)))","v":0},{"$f":"IF(ISNA(INDEX('План ввода основ. ср-в'!J:J,MATCH(B311,'План ввода основ. ср-в'!B:B,0))),0,INDEX('План ввода основ. ср-в'!J:J,MATCH(B311,'План ввода основ. ср-в'!B:B,0)))","v":0},"",{"$f":"IF(ISNA(INDEX('План ввода основ. ср-в'!I:I,MATCH(B311,'План ввода основ. ср-в'!B:B,0))),0,INDEX('План ввода основ. ср-в'!I:I,MATCH(B311,'План ввода основ. ср-в'!B:B,0)))","v":0},{"$f":"IF(ISNA(INDEX('План ввода основ. ср-в'!L:L,MATCH(B311,'План ввода основ. ср-в'!B:B,0))),0,INDEX('План ввода основ. ср-в'!L:L,MATCH(B311,'План ввода основ. ср-в'!B:B,0)))","v":1},"/",{"$f":"IF(ISNA(INDEX('План ввода основ. ср-в'!K:K,MATCH(B311,'План ввода основ. ср-в'!B:B,0))),0,INDEX('План ввода основ. ср-в'!K:K,MATCH(B311,'План ввода основ. ср-в'!B:B,0)))","v":0.5},1,"/",0.5,{"$f":"IF(ISNA(INDEX('План ввода основ. ср-в'!N:N,MATCH(B311,'План ввода основ. ср-в'!B:B,0))),0,INDEX('План ввода основ. ср-в'!N:N,MATCH(B311,'План ввода основ. ср-в'!B:B,0)))","v":0},"",{"$f":"IF(ISNA(INDEX('План ввода основ. ср-в'!M:M,MATCH(B311,'План ввода основ. ср-в'!B:B,0))),0,INDEX('План ввода основ. ср-в'!M:M,MATCH(B311,'План ввода основ. ср-в'!B:B,0)))","v":0},{"$f":"IF(ISNA(INDEX('План ввода основ. ср-в'!P:P,MATCH(B311,'План ввода основ. ср-в'!B:B,0))),0,INDEX('План ввода основ. ср-в'!P:P,MATCH(B311,'План ввода основ. ср-в'!B:B,0)))","v":0},"",{"$f":"IF(ISNA(INDEX('План ввода основ. ср-в'!O:O,MATCH(B311,'План ввода основ. ср-в'!B:B,0))),0,INDEX('План ввода основ. ср-в'!O:O,MATCH(B311,'План ввода основ. ср-в'!B:B,0)))","v":0},{"$f":"IF(ISNA(INDEX('План ввода основ. ср-в'!R:R,MATCH(B311,'План ввода основ. ср-в'!B:B,0))),0,INDEX('План ввода основ. ср-в'!R:R,MATCH(B311,'План ввода основ. ср-в'!B:B,0)))","v":0.9},"/",{"$f":"IF(ISNA(INDEX('План ввода основ. ср-в'!Q:Q,MATCH(B311,'План ввода основ. ср-в'!B:B,0))),0,INDEX('План ввода основ. ср-в'!Q:Q,MATCH(B311,'План ввода основ. ср-в'!B:B,0)))","v":0},{"$f":"IF(ISNA(INDEX('План ввода основ. ср-в'!T:T,MATCH(B311,'План ввода основ. ср-в'!B:B,0))),0,INDEX('План ввода основ. ср-в'!T:T,MATCH(B311,'План ввода основ. ср-в'!B:B,0)))","v":0.9},"/",{"$f":"IF(ISNA(INDEX('План ввода основ. ср-в'!S:S,MATCH(B311,'План ввода основ. ср-в'!B:B,0))),0,INDEX('План ввода основ. ср-в'!S:S,MATCH(B311,'План ввода основ. ср-в'!B:B,0)))","v":0},2.8,"/",0.5,{"$f":"IF(ISNA(INDEX('План ввода основ. ср-в'!V:V,MATCH(B311,'План ввода основ. ср-в'!B:B,0))),0,INDEX('План ввода основ. ср-в'!V:V,MATCH(B311,'План ввода основ. ср-в'!B:B,0)))","v":0},{"$f":"IF(ISNA(INDEX('План ввода основ. ср-в'!W:W,MATCH(B311,'План ввода основ. ср-в'!B:B,0))),0,INDEX('План ввода основ. ср-в'!W:W,MATCH(B311,'План ввода основ. ср-в'!B:B,0)))","v":0.81864434399999997},{"$f":"IF(ISNA(INDEX('План ввода основ. ср-в'!X:X,MATCH(B311,'План ввода основ. ср-в'!B:B,0))),0,INDEX('План ввода основ. ср-в'!X:X,MATCH(B311,'План ввода основ. ср-в'!B:B,0)))","v":1.9101701359999999},{"$f":"IF(ISNA(INDEX('План ввода основ. ср-в'!Y:Y,MATCH(B311,'План ввода основ. ср-в'!B:B,0))),0,INDEX('План ввода основ. ср-в'!Y:Y,MATCH(B311,'План ввода основ. ср-в'!B:B,0)))","v":2.72881448},5.4576289599999992,{"$f":"IF(ISNA(INDEX('План ввода основ. ср-в'!Z:Z,MATCH(B311,'План ввода основ. ср-в'!B:B,0))),0,INDEX('План ввода основ. ср-в'!Z:Z,MATCH(B311,'План ввода основ. ср-в'!B:B,0)))","v":0},{"$f":"IF(ISNA(INDEX('План ввода основ. ср-в'!AA:AA,MATCH(B311,'План ввода основ. ср-в'!B:B,0))),0,INDEX('План ввода основ. ср-в'!AA:AA,MATCH(B311,'План ввода основ. ср-в'!B:B,0)))","v":0},{"$f":"IF(ISNA(INDEX('План ввода основ. ср-в'!AB:AB,MATCH(B311,'План ввода основ. ср-в'!B:B,0))),0,INDEX('План ввода основ. ср-в'!AB:AB,MATCH(B311,'План ввода основ. ср-в'!B:B,0)))","v":5.5},{"$f":"IF(ISNA(INDEX('План ввода основ. ср-в'!AC:AC,MATCH(B311,'План ввода основ. ср-в'!B:B,0))),0,INDEX('План ввода основ. ср-в'!AC:AC,MATCH(B311,'План ввода основ. ср-в'!B:B,0)))","v":6.1},17.057628959999999]
[17,"Строительство внешнего электроснабжения Жилищно-коммунальной застройки ул. Ленина в г.о. Отрадный (район ул.Мичурина)",null,null,null,null,null,null,0,"",0,0,"",0,0,"",0,0,"",0,0,"",0,0,null,null,null,{"$f":"IF(ISNA(INDEX('План ввода основ. ср-в'!F:F,MATCH(B312,'План ввода основ. ср-в'!B:B,0))),0,INDEX('План ввода основ. ср-в'!F:F,MATCH(B312,'План ввода основ. ср-в'!B:B,0)))","v":0},"",{"$f":"IF(ISNA(INDEX('План ввода основ. ср-в'!E:E,MATCH(B312,'План ввода основ. ср-в'!B:B,0))),0,INDEX('План ввода основ. ср-в'!E:E,MATCH(B312,'План ввода основ. ср-в'!B:B,0)))","v":0},{"$f":"IF(ISNA(INDEX('План ввода основ. ср-в'!H:H,MATCH(B312,'План ввода основ. ср-в'!B:B,0))),0,INDEX('План ввода основ. ср-в'!H:H,MATCH(B312,'План ввода основ. ср-в'!B:B,0)))","v":0},"",{"$f":"IF(ISNA(INDEX('План ввода основ. ср-в'!G:G,MATCH(B312,'План ввода основ. ср-в'!B:B,0))),0,INDEX('План ввода основ. ср-в'!G:G,MATCH(B312,'План ввода основ. ср-в'!B:B,0)))","v":0},{"$f":"IF(ISNA(INDEX('План ввода основ. ср-в'!J:J,MATCH(B312,'План ввода основ. ср-в'!B:B,0))),0,INDEX('План ввода основ. ср-в'!J:J,MATCH(B312,'План ввода основ. ср-в'!B:B,0)))","v":0},"",{"$f":"IF(ISNA(INDEX('План ввода основ. ср-в'!I:I,MATCH(B312,'План ввода основ. ср-в'!B:B,0))),0,INDEX('План ввода основ. ср-в'!I:I,MATCH(B312,'План ввода основ. ср-в'!B:B,0)))","v":0},{"$f":"IF(ISNA(INDEX('План ввода основ. ср-в'!L:L,MATCH(B312,'План ввода основ. ср-в'!B:B,0))),0,INDEX('План ввода основ. ср-в'!L:L,MATCH(B312,'План ввода основ. ср-в'!B:B,0)))","v":0.7},"/",{"$f":"IF(ISNA(INDEX('План ввода основ. ср-в'!K:K,MATCH(B312,'План ввода основ. ср-в'!B:B,0))),0,INDEX('План ввода основ. ср-в'!K:K,MATCH(B312,'План ввода основ. ср-в'!B:B,0)))","v":0.4},0.7,"/",0.4,{"$f":"IF(ISNA(INDEX('План ввода основ. ср-в'!N:N,MATCH(B312,'План ввода основ. ср-в'!B:B,0))),0,INDEX('План ввода основ. ср-в'!N:N,MATCH(B312,'План ввода основ. ср-в'!B:B,0)))","v":0.7},"/",{"$f":"IF(ISNA(INDEX('План ввода основ. ср-в'!M:M,MATCH(B312,'План ввода основ. ср-в'!B:B,0))),0,INDEX('План ввода основ. ср-в'!M:M,MATCH(B312,'План ввода основ. ср-в'!B:B,0)))","v":0},{"$f":"IF(ISNA(INDEX('План ввода основ. ср-в'!P:P,MATCH(B312,'План ввода основ. ср-в'!B:B,0))),0,INDEX('План ввода основ. ср-в'!P:P,MATCH(B312,'План ввода основ. ср-в'!B:B,0)))","v":0},"",{"$f":"IF(ISNA(INDEX('План ввода основ. ср-в'!O:O,MATCH(B312,'План ввода основ. ср-в'!B:B,0))),0,INDEX('План ввода основ. ср-в'!O:O,MATCH(B312,'План ввода основ. ср-в'!B:B,0)))","v":0},{"$f":"IF(ISNA(INDEX('План ввода основ. ср-в'!R:R,MATCH(B312,'План ввода основ. ср-в'!B:B,0))),0,INDEX('План ввода основ. ср-в'!R:R,MATCH(B312,'План ввода основ. ср-в'!B:B,0)))","v":0},"",{"$f":"IF(ISNA(INDEX('План ввода основ. ср-в'!Q:Q,MATCH(B312,'План ввода основ. ср-в'!B:B,0))),0,INDEX('План ввода основ. ср-в'!Q:Q,MATCH(B312,'План ввода основ. ср-в'!B:B,0)))","v":0},{"$f":"IF(ISNA(INDEX('План ввода основ. ср-в'!T:T,MATCH(B312,'План ввода основ. ср-в'!B:B,0))),0,INDEX('План ввода основ. ср-в'!T:T,MATCH(B312,'План ввода основ. ср-в'!B:B,0)))","v":0},"",{"$f":"IF(ISNA(INDEX('План ввода основ. ср-в'!S:S,MATCH(B312,'План ввода основ. ср-в'!B:B,0))),0,INDEX('План ввода основ. ср-в'!S:S,MATCH(B312,'План ввода основ. ср-в'!B:B,0)))","v":0},1.4,"/",0.4,{"$f":"IF(ISNA(INDEX('План ввода основ. ср-в'!V:V,MATCH(B312,'План ввода основ. ср-в'!B:B,0))),0,INDEX('План ввода основ. ср-в'!V:V,MATCH(B312,'План ввода основ. ср-в'!B:B,0)))","v":0},{"$f":"IF(ISNA(INDEX('План ввода основ. ср-в'!W:W,MATCH(B312,'План ввода основ. ср-в'!B:B,0))),0,INDEX('План ввода основ. ср-в'!W:W,MATCH(B312,'План ввода основ. ср-в'!B:B,0)))","v":0.69905152800000003},{"$f":"IF(ISNA(INDEX('План ввода основ. ср-в'!X:X,MATCH(B312,'План ввода основ. ср-в'!B:B,0))),0,INDEX('План ввода основ. ср-в'!X:X,MATCH(B312,'План ввода основ. ср-в'!B:B,0)))","v":1.631120232},{"$f":"IF(ISNA(INDEX('План ввода основ. ср-в'!Y:Y,MATCH(B312,'План ввода основ. ср-в'!B:B,0))),0,INDEX('План ввода основ. ср-в'!Y:Y,MATCH(B312,'План ввода основ. ср-в'!B:B,0)))","v":2.3301717600000003},4.6603435199999996,{"$f":"IF(ISNA(INDEX('План ввода основ. ср-в'!Z:Z,MATCH(B312,'План ввода основ. ср-в'!B:B,0))),0,INDEX('План ввода основ. ср-в'!Z:Z,MATCH(B312,'План ввода основ. ср-в'!B:B,0)))","v":5.2},{"$f":"IF(ISNA(INDEX('План ввода основ. ср-в'!AA:AA,MATCH(B312,'План ввода основ. ср-в'!B:B,0))),0,INDEX('План ввода основ. ср-в'!AA:AA,MATCH(B312,'План ввода основ. ср-в'!B:B,0)))","v":0},{"$f":"IF(ISNA(INDEX('План ввода основ. ср-в'!AB:AB,MATCH(B312,'План ввода основ. ср-в'!B:B,0))),0,INDEX('План ввода основ. ср-в'!AB:AB,MATCH(B312,'План ввода основ. ср-в'!B:B,0)))","v":0},{"$f":"IF(ISNA(INDEX('План ввода основ. ср-в'!AC:AC,MATCH(B312,'План ввода основ. ср-в'!B:B,0))),0,INDEX('План ввода основ. ср-в'!AC:AC,MATCH(B312,'План ввода основ. ср-в'!B:B,0)))","v":0},9.8603435200000007]
[18,"г.о. Самара",null,null,null,null,null,null,0,"",0,0,"",0,0,"",0,0,"",0,0,"",0,0,null,null,null,{"$f":"IF(ISNA(INDEX('План ввода основ. ср-в'!F:F,MATCH(B313,'План ввода основ. ср-в'!B:B,0))),0,INDEX('План ввода основ. ср-в'!F:F,MATCH(B313,'План ввода основ. ср-в'!B:B,0)))","v":0},"",{"$f":"IF(ISNA(INDEX('План ввода основ. ср-в'!E:E,MATCH(B313,'План ввода основ. ср-в'!B:B,0))),0,INDEX('План ввода основ. ср-в'!E:E,MATCH(B313,'План ввода основ. ср-в'!B:B,0)))","v":0},{"$f":"IF(ISNA(INDEX('План ввода основ. ср-в'!H:H,MATCH(B313,'План ввода основ. ср-в'!B:B,0))),0,INDEX('План ввода основ. ср-в'!H:H,MATCH(B313,'План ввода основ. ср-в'!B:B,0)))","v":0},"",{"$f":"IF(ISNA(INDEX('План ввода основ. ср-в'!G:G,MATCH(B313,'План ввода основ. ср-в'!B:B,0))),0,INDEX('План ввода основ. ср-в'!G:G,MATCH(B313,'План ввода основ. ср-в'!B:B,0)))","v":0},{"$f":"IF(ISNA(INDEX('План ввода основ. ср-в'!J:J,MATCH(B313,'План ввода основ. ср-в'!B:B,0))),0,INDEX('План ввода основ. ср-в'!J:J,MATCH(B313,'План ввода основ. ср-в'!B:B,0)))","v":0},"",{"$f":"IF(ISNA(INDEX('План ввода основ. ср-в'!I:I,MATCH(B313,'План ввода основ. ср-в'!B:B,0))),0,INDEX('План ввода основ. ср-в'!I:I,MATCH(B313,'План ввода основ. ср-в'!B:B,0)))","v":0},{"$f":"IF(ISNA(INDEX('План ввода основ. ср-в'!L:L,MATCH(B313,'План ввода основ. ср-в'!B:B,0))),0,INDEX('План ввода основ. ср-в'!L:L,MATCH(B313,'План ввода основ. ср-в'!B:B,0)))","v":0},"",{"$f":"IF(ISNA(INDEX('План ввода основ. ср-в'!K:K,MATCH(B313,'План ввода основ. ср-в'!B:B,0))),0,INDEX('План ввода основ. ср-в'!K:K,MATCH(B313,'План ввода основ. ср-в'!B:B,0)))","v":0},0,null,0,{"$f":"IF(ISNA(INDEX('План ввода основ. ср-в'!N:N,MATCH(B313,'План ввода основ. ср-в'!B:B,0))),0,INDEX('План ввода основ. ср-в'!N:N,MATCH(B313,'План ввода основ. ср-в'!B:B,0)))","v":0},"",{"$f":"IF(ISNA(INDEX('План ввода основ. ср-в'!M:M,MATCH(B313,'План ввода основ. ср-в'!B:B,0))),0,INDEX('План ввода основ. ср-в'!M:M,MATCH(B313,'План ввода основ. ср-в'!B:B,0)))","v":0},{"$f":"IF(ISNA(INDEX('План ввода основ. ср-в'!P:P,MATCH(B313,'План ввода основ. ср-в'!B:B,0))),0,INDEX('План ввода основ. ср-в'!P:P,MATCH(B313,'План ввода основ. ср-в'!B:B,0)))","v":0},"",{"$f":"IF(ISNA(INDEX('План ввода основ. ср-в'!O:O,MATCH(B313,'План ввода основ. ср-в'!B:B,0))),0,INDEX('План ввода основ. ср-в'!O:O,MATCH(B313,'План ввода основ. ср-в'!B:B,0)))","v":0},{"$f":"IF(ISNA(INDEX('План ввода основ. ср-в'!R:R,MATCH(B313,'План ввода основ. ср-в'!B:B,0))),0,INDEX('План ввода основ. ср-в'!R:R,MATCH(B313,'План ввода основ. ср-в'!B:B,0)))","v":0},"",{"$f":"IF(ISNA(INDEX('План ввода основ. ср-в'!Q:Q,MATCH(B313,'План ввода основ. ср-в'!B:B,0))),0,INDEX('План ввода основ. ср-в'!Q:Q,MATCH(B313,'План ввода основ. ср-в'!B:B,0)))","v":0},{"$f":"IF(ISNA(INDEX('План ввода основ. ср-в'!T:T,MATCH(B313,'План ввода основ. ср-в'!B:B,0))),0,INDEX('План ввода основ. ср-в'!T:T,MATCH(B313,'План ввода основ. ср-в'!B:B,0)))","v":0},"",{"$f":"IF(ISNA(INDEX('План ввода основ. ср-в'!S:S,MATCH(B313,'План ввода основ. ср-в'!B:B,0))),0,INDEX('План ввода основ. ср-в'!S:S,MATCH(B313,'План ввода основ. ср-в'!B:B,0)))","v":0},0,null,0,{"$f":"IF(ISNA(INDEX('План ввода основ. ср-в'!V:V,MATCH(B313,'План ввода основ. ср-в'!B:B,0))),0,INDEX('План ввода основ. ср-в'!V:V,MATCH(B313,'План ввода основ. ср-в'!B:B,0)))","v":0},{"$f":"IF(ISNA(INDEX('План ввода основ. ср-в'!W:W,MATCH(B313,'План ввода основ. ср-в'!B:B,0))),0,INDEX('План ввода основ. ср-в'!W:W,MATCH(B313,'План ввода основ. ср-в'!B:B,0)))","v":0},{"$f":"IF(ISNA(INDEX('План ввода основ. ср-в'!X:X,MATCH(B313,'План ввода основ. ср-в'!B:B,0))),0,INDEX('План ввода основ. ср-в'!X:X,MATCH(B313,'План ввода основ. ср-в'!B:B,0)))","v":0},{"$f":"IF(ISNA(INDEX('План ввода основ. ср-в'!Y:Y,MATCH(B313,'План ввода основ. ср-в'!B:B,0))),0,INDEX('План ввода основ. ср-в'!Y:Y,MATCH(B313,'План ввода основ. ср-в'!B:B,0)))","v":0},0,{"$f":"IF(ISNA(INDEX('План ввода основ. ср-в'!Z:Z,MATCH(B313,'План ввода основ. ср-в'!B:B,0))),0,INDEX('План ввода основ. ср-в'!Z:Z,MATCH(B313,'План ввода основ. ср-в'!B:B,0)))","v":0},{"$f":"IF(ISNA(INDEX('План ввода основ. ср-в'!AA:AA,MATCH(B313,'План ввода основ. ср-в'!B:B,0))),0,INDEX('План ввода основ. ср-в'!AA:AA,MATCH(B313,'План ввода основ. ср-в'!B:B,0)))","v":0},{"$f":"IF(ISNA(INDEX('План ввода основ. ср-в'!AB:AB,MATCH(B313,'План ввода основ. ср-в'!B:B,0))),0,INDEX('План ввода основ. ср-в'!AB:AB,MATCH(B313,'План ввода основ. ср-в'!B:B,0)))","v":0},{"$f":"IF(ISNA(INDEX('План ввода основ. ср-в'!AC:AC,MATCH(B313,'План ввода основ. ср-в'!B:B,0))),0,INDEX('План ввода основ. ср-в'!AC:AC,MATCH(B313,'План ввода основ. ср-в'!B:B,0)))","v":0},0]
[19,"Строительство схемы внешнего электроснабжения объектов социального и коммунально-бытового назначения в границах ул. Ленинская, Вилоновская, Урицкого, Мечникова Железнодорожного и Ленинского районов.",null,null,null,null,null,null,0,"",0,0,"",0,0,"",0,0,"",0,0,"",0,0,null,null,null,{"$f":"IF(ISNA(INDEX('План ввода основ. ср-в'!F:F,MATCH(B314,'План ввода основ. ср-в'!B:B,0))),0,INDEX('План ввода основ. ср-в'!F:F,MATCH(B314,'План ввода основ. ср-в'!B:B,0)))","v":0},"",{"$f":"IF(ISNA(INDEX('План ввода основ. ср-в'!E:E,MATCH(B314,'План ввода основ. ср-в'!B:B,0))),0,INDEX('План ввода основ. ср-в'!E:E,MATCH(B314,'План ввода основ. ср-в'!B:B,0)))","v":0},{"$f":"IF(ISNA(INDEX('План ввода основ. ср-в'!H:H,MATCH(B314,'План ввода основ. ср-в'!B:B,0))),0,INDEX('План ввода основ. ср-в'!H:H,MATCH(B314,'План ввода основ. ср-в'!B:B,0)))","v":0},"",{"$f":"IF(ISNA(INDEX('План ввода основ. ср-в'!G:G,MATCH(B314,'План ввода основ. ср-в'!B:B,0))),0,INDEX('План ввода основ. ср-в'!G:G,MATCH(B314,'План ввода основ. ср-в'!B:B,0)))","v":0},{"$f":"IF(ISNA(INDEX('План ввода основ. ср-в'!J:J,MATCH(B314,'План ввода основ. ср-в'!B:B,0))),0,INDEX('План ввода основ. ср-в'!J:J,MATCH(B314,'План ввода основ. ср-в'!B:B,0)))","v":0},"",{"$f":"IF(ISNA(INDEX('План ввода основ. ср-в'!I:I,MATCH(B314,'План ввода основ. ср-в'!B:B,0))),0,INDEX('План ввода основ. ср-в'!I:I,MATCH(B314,'План ввода основ. ср-в'!B:B,0)))","v":0},{"$f":"IF(ISNA(INDEX('План ввода основ. ср-в'!L:L,MATCH(B314,'План ввода основ. ср-в'!B:B,0))),0,INDEX('План ввода основ. ср-в'!L:L,MATCH(B314,'План ввода основ. ср-в'!B:B,0)))","v":5},"/",{"$f":"IF(ISNA(INDEX('План ввода основ. ср-в'!K:K,MATCH(B314,'План ввода основ. ср-в'!B:B,0))),0,INDEX('План ввода основ. ср-в'!K:K,MATCH(B314,'План ввода основ. ср-в'!B:B,0)))","v":1.6},{"$f":"AB314+AE314+AH314+AK314","v":5},"/",{"$f":"AD314+AG314+AJ314+AM314","v":1.6},{"$f":"IF(ISNA(INDEX('План ввода основ. ср-в'!N:N,MATCH(B314,'План ввода основ. ср-в'!B:B,0))),0,INDEX('План ввода основ. ср-в'!N:N,MATCH(B314,'План ввода основ. ср-в'!B:B,0)))","v":0},{"$f":"IF(AND(AQ314=0,AS314=0),\"\",\"/\")","v":""},{"$f":"IF(ISNA(INDEX('План ввода основ. ср-в'!M:M,MATCH(B314,'План ввода основ. ср-в'!B:B,0))),0,INDEX('План ввода основ. ср-в'!M:M,MATCH(B314,'План ввода основ. ср-в'!B:B,0)))","v":0},{"$f":"IF(ISNA(INDEX('План ввода основ. ср-в'!P:P,MATCH(B314,'План ввода основ. ср-в'!B:B,0))),0,INDEX('План ввода основ. ср-в'!P:P,MATCH(B314,'План ввода основ. ср-в'!B:B,0)))","v":0},{"$f":"IF(AND(AT314=0,AV314=0),\"\",\"/\")","v":""},{"$f":"IF(ISNA(INDEX('План ввода основ. ср-в'!O:O,MATCH(B314,'План ввода основ. ср-в'!B:B,0))),0,INDEX('План ввода основ. ср-в'!O:O,MATCH(B314,'План ввода основ. ср-в'!B:B,0)))","v":0},{"$f":"IF(ISNA(INDEX('План ввода основ. ср-в'!R:R,MATCH(B314,'План ввода основ. ср-в'!B:B,0))),0,INDEX('План ввода основ. ср-в'!R:R,MATCH(B314,'План ввода основ. ср-в'!B:B,0)))","v":0},{"$f":"IF(AND(AW314=0,AY314=0),\"\",\"/\")","v":""},{"$f":"IF(ISNA(INDEX('План ввода основ. ср-в'!Q:Q,MATCH(B314,'План ввода основ. ср-в'!B:B,0))),0,INDEX('План ввода основ. ср-в'!Q:Q,MATCH(B314,'План ввода основ. ср-в'!B:B,0)))","v":0},{"$f":"IF(ISNA(INDEX('План ввода основ. ср-в'!T:T,MATCH(B314,'План ввода основ. ср-в'!B:B,0))),0,INDEX('План ввода основ. ср-в'!T:T,MATCH(B314,'План ввода основ. ср-в'!B:B,0)))","v":0},{"$f":"IF(AND(AZ314=0,BB314=0),\"\",\"/\")","v":""},{"$f":"IF(ISNA(INDEX('План ввода основ. ср-в'!S:S,MATCH(B314,'План ввода основ. ср-в'!B:B,0))),0,INDEX('План ввода основ. ср-в'!S:S,MATCH(B314,'План ввода основ. ср-в'!B:B,0)))","v":0},5,null,1.6,{"$f":"IF(ISNA(INDEX('План ввода основ. ср-в'!V:V,MATCH(B314,'План ввода основ. ср-в'!B:B,0))),0,INDEX('План ввода основ. ср-в'!V:V,MATCH(B314,'План ввода основ. ср-в'!B:B,0)))","v":0},{"$f":"IF(ISNA(INDEX('План ввода основ. ср-в'!W:W,MATCH(B314,'План ввода основ. ср-в'!B:B,0))),0,INDEX('План ввода основ. ср-в'!W:W,MATCH(B314,'План ввода основ. ср-в'!B:B,0)))","v":6.581650992000001},{"$f":"IF(ISNA(INDEX('План ввода основ. ср-в'!X:X,MATCH(B314,'План ввода основ. ср-в'!B:B,0))),0,INDEX('План ввода основ. ср-в'!X:X,MATCH(B314,'План ввода основ. ср-в'!B:B,0)))","v":15.357185648000003},{"$f":"IF(ISNA(INDEX('План ввода основ. ср-в'!Y:Y,MATCH(B314,'План ввода основ. ср-в'!B:B,0))),0,INDEX('План ввода основ. ср-в'!Y:Y,MATCH(B314,'План ввода основ. ср-в'!B:B,0)))","v":21.938836640000005},43.87767328000001,{"$f":"IF(ISNA(INDEX('План ввода основ. ср-в'!Z:Z,MATCH(B314,'План ввода основ. ср-в'!B:B,0))),0,INDEX('План ввода основ. ср-в'!Z:Z,MATCH(B314,'План ввода основ. ср-в'!B:B,0)))","v":0},{"$f":"IF(ISNA(INDEX('План ввода основ. ср-в'!AA:AA,MATCH(B314,'План ввода основ. ср-в'!B:B,0))),0,INDEX('План ввода основ. ср-в'!AA:AA,MATCH(B314,'План ввода основ. ср-в'!B:B,0)))","v":0},{"$f":"IF(ISNA(INDEX('План ввода основ. ср-в'!AB:AB,MATCH(B314,'План ввода основ. ср-в'!B:B,0))),0,INDEX('План ввода основ. ср-в'!AB:AB,MATCH(B314,'План ввода основ. ср-в'!B:B,0)))","v":0},{"$f":"IF(ISNA(INDEX('План ввода основ. ср-в'!AC:AC,MATCH(B314,'План ввода основ. ср-в'!B:B,0))),0,INDEX('План ввода основ. ср-в'!AC:AC,MATCH(B314,'План ввода основ. ср-в'!B:B,0)))","v":0},43.87767328000001]
[20,"Строительство БКТП 2х1000; 2х630кВА",null,null,null,null,null,null,0,"",0,0,"",0,0,"",0,0,"",0,0,"",0,0,null,null,null,{"$f":"IF(ISNA(INDEX('План ввода основ. ср-в'!F:F,MATCH(B315,'План ввода основ. ср-в'!B:B,0))),0,INDEX('План ввода основ. ср-в'!F:F,MATCH(B315,'План ввода основ. ср-в'!B:B,0)))","v":0},"",{"$f":"IF(ISNA(INDEX('План ввода основ. ср-в'!E:E,MATCH(B315,'План ввода основ. ср-в'!B:B,0))),0,INDEX('План ввода основ. ср-в'!E:E,MATCH(B315,'План ввода основ. ср-в'!B:B,0)))","v":0},{"$f":"IF(ISNA(INDEX('План ввода основ. ср-в'!H:H,MATCH(B315,'План ввода основ. ср-в'!B:B,0))),0,INDEX('План ввода основ. ср-в'!H:H,MATCH(B315,'План ввода основ. ср-в'!B:B,0)))","v":0},"",{"$f":"IF(ISNA(INDEX('План ввода основ. ср-в'!G:G,MATCH(B315,'План ввода основ. ср-в'!B:B,0))),0,INDEX('План ввода основ. ср-в'!G:G,MATCH(B315,'План ввода основ. ср-в'!B:B,0)))","v":0},{"$f":"IF(ISNA(INDEX('План ввода основ. ср-в'!J:J,MATCH(B315,'План ввода основ. ср-в'!B:B,0))),0,INDEX('План ввода основ. ср-в'!J:J,MATCH(B315,'План ввода основ. ср-в'!B:B,0)))","v":0},"",{"$f":"IF(ISNA(INDEX('План ввода основ. ср-в'!I:I,MATCH(B315,'План ввода основ. ср-в'!B:B,0))),0,INDEX('План ввода основ. ср-в'!I:I,MATCH(B315,'План ввода основ. ср-в'!B:B,0)))","v":0},{"$f":"IF(ISNA(INDEX('План ввода основ. ср-в'!L:L,MATCH(B315,'План ввода основ. ср-в'!B:B,0))),0,INDEX('План ввода основ. ср-в'!L:L,MATCH(B315,'План ввода основ. ср-в'!B:B,0)))","v":0},"",{"$f":"IF(ISNA(INDEX('План ввода основ. ср-в'!K:K,MATCH(B315,'План ввода основ. ср-в'!B:B,0))),0,INDEX('План ввода основ. ср-в'!K:K,MATCH(B315,'План ввода основ. ср-в'!B:B,0)))","v":0},0,"/",0,{"$f":"IF(ISNA(INDEX('План ввода основ. ср-в'!N:N,MATCH(B315,'План ввода основ. ср-в'!B:B,0))),0,INDEX('План ввода основ. ср-в'!N:N,MATCH(B315,'План ввода основ. ср-в'!B:B,0)))","v":0},"",{"$f":"IF(ISNA(INDEX('План ввода основ. ср-в'!M:M,MATCH(B315,'План ввода основ. ср-в'!B:B,0))),0,INDEX('План ввода основ. ср-в'!M:M,MATCH(B315,'План ввода основ. ср-в'!B:B,0)))","v":0},{"$f":"IF(ISNA(INDEX('План ввода основ. ср-в'!P:P,MATCH(B315,'План ввода основ. ср-в'!B:B,0))),0,INDEX('План ввода основ. ср-в'!P:P,MATCH(B315,'План ввода основ. ср-в'!B:B,0)))","v":0},"",{"$f":"IF(ISNA(INDEX('План ввода основ. ср-в'!O:O,MATCH(B315,'План ввода основ. ср-в'!B:B,0))),0,INDEX('План ввода основ. ср-в'!O:O,MATCH(B315,'План ввода основ. ср-в'!B:B,0)))","v":0},{"$f":"IF(ISNA(INDEX('План ввода основ. ср-в'!R:R,MATCH(B315,'План ввода основ. ср-в'!B:B,0))),0,INDEX('План ввода основ. ср-в'!R:R,MATCH(B315,'План ввода основ. ср-в'!B:B,0)))","v":0},"",{"$f":"IF(ISNA(INDEX('План ввода основ. ср-в'!Q:Q,MATCH(B315,'План ввода основ. ср-в'!B:B,0))),0,INDEX('План ввода основ. ср-в'!Q:Q,MATCH(B315,'План ввода основ. ср-в'!B:B,0)))","v":0},{"$f":"IF(ISNA(INDEX('План ввода основ. ср-в'!T:T,MATCH(B315,'План ввода основ. ср-в'!B:B,0))),0,INDEX('План ввода основ. ср-в'!T:T,MATCH(B315,'План ввода основ. ср-в'!B:B,0)))","v":0},"",{"$f":"IF(ISNA(INDEX('План ввода основ. ср-в'!S:S,MATCH(B315,'План ввода основ. ср-в'!B:B,0))),0,INDEX('План ввода основ. ср-в'!S:S,MATCH(B315,'План ввода основ. ср-в'!B:B,0)))","v":0},0,"/",0,{"$f":"IF(ISNA(INDEX('План ввода основ. ср-в'!V:V,MATCH(B315,'План ввода основ. ср-в'!B:B,0))),0,INDEX('План ввода основ. ср-в'!V:V,MATCH(B315,'План ввода основ. ср-в'!B:B,0)))","v":0},{"$f":"IF(ISNA(INDEX('План ввода основ. ср-в'!W:W,MATCH(B315,'План ввода основ. ср-в'!B:B,0))),0,INDEX('План ввода основ. ср-в'!W:W,MATCH(B315,'План ввода основ. ср-в'!B:B,0)))","v":0},{"$f":"IF(ISNA(INDEX('План ввода основ. ср-в'!X:X,MATCH(B315,'План ввода основ. ср-в'!B:B,0))),0,INDEX('План ввода основ. ср-в'!X:X,MATCH(B315,'План ввода основ. ср-в'!B:B,0)))","v":0},{"$f":"IF(ISNA(INDEX('План ввода основ. ср-в'!Y:Y,MATCH(B315,'План ввода основ. ср-в'!B:B,0))),0,INDEX('План ввода основ. ср-в'!Y:Y,MATCH(B315,'План ввода основ. ср-в'!B:B,0)))","v":0},0,{"$f":"IF(ISNA(INDEX('План ввода основ. ср-в'!Z:Z,MATCH(B315,'План ввода основ. ср-в'!B:B,0))),0,INDEX('План ввода основ. ср-в'!Z:Z,MATCH(B315,'План ввода основ. ср-в'!B:B,0)))","v":21},{"$f":"IF(ISNA(INDEX('План ввода основ. ср-в'!AA:AA,MATCH(B315,'План ввода основ. ср-в'!B:B,0))),0,INDEX('План ввода основ. ср-в'!AA:AA,MATCH(B315,'План ввода основ. ср-в'!B:B,0)))","v":0},{"$f":"IF(ISNA(INDEX('План ввода основ. ср-в'!AB:AB,MATCH(B315,'План ввода основ. ср-в'!B:B,0))),0,INDEX('План ввода основ. ср-в'!AB:AB,MATCH(B315,'План ввода основ. ср-в'!B:B,0)))","v":21.974576271186443},{"$f":"IF(ISNA(INDEX('План ввода основ. ср-в'!AC:AC,MATCH(B315,'План ввода основ. ср-в'!B:B,0))),0,INDEX('План ввода основ. ср-в'!AC:AC,MATCH(B315,'План ввода основ. ср-в'!B:B,0)))","v":0},42.974576271186443]
[21,"г.о. Сызрань",null,null,null,null,null,null,0,"",0,0,"",0,0,"",0,0,"",0,0,"",0,0,null,null,null,{"$f":"IF(ISNA(INDEX('План ввода основ. ср-в'!F:F,MATCH(B316,'План ввода основ. ср-в'!B:B,0))),0,INDEX('План ввода основ. ср-в'!F:F,MATCH(B316,'План ввода основ. ср-в'!B:B,0)))","v":0},"",{"$f":"IF(ISNA(INDEX('План ввода основ. ср-в'!E:E,MATCH(B316,'План ввода основ. ср-в'!B:B,0))),0,INDEX('План ввода основ. ср-в'!E:E,MATCH(B316,'План ввода основ. ср-в'!B:B,0)))","v":0},{"$f":"IF(ISNA(INDEX('План ввода основ. ср-в'!H:H,MATCH(B316,'План ввода основ. ср-в'!B:B,0))),0,INDEX('План ввода основ. ср-в'!H:H,MATCH(B316,'План ввода основ. ср-в'!B:B,0)))","v":0},"",{"$f":"IF(ISNA(INDEX('План ввода основ. ср-в'!G:G,MATCH(B316,'План ввода основ. ср-в'!B:B,0))),0,INDEX('План ввода основ. ср-в'!G:G,MATCH(B316,'План ввода основ. ср-в'!B:B,0)))","v":0},{"$f":"IF(ISNA(INDEX('План ввода основ. ср-в'!J:J,MATCH(B316,'План ввода основ. ср-в'!B:B,0))),0,INDEX('План ввода основ. ср-в'!J:J,MATCH(B316,'План ввода основ. ср-в'!B:B,0)))","v":0},"",{"$f":"IF(ISNA(INDEX('План ввода основ. ср-в'!I:I,MATCH(B316,'План ввода основ. ср-в'!B:B,0))),0,INDEX('План ввода основ. ср-в'!I:I,MATCH(B316,'План ввода основ. ср-в'!B:B,0)))","v":0},{"$f":"IF(ISNA(INDEX('План ввода основ. ср-в'!L:L,MATCH(B316,'План ввода основ. ср-в'!B:B,0))),0,INDEX('План ввода основ. ср-в'!L:L,MATCH(B316,'План ввода основ. ср-в'!B:B,0)))","v":0},"",{"$f":"IF(ISNA(INDEX('План ввода основ. ср-в'!K:K,MATCH(B316,'План ввода основ. ср-в'!B:B,0))),0,INDEX('План ввода основ. ср-в'!K:K,MATCH(B316,'План ввода основ. ср-в'!B:B,0)))","v":0},0,"/",0,{"$f":"IF(ISNA(INDEX('План ввода основ. ср-в'!N:N,MATCH(B316,'План ввода основ. ср-в'!B:B,0))),0,INDEX('План ввода основ. ср-в'!N:N,MATCH(B316,'План ввода основ. ср-в'!B:B,0)))","v":0},"",{"$f":"IF(ISNA(INDEX('План ввода основ. ср-в'!M:M,MATCH(B316,'План ввода основ. ср-в'!B:B,0))),0,INDEX('План ввода основ. ср-в'!M:M,MATCH(B316,'План ввода основ. ср-в'!B:B,0)))","v":0},{"$f":"IF(ISNA(INDEX('План ввода основ. ср-в'!P:P,MATCH(B316,'План ввода основ. ср-в'!B:B,0))),0,INDEX('План ввода основ. ср-в'!P:P,MATCH(B316,'План ввода основ. ср-в'!B:B,0)))","v":0},"",{"$f":"IF(ISNA(INDEX('План ввода основ. ср-в'!O:O,MATCH(B316,'План ввода основ. ср-в'!B:B,0))),0,INDEX('План ввода основ. ср-в'!O:O,MATCH(B316,'План ввода основ. ср-в'!B:B,0)))","v":0},{"$f":"IF(ISNA(INDEX('План ввода основ. ср-в'!R:R,MATCH(B316,'План ввода основ. ср-в'!B:B,0))),0,INDEX('План ввода основ. ср-в'!R:R,MATCH(B316,'План ввода основ. ср-в'!B:B,0)))","v":0},"",{"$f":"IF(ISNA(INDEX('План ввода основ. ср-в'!Q:Q,MATCH(B316,'План ввода основ. ср-в'!B:B,0))),0,INDEX('План ввода основ. ср-в'!Q:Q,MATCH(B316,'План ввода основ. ср-в'!B:B,0)))","v":0},{"$f":"IF(ISNA(INDEX('План ввода основ. ср-в'!T:T,MATCH(B316,'План ввода основ. ср-в'!B:B,0))),0,INDEX('План ввода основ. ср-в'!T:T,MATCH(B316,'План ввода основ. ср-в'!B:B,0)))","v":0},"",{"$f":"IF(ISNA(INDEX('План ввода основ. ср-в'!S:S,MATCH(B316,'План ввода основ. ср-в'!B:B,0))),0,INDEX('План ввода основ. ср-в'!S:S,MATCH(B316,'План ввода основ. ср-в'!B:B,0)))","v":0},0,"/",0,{"$f":"IF(ISNA(INDEX('План ввода основ. ср-в'!V:V,MATCH(B316,'План ввода основ. ср-в'!B:B,0))),0,INDEX('План ввода основ. ср-в'!V:V,MATCH(B316,'План ввода основ. ср-в'!B:B,0)))","v":0},{"$f":"IF(ISNA(INDEX('План ввода основ. ср-в'!W:W,MATCH(B316,'План ввода основ. ср-в'!B:B,0))),0,INDEX('План ввода основ. ср-в'!W:W,MATCH(B316,'План ввода основ. ср-в'!B:B,0)))","v":0},{"$f":"IF(ISNA(INDEX('План ввода основ. ср-в'!X:X,MATCH(B316,'План ввода основ. ср-в'!B:B,0))),0,INDEX('План ввода основ. ср-в'!X:X,MATCH(B316,'План ввода основ. ср-в'!B:B,0)))","v":0},{"$f":"IF(ISNA(INDEX('План ввода основ. ср-в'!Y:Y,MATCH(B316,'План ввода основ. ср-в'!B:B,0))),0,INDEX('План ввода основ. ср-в'!Y:Y,MATCH(B316,'План ввода основ. ср-в'!B:B,0)))","v":0},0,{"$f":"IF(ISNA(INDEX('План ввода основ. ср-в'!Z:Z,MATCH(B316,'План ввода основ. ср-в'!B:B,0))),0,INDEX('План ввода основ. ср-в'!Z:Z,MATCH(B316,'План ввода основ. ср-в'!B:B,0)))","v":0},{"$f":"IF(ISNA(INDEX('План ввода основ. ср-в'!AA:AA,MATCH(B316,'План ввода основ. ср-в'!B:B,0))),0,INDEX('План ввода основ. ср-в'!AA:AA,MATCH(B316,'План ввода основ. ср-в'!B:B,0)))","v":0},{"$f":"IF(ISNA(INDEX('План ввода основ. ср-в'!AB:AB,MATCH(B316,'План ввода основ. ср-в'!B:B,0))),0,INDEX('План ввода основ. ср-в'!AB:AB,MATCH(B316,'План ввода основ. ср-в'!B:B,0)))","v":0},{"$f":"IF(ISNA(INDEX('План ввода основ. ср-в'!AC:AC,MATCH(B316,'План ввода основ. ср-в'!B:B,0))),0,INDEX('План ввода основ. ср-в'!AC:AC,MATCH(B316,'План ввода основ. ср-в'!B:B,0)))","v":0},0]
[22,"Строительство объектовэлектросетевого комплекса г.о. Сызрань для подключения дополнительных нагрузок",null,null,null,null,null,null,0,"",0,0,"",0,0,"",0,0,"",0,0,"",0,0,null,null,null,{"$f":"IF(ISNA(INDEX('План ввода основ. ср-в'!F:F,MATCH(B317,'План ввода основ. ср-в'!B:B,0))),0,INDEX('План ввода основ. ср-в'!F:F,MATCH(B317,'План ввода основ. ср-в'!B:B,0)))","v":0},"",{"$f":"IF(ISNA(INDEX('План ввода основ. ср-в'!E:E,MATCH(B317,'План ввода основ. ср-в'!B:B,0))),0,INDEX('План ввода основ. ср-в'!E:E,MATCH(B317,'План ввода основ. ср-в'!B:B,0)))","v":0},{"$f":"IF(ISNA(INDEX('План ввода основ. ср-в'!H:H,MATCH(B317,'План ввода основ. ср-в'!B:B,0))),0,INDEX('План ввода основ. ср-в'!H:H,MATCH(B317,'План ввода основ. ср-в'!B:B,0)))","v":0},"",{"$f":"IF(ISNA(INDEX('План ввода основ. ср-в'!G:G,MATCH(B317,'План ввода основ. ср-в'!B:B,0))),0,INDEX('План ввода основ. ср-в'!G:G,MATCH(B317,'План ввода основ. ср-в'!B:B,0)))","v":0},{"$f":"IF(ISNA(INDEX('План ввода основ. ср-в'!J:J,MATCH(B317,'План ввода основ. ср-в'!B:B,0))),0,INDEX('План ввода основ. ср-в'!J:J,MATCH(B317,'План ввода основ. ср-в'!B:B,0)))","v":0},"",{"$f":"IF(ISNA(INDEX('План ввода основ. ср-в'!I:I,MATCH(B317,'План ввода основ. ср-в'!B:B,0))),0,INDEX('План ввода основ. ср-в'!I:I,MATCH(B317,'План ввода основ. ср-в'!B:B,0)))","v":0},{"$f":"IF(ISNA(INDEX('План ввода основ. ср-в'!L:L,MATCH(B317,'План ввода основ. ср-в'!B:B,0))),0,INDEX('План ввода основ. ср-в'!L:L,MATCH(B317,'План ввода основ. ср-в'!B:B,0)))","v":17},"/",{"$f":"IF(ISNA(INDEX('План ввода основ. ср-в'!K:K,MATCH(B317,'План ввода основ. ср-в'!B:B,0))),0,INDEX('План ввода основ. ср-в'!K:K,MATCH(B317,'План ввода основ. ср-в'!B:B,0)))","v":1.9},{"$f":"AB317+AE317+AH317+AK317","v":17},"/",{"$f":"AD317+AG317+AJ317+AM317","v":1.9},{"$f":"IF(ISNA(INDEX('План ввода основ. ср-в'!N:N,MATCH(B317,'План ввода основ. ср-в'!B:B,0))),0,INDEX('План ввода основ. ср-в'!N:N,MATCH(B317,'План ввода основ. ср-в'!B:B,0)))","v":28},{"$f":"IF(AND(AQ317=0,AS317=0),\"\",\"/\")","v":"/"},{"$f":"IF(ISNA(INDEX('План ввода основ. ср-в'!M:M,MATCH(B317,'План ввода основ. ср-в'!B:B,0))),0,INDEX('План ввода основ. ср-в'!M:M,MATCH(B317,'План ввода основ. ср-в'!B:B,0)))","v":1},{"$f":"IF(ISNA(INDEX('План ввода основ. ср-в'!P:P,MATCH(B317,'План ввода основ. ср-в'!B:B,0))),0,INDEX('План ввода основ. ср-в'!P:P,MATCH(B317,'План ввода основ. ср-в'!B:B,0)))","v":28},{"$f":"IF(AND(AT317=0,AV317=0),\"\",\"/\")","v":"/"},{"$f":"IF(ISNA(INDEX('План ввода основ. ср-в'!O:O,MATCH(B317,'План ввода основ. ср-в'!B:B,0))),0,INDEX('План ввода основ. ср-в'!O:O,MATCH(B317,'План ввода основ. ср-в'!B:B,0)))","v":1},{"$f":"IF(ISNA(INDEX('План ввода основ. ср-в'!R:R,MATCH(B317,'План ввода основ. ср-в'!B:B,0))),0,INDEX('План ввода основ. ср-в'!R:R,MATCH(B317,'План ввода основ. ср-в'!B:B,0)))","v":0},{"$f":"IF(AND(AW317=0,AY317=0),\"\",\"/\")","v":""},{"$f":"IF(ISNA(INDEX('План ввода основ. ср-в'!Q:Q,MATCH(B317,'План ввода основ. ср-в'!B:B,0))),0,INDEX('План ввода основ. ср-в'!Q:Q,MATCH(B317,'План ввода основ. ср-в'!B:B,0)))","v":0},{"$f":"IF(ISNA(INDEX('План ввода основ. ср-в'!T:T,MATCH(B317,'План ввода основ. ср-в'!B:B,0))),0,INDEX('План ввода основ. ср-в'!T:T,MATCH(B317,'План ввода основ. ср-в'!B:B,0)))","v":0},{"$f":"IF(AND(AZ317=0,BB317=0),\"\",\"/\")","v":""},{"$f":"IF(ISNA(INDEX('План ввода основ. ср-в'!S:S,MATCH(B317,'План ввода основ. ср-в'!B:B,0))),0,INDEX('План ввода основ. ср-в'!S:S,MATCH(B317,'План ввода основ. ср-в'!B:B,0)))","v":0},{"$f":"AN317+AQ317+AT317+AW317+AZ317","v":73},"/",{"$f":"AP317+AS317+AV317+AY317+BB317","v":3.9},{"$f":"IF(ISNA(INDEX('План ввода основ. ср-в'!V:V,MATCH(B317,'План ввода основ. ср-в'!B:B,0))),0,INDEX('План ввода основ. ср-в'!V:V,MATCH(B317,'План ввода основ. ср-в'!B:B,0)))","v":0},{"$f":"IF(ISNA(INDEX('План ввода основ. ср-в'!W:W,MATCH(B317,'План ввода основ. ср-в'!B:B,0))),0,INDEX('План ввода основ. ср-в'!W:W,MATCH(B317,'План ввода основ. ср-в'!B:B,0)))","v":13.283409384},{"$f":"IF(ISNA(INDEX('План ввода основ. ср-в'!X:X,MATCH(B317,'План ввода основ. ср-в'!B:B,0))),0,INDEX('План ввода основ. ср-в'!X:X,MATCH(B317,'План ввода основ. ср-в'!B:B,0)))","v":30.994621895999998},{"$f":"IF(ISNA(INDEX('План ввода основ. ср-в'!Y:Y,MATCH(B317,'План ввода основ. ср-в'!B:B,0))),0,INDEX('План ввода основ. ср-в'!Y:Y,MATCH(B317,'План ввода основ. ср-в'!B:B,0)))","v":44.27803128},{"$f":"SUM(BF317:BI317)","v":88.556062560000001},{"$f":"IF(ISNA(INDEX('План ввода основ. ср-в'!Z:Z,MATCH(B317,'План ввода основ. ср-в'!B:B,0))),0,INDEX('План ввода основ. ср-в'!Z:Z,MATCH(B317,'План ввода основ. ср-в'!B:B,0)))","v":51.16101694915254},{"$f":"IF(ISNA(INDEX('План ввода основ. ср-в'!AA:AA,MATCH(B317,'План ввода основ. ср-в'!B:B,0))),0,INDEX('План ввода основ. ср-в'!AA:AA,MATCH(B317,'План ввода основ. ср-в'!B:B,0)))","v":50.439298785909941},{"$f":"IF(ISNA(INDEX('План ввода основ. ср-в'!AB:AB,MATCH(B317,'План ввода основ. ср-в'!B:B,0))),0,INDEX('План ввода основ. ср-в'!AB:AB,MATCH(B317,'План ввода основ. ср-в'!B:B,0)))","v":0},{"$f":"IF(ISNA(INDEX('План ввода основ. ср-в'!AC:AC,MATCH(B317,'План ввода основ. ср-в'!B:B,0))),0,INDEX('План ввода основ. ср-в'!AC:AC,MATCH(B317,'План ввода основ. ср-в'!B:B,0)))","v":0},{"$f":"SUM(BJ317:BN317)","v":190.1563782950625}]
[23,"Сергиевский район",null,null,null,null,null,null,null,null,null,null,null,null,null,null,null,null,null,null,null,null,null,null,null,null,null,{"$f":"IF(ISNA(INDEX('План ввода основ. ср-в'!F:F,MATCH(B318,'План ввода основ. ср-в'!B:B,0))),0,INDEX('План ввода основ. ср-в'!F:F,MATCH(B318,'План ввода основ. ср-в'!B:B,0)))","v":0},"",{"$f":"IF(ISNA(INDEX('План ввода основ. ср-в'!E:E,MATCH(B318,'План ввода основ. ср-в'!B:B,0))),0,INDEX('План ввода основ. ср-в'!E:E,MATCH(B318,'План ввода основ. ср-в'!B:B,0)))","v":0},{"$f":"IF(ISNA(INDEX('План ввода основ. ср-в'!H:H,MATCH(B318,'План ввода основ. ср-в'!B:B,0))),0,INDEX('План ввода основ. ср-в'!H:H,MATCH(B318,'План ввода основ. ср-в'!B:B,0)))","v":0},"",{"$f":"IF(ISNA(INDEX('План ввода основ. ср-в'!G:G,MATCH(B318,'План ввода основ. ср-в'!B:B,0))),0,INDEX('План ввода основ. ср-в'!G:G,MATCH(B318,'План ввода основ. ср-в'!B:B,0)))","v":0},{"$f":"IF(ISNA(INDEX('План ввода основ. ср-в'!J:J,MATCH(B318,'План ввода основ. ср-в'!B:B,0))),0,INDEX('План ввода основ. ср-в'!J:J,MATCH(B318,'План ввода основ. ср-в'!B:B,0)))","v":0},"",{"$f":"IF(ISNA(INDEX('План ввода основ. ср-в'!I:I,MATCH(B318,'План ввода основ. ср-в'!B:B,0))),0,INDEX('План ввода основ. ср-в'!I:I,MATCH(B318,'План ввода основ. ср-в'!B:B,0)))","v":0},{"$f":"IF(ISNA(INDEX('План ввода основ. ср-в'!L:L,MATCH(B318,'План ввода основ. ср-в'!B:B,0))),0,INDEX('План ввода основ. ср-в'!L:L,MATCH(B318,'План ввода основ. ср-в'!B:B,0)))","v":0},"",{"$f":"IF(ISNA(INDEX('План ввода основ. ср-в'!K:K,MATCH(B318,'План ввода основ. ср-в'!B:B,0))),0,INDEX('План ввода основ. ср-в'!K:K,MATCH(B318,'План ввода основ. ср-в'!B:B,0)))","v":0},0,"/",0,{"$f":"IF(ISNA(INDEX('План ввода основ. ср-в'!N:N,MATCH(B318,'План ввода основ. ср-в'!B:B,0))),0,INDEX('План ввода основ. ср-в'!N:N,MATCH(B318,'План ввода основ. ср-в'!B:B,0)))","v":0},"",{"$f":"IF(ISNA(INDEX('План ввода основ. ср-в'!M:M,MATCH(B318,'План ввода основ. ср-в'!B:B,0))),0,INDEX('План ввода основ. ср-в'!M:M,MATCH(B318,'План ввода основ. ср-в'!B:B,0)))","v":0},{"$f":"IF(ISNA(INDEX('План ввода основ. ср-в'!P:P,MATCH(B318,'План ввода основ. ср-в'!B:B,0))),0,INDEX('План ввода основ. ср-в'!P:P,MATCH(B318,'План ввода основ. ср-в'!B:B,0)))","v":0},"",{"$f":"IF(ISNA(INDEX('План ввода основ. ср-в'!O:O,MATCH(B318,'План ввода основ. ср-в'!B:B,0))),0,INDEX('План ввода основ. ср-в'!O:O,MATCH(B318,'План ввода основ. ср-в'!B:B,0)))","v":0},{"$f":"IF(ISNA(INDEX('План ввода основ. ср-в'!R:R,MATCH(B318,'План ввода основ. ср-в'!B:B,0))),0,INDEX('План ввода основ. ср-в'!R:R,MATCH(B318,'План ввода основ. ср-в'!B:B,0)))","v":0},"",{"$f":"IF(ISNA(INDEX('План ввода основ. ср-в'!Q:Q,MATCH(B318,'План ввода основ. ср-в'!B:B,0))),0,INDEX('План ввода основ. ср-в'!Q:Q,MATCH(B318,'План ввода основ. ср-в'!B:B,0)))","v":0},{"$f":"IF(ISNA(INDEX('План ввода основ. ср-в'!T:T,MATCH(B318,'План ввода основ. ср-в'!B:B,0))),0,INDEX('План ввода основ. ср-в'!T:T,MATCH(B318,'План ввода основ. ср-в'!B:B,0)))","v":0},"",{"$f":"IF(ISNA(INDEX('План ввода основ. ср-в'!S:S,MATCH(B318,'План ввода основ. ср-в'!B:B,0))),0,INDEX('План ввода основ. ср-в'!S:S,MATCH(B318,'План ввода основ. ср-в'!B:B,0)))","v":0},0,"/",0,{"$f":"IF(ISNA(INDEX('План ввода основ. ср-в'!V:V,MATCH(B318,'План ввода основ. ср-в'!B:B,0))),0,INDEX('План ввода основ. ср-в'!V:V,MATCH(B318,'План ввода основ. ср-в'!B:B,0)))","v":0},{"$f":"IF(ISNA(INDEX('План ввода основ. ср-в'!W:W,MATCH(B318,'План ввода основ. ср-в'!B:B,0))),0,INDEX('План ввода основ. ср-в'!W:W,MATCH(B318,'План ввода основ. ср-в'!B:B,0)))","v":0},{"$f":"IF(ISNA(INDEX('План ввода основ. ср-в'!X:X,MATCH(B318,'План ввода основ. ср-в'!B:B,0))),0,INDEX('План ввода основ. ср-в'!X:X,MATCH(B318,'План ввода основ. ср-в'!B:B,0)))","v":0},{"$f":"IF(ISNA(INDEX('План ввода основ. ср-в'!Y:Y,MATCH(B318,'План ввода основ. ср-в'!B:B,0))),0,INDEX('План ввода основ. ср-в'!Y:Y,MATCH(B318,'План ввода основ. ср-в'!B:B,0)))","v":0},0,{"$f":"IF(ISNA(INDEX('План ввода основ. ср-в'!Z:Z,MATCH(B318,'План ввода основ. ср-в'!B:B,0))),0,INDEX('План ввода основ. ср-в'!Z:Z,MATCH(B318,'План ввода основ. ср-в'!B:B,0)))","v":0},{"$f":"IF(ISNA(INDEX('План ввода основ. ср-в'!AA:AA,MATCH(B318,'План ввода основ. ср-в'!B:B,0))),0,INDEX('План ввода основ. ср-в'!AA:AA,MATCH(B318,'План ввода основ. ср-в'!B:B,0)))","v":0},{"$f":"IF(ISNA(INDEX('План ввода основ. ср-в'!AB:AB,MATCH(B318,'План ввода основ. ср-в'!B:B,0))),0,INDEX('План ввода основ. ср-в'!AB:AB,MATCH(B318,'План ввода основ. ср-в'!B:B,0)))","v":0},{"$f":"IF(ISNA(INDEX('План ввода основ. ср-в'!AC:AC,MATCH(B318,'План ввода основ. ср-в'!B:B,0))),0,INDEX('План ввода основ. ср-в'!AC:AC,MATCH(B318,'План ввода основ. ср-в'!B:B,0)))","v":0},0]
[24,"Строительство внешнего электроснабжения жилых застроек в п. Суходол",null,null,null,null,null,null,null,null,null,null,null,null,null,null,null,null,null,null,null,null,null,null,null,null,null,{"$f":"IF(ISNA(INDEX('План ввода основ. ср-в'!F:F,MATCH(B319,'План ввода основ. ср-в'!B:B,0))),0,INDEX('План ввода основ. ср-в'!F:F,MATCH(B319,'План ввода основ. ср-в'!B:B,0)))","v":0},"",{"$f":"IF(ISNA(INDEX('План ввода основ. ср-в'!E:E,MATCH(B319,'План ввода основ. ср-в'!B:B,0))),0,INDEX('План ввода основ. ср-в'!E:E,MATCH(B319,'План ввода основ. ср-в'!B:B,0)))","v":0},{"$f":"IF(ISNA(INDEX('План ввода основ. ср-в'!H:H,MATCH(B319,'План ввода основ. ср-в'!B:B,0))),0,INDEX('План ввода основ. ср-в'!H:H,MATCH(B319,'План ввода основ. ср-в'!B:B,0)))","v":0},"",{"$f":"IF(ISNA(INDEX('План ввода основ. ср-в'!G:G,MATCH(B319,'План ввода основ. ср-в'!B:B,0))),0,INDEX('План ввода основ. ср-в'!G:G,MATCH(B319,'План ввода основ. ср-в'!B:B,0)))","v":0},{"$f":"IF(ISNA(INDEX('План ввода основ. ср-в'!J:J,MATCH(B319,'План ввода основ. ср-в'!B:B,0))),0,INDEX('План ввода основ. ср-в'!J:J,MATCH(B319,'План ввода основ. ср-в'!B:B,0)))","v":0},"",{"$f":"IF(ISNA(INDEX('План ввода основ. ср-в'!I:I,MATCH(B319,'План ввода основ. ср-в'!B:B,0))),0,INDEX('План ввода основ. ср-в'!I:I,MATCH(B319,'План ввода основ. ср-в'!B:B,0)))","v":0},{"$f":"IF(ISNA(INDEX('План ввода основ. ср-в'!L:L,MATCH(B319,'План ввода основ. ср-в'!B:B,0))),0,INDEX('План ввода основ. ср-в'!L:L,MATCH(B319,'План ввода основ. ср-в'!B:B,0)))","v":1},"/",{"$f":"IF(ISNA(INDEX('План ввода основ. ср-в'!K:K,MATCH(B319,'План ввода основ. ср-в'!B:B,0))),0,INDEX('План ввода основ. ср-в'!K:K,MATCH(B319,'План ввода основ. ср-в'!B:B,0)))","v":0.25},1,"/",0.25,{"$f":"IF(ISNA(INDEX('План ввода основ. ср-в'!N:N,MATCH(B319,'План ввода основ. ср-в'!B:B,0))),0,INDEX('План ввода основ. ср-в'!N:N,MATCH(B319,'План ввода основ. ср-в'!B:B,0)))","v":1},"/",{"$f":"IF(ISNA(INDEX('План ввода основ. ср-в'!M:M,MATCH(B319,'План ввода основ. ср-в'!B:B,0))),0,INDEX('План ввода основ. ср-в'!M:M,MATCH(B319,'План ввода основ. ср-в'!B:B,0)))","v":0.25},{"$f":"IF(ISNA(INDEX('План ввода основ. ср-в'!P:P,MATCH(B319,'План ввода основ. ср-в'!B:B,0))),0,INDEX('План ввода основ. ср-в'!P:P,MATCH(B319,'План ввода основ. ср-в'!B:B,0)))","v":1.5},"/",{"$f":"IF(ISNA(INDEX('План ввода основ. ср-в'!O:O,MATCH(B319,'План ввода основ. ср-в'!B:B,0))),0,INDEX('План ввода основ. ср-в'!O:O,MATCH(B319,'План ввода основ. ср-в'!B:B,0)))","v":0.25},{"$f":"IF(ISNA(INDEX('План ввода основ. ср-в'!R:R,MATCH(B319,'План ввода основ. ср-в'!B:B,0))),0,INDEX('План ввода основ. ср-в'!R:R,MATCH(B319,'План ввода основ. ср-в'!B:B,0)))","v":1.5},"/",{"$f":"IF(ISNA(INDEX('План ввода основ. ср-в'!Q:Q,MATCH(B319,'План ввода основ. ср-в'!B:B,0))),0,INDEX('План ввода основ. ср-в'!Q:Q,MATCH(B319,'План ввода основ. ср-в'!B:B,0)))","v":0.25},{"$f":"IF(ISNA(INDEX('План ввода основ. ср-в'!T:T,MATCH(B319,'План ввода основ. ср-в'!B:B,0))),0,INDEX('План ввода основ. ср-в'!T:T,MATCH(B319,'План ввода основ. ср-в'!B:B,0)))","v":1.5},"/",{"$f":"IF(ISNA(INDEX('План ввода основ. ср-в'!S:S,MATCH(B319,'План ввода основ. ср-в'!B:B,0))),0,INDEX('План ввода основ. ср-в'!S:S,MATCH(B319,'План ввода основ. ср-в'!B:B,0)))","v":0.25},6.5,"/",1.25,{"$f":"IF(ISNA(INDEX('План ввода основ. ср-в'!V:V,MATCH(B319,'План ввода основ. ср-в'!B:B,0))),0,INDEX('План ввода основ. ср-в'!V:V,MATCH(B319,'План ввода основ. ср-в'!B:B,0)))","v":0},{"$f":"IF(ISNA(INDEX('План ввода основ. ср-в'!W:W,MATCH(B319,'План ввода основ. ср-в'!B:B,0))),0,INDEX('План ввода основ. ср-в'!W:W,MATCH(B319,'План ввода основ. ср-в'!B:B,0)))","v":0.81864434399999997},{"$f":"IF(ISNA(INDEX('План ввода основ. ср-в'!X:X,MATCH(B319,'План ввода основ. ср-в'!B:B,0))),0,INDEX('План ввода основ. ср-в'!X:X,MATCH(B319,'План ввода основ. ср-в'!B:B,0)))","v":1.9101701359999999},{"$f":"IF(ISNA(INDEX('План ввода основ. ср-в'!Y:Y,MATCH(B319,'План ввода основ. ср-в'!B:B,0))),0,INDEX('План ввода основ. ср-в'!Y:Y,MATCH(B319,'План ввода основ. ср-в'!B:B,0)))","v":2.72881448},5.4576289599999992,{"$f":"IF(ISNA(INDEX('План ввода основ. ср-в'!Z:Z,MATCH(B319,'План ввода основ. ср-в'!B:B,0))),0,INDEX('План ввода основ. ср-в'!Z:Z,MATCH(B319,'План ввода основ. ср-в'!B:B,0)))","v":3.1},{"$f":"IF(ISNA(INDEX('План ввода основ. ср-в'!AA:AA,MATCH(B319,'План ввода основ. ср-в'!B:B,0))),0,INDEX('План ввода основ. ср-в'!AA:AA,MATCH(B319,'План ввода основ. ср-в'!B:B,0)))","v":5},{"$f":"IF(ISNA(INDEX('План ввода основ. ср-в'!AB:AB,MATCH(B319,'План ввода основ. ср-в'!B:B,0))),0,INDEX('План ввода основ. ср-в'!AB:AB,MATCH(B319,'План ввода основ. ср-в'!B:B,0)))","v":5},{"$f":"IF(ISNA(INDEX('План ввода основ. ср-в'!AC:AC,MATCH(B319,'План ввода основ. ср-в'!B:B,0))),0,INDEX('План ввода основ. ср-в'!AC:AC,MATCH(B319,'План ввода основ. ср-в'!B:B,0)))","v":5},23.557628959999999]
[25,"г.о. Чапаевск",null,null,null,null,null,null,null,null,null,null,null,null,null,null,null,null,null,null,null,null,null,null,null,null,null,{"$f":"IF(ISNA(INDEX('План ввода основ. ср-в'!F:F,MATCH(B320,'План ввода основ. ср-в'!B:B,0))),0,INDEX('План ввода основ. ср-в'!F:F,MATCH(B320,'План ввода основ. ср-в'!B:B,0)))","v":0},"",{"$f":"IF(ISNA(INDEX('План ввода основ. ср-в'!E:E,MATCH(B320,'План ввода основ. ср-в'!B:B,0))),0,INDEX('План ввода основ. ср-в'!E:E,MATCH(B320,'План ввода основ. ср-в'!B:B,0)))","v":0},{"$f":"IF(ISNA(INDEX('План ввода основ. ср-в'!H:H,MATCH(B320,'План ввода основ. ср-в'!B:B,0))),0,INDEX('План ввода основ. ср-в'!H:H,MATCH(B320,'План ввода основ. ср-в'!B:B,0)))","v":0},"",{"$f":"IF(ISNA(INDEX('План ввода основ. ср-в'!G:G,MATCH(B320,'План ввода основ. ср-в'!B:B,0))),0,INDEX('План ввода основ. ср-в'!G:G,MATCH(B320,'План ввода основ. ср-в'!B:B,0)))","v":0},{"$f":"IF(ISNA(INDEX('План ввода основ. ср-в'!J:J,MATCH(B320,'План ввода основ. ср-в'!B:B,0))),0,INDEX('План ввода основ. ср-в'!J:J,MATCH(B320,'План ввода основ. ср-в'!B:B,0)))","v":0},"",{"$f":"IF(ISNA(INDEX('План ввода основ. ср-в'!I:I,MATCH(B320,'План ввода основ. ср-в'!B:B,0))),0,INDEX('План ввода основ. ср-в'!I:I,MATCH(B320,'План ввода основ. ср-в'!B:B,0)))","v":0},{"$f":"IF(ISNA(INDEX('План ввода основ. ср-в'!L:L,MATCH(B320,'План ввода основ. ср-в'!B:B,0))),0,INDEX('План ввода основ. ср-в'!L:L,MATCH(B320,'План ввода основ. ср-в'!B:B,0)))","v":0},"",{"$f":"IF(ISNA(INDEX('План ввода основ. ср-в'!K:K,MATCH(B320,'План ввода основ. ср-в'!B:B,0))),0,INDEX('План ввода основ. ср-в'!K:K,MATCH(B320,'План ввода основ. ср-в'!B:B,0)))","v":0},0,"/",0,{"$f":"IF(ISNA(INDEX('План ввода основ. ср-в'!N:N,MATCH(B320,'План ввода основ. ср-в'!B:B,0))),0,INDEX('План ввода основ. ср-в'!N:N,MATCH(B320,'План ввода основ. ср-в'!B:B,0)))","v":0},"",{"$f":"IF(ISNA(INDEX('План ввода основ. ср-в'!M:M,MATCH(B320,'План ввода основ. ср-в'!B:B,0))),0,INDEX('План ввода основ. ср-в'!M:M,MATCH(B320,'План ввода основ. ср-в'!B:B,0)))","v":0},{"$f":"IF(ISNA(INDEX('План ввода основ. ср-в'!P:P,MATCH(B320,'План ввода основ. ср-в'!B:B,0))),0,INDEX('План ввода основ. ср-в'!P:P,MATCH(B320,'План ввода основ. ср-в'!B:B,0)))","v":0},"",{"$f":"IF(ISNA(INDEX('План ввода основ. ср-в'!O:O,MATCH(B320,'План ввода основ. ср-в'!B:B,0))),0,INDEX('План ввода основ. ср-в'!O:O,MATCH(B320,'План ввода основ. ср-в'!B:B,0)))","v":0},{"$f":"IF(ISNA(INDEX('План ввода основ. ср-в'!R:R,MATCH(B320,'План ввода основ. ср-в'!B:B,0))),0,INDEX('План ввода основ. ср-в'!R:R,MATCH(B320,'План ввода основ. ср-в'!B:B,0)))","v":0},"",{"$f":"IF(ISNA(INDEX('План ввода основ. ср-в'!Q:Q,MATCH(B320,'План ввода основ. ср-в'!B:B,0))),0,INDEX('План ввода основ. ср-в'!Q:Q,MATCH(B320,'План ввода основ. ср-в'!B:B,0)))","v":0},{"$f":"IF(ISNA(INDEX('План ввода основ. ср-в'!T:T,MATCH(B320,'План ввода основ. ср-в'!B:B,0))),0,INDEX('План ввода основ. ср-в'!T:T,MATCH(B320,'План ввода основ. ср-в'!B:B,0)))","v":0},"",{"$f":"IF(ISNA(INDEX('План ввода основ. ср-в'!S:S,MATCH(B320,'План ввода основ. ср-в'!B:B,0))),0,INDEX('План ввода основ. ср-в'!S:S,MATCH(B320,'План ввода основ. ср-в'!B:B,0)))","v":0},0,"/",0,{"$f":"IF(ISNA(INDEX('План ввода основ. ср-в'!V:V,MATCH(B320,'План ввода основ. ср-в'!B:B,0))),0,INDEX('План ввода основ. ср-в'!V:V,MATCH(B320,'План ввода основ. ср-в'!B:B,0)))","v":0},{"$f":"IF(ISNA(INDEX('План ввода основ. ср-в'!W:W,MATCH(B320,'План ввода основ. ср-в'!B:B,0))),0,INDEX('План ввода основ. ср-в'!W:W,MATCH(B320,'План ввода основ. ср-в'!B:B,0)))","v":0},{"$f":"IF(ISNA(INDEX('План ввода основ. ср-в'!X:X,MATCH(B320,'План ввода основ. ср-в'!B:B,0))),0,INDEX('План ввода основ. ср-в'!X:X,MATCH(B320,'План ввода основ. ср-в'!B:B,0)))","v":0},{"$f":"IF(ISNA(INDEX('План ввода основ. ср-в'!Y:Y,MATCH(B320,'План ввода основ. ср-в'!B:B,0))),0,INDEX('План ввода основ. ср-в'!Y:Y,MATCH(B320,'План ввода основ. ср-в'!B:B,0)))","v":0},0,{"$f":"IF(ISNA(INDEX('План ввода основ. ср-в'!Z:Z,MATCH(B320,'План ввода основ. ср-в'!B:B,0))),0,INDEX('План ввода основ. ср-в'!Z:Z,MATCH(B320,'План ввода основ. ср-в'!B:B,0)))","v":0},{"$f":"IF(ISNA(INDEX('План ввода основ. ср-в'!AA:AA,MATCH(B320,'План ввода основ. ср-в'!B:B,0))),0,INDEX('План ввода основ. ср-в'!AA:AA,MATCH(B320,'План ввода основ. ср-в'!B:B,0)))","v":0},{"$f":"IF(ISNA(INDEX('План ввода основ. ср-в'!AB:AB,MATCH(B320,'План ввода основ. ср-в'!B:B,0))),0,INDEX('План ввода основ. ср-в'!AB:AB,MATCH(B320,'План ввода основ. ср-в'!B:B,0)))","v":0},{"$f":"IF(ISNA(INDEX('План ввода основ. ср-в'!AC:AC,MATCH(B320,'План ввода основ. ср-в'!B:B,0))),0,INDEX('План ввода основ. ср-в'!AC:AC,MATCH(B320,'План ввода основ. ср-в'!B:B,0)))","v":0},0]
[26,"Строительство внешнего электроснабжения жилых застроек, г. Чапаевск, ул.К.Маркса, Рабочая, Октябрьская, Ватутина, Молодогвардейская, Черняховского",null,null,null,null,null,null,0,"",0,0,"",0,0,"",0,0,"",0,0,"",0,null,null,null,null,{"$f":"IF(ISNA(INDEX('План ввода основ. ср-в'!F:F,MATCH(B321,'План ввода основ. ср-в'!B:B,0))),0,INDEX('План ввода основ. ср-в'!F:F,MATCH(B321,'План ввода основ. ср-в'!B:B,0)))","v":0},"",{"$f":"IF(ISNA(INDEX('План ввода основ. ср-в'!E:E,MATCH(B321,'План ввода основ. ср-в'!B:B,0))),0,INDEX('План ввода основ. ср-в'!E:E,MATCH(B321,'План ввода основ. ср-в'!B:B,0)))","v":0},{"$f":"IF(ISNA(INDEX('План ввода основ. ср-в'!H:H,MATCH(B321,'План ввода основ. ср-в'!B:B,0))),0,INDEX('План ввода основ. ср-в'!H:H,MATCH(B321,'План ввода основ. ср-в'!B:B,0)))","v":0},"",{"$f":"IF(ISNA(INDEX('План ввода основ. ср-в'!G:G,MATCH(B321,'План ввода основ. ср-в'!B:B,0))),0,INDEX('План ввода основ. ср-в'!G:G,MATCH(B321,'План ввода основ. ср-в'!B:B,0)))","v":0},{"$f":"IF(ISNA(INDEX('План ввода основ. ср-в'!J:J,MATCH(B321,'План ввода основ. ср-в'!B:B,0))),0,INDEX('План ввода основ. ср-в'!J:J,MATCH(B321,'План ввода основ. ср-в'!B:B,0)))","v":0},"",{"$f":"IF(ISNA(INDEX('План ввода основ. ср-в'!I:I,MATCH(B321,'План ввода основ. ср-в'!B:B,0))),0,INDEX('План ввода основ. ср-в'!I:I,MATCH(B321,'План ввода основ. ср-в'!B:B,0)))","v":0},{"$f":"IF(ISNA(INDEX('План ввода основ. ср-в'!L:L,MATCH(B321,'План ввода основ. ср-в'!B:B,0))),0,INDEX('План ввода основ. ср-в'!L:L,MATCH(B321,'План ввода основ. ср-в'!B:B,0)))","v":0},"/",{"$f":"IF(ISNA(INDEX('План ввода основ. ср-в'!K:K,MATCH(B321,'План ввода основ. ср-в'!B:B,0))),0,INDEX('План ввода основ. ср-в'!K:K,MATCH(B321,'План ввода основ. ср-в'!B:B,0)))","v":0.8},0,"/",0.8,{"$f":"IF(ISNA(INDEX('План ввода основ. ср-в'!N:N,MATCH(B321,'План ввода основ. ср-в'!B:B,0))),0,INDEX('План ввода основ. ср-в'!N:N,MATCH(B321,'План ввода основ. ср-в'!B:B,0)))","v":1.4},"/",{"$f":"IF(ISNA(INDEX('План ввода основ. ср-в'!M:M,MATCH(B321,'План ввода основ. ср-в'!B:B,0))),0,INDEX('План ввода основ. ср-в'!M:M,MATCH(B321,'План ввода основ. ср-в'!B:B,0)))","v":0.4},{"$f":"IF(ISNA(INDEX('План ввода основ. ср-в'!P:P,MATCH(B321,'План ввода основ. ср-в'!B:B,0))),0,INDEX('План ввода основ. ср-в'!P:P,MATCH(B321,'План ввода основ. ср-в'!B:B,0)))","v":0},"",{"$f":"IF(ISNA(INDEX('План ввода основ. ср-в'!O:O,MATCH(B321,'План ввода основ. ср-в'!B:B,0))),0,INDEX('План ввода основ. ср-в'!O:O,MATCH(B321,'План ввода основ. ср-в'!B:B,0)))","v":0},{"$f":"IF(ISNA(INDEX('План ввода основ. ср-в'!R:R,MATCH(B321,'План ввода основ. ср-в'!B:B,0))),0,INDEX('План ввода основ. ср-в'!R:R,MATCH(B321,'План ввода основ. ср-в'!B:B,0)))","v":0},"",{"$f":"IF(ISNA(INDEX('План ввода основ. ср-в'!Q:Q,MATCH(B321,'План ввода основ. ср-в'!B:B,0))),0,INDEX('План ввода основ. ср-в'!Q:Q,MATCH(B321,'План ввода основ. ср-в'!B:B,0)))","v":0},{"$f":"IF(ISNA(INDEX('План ввода основ. ср-в'!T:T,MATCH(B321,'План ввода основ. ср-в'!B:B,0))),0,INDEX('План ввода основ. ср-в'!T:T,MATCH(B321,'План ввода основ. ср-в'!B:B,0)))","v":0},"",{"$f":"IF(ISNA(INDEX('План ввода основ. ср-в'!S:S,MATCH(B321,'План ввода основ. ср-в'!B:B,0))),0,INDEX('План ввода основ. ср-в'!S:S,MATCH(B321,'План ввода основ. ср-в'!B:B,0)))","v":0},1.4,"/",1.2000000000000002,{"$f":"IF(ISNA(INDEX('План ввода основ. ср-в'!V:V,MATCH(B321,'План ввода основ. ср-в'!B:B,0))),0,INDEX('План ввода основ. ср-в'!V:V,MATCH(B321,'План ввода основ. ср-в'!B:B,0)))","v":0},{"$f":"IF(ISNA(INDEX('План ввода основ. ср-в'!W:W,MATCH(B321,'План ввода основ. ср-в'!B:B,0))),0,INDEX('План ввода основ. ср-в'!W:W,MATCH(B321,'План ввода основ. ср-в'!B:B,0)))","v":0.740342736},{"$f":"IF(ISNA(INDEX('План ввода основ. ср-в'!X:X,MATCH(B321,'План ввода основ. ср-в'!B:B,0))),0,INDEX('План ввода основ. ср-в'!X:X,MATCH(B321,'План ввода основ. ср-в'!B:B,0)))","v":1.727466384},{"$f":"IF(ISNA(INDEX('План ввода основ. ср-в'!Y:Y,MATCH(B321,'План ввода основ. ср-в'!B:B,0))),0,INDEX('План ввода основ. ср-в'!Y:Y,MATCH(B321,'План ввода основ. ср-в'!B:B,0)))","v":2.4678091200000001},4.9356182400000002,{"$f":"IF(ISNA(INDEX('План ввода основ. ср-в'!Z:Z,MATCH(B321,'План ввода основ. ср-в'!B:B,0))),0,INDEX('План ввода основ. ср-в'!Z:Z,MATCH(B321,'План ввода основ. ср-в'!B:B,0)))","v":4.5},{"$f":"IF(ISNA(INDEX('План ввода основ. ср-в'!AA:AA,MATCH(B321,'План ввода основ. ср-в'!B:B,0))),0,INDEX('План ввода основ. ср-в'!AA:AA,MATCH(B321,'План ввода основ. ср-в'!B:B,0)))","v":0},{"$f":"IF(ISNA(INDEX('План ввода основ. ср-в'!AB:AB,MATCH(B321,'План ввода основ. ср-в'!B:B,0))),0,INDEX('План ввода основ. ср-в'!AB:AB,MATCH(B321,'План ввода основ. ср-в'!B:B,0)))","v":0},{"$f":"IF(ISNA(INDEX('План ввода основ. ср-в'!AC:AC,MATCH(B321,'План ввода основ. ср-в'!B:B,0))),0,INDEX('План ввода основ. ср-в'!AC:AC,MATCH(B321,'План ввода основ. ср-в'!B:B,0)))","v":0},9.4356182400000002]
[27,"Строительство внешнего электроснабжения завода по изготовлению сухих строительных смесей, г. Чапаевск, район автодороги Самара-Волгоград",null,null,null,null,null,null,0,"",0,0,"",0,0,"",0,0,"",0,0,"",0,null,null,null,null,{"$f":"IF(ISNA(INDEX('План ввода основ. ср-в'!F:F,MATCH(B322,'План ввода основ. ср-в'!B:B,0))),0,INDEX('План ввода основ. ср-в'!F:F,MATCH(B322,'План ввода основ. ср-в'!B:B,0)))","v":0},"",{"$f":"IF(ISNA(INDEX('План ввода основ. ср-в'!E:E,MATCH(B322,'План ввода основ. ср-в'!B:B,0))),0,INDEX('План ввода основ. ср-в'!E:E,MATCH(B322,'План ввода основ. ср-в'!B:B,0)))","v":0},{"$f":"IF(ISNA(INDEX('План ввода основ. ср-в'!H:H,MATCH(B322,'План ввода основ. ср-в'!B:B,0))),0,INDEX('План ввода основ. ср-в'!H:H,MATCH(B322,'План ввода основ. ср-в'!B:B,0)))","v":0},"",{"$f":"IF(ISNA(INDEX('План ввода основ. ср-в'!G:G,MATCH(B322,'План ввода основ. ср-в'!B:B,0))),0,INDEX('План ввода основ. ср-в'!G:G,MATCH(B322,'План ввода основ. ср-в'!B:B,0)))","v":0},{"$f":"IF(ISNA(INDEX('План ввода основ. ср-в'!J:J,MATCH(B322,'План ввода основ. ср-в'!B:B,0))),0,INDEX('План ввода основ. ср-в'!J:J,MATCH(B322,'План ввода основ. ср-в'!B:B,0)))","v":0},"",{"$f":"IF(ISNA(INDEX('План ввода основ. ср-в'!I:I,MATCH(B322,'План ввода основ. ср-в'!B:B,0))),0,INDEX('План ввода основ. ср-в'!I:I,MATCH(B322,'План ввода основ. ср-в'!B:B,0)))","v":0},{"$f":"IF(ISNA(INDEX('План ввода основ. ср-в'!L:L,MATCH(B322,'План ввода основ. ср-в'!B:B,0))),0,INDEX('План ввода основ. ср-в'!L:L,MATCH(B322,'План ввода основ. ср-в'!B:B,0)))","v":2.0499999999999998},"/",{"$f":"IF(ISNA(INDEX('План ввода основ. ср-в'!K:K,MATCH(B322,'План ввода основ. ср-в'!B:B,0))),0,INDEX('План ввода основ. ср-в'!K:K,MATCH(B322,'План ввода основ. ср-в'!B:B,0)))","v":0.4},2.0499999999999998,"/",0.4,{"$f":"IF(ISNA(INDEX('План ввода основ. ср-в'!N:N,MATCH(B322,'План ввода основ. ср-в'!B:B,0))),0,INDEX('План ввода основ. ср-в'!N:N,MATCH(B322,'План ввода основ. ср-в'!B:B,0)))","v":7},"/",{"$f":"IF(ISNA(INDEX('План ввода основ. ср-в'!M:M,MATCH(B322,'План ввода основ. ср-в'!B:B,0))),0,INDEX('План ввода основ. ср-в'!M:M,MATCH(B322,'План ввода основ. ср-в'!B:B,0)))","v":2},{"$f":"IF(ISNA(INDEX('План ввода основ. ср-в'!P:P,MATCH(B322,'План ввода основ. ср-в'!B:B,0))),0,INDEX('План ввода основ. ср-в'!P:P,MATCH(B322,'План ввода основ. ср-в'!B:B,0)))","v":2},"/",{"$f":"IF(ISNA(INDEX('План ввода основ. ср-в'!O:O,MATCH(B322,'План ввода основ. ср-в'!B:B,0))),0,INDEX('План ввода основ. ср-в'!O:O,MATCH(B322,'План ввода основ. ср-в'!B:B,0)))","v":2},{"$f":"IF(ISNA(INDEX('План ввода основ. ср-в'!R:R,MATCH(B322,'План ввода основ. ср-в'!B:B,0))),0,INDEX('План ввода основ. ср-в'!R:R,MATCH(B322,'План ввода основ. ср-в'!B:B,0)))","v":0},"",{"$f":"IF(ISNA(INDEX('План ввода основ. ср-в'!Q:Q,MATCH(B322,'План ввода основ. ср-в'!B:B,0))),0,INDEX('План ввода основ. ср-в'!Q:Q,MATCH(B322,'План ввода основ. ср-в'!B:B,0)))","v":0},{"$f":"IF(ISNA(INDEX('План ввода основ. ср-в'!T:T,MATCH(B322,'План ввода основ. ср-в'!B:B,0))),0,INDEX('План ввода основ. ср-в'!T:T,MATCH(B322,'План ввода основ. ср-в'!B:B,0)))","v":2},"/",{"$f":"IF(ISNA(INDEX('План ввода основ. ср-в'!S:S,MATCH(B322,'План ввода основ. ср-в'!B:B,0))),0,INDEX('План ввода основ. ср-в'!S:S,MATCH(B322,'План ввода основ. ср-в'!B:B,0)))","v":2},13.05,"/",6.4,{"$f":"IF(ISNA(INDEX('План ввода основ. ср-в'!V:V,MATCH(B322,'План ввода основ. ср-в'!B:B,0))),0,INDEX('План ввода основ. ср-в'!V:V,MATCH(B322,'План ввода основ. ср-в'!B:B,0)))","v":0},{"$f":"IF(ISNA(INDEX('План ввода основ. ср-в'!W:W,MATCH(B322,'План ввода основ. ср-в'!B:B,0))),0,INDEX('План ввода основ. ср-в'!W:W,MATCH(B322,'План ввода основ. ср-в'!B:B,0)))","v":1.3333204079999998},{"$f":"IF(ISNA(INDEX('План ввода основ. ср-в'!X:X,MATCH(B322,'План ввода основ. ср-в'!B:B,0))),0,INDEX('План ввода основ. ср-в'!X:X,MATCH(B322,'План ввода основ. ср-в'!B:B,0)))","v":3.1110809519999996},{"$f":"IF(ISNA(INDEX('План ввода основ. ср-в'!Y:Y,MATCH(B322,'План ввода основ. ср-в'!B:B,0))),0,INDEX('План ввода основ. ср-в'!Y:Y,MATCH(B322,'План ввода основ. ср-в'!B:B,0)))","v":4.4444013599999996},8.8888027199999993,{"$f":"IF(ISNA(INDEX('План ввода основ. ср-в'!Z:Z,MATCH(B322,'План ввода основ. ср-в'!B:B,0))),0,INDEX('План ввода основ. ср-в'!Z:Z,MATCH(B322,'План ввода основ. ср-в'!B:B,0)))","v":30},{"$f":"IF(ISNA(INDEX('План ввода основ. ср-в'!AA:AA,MATCH(B322,'План ввода основ. ср-в'!B:B,0))),0,INDEX('План ввода основ. ср-в'!AA:AA,MATCH(B322,'План ввода основ. ср-в'!B:B,0)))","v":26.745762711864408},{"$f":"IF(ISNA(INDEX('План ввода основ. ср-в'!AB:AB,MATCH(B322,'План ввода основ. ср-в'!B:B,0))),0,INDEX('План ввода основ. ср-в'!AB:AB,MATCH(B322,'План ввода основ. ср-в'!B:B,0)))","v":0},{"$f":"IF(ISNA(INDEX('План ввода основ. ср-в'!AC:AC,MATCH(B322,'План ввода основ. ср-в'!B:B,0))),0,INDEX('План ввода основ. ср-в'!AC:AC,MATCH(B322,'План ввода основ. ср-в'!B:B,0)))","v":19.161016949152543},84.795582381016956]
[null,"Оплата процентов за привлеченные кредитные ресурсы",null,null,null,null,null,null,0,"",0,0,"",0,0,"",0,0,"",0,0,"",0,null,null,null,null,{"$f":"IF(ISNA(INDEX('План ввода основ. ср-в'!F:F,MATCH(B323,'План ввода основ. ср-в'!B:B,0))),0,INDEX('План ввода основ. ср-в'!F:F,MATCH(B323,'План ввода основ. ср-в'!B:B,0)))","v":0},"",{"$f":"IF(ISNA(INDEX('План ввода основ. ср-в'!E:E,MATCH(B323,'План ввода основ. ср-в'!B:B,0))),0,INDEX('План ввода основ. ср-в'!E:E,MATCH(B323,'План ввода основ. ср-в'!B:B,0)))","v":0},{"$f":"IF(ISNA(INDEX('План ввода основ. ср-в'!H:H,MATCH(B323,'План ввода основ. ср-в'!B:B,0))),0,INDEX('План ввода основ. ср-в'!H:H,MATCH(B323,'План ввода основ. ср-в'!B:B,0)))","v":0},"",{"$f":"IF(ISNA(INDEX('План ввода основ. ср-в'!G:G,MATCH(B323,'План ввода основ. ср-в'!B:B,0))),0,INDEX('План ввода основ. ср-в'!G:G,MATCH(B323,'План ввода основ. ср-в'!B:B,0)))","v":0},{"$f":"IF(ISNA(INDEX('План ввода основ. ср-в'!J:J,MATCH(B323,'План ввода основ. ср-в'!B:B,0))),0,INDEX('План ввода основ. ср-в'!J:J,MATCH(B323,'План ввода основ. ср-в'!B:B,0)))","v":0},"",{"$f":"IF(ISNA(INDEX('План ввода основ. ср-в'!I:I,MATCH(B323,'План ввода основ. ср-в'!B:B,0))),0,INDEX('План ввода основ. ср-в'!I:I,MATCH(B323,'План ввода основ. ср-в'!B:B,0)))","v":0},{"$f":"IF(ISNA(INDEX('План ввода основ. ср-в'!L:L,MATCH(B323,'План ввода основ. ср-в'!B:B,0))),0,INDEX('План ввода основ. ср-в'!L:L,MATCH(B323,'План ввода основ. ср-в'!B:B,0)))","v":0},"",{"$f":"IF(ISNA(INDEX('План ввода основ. ср-в'!K:K,MATCH(B323,'План ввода основ. ср-в'!B:B,0))),0,INDEX('План ввода основ. ср-в'!K:K,MATCH(B323,'План ввода основ. ср-в'!B:B,0)))","v":0},0,"/",0,{"$f":"IF(ISNA(INDEX('План ввода основ. ср-в'!N:N,MATCH(B323,'План ввода основ. ср-в'!B:B,0))),0,INDEX('План ввода основ. ср-в'!N:N,MATCH(B323,'План ввода основ. ср-в'!B:B,0)))","v":0},"",{"$f":"IF(ISNA(INDEX('План ввода основ. ср-в'!M:M,MATCH(B323,'План ввода основ. ср-в'!B:B,0))),0,INDEX('План ввода основ. ср-в'!M:M,MATCH(B323,'План ввода основ. ср-в'!B:B,0)))","v":0},{"$f":"IF(ISNA(INDEX('План ввода основ. ср-в'!P:P,MATCH(B323,'План ввода основ. ср-в'!B:B,0))),0,INDEX('План ввода основ. ср-в'!P:P,MATCH(B323,'План ввода основ. ср-в'!B:B,0)))","v":0},"",{"$f":"IF(ISNA(INDEX('План ввода основ. ср-в'!O:O,MATCH(B323,'План ввода основ. ср-в'!B:B,0))),0,INDEX('План ввода основ. ср-в'!O:O,MATCH(B323,'План ввода основ. ср-в'!B:B,0)))","v":0},{"$f":"IF(ISNA(INDEX('План ввода основ. ср-в'!R:R,MATCH(B323,'План ввода основ. ср-в'!B:B,0))),0,INDEX('План ввода основ. ср-в'!R:R,MATCH(B323,'План ввода основ. ср-в'!B:B,0)))","v":0},"",{"$f":"IF(ISNA(INDEX('План ввода основ. ср-в'!Q:Q,MATCH(B323,'План ввода основ. ср-в'!B:B,0))),0,INDEX('План ввода основ. ср-в'!Q:Q,MATCH(B323,'План ввода основ. ср-в'!B:B,0)))","v":0},{"$f":"IF(ISNA(INDEX('План ввода основ. ср-в'!T:T,MATCH(B323,'План ввода основ. ср-в'!B:B,0))),0,INDEX('План ввода основ. ср-в'!T:T,MATCH(B323,'План ввода основ. ср-в'!B:B,0)))","v":0},"",{"$f":"IF(ISNA(INDEX('План ввода основ. ср-в'!S:S,MATCH(B323,'План ввода основ. ср-в'!B:B,0))),0,INDEX('План ввода основ. ср-в'!S:S,MATCH(B323,'План ввода основ. ср-в'!B:B,0)))","v":0},0,"/",0,{"$f":"IF(ISNA(INDEX('План ввода основ. ср-в'!V:V,MATCH(B323,'План ввода основ. ср-в'!B:B,0))),0,INDEX('План ввода основ. ср-в'!V:V,MATCH(B323,'План ввода основ. ср-в'!B:B,0)))","v":0},{"$f":"IF(ISNA(INDEX('План ввода основ. ср-в'!W:W,MATCH(B323,'План ввода основ. ср-в'!B:B,0))),0,INDEX('План ввода основ. ср-в'!W:W,MATCH(B323,'План ввода основ. ср-в'!B:B,0)))","v":0},{"$f":"IF(ISNA(INDEX('План ввода основ. ср-в'!X:X,MATCH(B323,'План ввода основ. ср-в'!B:B,0))),0,INDEX('План ввода основ. ср-в'!X:X,MATCH(B323,'План ввода основ. ср-в'!B:B,0)))","v":0},{"$f":"IF(ISNA(INDEX('План ввода основ. ср-в'!Y:Y,MATCH(B323,'План ввода основ. ср-в'!B:B,0))),0,INDEX('План ввода основ. ср-в'!Y:Y,MATCH(B323,'План ввода основ. ср-в'!B:B,0)))","v":0},0,{"$f":"IF(ISNA(INDEX('План ввода основ. ср-в'!Z:Z,MATCH(B323,'План ввода основ. ср-в'!B:B,0))),0,INDEX('План ввода основ. ср-в'!Z:Z,MATCH(B323,'План ввода основ. ср-в'!B:B,0)))","v":0},{"$f":"IF(ISNA(INDEX('План ввода основ. ср-в'!AA:AA,MATCH(B323,'План ввода основ. ср-в'!B:B,0))),0,INDEX('План ввода основ. ср-в'!AA:AA,MATCH(B323,'План ввода основ. ср-в'!B:B,0)))","v":0},{"$f":"IF(ISNA(INDEX('План ввода основ. ср-в'!AB:AB,MATCH(B323,'План ввода основ. ср-в'!B:B,0))),0,INDEX('План ввода основ. ср-в'!AB:AB,MATCH(B323,'План ввода основ. ср-в'!B:B,0)))","v":0},{"$f":"IF(ISNA(INDEX('План ввода основ. ср-в'!AC:AC,MATCH(B323,'План ввода основ. ср-в'!B:B,0))),0,INDEX('План ввода основ. ср-в'!AC:AC,MATCH(B323,'План ввода основ. ср-в'!B:B,0)))","v":0},0]
[1,"Объект 1"]
[2,"Объект 2"]
["…"]
[]
[]
[]
[null,null,null,null,null,null,null,null,null,null,null,null,null,null,null,null,null,null,null,null,null,null,null,null,null,null,null,null,null,null,null,null,null,null,null,"Директор по развитию ",null,null,null,null,null,null,null,null,null,null,null,null,null,null,null,null,null,null,null,null,null,null,"Розенцвайг Е. А."]
[]
[]
[null,null,null,null,null,null,null,null,null,null,null,null,null,null,null,null,null,null,null,null,null,null,null,null,null,null,null,null,null,null,null,null,null,null,null,"Технический директор",null,null,null,null,null,null,null,null,null,null,null,null,null,null,null,null,null,null,null,null,null,null,"Кучканов А. Д."]
[]
[]
[null,null,null,null,null,null,null,null,null,null,null,null,null,null,null,null,null,null,null,null,null,null,null,null,null,null,null,null,null,null,null,null,null,null,null,"Директор по экономике и финансам",null,null,null,null,null,null,null,null,null,null,null,null,null,null,null,null,null,null,null,null,null,null,"Кириллов Ю.А."]